{"text_format":"1","workbook":"xlsx","n_sheets":37,"sheets":["1-0.トップ","1-1.表紙","1-2.目次","1-3-1.あいさつ まえがき","1-4.プロフィール","1-5.収入","1-6.支出","1-7.加入している保険","1-7-2.加入している損保","1-8-1.保有している金融商品、不動産 現状","1-8-2.保有している金融商品、不動産 解決策導入後","1-9.住宅ローン","2-4.プロフィール①","2-5.プロフィール②","2-6.プロフィール③","2-6.プロフィール④","2-6-2.プロフィール④","1-10.顧客の希望","1-11.ライフイベント表","2-8.ライフイベント表","1-12-1.キャッシュフロー表 現状","2-9.キャッシュフロー表 現状","2-10.現在の年間収支と貯蓄残高の推移","1-14.現状の問題点","1-15.解決策の提示","1-16.解決策導入の効果","1-12-2.キャッシュフロー表 解決策導入後","2-15.キャッシュフロー表 解決策導入後","2-16.対策後の年間収支と貯蓄残高の推移","1-12-3.キャッシュフロー表 解決策導入後②","2-17.キャッシュフロー表 解決策導入後②","2-18.対策後の年間収支と貯蓄残高の推移②","1-3-2.あいさつ あとがき","3-1.終価計算","3-2.現価計算","3-3.住宅ローン返済シミュレーション","3-4.住宅ローン一部繰上返済シミュレーション"],"not_rendered":{"charts":8,"images":2,"macros":1,"external_links":0,"defined_names":99,"comments":7,"pivot_tables":0},"unopened":[],"bounds":{"document_bytes":16777216,"sheet_cells":100000,"rows_first":2000,"rows_last":500,"rows_between":2000,"halvings":0,"cell_chars":16384,"cell_head_chars":4096},"cells_cut":0,"cells_raw":0,"read":"whole","date_system":"1900"}

{"sheet":"1-0.トップ","index":0,"n_rows":24,"n_cols":14,"rows_kept":24,"cut":false,"hidden":false,"merged":[[12,9,20,45]]}
[]
[]
[]
[]
[]
[]
[]
[]
[]
[]
[]
[]
[null,null,null,null,null,null,null,null,null,"提案書作成ツール"]
[]
[]
[]
[]
[]
[]
[]
[]
[]
[]
[null,null,null,null,null,null,null,null,null,null,null,null,null,"保存する際はファイルの種類をクリックし、必ず「マクロ有効ブック(.xlsm)」を選択して保存してください。"]

{"sheet":"1-1.表紙","index":1,"n_rows":40,"n_cols":32,"rows_kept":40,"cut":false,"hidden":false,"merged":[[7,32,7,38],[8,32,8,38],[19,3,21,37],[7,2,8,24],[39,27,40,38]]}
[]
[]
[]
[]
[]
[]
[]
[null,null,"相談者のお名前",null,null,null,null,null,null,null,null,null,null,null,null,null,null,null,null,null,null,null,null,null,null,null,null,null,null,null,null,"作成日："]
[null,null,null,null,null,null,null,null,null,null,null,null,null,null,null,null,null,null,null,null,null,null,null,null,null,null,null,null,null,null,null,"計算基準日："]
[]
[]
[]
[]
[]
[]
[]
[]
[]
[]
[null,null,null,"題名"]
[]
[]
[]
[]
[]
[]
[]
[]
[]
[]
[]
[]
[]
[]
[]
[]
[]
[]
[]
[null,null,null,null,null,null,null,null,null,null,null,null,null,null,null,null,null,null,null,null,null,null,null,null,null,null,null,"提案者氏名"]

{"sheet":"1-2.目次","index":2,"n_rows":8,"n_cols":2,"rows_kept":8,"cut":false,"hidden":false,"merged":[[46,35,46,36],[39,35,39,36],[40,35,40,36],[41,35,41,36],[42,35,42,36],[43,35,43,36],[44,35,44,36],[45,35,45,36],[33,35,33,36],[34,35,34,36],[35,35,35,36],[37,35,37,36],[38,35,38,36],[36,35,36,36],[32,35,32,36],[21,35,21,36],[22,35,22,36],[23,35,23,36],[24,35,24,36],[25,35,25,36],[26,35,26,36],[27,35,27,36],[28,35,28,36],[31,35,31,36],[30,35,30,36],[20,35,20,36],[29,35,29,36],[7,1,8,39],[10,35,10,36],[11,35,11,36],[12,35,12,36],[13,35,13,36],[14,35,14,36],[15,35,15,36],[16,35,16,36],[17,35,17,36],[18,35,18,36],[19,35,19,36]]}
[]
[]
[]
[]
[]
[]
[]
[null,"目　　次"]

{"sheet":"1-3-1.あいさつ まえがき","index":3,"n_rows":8,"n_cols":3,"rows_kept":8,"cut":false,"hidden":false,"merged":[]}
[]
[]
[]
[]
[]
[]
[]
[null,null,"プラン作成にあたって"]

{"sheet":"1-4.プロフィール","index":4,"n_rows":19,"n_cols":16,"rows_kept":19,"cut":false,"hidden":false,"merged":[[9,2,9,3],[9,4,10,4],[9,5,9,10],[9,14,10,14],[9,13,10,13],[9,11,10,12],[10,9,10,10],[10,7,10,8],[10,5,10,6]]}
[]
[]
[]
[]
[]
[]
[null,null,null,null,null,null,null,null,null,null,null,null,null,null,null,"プロフィール入力"]
[null,null,"プロフィール"]
[]
[null,null,"氏　　　名",null,"続柄","生　　年　　月　　日",null,null,null,null,null,"年齢",null,"職業","備考"]
[null,null,"姓","名",null,"年(西暦)",null,"月",null,"日"]
[null,null,null,null,null,null,"年",null,"月",null,"日",null,"歳"]
[null,null,null,null,null,null,"年",null,"月",null,"日",null,"歳"]
[null,null,null,null,null,null,"年",null,"月",null,"日",null,"歳"]
[null,null,null,null,null,null,"年",null,"月",null,"日",null,"歳"]
[null,null,null,null,null,null,"年",null,"月",null,"日",null,"歳"]
[null,null,null,null,null,null,"年",null,"月",null,"日",null,"歳"]
[null,null,null,null,null,null,"年",null,"月",null,"日",null,"歳"]
[null,null,null,null,null,null,"年",null,"月",null,"日",null,"歳"]

{"sheet":"1-5.収入","index":5,"n_rows":44,"n_cols":8,"rows_kept":44,"cut":false,"hidden":false,"merged":[[35,3,35,4],[35,5,35,6],[29,2,31,7],[9,5,9,6],[9,3,9,4],[20,3,20,7],[21,3,21,7],[27,3,27,7],[22,3,22,7],[25,3,25,7],[23,3,23,7],[24,3,24,7],[26,3,26,7],[44,2,46,7],[36,3,36,4],[40,3,40,4],[37,3,37,4],[39,3,39,4],[42,3,42,4],[38,3,38,4],[41,3,41,4]]}
[]
[]
[]
[]
[]
[]
[]
[null,null,"現在の収入"]
[]
[null,null,"項　　　目","年間収入",null,"可処分所得",null,"備考"]
[null,null,null,null,"万円",null,"万円"]
[null,null,null,null,"万円",null,"万円"]
[null,null,null,null,"万円",null,"万円"]
[null,null,null,null,"万円",null,"万円"]
[null,null,null,null,"万円",null,"万円"]
[null,null,null,null,"万円",null,"万円"]
[null,null,"合　　　計",{"$f":"SUM(D11:D16)","v":0},"万円",{"$f":"SUM(F11:F16)","v":0},"万円"]
[]
[null,null,"今後の収入予定"]
[]
[null,null,"項　　　目","収入の時期・金額"]
[]
[]
[]
[]
[]
[]
[]
[null,null,"変動率などの前提条件"]
[]
[]
[]
[]
[null,null,"今後の収入予定（年金について）"]
[]
[null,null,"受給者","種類",null,"金額",null,"受給期間"]
[null,null,null,null,null,null,"万円"]
[null,null,null,null,null,null,"万円"]
[null,null,null,null,null,null,"万円"]
[null,null,null,null,null,null,"万円"]
[null,null,null,null,null,null,"万円"]
[null,null,null,null,null,null,"万円"]
[null,null,null,null,null,null,"万円"]
[null,null,"備考"]

{"sheet":"1-6.支出","index":6,"n_rows":48,"n_cols":6,"rows_kept":48,"cut":false,"hidden":false,"merged":[[40,3,40,5],[41,3,41,5],[42,3,42,5],[48,2,52,5],[44,3,44,5],[43,3,43,5],[46,3,46,5],[45,3,45,5],[32,3,32,5],[34,3,34,5],[33,3,33,5],[9,3,9,4],[39,3,39,5],[38,3,38,5],[37,3,37,5],[36,3,36,5],[30,3,30,5],[31,3,31,5],[35,3,35,5]]}
[]
[]
[]
[]
[]
[]
[]
[null,null,"現在の支出"]
[]
[null,null,"項　　　目","年間支出金額",null,"備考"]
[null,null,null,null,"万円"]
[null,null,null,null,"万円"]
[null,null,null,null,"万円"]
[null,null,null,null,"万円"]
[null,null,null,null,"万円"]
[null,null,null,null,"万円"]
[null,null,null,null,"万円"]
[null,null,null,null,"万円"]
[null,null,null,null,"万円"]
[null,null,null,null,"万円"]
[null,null,null,null,"万円"]
[null,null,null,null,"万円"]
[null,null,null,null,"万円"]
[null,null,null,null,"万円"]
[null,null,null,null,"万円"]
[null,null,null,null,"万円"]
[null,null,"合　　　計",{"$f":"SUM(D11:D26)","v":0},"万円"]
[]
[null,null,"今後の支出予定"]
[]
[null,null,"項　　目","支出の時期・金額"]
[]
[]
[]
[]
[]
[]
[]
[]
[]
[]
[]
[]
[]
[]
[]
[]
[null,null,"変動率などの前提条件"]

{"sheet":"1-7.加入している保険","index":7,"n_rows":56,"n_cols":3,"rows_kept":56,"cut":false,"hidden":false,"merged":[]}
[]
[]
[]
[]
[]
[]
[]
[null,null,"生命保険・共済・学資保険 等"]
[]
[null,null,"保険会社"]
[null,null,"種類"]
[null,null,"契約者"]
[null,null,"被保険者"]
[null,null,"受取人"]
[null,null,"契約日"]
[null,null,"保険期間"]
[null,null,"保険金\n（共済金）"]
[null,null,"保険料\n（掛金）"]
[null,null,"満期日"]
[null,null,"備考"]
[]
[null,null,"保険会社"]
[null,null,"種類"]
[null,null,"契約者"]
[null,null,"被保険者"]
[null,null,"受取人"]
[null,null,"契約日"]
[null,null,"保険期間"]
[null,null,"保険金\n（共済金）"]
[null,null,"保険料\n（掛金）"]
[null,null,"満期日"]
[null,null,"備考"]
[]
[null,null,"保険会社"]
[null,null,"種類"]
[null,null,"契約者"]
[null,null,"被保険者"]
[null,null,"受取人"]
[null,null,"契約日"]
[null,null,"保険期間"]
[null,null,"保険金\n（共済金）"]
[null,null,"保険料\n（掛金）"]
[null,null,"満期日"]
[null,null,"備考"]
[]
[null,null,"保険会社"]
[null,null,"種類"]
[null,null,"契約者"]
[null,null,"被保険者"]
[null,null,"受取人"]
[null,null,"契約日"]
[null,null,"保険期間"]
[null,null,"保険金\n（共済金）"]
[null,null,"保険料\n（掛金）"]
[null,null,"満期日"]
[null,null,"備考"]

{"sheet":"1-7-2.加入している損保","index":8,"n_rows":26,"n_cols":3,"rows_kept":26,"cut":false,"hidden":false,"merged":[]}
[]
[]
[]
[]
[]
[]
[]
[null,null,"損害保険"]
[]
[null,null,"保険会社"]
[null,null,"種類"]
[null,null,"契約者"]
[null,null,"契約日"]
[null,null,"保険期間"]
[null,null,"保険金"]
[null,null,"保険料"]
[null,null,"備考"]
[]
[null,null,"保険会社"]
[null,null,"種類"]
[null,null,"契約者"]
[null,null,"契約日"]
[null,null,"保険期間"]
[null,null,"保険金"]
[null,null,"保険料"]
[null,null,"備考"]

{"sheet":"1-8-1.保有している金融商品、不動産 現状","index":9,"n_rows":44,"n_cols":20,"rows_kept":44,"cut":false,"hidden":false,"merged":[[10,6,10,7],[10,4,10,5],[36,4,36,5],[28,3,31,8],[44,3,46,8]]}
[]
[]
[]
[]
[]
[]
[]
[null,null,"現状の資産"]
[null,null,null,"保有している金融商品"]
[]
[null,null,null,"商　品　名","残高（時価）",null,"金利"]
[null,null,null,null,null,"万円",null,"％",null,null,null,null,null,null,null,null,null,null,{"$f":"IF(ISBLANK(D12),\"\",D12)","v":""},{"$f":"IF(ISBLANK(E12),NA(),E12)","v":{"$error":"#N/A"}}]
[null,null,null,null,null,"万円",null,"％",null,null,null,null,null,null,null,null,null,null,{"$f":"IF(ISBLANK(D13),\"\",D13)","v":""},{"$f":"IF(ISBLANK(E13),NA(),E13)","v":{"$error":"#N/A"}}]
[null,null,null,null,null,"万円",null,"％",null,null,null,null,null,null,null,null,null,null,"",{"$error":"#N/A"}]
[null,null,null,null,null,"万円",null,"％",null,null,null,null,null,null,null,null,null,null,"",{"$error":"#N/A"}]
[null,null,null,null,null,"万円",null,"％",null,null,null,null,null,null,null,null,null,null,"",{"$error":"#N/A"}]
[null,null,null,null,null,"万円",null,"％",null,null,null,null,null,null,null,null,null,null,"",{"$error":"#N/A"}]
[null,null,null,null,null,"万円",null,"％",null,null,null,null,null,null,null,null,null,null,"",{"$error":"#N/A"}]
[null,null,null,null,null,"万円",null,"％",null,null,null,null,null,null,null,null,null,null,"",{"$error":"#N/A"}]
[null,null,null,null,null,"万円",null,"％",null,null,null,null,null,null,null,null,null,null,"",{"$error":"#N/A"}]
[null,null,null,null,null,"万円",null,"％",null,null,null,null,null,null,null,null,null,null,"",{"$error":"#N/A"}]
[null,null,null,null,null,"万円",null,"％",null,null,null,null,null,null,null,null,null,null,"",{"$error":"#N/A"}]
[null,null,null,null,null,"万円",null,"％",null,null,null,null,null,null,null,null,null,null,"",{"$error":"#N/A"}]
[null,null,null,null,null,"万円",null,"％",null,null,null,null,null,null,null,null,null,null,"",{"$error":"#N/A"}]
[null,null,null,null,null,"万円",null,"％",null,null,null,null,null,null,null,null,null,null,"",{"$error":"#N/A"}]
[null,null,null,null,null,"万円",null,"％",null,null,null,null,null,null,null,null,null,null,"",{"$error":"#N/A"}]
[null,null,null,"合　　計",{"$f":"SUM(E12:E26)","v":0},"万円",{"$f":"IF(E27=0,0,(SUMPRODUCT(E12:E26,G12:G26)/E27))","v":0},"％"]
[null,null,null,"備　　考"]
[]
[]
[]
[]
[]
[]
[null,null,null,"保有している不動産・その他資産"]
[]
[null,null,null,"種　　類","現在の価値（時価）"]
[null,null,null,null,null,"万円"]
[null,null,null,null,null,"万円"]
[null,null,null,null,null,"万円"]
[null,null,null,null,null,"万円"]
[null,null,null,null,null,"万円"]
[null,null,null,"合　　計",{"$f":"SUM(E38:E42)","v":0},"万円"]
[null,null,null,"備　　考"]

{"sheet":"1-8-2.保有している金融商品、不動産 解決策導入後","index":10,"n_rows":28,"n_cols":20,"rows_kept":28,"cut":false,"hidden":false,"merged":[[10,4,10,5],[10,6,10,7],[28,3,31,8]]}
[]
[]
[]
[]
[]
[]
[]
[null,null,"解決策導入後の資産"]
[null,null,null,"保有している金融商品"]
[]
[null,null,null,"商　品　名","残高（時価）",null,"金利"]
[null,null,null,null,null,"万円",null,"％",null,null,null,null,null,null,null,null,null,null,{"$f":"IF(ISBLANK(D12),\"\",D12)","v":""},{"$f":"IF(ISBLANK(E12),NA(),E12)","v":{"$error":"#N/A"}}]
[null,null,null,null,null,"万円",null,"％",null,null,null,null,null,null,null,null,null,null,{"$f":"IF(ISBLANK(D13),\"\",D13)","v":""},{"$f":"IF(ISBLANK(E13),NA(),E13)","v":{"$error":"#N/A"}}]
[null,null,null,null,null,"万円",null,"％",null,null,null,null,null,null,null,null,null,null,"",{"$error":"#N/A"}]
[null,null,null,null,null,"万円",null,"％",null,null,null,null,null,null,null,null,null,null,"",{"$error":"#N/A"}]
[null,null,null,null,null,"万円",null,"％",null,null,null,null,null,null,null,null,null,null,"",{"$error":"#N/A"}]
[null,null,null,null,null,"万円",null,"％",null,null,null,null,null,null,null,null,null,null,"",{"$error":"#N/A"}]
[null,null,null,null,null,"万円",null,"％",null,null,null,null,null,null,null,null,null,null,"",{"$error":"#N/A"}]
[null,null,null,null,null,"万円",null,"％",null,null,null,null,null,null,null,null,null,null,"",{"$error":"#N/A"}]
[null,null,null,null,null,"万円",null,"％",null,null,null,null,null,null,null,null,null,null,"",{"$error":"#N/A"}]
[null,null,null,null,null,"万円",null,"％",null,null,null,null,null,null,null,null,null,null,"",{"$error":"#N/A"}]
[null,null,null,null,null,"万円",null,"％",null,null,null,null,null,null,null,null,null,null,"",{"$error":"#N/A"}]
[null,null,null,null,null,"万円",null,"％",null,null,null,null,null,null,null,null,null,null,"",{"$error":"#N/A"}]
[null,null,null,null,null,"万円",null,"％",null,null,null,null,null,null,null,null,null,null,"",{"$error":"#N/A"}]
[null,null,null,null,null,"万円",null,"％",null,null,null,null,null,null,null,null,null,null,"",{"$error":"#N/A"}]
[null,null,null,null,null,"万円",null,"％",null,null,null,null,null,null,null,null,null,null,"",{"$error":"#N/A"}]
[null,null,null,"合　　計",{"$f":"SUM(E12:E26)","v":0},"万円",{"$f":"IF(E27=0,0,(SUMPRODUCT(E12:E26,G12:G26)/E27))","v":0},"％"]
[null,null,null,"備　　考"]

{"sheet":"1-9.住宅ローン","index":11,"n_rows":29,"n_cols":13,"rows_kept":29,"cut":false,"hidden":false,"merged":[[29,3,33,12],[22,10,22,11],[11,7,11,8],[12,7,12,8],[13,7,13,8],[26,4,26,5],[25,4,25,5],[24,4,24,5],[23,4,23,5],[22,4,22,5],[22,6,22,9],[15,3,17,12],[27,4,27,5],[27,6,27,7],[26,6,26,7],[25,6,25,7],[24,6,24,7],[23,6,23,7],[10,4,10,5],[10,9,10,12],[13,9,13,12],[12,9,12,12],[11,9,11,12],[10,6,10,8]]}
[]
[]
[]
[]
[]
[]
[]
[null,null,"現状の負債"]
[null,null,null,"住宅ローン"]
[]
[null,null,null,"借入先","残　高",null,"金　利",null,null,"返済条件"]
[null,null,null,null,null,"万円",null,"％"]
[null,null,null,null,null,"万円",null,"％"]
[null,null,null,null,null,"万円",null,"％"]
[null,null,null,"備考"]
[]
[]
[]
[]
[]
[null,null,null,"その他借入"]
[]
[null,null,null,"借入先","種類",null,"残　高",null,null,null,"金　利",null,"返済条件"]
[null,null,null,null,null,null,null,null,"万円",null,null,"％"]
[null,null,null,null,null,null,null,null,"万円",null,null,"％"]
[null,null,null,null,null,null,null,null,"万円",null,null,"％"]
[null,null,null,null,null,null,null,null,"万円",null,null,"％"]
[null,null,null,null,null,null,null,null,"万円",null,null,"％"]
[null,null,null,"備考"]

{"sheet":"2-4.プロフィール①","index":12,"n_rows":53,"n_cols":45,"rows_kept":53,"cut":false,"hidden":false,"merged":[[47,4,47,11],[47,12,47,17],[26,4,26,11],[26,12,26,17],[45,4,45,11],[45,12,45,17],[40,4,40,11],[40,12,40,17],[41,4,41,11],[41,12,41,17],[37,4,37,11],[37,12,37,17],[38,4,38,11],[38,12,38,17],[39,4,39,11],[39,12,39,17],[46,4,46,11],[46,12,46,17],[42,4,42,11],[42,12,42,17],[43,4,43,11],[43,12,43,17],[44,4,44,11],[44,12,44,17],[35,4,35,11],[35,12,35,17],[30,4,30,11],[30,12,30,17],[36,4,36,11],[36,12,36,17],[33,4,33,11],[33,12,33,17],[32,4,32,11],[32,12,32,17],[34,4,34,11],[34,12,34,17],[24,4,24,11],[24,12,24,17],[25,4,25,11],[31,4,31,11],[31,12,31,17],[25,12,25,17],[29,4,29,11],[29,12,29,17],[22,4,22,11],[23,4,23,11],[23,12,23,17],[18,12,18,17],[20,4,20,11],[13,17,13,18],[13,19,13,21],[13,23,13,25],[13,11,13,13],[13,14,13,16],[22,12,22,17],[20,12,20,17],[21,4,21,11],[21,12,21,17],[15,2,15,36],[18,4,18,11],[13,26,13,29],[19,4,19,11],[19,12,19,17],[10,23,10,25],[12,14,12,16],[12,17,12,18],[12,19,12,21],[12,23,12,25],[11,11,11,13],[11,14,11,16],[11,17,11,18],[9,11,9,13],[9,14,9,16],[9,17,9,18],[11,19,11,21],[11,23,11,25],[12,11,12,13],[7,23,7,25],[8,11,8,13],[8,14,8,16],[8,17,8,18],[9,19,9,21],[9,23,9,25],[44,18,44,35],[43,18,43,35],[42,18,42,35],[41,18,41,35],[40,18,40,35],[39,18,39,35],[8,19,8,21],[8,23,8,25],[7,11,7,13],[7,14,7,16],[7,17,7,18],[7,19,7,21],[32,18,32,35],[31,18,31,35],[10,11,10,13],[10,14,10,16],[10,17,10,18],[10,19,10,21],[4,2,4,36],[6,11,6,13],[6,14,6,16],[6,17,6,18],[6,19,6,21],[6,23,6,25],[6,26,6,29],[6,30,6,35],[6,3,6,6],[30,18,30,35],[38,18,38,35],[37,18,37,35],[36,18,36,35],[35,18,35,35],[34,18,34,35],[33,18,33,35],[12,30,12,35],[11,30,11,35],[12,26,12,29],[29,18,29,35],[13,30,13,35],[23,18,23,35],[22,18,22,35],[21,18,21,35],[20,18,20,35],[19,18,19,35],[18,18,18,35],[10,30,10,35],[9,30,9,35],[8,30,8,35],[7,30,7,35],[7,26,7,29],[8,26,8,29],[9,26,9,29],[10,26,10,29],[11,26,11,29],[7,3,7,6],[8,3,8,6],[9,3,9,6],[10,3,10,6],[11,3,11,6],[12,3,12,6],[13,3,13,6],[6,7,6,10],[7,7,7,10],[8,7,8,10],[9,7,9,10],[10,7,10,10],[11,7,11,10],[12,7,12,10],[13,7,13,10]]}
[]
[]
[null,null,{"$f":"IF(ISBLANK('1-4.プロフィール'!$C$12),\"\",\"Ⅰ．\"&'1-4.プロフィール'!$C$12&\"様ご一家のプロフィール\")","v":""}]
[]
[null,null,"１．ご家族の構成"]
[]
[null,null,null,{"$f":"IF(ISBLANK('1-4.プロフィール'!$C$12),\"\",'1-4.プロフィール'!$C$12)","v":""},null,null,null,{"$f":"IF(ISBLANK('1-4.プロフィール'!$D$12),\"\",'1-4.プロフィール'!$D$12)","v":""},null,null,null,{"$f":"IF(ISBLANK('1-4.プロフィール'!$E$12),\"\",'1-4.プロフィール'!$E$12)","v":""},null,null,{"$f":"IF(ISBLANK('1-4.プロフィール'!$F$12),\"\",'1-4.プロフィール'!$F$12&\"年\")","v":""},null,null,{"$f":"IF(ISBLANK('1-4.プロフィール'!$H$12),\"\",'1-4.プロフィール'!$H$12&\"月\")","v":""},null,{"$f":"IF(ISBLANK('1-4.プロフィール'!$J$12),\"\",'1-4.プロフィール'!$J$12&\"日 生\")","v":""},null,null,null,{"$f":"IF(ISBLANK('1-4.プロフィール'!$L$12),\"\",'1-4.プロフィール'!$L$12&\"歳\")","v":""},null,null,{"$f":"IF(ISBLANK('1-4.プロフィール'!$N$12),\"\",'1-4.プロフィール'!$N$12)","v":""},null,null,null,{"$f":"IF(ISBLANK('1-4.プロフィール'!$O$12),\"\",'1-4.プロフィール'!$O$12)","v":""}]
[null,null,null,{"$f":"IF(ISBLANK('1-4.プロフィール'!$C$13),\"\",'1-4.プロフィール'!$C$13)","v":""},null,null,null,{"$f":"IF(ISBLANK('1-4.プロフィール'!$D$13),\"\",'1-4.プロフィール'!$D$13)","v":""},null,null,null,{"$f":"IF(ISBLANK('1-4.プロフィール'!$E$13),\"\",'1-4.プロフィール'!$E$13)","v":""},null,null,{"$f":"IF(ISBLANK('1-4.プロフィール'!$F$13),\"\",'1-4.プロフィール'!$F$13&\"年\")","v":""},null,null,{"$f":"IF(ISBLANK('1-4.プロフィール'!$H$13),\"\",'1-4.プロフィール'!$H$13&\"月\")","v":""},null,{"$f":"IF(ISBLANK('1-4.プロフィール'!$J$13),\"\",'1-4.プロフィール'!$J$13&\"日 生\")","v":""},null,null,null,{"$f":"IF(ISBLANK('1-4.プロフィール'!$L$13),\"\",'1-4.プロフィール'!$L$13&\"歳\")","v":""},null,null,{"$f":"IF(ISBLANK('1-4.プロフィール'!$N$13),\"\",'1-4.プロフィール'!$N$13)","v":""},null,null,null,{"$f":"IF(ISBLANK('1-4.プロフィール'!$O$13),\"\",'1-4.プロフィール'!$O$13)","v":""}]
[null,null,null,{"$f":"IF(ISBLANK('1-4.プロフィール'!$C$14),\"\",'1-4.プロフィール'!$C$14)","v":""},null,null,null,{"$f":"IF(ISBLANK('1-4.プロフィール'!$D$14),\"\",'1-4.プロフィール'!$D$14)","v":""},null,null,null,{"$f":"IF(ISBLANK('1-4.プロフィール'!$E$14),\"\",'1-4.プロフィール'!$E$14)","v":""},null,null,{"$f":"IF(ISBLANK('1-4.プロフィール'!$F$14),\"\",'1-4.プロフィール'!$F$14&\"年\")","v":""},null,null,{"$f":"IF(ISBLANK('1-4.プロフィール'!$H$14),\"\",'1-4.プロフィール'!$H$14&\"月\")","v":""},null,{"$f":"IF(ISBLANK('1-4.プロフィール'!$J$14),\"\",'1-4.プロフィール'!$J$14&\"日 生\")","v":""},null,null,null,{"$f":"IF(ISBLANK('1-4.プロフィール'!$L$14),\"\",'1-4.プロフィール'!$L$14&\"歳\")","v":""},null,null,{"$f":"IF(ISBLANK('1-4.プロフィール'!$N$14),\"\",'1-4.プロフィール'!$N$14)","v":""},null,null,null,{"$f":"IF(ISBLANK('1-4.プロフィール'!$O$14),\"\",'1-4.プロフィール'!$O$14)","v":""}]
[null,null,null,{"$f":"IF(ISBLANK('1-4.プロフィール'!$C$15),\"\",'1-4.プロフィール'!$C$15)","v":""},null,null,null,{"$f":"IF(ISBLANK('1-4.プロフィール'!$D$15),\"\",'1-4.プロフィール'!$D$15)","v":""},null,null,null,{"$f":"IF(ISBLANK('1-4.プロフィール'!$E$15),\"\",'1-4.プロフィール'!$E$15)","v":""},null,null,{"$f":"IF(ISBLANK('1-4.プロフィール'!$F$15),\"\",'1-4.プロフィール'!$F$15&\"年\")","v":""},null,null,{"$f":"IF(ISBLANK('1-4.プロフィール'!$H$15),\"\",'1-4.プロフィール'!$H$15&\"月\")","v":""},null,{"$f":"IF(ISBLANK('1-4.プロフィール'!$J$15),\"\",'1-4.プロフィール'!$J$15&\"日 生\")","v":""},null,null,null,{"$f":"IF(ISBLANK('1-4.プロフィール'!$L$15),\"\",'1-4.プロフィール'!$L$15&\"歳\")","v":""},null,null,{"$f":"IF(ISBLANK('1-4.プロフィール'!$N$15),\"\",'1-4.プロフィール'!$N$15)","v":""},null,null,null,{"$f":"IF(ISBLANK('1-4.プロフィール'!$O$15),\"\",'1-4.プロフィール'!$O$15)","v":""}]
[null,null,null,{"$f":"IF(ISBLANK('1-4.プロフィール'!$C$16),\"\",'1-4.プロフィール'!$C$16)","v":""},null,null,null,{"$f":"IF(ISBLANK('1-4.プロフィール'!$D$16),\"\",'1-4.プロフィール'!$D$16)","v":""},null,null,null,{"$f":"IF(ISBLANK('1-4.プロフィール'!$E$16),\"\",'1-4.プロフィール'!$E$16)","v":""},null,null,{"$f":"IF(ISBLANK('1-4.プロフィール'!$F$16),\"\",'1-4.プロフィール'!$F$16&\"年\")","v":""},null,null,{"$f":"IF(ISBLANK('1-4.プロフィール'!$H$16),\"\",'1-4.プロフィール'!$H$16&\"月\")","v":""},null,{"$f":"IF(ISBLANK('1-4.プロフィール'!$J$16),\"\",'1-4.プロフィール'!$J$16&\"日 生\")","v":""},null,null,null,{"$f":"IF(ISBLANK('1-4.プロフィール'!$L$16),\"\",'1-4.プロフィール'!$L$16&\"歳\")","v":""},null,null,{"$f":"IF(ISBLANK('1-4.プロフィール'!$N$16),\"\",'1-4.プロフィール'!$N$16)","v":""},null,null,null,{"$f":"IF(ISBLANK('1-4.プロフィール'!$O$16),\"\",'1-4.プロフィール'!$O$16)","v":""}]
[null,null,null,{"$f":"IF(ISBLANK('1-4.プロフィール'!$C$17),\"\",'1-4.プロフィール'!$C$17)","v":""},null,null,null,{"$f":"IF(ISBLANK('1-4.プロフィール'!$D$17),\"\",'1-4.プロフィール'!$D$17)","v":""},null,null,null,{"$f":"IF(ISBLANK('1-4.プロフィール'!$E$17),\"\",'1-4.プロフィール'!$E$17)","v":""},null,null,{"$f":"IF(ISBLANK('1-4.プロフィール'!$F$17),\"\",'1-4.プロフィール'!$F$17&\"年\")","v":""},null,null,{"$f":"IF(ISBLANK('1-4.プロフィール'!$H$17),\"\",'1-4.プロフィール'!$H$17&\"月\")","v":""},null,{"$f":"IF(ISBLANK('1-4.プロフィール'!$J$17),\"\",'1-4.プロフィール'!$J$17&\"日 生\")","v":""},null,null,null,{"$f":"IF(ISBLANK('1-4.プロフィール'!$L$17),\"\",'1-4.プロフィール'!$L$17&\"歳\")","v":""},null,null,{"$f":"IF(ISBLANK('1-4.プロフィール'!$N$17),\"\",'1-4.プロフィール'!$N$17)","v":""},null,null,null,{"$f":"IF(ISBLANK('1-4.プロフィール'!$O$17),\"\",'1-4.プロフィール'!$O$17)","v":""}]
[null,null,null,{"$f":"IF(ISBLANK('1-4.プロフィール'!$C$18),\"\",'1-4.プロフィール'!$C$18)","v":""},null,null,null,{"$f":"IF(ISBLANK('1-4.プロフィール'!$D$18),\"\",'1-4.プロフィール'!$D$18)","v":""},null,null,null,{"$f":"IF(ISBLANK('1-4.プロフィール'!$E$18),\"\",'1-4.プロフィール'!$E$18)","v":""},null,null,{"$f":"IF(ISBLANK('1-4.プロフィール'!$F$18),\"\",'1-4.プロフィール'!$F$18&\"年\")","v":""},null,null,{"$f":"IF(ISBLANK('1-4.プロフィール'!$H$18),\"\",'1-4.プロフィール'!$H$18&\"月\")","v":""},null,{"$f":"IF(ISBLANK('1-4.プロフィール'!$J$18),\"\",'1-4.プロフィール'!$J$18&\"日 生\")","v":""},null,null,null,{"$f":"IF(ISBLANK('1-4.プロフィール'!$L$18),\"\",'1-4.プロフィール'!$L$18&\"歳\")","v":""},null,null,{"$f":"IF(ISBLANK('1-4.プロフィール'!$N$18),\"\",'1-4.プロフィール'!$N$18)","v":""},null,null,null,{"$f":"IF(ISBLANK('1-4.プロフィール'!$O$18),\"\",'1-4.プロフィール'!$O$18)","v":""}]
[null,null,null,{"$f":"IF(ISBLANK('1-4.プロフィール'!$C$19),\"\",'1-4.プロフィール'!$C$19)","v":""},null,null,null,{"$f":"IF(ISBLANK('1-4.プロフィール'!$D$19),\"\",'1-4.プロフィール'!$D$19)","v":""},null,null,null,{"$f":"IF(ISBLANK('1-4.プロフィール'!$E$19),\"\",'1-4.プロフィール'!$E$19)","v":""},null,null,{"$f":"IF(ISBLANK('1-4.プロフィール'!$F$19),\"\",'1-4.プロフィール'!$F$19&\"年\")","v":""},null,null,{"$f":"IF(ISBLANK('1-4.プロフィール'!$H$19),\"\",'1-4.プロフィール'!$H$19&\"月\")","v":""},null,{"$f":"IF(ISBLANK('1-4.プロフィール'!$J$19),\"\",'1-4.プロフィール'!$J$19&\"日 生\")","v":""},null,null,null,{"$f":"IF(ISBLANK('1-4.プロフィール'!$L$19),\"\",'1-4.プロフィール'!$L$19&\"歳\")","v":""},null,null,{"$f":"IF(ISBLANK('1-4.プロフィール'!$N$19),\"\",'1-4.プロフィール'!$N$19)","v":""},null,null,null,{"$f":"IF(ISBLANK('1-4.プロフィール'!$O$19),\"\",'1-4.プロフィール'!$O$19)","v":""}]
[]
[null,null,{"$f":"IF(ISBLANK('1-4.プロフィール'!$C$12),\"\",\"２．現在の\"&'1-4.プロフィール'!$C$12&\"様の収入と支出の状況\")","v":""}]
[]
[null,null,"　【収入】"]
[null,null,null,null,{"$f":"IF(ISBLANK('1-5.収入'!$C$11),\"\",'1-5.収入'!$C$11)","v":""},null,null,null,null,null,null,null,{"$f":"IF(ISBLANK('1-5.収入'!$D$11),\"\",'1-5.収入'!$D$11)","v":""},null,null,null,null,null,{"$f":"IF(ISBLANK('1-5.収入'!$H$11),\"\",'1-5.収入'!$H$11)","v":""}]
[null,null,null,null,{"$f":"IF(ISBLANK('1-5.収入'!$C$12),\"\",'1-5.収入'!$C$12)","v":""},null,null,null,null,null,null,null,{"$f":"IF(ISBLANK('1-5.収入'!$D$12),\"\",'1-5.収入'!$D$12)","v":""},null,null,null,null,null,{"$f":"IF(ISBLANK('1-5.収入'!$H$12),\"\",'1-5.収入'!$H$12)","v":""}]
[null,null,null,null,{"$f":"IF(ISBLANK('1-5.収入'!$C$13),\"\",'1-5.収入'!$C$13)","v":""},null,null,null,null,null,null,null,{"$f":"IF(ISBLANK('1-5.収入'!$D$13),\"\",'1-5.収入'!$D$13)","v":""},null,null,null,null,null,{"$f":"IF(ISBLANK('1-5.収入'!$H$13),\"\",'1-5.収入'!$H$13)","v":""}]
[null,null,null,null,{"$f":"IF(ISBLANK('1-5.収入'!$C$14),\"\",'1-5.収入'!$C$14)","v":""},null,null,null,null,null,null,null,{"$f":"IF(ISBLANK('1-5.収入'!$D$14),\"\",'1-5.収入'!$D$14)","v":""},null,null,null,null,null,{"$f":"IF(ISBLANK('1-5.収入'!$H$14),\"\",'1-5.収入'!$H$14)","v":""}]
[null,null,null,null,{"$f":"IF(ISBLANK('1-5.収入'!$C$15),\"\",'1-5.収入'!$C$15)","v":""},null,null,null,null,null,null,null,{"$f":"IF(ISBLANK('1-5.収入'!$D$15),\"\",'1-5.収入'!$D$15)","v":""},null,null,null,null,null,{"$f":"IF(ISBLANK('1-5.収入'!$H$15),\"\",'1-5.収入'!$H$15)","v":""}]
[null,null,null,null,{"$f":"IF(ISBLANK('1-5.収入'!$C$16),\"\",'1-5.収入'!$C$16)","v":""},null,null,null,null,null,null,null,{"$f":"IF(ISBLANK('1-5.収入'!$D$16),\"\",'1-5.収入'!$D$16)","v":""},null,null,null,null,null,{"$f":"IF(ISBLANK('1-5.収入'!$H$16),\"\",'1-5.収入'!$H$16)","v":""}]
[null,null,null,null,{"$f":"IF(ISBLANK('1-5.収入'!$C$17),\"\",'1-5.収入'!$C$17)","v":"合　　　計"},null,null,null,null,null,null,null,{"$f":"IF(ISBLANK('1-5.収入'!$D$17),\"\",'1-5.収入'!$D$17)","v":0}]
[null,null,null,null,"税金・社会保険料",null,null,null,null,null,null,null,{"$f":"('1-5.収入'!$F$17-'1-5.収入'!$D$17)","v":0}]
[null,null,null,null,"可処分所得合計",null,null,null,null,null,null,null,{"$f":"IF(ISBLANK('1-5.収入'!$F$17),\"\",'1-5.収入'!$F$17)","v":0}]
[]
[null,null,"　【支出】"]
[null,null,null,null,{"$f":"IF(ISBLANK('1-6.支出'!$C$11),\"\",'1-6.支出'!$C$11)","v":""},null,null,null,null,null,null,null,{"$f":"IF(ISBLANK('1-6.支出'!$D$11),\"\",'1-6.支出'!$D$11)","v":""},null,null,null,null,null,{"$f":"IF(ISBLANK('1-6.支出'!$F$11),\"\",'1-6.支出'!$F$11)","v":""}]
[null,null,null,null,{"$f":"IF(ISBLANK('1-6.支出'!$C$12),\"\",'1-6.支出'!$C$12)","v":""},null,null,null,null,null,null,null,{"$f":"IF(ISBLANK('1-6.支出'!$D$12),\"\",'1-6.支出'!$D$12)","v":""},null,null,null,null,null,{"$f":"IF(ISBLANK('1-6.支出'!$F$12),\"\",'1-6.支出'!$F$12)","v":""}]
[null,null,null,null,{"$f":"IF(ISBLANK('1-6.支出'!$C$13),\"\",'1-6.支出'!$C$13)","v":""},null,null,null,null,null,null,null,{"$f":"IF(ISBLANK('1-6.支出'!$D$13),\"\",'1-6.支出'!$D$13)","v":""},null,null,null,null,null,{"$f":"IF(ISBLANK('1-6.支出'!$F$13),\"\",'1-6.支出'!$F$13)","v":""}]
[null,null,null,null,{"$f":"IF(ISBLANK('1-6.支出'!$C$14),\"\",'1-6.支出'!$C$14)","v":""},null,null,null,null,null,null,null,{"$f":"IF(ISBLANK('1-6.支出'!$D$14),\"\",'1-6.支出'!$D$14)","v":""},null,null,null,null,null,{"$f":"IF(ISBLANK('1-6.支出'!$F$14),\"\",'1-6.支出'!$F$14)","v":""}]
[null,null,null,null,{"$f":"IF(ISBLANK('1-6.支出'!$C$15),\"\",'1-6.支出'!$C$15)","v":""},null,null,null,null,null,null,null,{"$f":"IF(ISBLANK('1-6.支出'!$D$15),\"\",'1-6.支出'!$D$15)","v":""},null,null,null,null,null,{"$f":"IF(ISBLANK('1-6.支出'!$F$15),\"\",'1-6.支出'!$F$15)","v":""}]
[null,null,null,null,{"$f":"IF(ISBLANK('1-6.支出'!$C$16),\"\",'1-6.支出'!$C$16)","v":""},null,null,null,null,null,null,null,{"$f":"IF(ISBLANK('1-6.支出'!$D$16),\"\",'1-6.支出'!$D$16)","v":""},null,null,null,null,null,{"$f":"IF(ISBLANK('1-6.支出'!$F$16),\"\",'1-6.支出'!$F$16)","v":""}]
[null,null,null,null,{"$f":"IF(ISBLANK('1-6.支出'!$C$17),\"\",'1-6.支出'!$C$17)","v":""},null,null,null,null,null,null,null,{"$f":"IF(ISBLANK('1-6.支出'!$D$17),\"\",'1-6.支出'!$D$17)","v":""},null,null,null,null,null,{"$f":"IF(ISBLANK('1-6.支出'!$F$17),\"\",'1-6.支出'!$F$17)","v":""}]
[null,null,null,null,{"$f":"IF(ISBLANK('1-6.支出'!$C$18),\"\",'1-6.支出'!$C$18)","v":""},null,null,null,null,null,null,null,{"$f":"IF(ISBLANK('1-6.支出'!$D$18),\"\",'1-6.支出'!$D$18)","v":""},null,null,null,null,null,{"$f":"IF(ISBLANK('1-6.支出'!$F$18),\"\",'1-6.支出'!$F$18)","v":""}]
[null,null,null,null,{"$f":"IF(ISBLANK('1-6.支出'!$C$19),\"\",'1-6.支出'!$C$19)","v":""},null,null,null,null,null,null,null,{"$f":"IF(ISBLANK('1-6.支出'!$D$19),\"\",'1-6.支出'!$D$19)","v":""},null,null,null,null,null,{"$f":"IF(ISBLANK('1-6.支出'!$F$19),\"\",'1-6.支出'!$F$19)","v":""}]
[null,null,null,null,{"$f":"IF(ISBLANK('1-6.支出'!$C$20),\"\",'1-6.支出'!$C$20)","v":""},null,null,null,null,null,null,null,{"$f":"IF(ISBLANK('1-6.支出'!$D$20),\"\",'1-6.支出'!$D$20)","v":""},null,null,null,null,null,{"$f":"IF(ISBLANK('1-6.支出'!$F$20),\"\",'1-6.支出'!$F$20)","v":""}]
[null,null,null,null,{"$f":"IF(ISBLANK('1-6.支出'!$C$21),\"\",'1-6.支出'!$C$21)","v":""},null,null,null,null,null,null,null,{"$f":"IF(ISBLANK('1-6.支出'!$D$21),\"\",'1-6.支出'!$D$21)","v":""},null,null,null,null,null,{"$f":"IF(ISBLANK('1-6.支出'!$F$21),\"\",'1-6.支出'!$F$21)","v":""}]
[null,null,null,null,{"$f":"IF(ISBLANK('1-6.支出'!$C$22),\"\",'1-6.支出'!$C$22)","v":""},null,null,null,null,null,null,null,{"$f":"IF(ISBLANK('1-6.支出'!$D$22),\"\",'1-6.支出'!$D$22)","v":""},null,null,null,null,null,{"$f":"IF(ISBLANK('1-6.支出'!$F$22),\"\",'1-6.支出'!$F$22)","v":""}]
[null,null,null,null,{"$f":"IF(ISBLANK('1-6.支出'!$C$23),\"\",'1-6.支出'!$C$23)","v":""},null,null,null,null,null,null,null,{"$f":"IF(ISBLANK('1-6.支出'!$D$23),\"\",'1-6.支出'!$D$23)","v":""},null,null,null,null,null,{"$f":"IF(ISBLANK('1-6.支出'!$F$23),\"\",'1-6.支出'!$F$23)","v":""}]
[null,null,null,null,{"$f":"IF(ISBLANK('1-6.支出'!$C$24),\"\",'1-6.支出'!$C$24)","v":""},null,null,null,null,null,null,null,{"$f":"IF(ISBLANK('1-6.支出'!$D$24),\"\",'1-6.支出'!$D$24)","v":""},null,null,null,null,null,{"$f":"IF(ISBLANK('1-6.支出'!$F$24),\"\",'1-6.支出'!$F$24)","v":""}]
[null,null,null,null,{"$f":"IF(ISBLANK('1-6.支出'!$C$25),\"\",'1-6.支出'!$C$25)","v":""},null,null,null,null,null,null,null,{"$f":"IF(ISBLANK('1-6.支出'!$D$25),\"\",'1-6.支出'!$D$25)","v":""},null,null,null,null,null,{"$f":"IF(ISBLANK('1-6.支出'!$F$25),\"\",'1-6.支出'!$F$25)","v":""}]
[null,null,null,null,{"$f":"IF(ISBLANK('1-6.支出'!$C$26),\"\",'1-6.支出'!$C$26)","v":""},null,null,null,null,null,null,null,{"$f":"IF(ISBLANK('1-6.支出'!$D$26),\"\",'1-6.支出'!$D$26)","v":""},null,null,null,null,null,{"$f":"IF(ISBLANK('1-6.支出'!$F$26),\"\",'1-6.支出'!$F$26)","v":""}]
[null,null,null,null,{"$f":"IF(ISBLANK('1-6.支出'!$C$27),\"\",'1-6.支出'!$C$27)","v":"合　　　計"},null,null,null,null,null,null,null,{"$f":"IF(ISBLANK('1-6.支出'!$D$27),\"\",'1-6.支出'!$D$27)","v":0}]
[null,null,null,null,"貯蓄額",null,null,null,null,null,null,null,{"$f":"IF(('1-5.収入'!$F$17-'1-6.支出'!$D$27)>0,('1-5.収入'!$F$17-'1-6.支出'!$D$27),\"\")","v":""}]
[null,null,null,null,"持ち出し分",null,null,null,null,null,null,null,{"$f":"IF(('1-5.収入'!$F$17-'1-6.支出'!$D$27)<0,('1-5.収入'!$F$17-'1-6.支出'!$D$27),\"\")","v":""},null,null,null,null,null,null,null,null,null,null,null,null,null,null,null,null,null,null,null,null,null,null,null,null,null,null,null,null,null,null,"収入合計","支出合計"]
[null,null,null,null,null,null,null,null,null,null,null,null,null,null,null,null,null,null,null,null,null,null,null,null,null,null,null,null,null,null,null,null,null,null,null,null,null,null,null,null,null,null,"収入合計",{"$f":"M25","v":0}]
[null,null,null,null,null,null,null,null,null,null,null,null,null,null,null,null,null,null,null,null,null,null,null,null,null,null,null,null,null,null,null,null,null,null,null,null,null,null,null,null,null,null,"持ち出し分",{"$f":"ABS(M48)","v":{"$error":"#VALUE!"}}]
[null,null,null,null,null,null,null,null,null,null,null,null,null,null,null,null,null,null,null,null,null,null,null,null,null,null,null,null,null,null,null,null,null,null,null,null,null,null,null,null,null,null,"税金・社会保険料を除く支出合計",null,{"$f":"M46","v":0}]
[null,null,null,null,null,null,null,null,null,null,null,null,null,null,null,null,null,null,null,null,null,null,null,null,null,null,null,null,null,null,null,null,null,null,null,null,null,null,null,null,null,null,"税金・社会保険料",null,{"$f":"ABS(M26)","v":0}]
[null,null,null,null,null,null,null,null,null,null,null,null,null,null,null,null,null,null,null,null,null,null,null,null,null,null,null,null,null,null,null,null,null,null,null,null,null,null,null,null,null,null,"貯蓄額",null,{"$f":"M47","v":""}]

{"sheet":"2-5.プロフィール②","index":13,"n_rows":56,"n_cols":29,"rows_kept":56,"cut":false,"hidden":false,"merged":[[53,4,53,11],[53,12,53,38],[55,4,60,38],[51,4,51,11],[51,12,51,38],[52,4,52,11],[52,12,52,38],[50,4,50,11],[50,12,50,38],[45,4,45,11],[45,12,45,38],[46,4,46,11],[46,12,46,38],[47,4,47,11],[47,12,47,38],[48,4,48,11],[48,12,48,38],[49,4,49,11],[49,12,49,38],[42,4,42,11],[42,12,42,38],[43,4,43,11],[43,12,43,38],[44,4,44,11],[44,12,44,38],[39,4,39,11],[39,12,39,38],[40,4,40,11],[40,12,40,38],[41,4,41,11],[41,12,41,38],[29,4,29,11],[29,12,29,19],[29,20,29,27],[29,28,29,38],[38,4,38,11],[38,12,38,38],[36,3,36,15],[31,4,33,38],[27,4,27,11],[27,12,27,19],[27,20,27,27],[27,28,27,38],[28,4,28,11],[28,12,28,19],[28,20,28,27],[28,28,28,38],[25,4,25,11],[25,12,25,19],[25,20,25,27],[25,28,25,38],[26,4,26,11],[26,12,26,19],[26,20,26,27],[26,28,26,38],[24,4,24,11],[24,12,24,19],[24,20,24,27],[24,28,24,38],[21,3,21,15],[17,4,19,38],[23,4,23,11],[23,12,23,19],[23,20,23,27],[23,28,23,38],[13,4,13,11],[13,12,13,38],[14,4,14,11],[14,12,14,38],[15,4,15,11],[15,12,15,38],[12,4,12,11],[12,12,12,38],[4,2,4,36],[9,4,9,11],[9,12,9,38],[10,4,10,11],[10,12,10,38],[11,4,11,11],[11,12,11,38],[7,3,7,15]]}
[]
[]
[]
[]
[null,null,{"$f":"IF(ISBLANK('1-4.プロフィール'!$C$12),\"\",\"３．今後の\"&'1-4.プロフィール'!$C$12&\"様の収入と支出の予定\")","v":""}]
[]
[null,null,"【収入】"]
[null,null,null,"●今後の収入の予定"]
[]
[null,null,null,null,{"$f":"IF(ISBLANK('1-5.収入'!$C$22),\"\",'1-5.収入'!$C$22)","v":""},null,null,null,null,null,null,null,{"$f":"IF(ISBLANK('1-5.収入'!$D$22),\"\",'1-5.収入'!$D$22)","v":""}]
[null,null,null,null,{"$f":"IF(ISBLANK('1-5.収入'!$C$23),\"\",'1-5.収入'!$C$23)","v":""},null,null,null,null,null,null,null,{"$f":"IF(ISBLANK('1-5.収入'!$D$23),\"\",'1-5.収入'!$D$23)","v":""}]
[null,null,null,null,{"$f":"IF(ISBLANK('1-5.収入'!$C$24),\"\",'1-5.収入'!$C$24)","v":""},null,null,null,null,null,null,null,{"$f":"IF(ISBLANK('1-5.収入'!$D$24),\"\",'1-5.収入'!$D$24)","v":""}]
[null,null,null,null,{"$f":"IF(ISBLANK('1-5.収入'!$C$25),\"\",'1-5.収入'!$C$25)","v":""},null,null,null,null,null,null,null,{"$f":"IF(ISBLANK('1-5.収入'!$D$25),\"\",'1-5.収入'!$D$25)","v":""}]
[null,null,null,null,{"$f":"IF(ISBLANK('1-5.収入'!$C$26),\"\",'1-5.収入'!$C$26)","v":""},null,null,null,null,null,null,null,{"$f":"IF(ISBLANK('1-5.収入'!$D$26),\"\",'1-5.収入'!$D$26)","v":""}]
[null,null,null,null,{"$f":"IF(ISBLANK('1-5.収入'!$C$27),\"\",'1-5.収入'!$C$27)","v":""},null,null,null,null,null,null,null,{"$f":"IF(ISBLANK('1-5.収入'!$D$27),\"\",'1-5.収入'!$D$27)","v":""}]
[null,null,null,null,{"$f":"IF(ISBLANK('1-5.収入'!$C$28),\"\",'1-5.収入'!$C$28)","v":""},null,null,null,null,null,null,null,{"$f":"IF(ISBLANK('1-5.収入'!$D$28),\"\",'1-5.収入'!$D$28)","v":""}]
[]
[null,null,null,null,{"$f":"IF(ISBLANK('1-5.収入'!$C$30),\"\",'1-5.収入'!$C$30)","v":""}]
[]
[]
[]
[null,null,null,"●今後の収入の予定（年金について）"]
[]
[null,null,null,null,{"$f":"IF(ISBLANK('1-5.収入'!$C$37),\"\",'1-5.収入'!$C$37)","v":""},null,null,null,null,null,null,null,{"$f":"IF(ISBLANK('1-5.収入'!$D$37),\"\",'1-5.収入'!$D$37)","v":""},null,null,null,null,null,null,null,{"$f":"IF(ISBLANK('1-5.収入'!$F$37),\"\",'1-5.収入'!$F$37)","v":""},null,null,null,null,null,null,null,{"$f":"IF(ISBLANK('1-5.収入'!$H$37),\"\",'1-5.収入'!$H$37)","v":""}]
[null,null,null,null,{"$f":"IF(ISBLANK('1-5.収入'!$C$38),\"\",'1-5.収入'!$C$38)","v":""},null,null,null,null,null,null,null,{"$f":"IF(ISBLANK('1-5.収入'!$D$38),\"\",'1-5.収入'!$D$38)","v":""},null,null,null,null,null,null,null,{"$f":"IF(ISBLANK('1-5.収入'!$F$38),\"\",'1-5.収入'!$F$38)","v":""},null,null,null,null,null,null,null,{"$f":"IF(ISBLANK('1-5.収入'!$H$38),\"\",'1-5.収入'!$H$38)","v":""}]
[null,null,null,null,{"$f":"IF(ISBLANK('1-5.収入'!$C$39),\"\",'1-5.収入'!$C$39)","v":""},null,null,null,null,null,null,null,{"$f":"IF(ISBLANK('1-5.収入'!$D$39),\"\",'1-5.収入'!$D$39)","v":""},null,null,null,null,null,null,null,{"$f":"IF(ISBLANK('1-5.収入'!$F$39),\"\",'1-5.収入'!$F$39)","v":""},null,null,null,null,null,null,null,{"$f":"IF(ISBLANK('1-5.収入'!$H$39),\"\",'1-5.収入'!$H$39)","v":""}]
[null,null,null,null,{"$f":"IF(ISBLANK('1-5.収入'!$C$40),\"\",'1-5.収入'!$C$40)","v":""},null,null,null,null,null,null,null,{"$f":"IF(ISBLANK('1-5.収入'!$D$40),\"\",'1-5.収入'!$D$40)","v":""},null,null,null,null,null,null,null,{"$f":"IF(ISBLANK('1-5.収入'!$F$40),\"\",'1-5.収入'!$F$40)","v":""},null,null,null,null,null,null,null,{"$f":"IF(ISBLANK('1-5.収入'!$H$40),\"\",'1-5.収入'!$H$40)","v":""}]
[null,null,null,null,{"$f":"IF(ISBLANK('1-5.収入'!$C$41),\"\",'1-5.収入'!$C$41)","v":""},null,null,null,null,null,null,null,{"$f":"IF(ISBLANK('1-5.収入'!$D$41),\"\",'1-5.収入'!$D$41)","v":""},null,null,null,null,null,null,null,{"$f":"IF(ISBLANK('1-5.収入'!$F$41),\"\",'1-5.収入'!$F$41)","v":""},null,null,null,null,null,null,null,{"$f":"IF(ISBLANK('1-5.収入'!$H$41),\"\",'1-5.収入'!$H$41)","v":""}]
[null,null,null,null,{"$f":"IF(ISBLANK('1-5.収入'!$C$42),\"\",'1-5.収入'!$C$42)","v":""},null,null,null,null,null,null,null,{"$f":"IF(ISBLANK('1-5.収入'!$D$42),\"\",'1-5.収入'!$D$42)","v":""},null,null,null,null,null,null,null,{"$f":"IF(ISBLANK('1-5.収入'!$F$42),\"\",'1-5.収入'!$F$42)","v":""},null,null,null,null,null,null,null,{"$f":"IF(ISBLANK('1-5.収入'!$H$42),\"\",'1-5.収入'!$H$42)","v":""}]
[null,null,null,null,{"$f":"IF(ISBLANK('1-5.収入'!$C$43),\"\",'1-5.収入'!$C$43)","v":""},null,null,null,null,null,null,null,{"$f":"IF(ISBLANK('1-5.収入'!$D$43),\"\",'1-5.収入'!$D$43)","v":""},null,null,null,null,null,null,null,{"$f":"IF(ISBLANK('1-5.収入'!$F$43),\"\",'1-5.収入'!$F$43)","v":""},null,null,null,null,null,null,null,{"$f":"IF(ISBLANK('1-5.収入'!$H$43),\"\",'1-5.収入'!$H$43)","v":""}]
[]
[null,null,null,null,{"$f":"IF(ISBLANK('1-5.収入'!$C$45),\"\",'1-5.収入'!$C$45)","v":""}]
[]
[]
[]
[null,null,"【支出】"]
[null,null,null,"●今後の支出の予定"]
[]
[null,null,null,null,{"$f":"IF(ISBLANK('1-6.支出'!$C$32),\"\",'1-6.支出'!$C$32)","v":""},null,null,null,null,null,null,null,{"$f":"IF(ISBLANK('1-6.支出'!$D$32),\"\",'1-6.支出'!$D$32)","v":""}]
[null,null,null,null,{"$f":"IF(ISBLANK('1-6.支出'!$C$33),\"\",'1-6.支出'!$C$33)","v":""},null,null,null,null,null,null,null,{"$f":"IF(ISBLANK('1-6.支出'!$D$33),\"\",'1-6.支出'!$D$33)","v":""}]
[null,null,null,null,{"$f":"IF(ISBLANK('1-6.支出'!$C$34),\"\",'1-6.支出'!$C$34)","v":""},null,null,null,null,null,null,null,{"$f":"IF(ISBLANK('1-6.支出'!$D$34),\"\",'1-6.支出'!$D$34)","v":""}]
[null,null,null,null,{"$f":"IF(ISBLANK('1-6.支出'!$C$35),\"\",'1-6.支出'!$C$35)","v":""},null,null,null,null,null,null,null,{"$f":"IF(ISBLANK('1-6.支出'!$D$35),\"\",'1-6.支出'!$D$35)","v":""}]
[null,null,null,null,{"$f":"IF(ISBLANK('1-6.支出'!$C$36),\"\",'1-6.支出'!$C$36)","v":""},null,null,null,null,null,null,null,{"$f":"IF(ISBLANK('1-6.支出'!$D$36),\"\",'1-6.支出'!$D$36)","v":""}]
[null,null,null,null,{"$f":"IF(ISBLANK('1-6.支出'!$C$37),\"\",'1-6.支出'!$C$37)","v":""},null,null,null,null,null,null,null,{"$f":"IF(ISBLANK('1-6.支出'!$D$37),\"\",'1-6.支出'!$D$37)","v":""}]
[null,null,null,null,{"$f":"IF(ISBLANK('1-6.支出'!$C$38),\"\",'1-6.支出'!$C$38)","v":""},null,null,null,null,null,null,null,{"$f":"IF(ISBLANK('1-6.支出'!$D$38),\"\",'1-6.支出'!$D$38)","v":""}]
[null,null,null,null,{"$f":"IF(ISBLANK('1-6.支出'!$C$39),\"\",'1-6.支出'!$C$39)","v":""},null,null,null,null,null,null,null,{"$f":"IF(ISBLANK('1-6.支出'!$D$39),\"\",'1-6.支出'!$D$39)","v":""}]
[null,null,null,null,{"$f":"IF(ISBLANK('1-6.支出'!$C$40),\"\",'1-6.支出'!$C$40)","v":""},null,null,null,null,null,null,null,{"$f":"IF(ISBLANK('1-6.支出'!$D$40),\"\",'1-6.支出'!$D$40)","v":""}]
[null,null,null,null,{"$f":"IF(ISBLANK('1-6.支出'!$C$41),\"\",'1-6.支出'!$C$41)","v":""},null,null,null,null,null,null,null,{"$f":"IF(ISBLANK('1-6.支出'!$D$41),\"\",'1-6.支出'!$D$41)","v":""}]
[null,null,null,null,{"$f":"IF(ISBLANK('1-6.支出'!$C$42),\"\",'1-6.支出'!$C$42)","v":""},null,null,null,null,null,null,null,{"$f":"IF(ISBLANK('1-6.支出'!$D$42),\"\",'1-6.支出'!$D$42)","v":""}]
[null,null,null,null,{"$f":"IF(ISBLANK('1-6.支出'!$C$43),\"\",'1-6.支出'!$C$43)","v":""},null,null,null,null,null,null,null,{"$f":"IF(ISBLANK('1-6.支出'!$D$43),\"\",'1-6.支出'!$D$43)","v":""}]
[null,null,null,null,{"$f":"IF(ISBLANK('1-6.支出'!$C$44),\"\",'1-6.支出'!$C$44)","v":""},null,null,null,null,null,null,null,{"$f":"IF(ISBLANK('1-6.支出'!$D$44),\"\",'1-6.支出'!$D$44)","v":""}]
[null,null,null,null,{"$f":"IF(ISBLANK('1-6.支出'!$C$45),\"\",'1-6.支出'!$C$45)","v":""},null,null,null,null,null,null,null,{"$f":"IF(ISBLANK('1-6.支出'!$D$45),\"\",'1-6.支出'!$D$45)","v":""}]
[null,null,null,null,{"$f":"IF(ISBLANK('1-6.支出'!$C$46),\"\",'1-6.支出'!$C$46)","v":""},null,null,null,null,null,null,null,{"$f":"IF(ISBLANK('1-6.支出'!$D$46),\"\",'1-6.支出'!$D$46)","v":""}]
[null,null,null,null,{"$f":"IF(ISBLANK('1-6.支出'!$C$47),\"\",'1-6.支出'!$C$47)","v":""},null,null,null,null,null,null,null,{"$f":"IF(ISBLANK('1-6.支出'!$D$47),\"\",'1-6.支出'!$D$47)","v":""}]
[]
[null,null,null,null,{"$f":"IF(ISBLANK('1-6.支出'!$C$49),\"\",'1-6.支出'!$C$49)","v":""}]

{"sheet":"2-6.プロフィール③","index":14,"n_rows":60,"n_cols":43,"rows_kept":60,"cut":false,"hidden":false,"merged":[[48,3,50,38],[53,3,53,8],[53,9,53,14],[53,15,53,18],[53,19,53,22],[53,23,53,38],[35,3,35,8],[35,9,35,14],[24,3,27,38],[30,3,30,8],[30,9,30,14],[31,3,31,8],[31,9,31,14],[45,3,45,8],[45,9,45,14],[45,15,45,18],[45,19,45,38],[32,3,32,8],[59,3,63,38],[56,3,56,8],[56,9,56,14],[56,15,56,18],[56,19,56,22],[55,23,55,38],[57,23,57,38],[54,3,54,8],[54,9,54,14],[54,15,54,18],[54,19,54,22],[55,15,55,18],[55,19,55,22],[4,2,4,36],[41,2,41,36],[56,23,56,38],[57,3,57,8],[57,9,57,14],[57,15,57,18],[57,19,57,22],[54,23,54,38],[55,3,55,8],[55,9,55,14],[37,3,39,38],[44,3,44,8],[44,9,44,14],[44,15,44,18],[44,19,44,38],[46,3,46,8],[46,9,46,14],[46,15,46,18],[46,19,46,38],[32,9,32,14],[33,3,33,8],[33,9,33,14],[34,3,34,8],[34,9,34,14],[9,4,9,12],[9,13,9,17],[9,18,9,21],[10,4,10,12],[10,13,10,17],[10,18,10,21],[7,4,7,12],[7,13,7,17],[7,18,7,21],[8,4,8,12],[8,13,8,17],[8,18,8,21],[13,4,13,12],[13,13,13,17],[13,18,13,21],[14,4,14,12],[14,13,14,17],[14,18,14,21],[11,4,11,12],[11,13,11,17],[11,18,11,21],[12,4,12,12],[12,13,12,17],[12,18,12,21],[17,4,17,12],[17,13,17,17],[17,18,17,21],[21,4,21,12],[21,13,21,17],[21,18,21,21],[20,13,20,17],[20,18,20,21],[15,4,15,12],[15,13,15,17],[15,18,15,21],[16,4,16,12],[16,13,16,17],[16,18,16,21],[22,13,22,17],[22,18,22,21],[22,3,22,12],[18,4,18,12],[18,13,18,17],[18,18,18,21],[19,4,19,12],[19,13,19,17],[19,18,19,21],[20,4,20,12]]}
[]
[]
[]
[]
[null,null,"４．金融資産"]
[]
[null,null,"【金融商品】"]
[null,null,null,"A",{"$f":"IF(ISBLANK('1-8-1.保有している金融商品、不動産 現状'!$D$12),\"\",'1-8-1.保有している金融商品、不動産 現状'!$D$12)","v":""},null,null,null,null,null,null,null,null,{"$f":"IF(ISBLANK('1-8-1.保有している金融商品、不動産 現状'!$E$12),\"\",'1-8-1.保有している金融商品、不動産 現状'!$E$12)","v":""},null,null,null,null,{"$f":"IF(ISBLANK('1-8-1.保有している金融商品、不動産 現状'!$G$12),\"\",'1-8-1.保有している金融商品、不動産 現状'!$G$12)","v":""},null,null,null,null,null,null,null,null,null,null,null,null,null,null,null,null,null,null,null,null,null,null,null,{"$f":"IF(N8=\"\",NA(),N8)","v":{"$error":"#N/A"}}]
[null,null,null,"B",{"$f":"IF(ISBLANK('1-8-1.保有している金融商品、不動産 現状'!$D$13),\"\",'1-8-1.保有している金融商品、不動産 現状'!$D$13)","v":""},null,null,null,null,null,null,null,null,{"$f":"IF(ISBLANK('1-8-1.保有している金融商品、不動産 現状'!$E$13),\"\",'1-8-1.保有している金融商品、不動産 現状'!$E$13)","v":""},null,null,null,null,{"$f":"IF(ISBLANK('1-8-1.保有している金融商品、不動産 現状'!$G$13),\"\",'1-8-1.保有している金融商品、不動産 現状'!$G$13)","v":""},null,null,null,null,null,null,null,null,null,null,null,null,null,null,null,null,null,null,null,null,null,null,null,{"$error":"#N/A"}]
[null,null,null,"C",{"$f":"IF(ISBLANK('1-8-1.保有している金融商品、不動産 現状'!$D$14),\"\",'1-8-1.保有している金融商品、不動産 現状'!$D$14)","v":""},null,null,null,null,null,null,null,null,{"$f":"IF(ISBLANK('1-8-1.保有している金融商品、不動産 現状'!$E$14),\"\",'1-8-1.保有している金融商品、不動産 現状'!$E$14)","v":""},null,null,null,null,{"$f":"IF(ISBLANK('1-8-1.保有している金融商品、不動産 現状'!$G$14),\"\",'1-8-1.保有している金融商品、不動産 現状'!$G$14)","v":""},null,null,null,null,null,null,null,null,null,null,null,null,null,null,null,null,null,null,null,null,null,null,null,{"$error":"#N/A"}]
[null,null,null,"D",{"$f":"IF(ISBLANK('1-8-1.保有している金融商品、不動産 現状'!$D$15),\"\",'1-8-1.保有している金融商品、不動産 現状'!$D$15)","v":""},null,null,null,null,null,null,null,null,{"$f":"IF(ISBLANK('1-8-1.保有している金融商品、不動産 現状'!$E$15),\"\",'1-8-1.保有している金融商品、不動産 現状'!$E$15)","v":""},null,null,null,null,{"$f":"IF(ISBLANK('1-8-1.保有している金融商品、不動産 現状'!$G$15),\"\",'1-8-1.保有している金融商品、不動産 現状'!$G$15)","v":""},null,null,null,null,null,null,null,null,null,null,null,null,null,null,null,null,null,null,null,null,null,null,null,{"$error":"#N/A"}]
[null,null,null,"E",{"$f":"IF(ISBLANK('1-8-1.保有している金融商品、不動産 現状'!$D$16),\"\",'1-8-1.保有している金融商品、不動産 現状'!$D$16)","v":""},null,null,null,null,null,null,null,null,{"$f":"IF(ISBLANK('1-8-1.保有している金融商品、不動産 現状'!$E$16),\"\",'1-8-1.保有している金融商品、不動産 現状'!$E$16)","v":""},null,null,null,null,{"$f":"IF(ISBLANK('1-8-1.保有している金融商品、不動産 現状'!$G$16),\"\",'1-8-1.保有している金融商品、不動産 現状'!$G$16)","v":""},null,null,null,null,null,null,null,null,null,null,null,null,null,null,null,null,null,null,null,null,null,null,null,{"$error":"#N/A"}]
[null,null,null,"F",{"$f":"IF(ISBLANK('1-8-1.保有している金融商品、不動産 現状'!$D$17),\"\",'1-8-1.保有している金融商品、不動産 現状'!$D$17)","v":""},null,null,null,null,null,null,null,null,{"$f":"IF(ISBLANK('1-8-1.保有している金融商品、不動産 現状'!$E$17),\"\",'1-8-1.保有している金融商品、不動産 現状'!$E$17)","v":""},null,null,null,null,{"$f":"IF(ISBLANK('1-8-1.保有している金融商品、不動産 現状'!$G$17),\"\",'1-8-1.保有している金融商品、不動産 現状'!$G$17)","v":""},null,null,null,null,null,null,null,null,null,null,null,null,null,null,null,null,null,null,null,null,null,null,null,{"$error":"#N/A"}]
[null,null,null,"G",{"$f":"IF(ISBLANK('1-8-1.保有している金融商品、不動産 現状'!$D$18),\"\",'1-8-1.保有している金融商品、不動産 現状'!$D$18)","v":""},null,null,null,null,null,null,null,null,{"$f":"IF(ISBLANK('1-8-1.保有している金融商品、不動産 現状'!$E$18),\"\",'1-8-1.保有している金融商品、不動産 現状'!$E$18)","v":""},null,null,null,null,{"$f":"IF(ISBLANK('1-8-1.保有している金融商品、不動産 現状'!$G$18),\"\",'1-8-1.保有している金融商品、不動産 現状'!$G$18)","v":""},null,null,null,null,null,null,null,null,null,null,null,null,null,null,null,null,null,null,null,null,null,null,null,{"$error":"#N/A"}]
[null,null,null,"H",{"$f":"IF(ISBLANK('1-8-1.保有している金融商品、不動産 現状'!$D$19),\"\",'1-8-1.保有している金融商品、不動産 現状'!$D$19)","v":""},null,null,null,null,null,null,null,null,{"$f":"IF(ISBLANK('1-8-1.保有している金融商品、不動産 現状'!$E$19),\"\",'1-8-1.保有している金融商品、不動産 現状'!$E$19)","v":""},null,null,null,null,{"$f":"IF(ISBLANK('1-8-1.保有している金融商品、不動産 現状'!$G$19),\"\",'1-8-1.保有している金融商品、不動産 現状'!$G$19)","v":""},null,null,null,null,null,null,null,null,null,null,null,null,null,null,null,null,null,null,null,null,null,null,null,{"$error":"#N/A"}]
[null,null,null,"I",{"$f":"IF(ISBLANK('1-8-1.保有している金融商品、不動産 現状'!$D$20),\"\",'1-8-1.保有している金融商品、不動産 現状'!$D$20)","v":""},null,null,null,null,null,null,null,null,{"$f":"IF(ISBLANK('1-8-1.保有している金融商品、不動産 現状'!$E$20),\"\",'1-8-1.保有している金融商品、不動産 現状'!$E$20)","v":""},null,null,null,null,{"$f":"IF(ISBLANK('1-8-1.保有している金融商品、不動産 現状'!$G$20),\"\",'1-8-1.保有している金融商品、不動産 現状'!$G$20)","v":""},null,null,null,null,null,null,null,null,null,null,null,null,null,null,null,null,null,null,null,null,null,null,null,{"$error":"#N/A"}]
[null,null,null,"J",{"$f":"IF(ISBLANK('1-8-1.保有している金融商品、不動産 現状'!$D$21),\"\",'1-8-1.保有している金融商品、不動産 現状'!$D$21)","v":""},null,null,null,null,null,null,null,null,{"$f":"IF(ISBLANK('1-8-1.保有している金融商品、不動産 現状'!$E$21),\"\",'1-8-1.保有している金融商品、不動産 現状'!$E$21)","v":""},null,null,null,null,{"$f":"IF(ISBLANK('1-8-1.保有している金融商品、不動産 現状'!$G$21),\"\",'1-8-1.保有している金融商品、不動産 現状'!$G$21)","v":""},null,null,null,null,null,null,null,null,null,null,null,null,null,null,null,null,null,null,null,null,null,null,null,{"$error":"#N/A"}]
[null,null,null,"K",{"$f":"IF(ISBLANK('1-8-1.保有している金融商品、不動産 現状'!$D$22),\"\",'1-8-1.保有している金融商品、不動産 現状'!$D$22)","v":""},null,null,null,null,null,null,null,null,{"$f":"IF(ISBLANK('1-8-1.保有している金融商品、不動産 現状'!$E$22),\"\",'1-8-1.保有している金融商品、不動産 現状'!$E$22)","v":""},null,null,null,null,{"$f":"IF(ISBLANK('1-8-1.保有している金融商品、不動産 現状'!$G$22),\"\",'1-8-1.保有している金融商品、不動産 現状'!$G$22)","v":""},null,null,null,null,null,null,null,null,null,null,null,null,null,null,null,null,null,null,null,null,null,null,null,{"$error":"#N/A"}]
[null,null,null,"L",{"$f":"IF(ISBLANK('1-8-1.保有している金融商品、不動産 現状'!$D$23),\"\",'1-8-1.保有している金融商品、不動産 現状'!$D$23)","v":""},null,null,null,null,null,null,null,null,{"$f":"IF(ISBLANK('1-8-1.保有している金融商品、不動産 現状'!$E$23),\"\",'1-8-1.保有している金融商品、不動産 現状'!$E$23)","v":""},null,null,null,null,{"$f":"IF(ISBLANK('1-8-1.保有している金融商品、不動産 現状'!$G$23),\"\",'1-8-1.保有している金融商品、不動産 現状'!$G$23)","v":""},null,null,null,null,null,null,null,null,null,null,null,null,null,null,null,null,null,null,null,null,null,null,null,{"$error":"#N/A"}]
[null,null,null,"M",{"$f":"IF(ISBLANK('1-8-1.保有している金融商品、不動産 現状'!$D$24),\"\",'1-8-1.保有している金融商品、不動産 現状'!$D$24)","v":""},null,null,null,null,null,null,null,null,{"$f":"IF(ISBLANK('1-8-1.保有している金融商品、不動産 現状'!$E$24),\"\",'1-8-1.保有している金融商品、不動産 現状'!$E$24)","v":""},null,null,null,null,{"$f":"IF(ISBLANK('1-8-1.保有している金融商品、不動産 現状'!$G$24),\"\",'1-8-1.保有している金融商品、不動産 現状'!$G$24)","v":""},null,null,null,null,null,null,null,null,null,null,null,null,null,null,null,null,null,null,null,null,null,null,null,{"$error":"#N/A"}]
[null,null,null,"N",{"$f":"IF(ISBLANK('1-8-1.保有している金融商品、不動産 現状'!$D$25),\"\",'1-8-1.保有している金融商品、不動産 現状'!$D$25)","v":""},null,null,null,null,null,null,null,null,{"$f":"IF(ISBLANK('1-8-1.保有している金融商品、不動産 現状'!$E$25),\"\",'1-8-1.保有している金融商品、不動産 現状'!$E$25)","v":""},null,null,null,null,{"$f":"IF(ISBLANK('1-8-1.保有している金融商品、不動産 現状'!$G$25),\"\",'1-8-1.保有している金融商品、不動産 現状'!$G$25)","v":""},null,null,null,null,null,null,null,null,null,null,null,null,null,null,null,null,null,null,null,null,null,null,null,{"$error":"#N/A"}]
[null,null,null,"O",{"$f":"IF(ISBLANK('1-8-1.保有している金融商品、不動産 現状'!$D$26),\"\",'1-8-1.保有している金融商品、不動産 現状'!$D$26)","v":""},null,null,null,null,null,null,null,null,{"$f":"IF(ISBLANK('1-8-1.保有している金融商品、不動産 現状'!$E$26),\"\",'1-8-1.保有している金融商品、不動産 現状'!$E$26)","v":""},null,null,null,null,{"$f":"IF(ISBLANK('1-8-1.保有している金融商品、不動産 現状'!$G$26),\"\",'1-8-1.保有している金融商品、不動産 現状'!$G$26)","v":""},null,null,null,null,null,null,null,null,null,null,null,null,null,null,null,null,null,null,null,null,null,null,null,{"$error":"#N/A"}]
[null,null,null,"合　　計",null,null,null,null,null,null,null,null,null,{"$f":"IF(ISBLANK('1-8-1.保有している金融商品、不動産 現状'!$E$27),\"\",'1-8-1.保有している金融商品、不動産 現状'!$E$27)","v":0},null,null,null,null,{"$f":"IF(ISBLANK('1-8-1.保有している金融商品、不動産 現状'!$G$27),\"\",'1-8-1.保有している金融商品、不動産 現状'!$G$27)","v":0}]
[]
[null,null,null,{"$f":"IF(ISBLANK('1-8-1.保有している金融商品、不動産 現状'!$D$29),\"\",'1-8-1.保有している金融商品、不動産 現状'!$D$29)","v":""}]
[]
[]
[]
[]
[null,null,"【不動産】"]
[null,null,null,{"$f":"IF(ISBLANK('1-8-1.保有している金融商品、不動産 現状'!$D$38),\"\",'1-8-1.保有している金融商品、不動産 現状'!$D$38)","v":""},null,null,null,null,null,{"$f":"IF(ISBLANK('1-8-1.保有している金融商品、不動産 現状'!$E$38),\"\",'1-8-1.保有している金融商品、不動産 現状'!$E$38)","v":""}]
[null,null,null,{"$f":"IF(ISBLANK('1-8-1.保有している金融商品、不動産 現状'!$D$39),\"\",'1-8-1.保有している金融商品、不動産 現状'!$D$39)","v":""},null,null,null,null,null,{"$f":"IF(ISBLANK('1-8-1.保有している金融商品、不動産 現状'!$E$39),\"\",'1-8-1.保有している金融商品、不動産 現状'!$E$39)","v":""}]
[null,null,null,{"$f":"IF(ISBLANK('1-8-1.保有している金融商品、不動産 現状'!$D$40),\"\",'1-8-1.保有している金融商品、不動産 現状'!$D$40)","v":""},null,null,null,null,null,{"$f":"IF(ISBLANK('1-8-1.保有している金融商品、不動産 現状'!$E$40),\"\",'1-8-1.保有している金融商品、不動産 現状'!$E$40)","v":""}]
[null,null,null,{"$f":"IF(ISBLANK('1-8-1.保有している金融商品、不動産 現状'!$D$41),\"\",'1-8-1.保有している金融商品、不動産 現状'!$D$41)","v":""},null,null,null,null,null,{"$f":"IF(ISBLANK('1-8-1.保有している金融商品、不動産 現状'!$E$41),\"\",'1-8-1.保有している金融商品、不動産 現状'!$E$41)","v":""}]
[null,null,null,{"$f":"IF(ISBLANK('1-8-1.保有している金融商品、不動産 現状'!$D$42),\"\",'1-8-1.保有している金融商品、不動産 現状'!$D$42)","v":""},null,null,null,null,null,{"$f":"IF(ISBLANK('1-8-1.保有している金融商品、不動産 現状'!$E$42),\"\",'1-8-1.保有している金融商品、不動産 現状'!$E$42)","v":""}]
[null,null,null,{"$f":"IF(ISBLANK('1-8-1.保有している金融商品、不動産 現状'!$D$43),\"\",'1-8-1.保有している金融商品、不動産 現状'!$D$43)","v":"合　　計"},null,null,null,null,null,{"$f":"IF(ISBLANK('1-8-1.保有している金融商品、不動産 現状'!$E$43),\"\",'1-8-1.保有している金融商品、不動産 現状'!$E$43)","v":0}]
[]
[null,null,null,{"$f":"IF(ISBLANK('1-8-1.保有している金融商品、不動産 現状'!$D$45),\"\",'1-8-1.保有している金融商品、不動産 現状'!$D$45)","v":""}]
[]
[]
[]
[null,null,"５．負債"]
[]
[null,null,"【住宅ローン】"]
[null,null,null,{"$f":"IF(ISBLANK('1-9.住宅ローン'!$D$12),\"\",'1-9.住宅ローン'!$D$12)","v":""},null,null,null,null,null,{"$f":"IF(ISBLANK('1-9.住宅ローン'!$E$12),\"\",'1-9.住宅ローン'!$E$12)","v":""},null,null,null,null,null,{"$f":"IF(ISBLANK('1-9.住宅ローン'!$G$12),\"\",'1-9.住宅ローン'!$G$12)","v":""},null,null,null,{"$f":"IF(ISBLANK('1-9.住宅ローン'!$J$12),\"\",'1-9.住宅ローン'!$J$12)","v":""}]
[null,null,null,{"$f":"IF(ISBLANK('1-9.住宅ローン'!$D$13),\"\",'1-9.住宅ローン'!$D$13)","v":""},null,null,null,null,null,{"$f":"IF(ISBLANK('1-9.住宅ローン'!$E$13),\"\",'1-9.住宅ローン'!$E$13)","v":""},null,null,null,null,null,{"$f":"IF(ISBLANK('1-9.住宅ローン'!$G$13),\"\",'1-9.住宅ローン'!$G$13)","v":""},null,null,null,{"$f":"IF(ISBLANK('1-9.住宅ローン'!$J$13),\"\",'1-9.住宅ローン'!$J$13)","v":""}]
[null,null,null,{"$f":"IF(ISBLANK('1-9.住宅ローン'!$D$14),\"\",'1-9.住宅ローン'!$D$14)","v":""},null,null,null,null,null,{"$f":"IF(ISBLANK('1-9.住宅ローン'!$E$14),\"\",'1-9.住宅ローン'!$E$14)","v":""},null,null,null,null,null,{"$f":"IF(ISBLANK('1-9.住宅ローン'!$G$14),\"\",'1-9.住宅ローン'!$G$14)","v":""},null,null,null,{"$f":"IF(ISBLANK('1-9.住宅ローン'!$J$14),\"\",'1-9.住宅ローン'!$J$14)","v":""}]
[]
[null,null,null,{"$f":"IF(ISBLANK('1-9.住宅ローン'!$D$16),\"\",'1-9.住宅ローン'!$D$16)","v":""}]
[]
[]
[]
[null,null,"【その他借入】"]
[null,null,null,{"$f":"IF(ISBLANK('1-9.住宅ローン'!$D$24),\"\",'1-9.住宅ローン'!$D$24)","v":""},null,null,null,null,null,{"$f":"IF(ISBLANK('1-9.住宅ローン'!$E$24),\"\",'1-9.住宅ローン'!$E$24)","v":""},null,null,null,null,null,{"$f":"IF(ISBLANK('1-9.住宅ローン'!$G$24),\"\",'1-9.住宅ローン'!$G$24)","v":""},null,null,null,{"$f":"IF(ISBLANK('1-9.住宅ローン'!$K$24),\"\",'1-9.住宅ローン'!$K$24)","v":""},null,null,null,{"$f":"IF(ISBLANK('1-9.住宅ローン'!$M$24),\"\",'1-9.住宅ローン'!$M$24)","v":""}]
[null,null,null,{"$f":"IF(ISBLANK('1-9.住宅ローン'!$D$25),\"\",'1-9.住宅ローン'!$D$25)","v":""},null,null,null,null,null,{"$f":"IF(ISBLANK('1-9.住宅ローン'!$E$25),\"\",'1-9.住宅ローン'!$E$25)","v":""},null,null,null,null,null,{"$f":"IF(ISBLANK('1-9.住宅ローン'!$G$25),\"\",'1-9.住宅ローン'!$G$25)","v":""},null,null,null,{"$f":"IF(ISBLANK('1-9.住宅ローン'!$K$25),\"\",'1-9.住宅ローン'!$K$25)","v":""},null,null,null,{"$f":"IF(ISBLANK('1-9.住宅ローン'!$M$25),\"\",'1-9.住宅ローン'!$M$25)","v":""}]
[null,null,null,{"$f":"IF(ISBLANK('1-9.住宅ローン'!$D$26),\"\",'1-9.住宅ローン'!$D$26)","v":""},null,null,null,null,null,{"$f":"IF(ISBLANK('1-9.住宅ローン'!$E$26),\"\",'1-9.住宅ローン'!$E$26)","v":""},null,null,null,null,null,{"$f":"IF(ISBLANK('1-9.住宅ローン'!$G$26),\"\",'1-9.住宅ローン'!$G$26)","v":""},null,null,null,{"$f":"IF(ISBLANK('1-9.住宅ローン'!$K$26),\"\",'1-9.住宅ローン'!$K$26)","v":""},null,null,null,{"$f":"IF(ISBLANK('1-9.住宅ローン'!$M$26),\"\",'1-9.住宅ローン'!$M$26)","v":""}]
[null,null,null,{"$f":"IF(ISBLANK('1-9.住宅ローン'!$D$27),\"\",'1-9.住宅ローン'!$D$27)","v":""},null,null,null,null,null,{"$f":"IF(ISBLANK('1-9.住宅ローン'!$E$27),\"\",'1-9.住宅ローン'!$E$27)","v":""},null,null,null,null,null,{"$f":"IF(ISBLANK('1-9.住宅ローン'!$G$27),\"\",'1-9.住宅ローン'!$G$27)","v":""},null,null,null,{"$f":"IF(ISBLANK('1-9.住宅ローン'!$K$27),\"\",'1-9.住宅ローン'!$K$27)","v":""},null,null,null,{"$f":"IF(ISBLANK('1-9.住宅ローン'!$M$27),\"\",'1-9.住宅ローン'!$M$27)","v":""}]
[null,null,null,{"$f":"IF(ISBLANK('1-9.住宅ローン'!$D$28),\"\",'1-9.住宅ローン'!$D$28)","v":""},null,null,null,null,null,{"$f":"IF(ISBLANK('1-9.住宅ローン'!$E$28),\"\",'1-9.住宅ローン'!$E$28)","v":""},null,null,null,null,null,{"$f":"IF(ISBLANK('1-9.住宅ローン'!$G$28),\"\",'1-9.住宅ローン'!$G$28&\"万円\")","v":""},null,null,null,{"$f":"IF(ISBLANK('1-9.住宅ローン'!$K$28),\"\",'1-9.住宅ローン'!$K$28)","v":""},null,null,null,{"$f":"IF(ISBLANK('1-9.住宅ローン'!$M$28),\"\",'1-9.住宅ローン'!$M$28)","v":""}]
[]
[null,null,null,{"$f":"IF(ISBLANK('1-9.住宅ローン'!$D$30),\"\",'1-9.住宅ローン'!$D$30)","v":""}]

{"sheet":"2-6.プロフィール④","index":15,"n_rows":64,"n_cols":29,"rows_kept":64,"cut":false,"hidden":false,"merged":[[61,3,61,7],[61,8,61,17],[61,18,61,27],[61,28,61,37],[62,3,62,7],[62,8,62,17],[62,18,62,27],[62,28,62,37],[63,3,63,7],[63,8,63,17],[63,18,63,27],[63,28,63,37],[58,3,58,7],[58,8,58,17],[58,18,58,27],[58,28,58,37],[59,3,59,7],[59,8,59,17],[59,18,59,27],[59,28,59,37],[60,3,60,7],[60,8,60,17],[60,18,60,27],[60,28,60,37],[55,3,55,7],[55,8,55,17],[55,18,55,27],[55,28,55,37],[56,3,56,7],[56,8,56,17],[56,18,56,27],[56,28,56,37],[57,3,57,7],[57,8,57,17],[57,18,57,27],[57,28,57,37],[51,3,51,7],[51,8,51,17],[51,18,51,27],[51,28,51,37],[53,3,53,7],[53,8,53,17],[53,18,53,27],[53,28,53,37],[54,3,54,7],[54,8,54,17],[54,18,54,27],[54,28,54,37],[48,3,48,7],[48,8,48,17],[48,18,48,27],[48,28,48,37],[49,3,49,7],[49,8,49,17],[49,18,49,27],[49,28,49,37],[50,3,50,7],[50,8,50,17],[50,18,50,27],[50,28,50,37],[43,18,43,27],[43,28,43,37],[44,3,44,7],[44,18,44,27],[45,18,45,27],[45,3,45,7],[46,3,46,7],[46,8,46,17],[46,18,46,27],[43,8,43,17],[4,2,4,36],[7,18,7,27],[7,28,7,37],[8,18,8,27],[19,18,19,27],[41,8,41,17],[41,18,41,27],[42,8,42,17],[42,28,42,37],[27,3,27,7],[27,8,27,17],[27,18,27,27],[27,28,27,37],[29,18,29,27],[29,3,29,7],[23,18,23,27],[23,28,23,37],[25,18,25,27],[22,28,22,37],[24,28,24,37],[16,3,16,7],[15,3,15,7],[14,3,14,7],[17,3,17,7],[7,3,7,7],[8,8,8,17],[7,8,7,17],[10,3,10,7],[9,3,9,7],[26,3,26,7],[24,3,24,7],[24,8,24,17],[19,3,19,7],[21,3,21,7],[22,3,22,7],[13,3,13,7],[19,28,19,37],[17,18,17,27],[16,18,16,27],[26,18,26,27],[16,8,16,17],[25,28,25,37],[20,18,20,27],[17,28,17,37],[26,28,26,37],[24,18,24,27],[20,28,20,37],[25,8,25,17],[8,28,8,37],[9,18,9,27],[9,28,9,37],[10,18,10,27],[10,28,10,37],[10,8,10,17],[9,8,9,17],[13,8,13,17],[12,3,12,7],[11,18,11,27],[11,28,11,37],[12,8,12,17],[13,18,13,27],[8,3,8,7],[47,3,47,7],[44,8,44,17],[45,8,45,17],[41,3,41,7],[42,3,42,7],[11,8,11,17],[17,8,17,17],[14,8,14,17],[28,8,28,17],[26,8,26,17],[15,8,15,17],[22,8,22,17],[21,8,21,17],[19,8,19,17],[28,3,28,7],[25,3,25,7],[20,8,20,17],[23,3,23,7],[23,8,23,17],[43,3,43,7],[20,3,20,7],[47,28,47,37],[45,28,45,37],[47,8,47,17],[47,18,47,27],[46,28,46,37],[11,3,11,7],[13,28,13,37],[12,18,12,27],[12,28,12,37],[29,8,29,17],[15,28,15,37],[16,28,16,37],[14,28,14,37],[14,18,14,27],[15,18,15,27],[22,18,22,27],[28,18,28,27],[44,28,44,37],[28,28,28,37],[29,28,29,37],[41,28,41,37],[42,18,42,27],[21,18,21,27],[21,28,21,37]]}
[]
[]
[]
[]
[null,null,"６．加入している保険"]
[]
[null,null,"【生命保険】"]
[null,null,null,"保険会社",null,null,null,null,{"$f":"IF(ISBLANK('1-7.加入している保険'!$D$10),\"\",'1-7.加入している保険'!$D$10)","v":""},null,null,null,null,null,null,null,null,null,{"$f":"IF(ISBLANK('1-7.加入している保険'!$E$10),\"\",'1-7.加入している保険'!$E$10)","v":""},null,null,null,null,null,null,null,null,null,{"$f":"IF(ISBLANK('1-7.加入している保険'!$F$10),\"\",'1-7.加入している保険'!$F$10)","v":""}]
[null,null,null,"種類",null,null,null,null,{"$f":"IF(ISBLANK('1-7.加入している保険'!$D$11),\"\",'1-7.加入している保険'!$D$11)","v":""},null,null,null,null,null,null,null,null,null,{"$f":"IF(ISBLANK('1-7.加入している保険'!$E$11),\"\",'1-7.加入している保険'!$E$11)","v":""},null,null,null,null,null,null,null,null,null,{"$f":"IF(ISBLANK('1-7.加入している保険'!$F$11),\"\",'1-7.加入している保険'!$F$11)","v":""}]
[null,null,null,"契約者",null,null,null,null,{"$f":"IF(ISBLANK('1-7.加入している保険'!$D$12),\"\",'1-7.加入している保険'!$D$12)","v":""},null,null,null,null,null,null,null,null,null,{"$f":"IF(ISBLANK('1-7.加入している保険'!$E$12),\"\",'1-7.加入している保険'!$E$12)","v":""},null,null,null,null,null,null,null,null,null,{"$f":"IF(ISBLANK('1-7.加入している保険'!$F$12),\"\",'1-7.加入している保険'!$F$12)","v":""}]
[null,null,null,"被保険者",null,null,null,null,{"$f":"IF(ISBLANK('1-7.加入している保険'!$D$13),\"\",'1-7.加入している保険'!$D$13)","v":""},null,null,null,null,null,null,null,null,null,{"$f":"IF(ISBLANK('1-7.加入している保険'!$E$13),\"\",'1-7.加入している保険'!$E$13)","v":""},null,null,null,null,null,null,null,null,null,{"$f":"IF(ISBLANK('1-7.加入している保険'!$F$13),\"\",'1-7.加入している保険'!$F$13)","v":""}]
[null,null,null,"受取人",null,null,null,null,{"$f":"IF(ISBLANK('1-7.加入している保険'!$D$14),\"\",'1-7.加入している保険'!$D$14)","v":""},null,null,null,null,null,null,null,null,null,{"$f":"IF(ISBLANK('1-7.加入している保険'!$E$14),\"\",'1-7.加入している保険'!$E$14)","v":""},null,null,null,null,null,null,null,null,null,{"$f":"IF(ISBLANK('1-7.加入している保険'!$F$14),\"\",'1-7.加入している保険'!$F$14)","v":""}]
[null,null,null,"契約日",null,null,null,null,{"$f":"IF(ISBLANK('1-7.加入している保険'!$D$15),\"\",'1-7.加入している保険'!$D$15)","v":""},null,null,null,null,null,null,null,null,null,{"$f":"IF(ISBLANK('1-7.加入している保険'!$E$15),\"\",'1-7.加入している保険'!$E$15)","v":""},null,null,null,null,null,null,null,null,null,{"$f":"IF(ISBLANK('1-7.加入している保険'!$F$15),\"\",'1-7.加入している保険'!$F$15)","v":""}]
[null,null,null,"保険期間",null,null,null,null,{"$f":"IF(ISBLANK('1-7.加入している保険'!$D$16),\"\",'1-7.加入している保険'!$D$16)","v":""},null,null,null,null,null,null,null,null,null,{"$f":"IF(ISBLANK('1-7.加入している保険'!$E$16),\"\",'1-7.加入している保険'!$E$16)","v":""},null,null,null,null,null,null,null,null,null,{"$f":"IF(ISBLANK('1-7.加入している保険'!$F$16),\"\",'1-7.加入している保険'!$F$16)","v":""}]
[null,null,null,"保険金\n（共済金）",null,null,null,null,{"$f":"IF(ISBLANK('1-7.加入している保険'!$D$17),\"\",'1-7.加入している保険'!$D$17)","v":""},null,null,null,null,null,null,null,null,null,{"$f":"IF(ISBLANK('1-7.加入している保険'!$E$17),\"\",'1-7.加入している保険'!$E$17)","v":""},null,null,null,null,null,null,null,null,null,{"$f":"IF(ISBLANK('1-7.加入している保険'!$F$17),\"\",'1-7.加入している保険'!$F$17)","v":""}]
[null,null,null,"保険料\n（掛金）",null,null,null,null,{"$f":"IF(ISBLANK('1-7.加入している保険'!$D$18),\"\",'1-7.加入している保険'!$D$18)","v":""},null,null,null,null,null,null,null,null,null,{"$f":"IF(ISBLANK('1-7.加入している保険'!$E$18),\"\",'1-7.加入している保険'!$E$18)","v":""},null,null,null,null,null,null,null,null,null,{"$f":"IF(ISBLANK('1-7.加入している保険'!$F$18),\"\",'1-7.加入している保険'!$F$18)","v":""}]
[null,null,null,"満期日",null,null,null,null,{"$f":"IF(ISBLANK('1-7.加入している保険'!$D$19),\"\",'1-7.加入している保険'!$D$19)","v":""},null,null,null,null,null,null,null,null,null,{"$f":"IF(ISBLANK('1-7.加入している保険'!$E$19),\"\",'1-7.加入している保険'!$E$19)","v":""},null,null,null,null,null,null,null,null,null,{"$f":"IF(ISBLANK('1-7.加入している保険'!$F$19),\"\",'1-7.加入している保険'!$F$19)","v":""}]
[null,null,null,"備考",null,null,null,null,{"$f":"IF(ISBLANK('1-7.加入している保険'!$D$20),\"\",'1-7.加入している保険'!$D$20)","v":""},null,null,null,null,null,null,null,null,null,{"$f":"IF(ISBLANK('1-7.加入している保険'!$E$20),\"\",'1-7.加入している保険'!$E$20)","v":""},null,null,null,null,null,null,null,null,null,{"$f":"IF(ISBLANK('1-7.加入している保険'!$F$20),\"\",'1-7.加入している保険'!$F$20)","v":""}]
[]
[null,null,null,"保険会社",null,null,null,null,{"$f":"IF(ISBLANK('1-7.加入している保険'!$D$22),\"\",'1-7.加入している保険'!$D$22)","v":""},null,null,null,null,null,null,null,null,null,{"$f":"IF(ISBLANK('1-7.加入している保険'!$E$22),\"\",'1-7.加入している保険'!$E$22)","v":""},null,null,null,null,null,null,null,null,null,{"$f":"IF(ISBLANK('1-7.加入している保険'!$F$22),\"\",'1-7.加入している保険'!$F$22)","v":""}]
[null,null,null,"種類",null,null,null,null,{"$f":"IF(ISBLANK('1-7.加入している保険'!$D$23),\"\",'1-7.加入している保険'!$D$23)","v":""},null,null,null,null,null,null,null,null,null,{"$f":"IF(ISBLANK('1-7.加入している保険'!$E$23),\"\",'1-7.加入している保険'!$E$23)","v":""},null,null,null,null,null,null,null,null,null,{"$f":"IF(ISBLANK('1-7.加入している保険'!$F$23),\"\",'1-7.加入している保険'!$F$23)","v":""}]
[null,null,null,"契約者",null,null,null,null,{"$f":"IF(ISBLANK('1-7.加入している保険'!$D$24),\"\",'1-7.加入している保険'!$D$24)","v":""},null,null,null,null,null,null,null,null,null,{"$f":"IF(ISBLANK('1-7.加入している保険'!$E$24),\"\",'1-7.加入している保険'!$E$24)","v":""},null,null,null,null,null,null,null,null,null,{"$f":"IF(ISBLANK('1-7.加入している保険'!$F$24),\"\",'1-7.加入している保険'!$F$24)","v":""}]
[null,null,null,"被保険者",null,null,null,null,{"$f":"IF(ISBLANK('1-7.加入している保険'!$D$25),\"\",'1-7.加入している保険'!$D$25)","v":""},null,null,null,null,null,null,null,null,null,{"$f":"IF(ISBLANK('1-7.加入している保険'!$E$25),\"\",'1-7.加入している保険'!$E$25)","v":""},null,null,null,null,null,null,null,null,null,{"$f":"IF(ISBLANK('1-7.加入している保険'!$F$25),\"\",'1-7.加入している保険'!$F$25)","v":""}]
[null,null,null,"受取人",null,null,null,null,{"$f":"IF(ISBLANK('1-7.加入している保険'!$D$26),\"\",'1-7.加入している保険'!$D$26)","v":""},null,null,null,null,null,null,null,null,null,{"$f":"IF(ISBLANK('1-7.加入している保険'!$E$26),\"\",'1-7.加入している保険'!$E$26)","v":""},null,null,null,null,null,null,null,null,null,{"$f":"IF(ISBLANK('1-7.加入している保険'!$F$26),\"\",'1-7.加入している保険'!$F$26)","v":""}]
[null,null,null,"契約日",null,null,null,null,{"$f":"IF(ISBLANK('1-7.加入している保険'!$D$27),\"\",'1-7.加入している保険'!$D$27)","v":""},null,null,null,null,null,null,null,null,null,{"$f":"IF(ISBLANK('1-7.加入している保険'!$E$27),\"\",'1-7.加入している保険'!$E$27)","v":""},null,null,null,null,null,null,null,null,null,{"$f":"IF(ISBLANK('1-7.加入している保険'!$F$27),\"\",'1-7.加入している保険'!$F$27)","v":""}]
[null,null,null,"保険期間",null,null,null,null,{"$f":"IF(ISBLANK('1-7.加入している保険'!$D$28),\"\",'1-7.加入している保険'!$D$28)","v":""},null,null,null,null,null,null,null,null,null,{"$f":"IF(ISBLANK('1-7.加入している保険'!$E$28),\"\",'1-7.加入している保険'!$E$28)","v":""},null,null,null,null,null,null,null,null,null,{"$f":"IF(ISBLANK('1-7.加入している保険'!$F$28),\"\",'1-7.加入している保険'!$F$28)","v":""}]
[null,null,null,"保険金\n（共済金）",null,null,null,null,{"$f":"IF(ISBLANK('1-7.加入している保険'!$D$29),\"\",'1-7.加入している保険'!$D$29)","v":""},null,null,null,null,null,null,null,null,null,{"$f":"IF(ISBLANK('1-7.加入している保険'!$E$29),\"\",'1-7.加入している保険'!$E$29)","v":""},null,null,null,null,null,null,null,null,null,{"$f":"IF(ISBLANK('1-7.加入している保険'!$F$29),\"\",'1-7.加入している保険'!$F$29)","v":""}]
[null,null,null,"保険料\n（掛金）",null,null,null,null,{"$f":"IF(ISBLANK('1-7.加入している保険'!$D$30),\"\",'1-7.加入している保険'!$D$30)","v":""},null,null,null,null,null,null,null,null,null,{"$f":"IF(ISBLANK('1-7.加入している保険'!$E$30),\"\",'1-7.加入している保険'!$E$30)","v":""},null,null,null,null,null,null,null,null,null,{"$f":"IF(ISBLANK('1-7.加入している保険'!$F$30),\"\",'1-7.加入している保険'!$F$30)","v":""}]
[null,null,null,"満期日",null,null,null,null,{"$f":"IF(ISBLANK('1-7.加入している保険'!$D$31),\"\",'1-7.加入している保険'!$D$31)","v":""},null,null,null,null,null,null,null,null,null,{"$f":"IF(ISBLANK('1-7.加入している保険'!$E$31),\"\",'1-7.加入している保険'!$E$31)","v":""},null,null,null,null,null,null,null,null,null,{"$f":"IF(ISBLANK('1-7.加入している保険'!$F$31),\"\",'1-7.加入している保険'!$F$31)","v":""}]
[null,null,null,"備考",null,null,null,null,{"$f":"IF(ISBLANK('1-7.加入している保険'!$D$32),\"\",'1-7.加入している保険'!$D$32)","v":""},null,null,null,null,null,null,null,null,null,{"$f":"IF(ISBLANK('1-7.加入している保険'!$E$32),\"\",'1-7.加入している保険'!$E$32)","v":""},null,null,null,null,null,null,null,null,null,{"$f":"IF(ISBLANK('1-7.加入している保険'!$F$32),\"\",'1-7.加入している保険'!$F$32)","v":""}]
[]
[]
[]
[]
[]
[]
[]
[]
[]
[]
[null,null,"【生命保険】"]
[null,null,null,"保険会社",null,null,null,null,{"$f":"IF(ISBLANK('1-7.加入している保険'!$D$34),\"\",'1-7.加入している保険'!$D$34)","v":""},null,null,null,null,null,null,null,null,null,{"$f":"IF(ISBLANK('1-7.加入している保険'!$E$34),\"\",'1-7.加入している保険'!$E$34)","v":""},null,null,null,null,null,null,null,null,null,{"$f":"IF(ISBLANK('1-7.加入している保険'!$F$34),\"\",'1-7.加入している保険'!$F$34)","v":""}]
[null,null,null,"種類",null,null,null,null,{"$f":"IF(ISBLANK('1-7.加入している保険'!$D$35),\"\",'1-7.加入している保険'!$D$35)","v":""},null,null,null,null,null,null,null,null,null,{"$f":"IF(ISBLANK('1-7.加入している保険'!$E$35),\"\",'1-7.加入している保険'!$E$35)","v":""},null,null,null,null,null,null,null,null,null,{"$f":"IF(ISBLANK('1-7.加入している保険'!$F$35),\"\",'1-7.加入している保険'!$F$35)","v":""}]
[null,null,null,"契約者",null,null,null,null,{"$f":"IF(ISBLANK('1-7.加入している保険'!$D$36),\"\",'1-7.加入している保険'!$D$36)","v":""},null,null,null,null,null,null,null,null,null,{"$f":"IF(ISBLANK('1-7.加入している保険'!$E$36),\"\",'1-7.加入している保険'!$E$36)","v":""},null,null,null,null,null,null,null,null,null,{"$f":"IF(ISBLANK('1-7.加入している保険'!$F$36),\"\",'1-7.加入している保険'!$F$36)","v":""}]
[null,null,null,"被保険者",null,null,null,null,{"$f":"IF(ISBLANK('1-7.加入している保険'!$D$37),\"\",'1-7.加入している保険'!$D$37)","v":""},null,null,null,null,null,null,null,null,null,{"$f":"IF(ISBLANK('1-7.加入している保険'!$E$37),\"\",'1-7.加入している保険'!$E$37)","v":""},null,null,null,null,null,null,null,null,null,{"$f":"IF(ISBLANK('1-7.加入している保険'!$F$37),\"\",'1-7.加入している保険'!$F$37)","v":""}]
[null,null,null,"受取人",null,null,null,null,{"$f":"IF(ISBLANK('1-7.加入している保険'!$D$38),\"\",'1-7.加入している保険'!$D$38)","v":""},null,null,null,null,null,null,null,null,null,{"$f":"IF(ISBLANK('1-7.加入している保険'!$E$38),\"\",'1-7.加入している保険'!$E$38)","v":""},null,null,null,null,null,null,null,null,null,{"$f":"IF(ISBLANK('1-7.加入している保険'!$F$38),\"\",'1-7.加入している保険'!$F$38)","v":""}]
[null,null,null,"契約日",null,null,null,null,{"$f":"IF(ISBLANK('1-7.加入している保険'!$D$39),\"\",'1-7.加入している保険'!$D$39)","v":""},null,null,null,null,null,null,null,null,null,{"$f":"IF(ISBLANK('1-7.加入している保険'!$E$39),\"\",'1-7.加入している保険'!$E$39)","v":""},null,null,null,null,null,null,null,null,null,{"$f":"IF(ISBLANK('1-7.加入している保険'!$F$39),\"\",'1-7.加入している保険'!$F$39)","v":""}]
[null,null,null,"保険期間",null,null,null,null,{"$f":"IF(ISBLANK('1-7.加入している保険'!$D$40),\"\",'1-7.加入している保険'!$D$40)","v":""},null,null,null,null,null,null,null,null,null,{"$f":"IF(ISBLANK('1-7.加入している保険'!$E$40),\"\",'1-7.加入している保険'!$E$40)","v":""},null,null,null,null,null,null,null,null,null,{"$f":"IF(ISBLANK('1-7.加入している保険'!$F$40),\"\",'1-7.加入している保険'!$F$40)","v":""}]
[null,null,null,"保険金\n（共済金）",null,null,null,null,{"$f":"IF(ISBLANK('1-7.加入している保険'!$D$41),\"\",'1-7.加入している保険'!$D$41)","v":""},null,null,null,null,null,null,null,null,null,{"$f":"IF(ISBLANK('1-7.加入している保険'!$E$41),\"\",'1-7.加入している保険'!$E$41)","v":""},null,null,null,null,null,null,null,null,null,{"$f":"IF(ISBLANK('1-7.加入している保険'!$F$41),\"\",'1-7.加入している保険'!$F$41)","v":""}]
[null,null,null,"保険料\n（掛金）",null,null,null,null,{"$f":"IF(ISBLANK('1-7.加入している保険'!$D$42),\"\",'1-7.加入している保険'!$D$42)","v":""},null,null,null,null,null,null,null,null,null,{"$f":"IF(ISBLANK('1-7.加入している保険'!$E$42),\"\",'1-7.加入している保険'!$E$42)","v":""},null,null,null,null,null,null,null,null,null,{"$f":"IF(ISBLANK('1-7.加入している保険'!$F$42),\"\",'1-7.加入している保険'!$F$42)","v":""}]
[null,null,null,"満期日",null,null,null,null,{"$f":"IF(ISBLANK('1-7.加入している保険'!$D$43),\"\",'1-7.加入している保険'!$D$43)","v":""},null,null,null,null,null,null,null,null,null,{"$f":"IF(ISBLANK('1-7.加入している保険'!$E$43),\"\",'1-7.加入している保険'!$E$43)","v":""},null,null,null,null,null,null,null,null,null,{"$f":"IF(ISBLANK('1-7.加入している保険'!$F$43),\"\",'1-7.加入している保険'!$F$43)","v":""}]
[null,null,null,"備考",null,null,null,null,{"$f":"IF(ISBLANK('1-7.加入している保険'!$D$44),\"\",'1-7.加入している保険'!$D$44)","v":""},null,null,null,null,null,null,null,null,null,{"$f":"IF(ISBLANK('1-7.加入している保険'!$E$44),\"\",'1-7.加入している保険'!$E$44)","v":""},null,null,null,null,null,null,null,null,null,{"$f":"IF(ISBLANK('1-7.加入している保険'!$F$44),\"\",'1-7.加入している保険'!$F$44)","v":""}]
[]
[null,null,null,"保険会社",null,null,null,null,{"$f":"IF(ISBLANK('1-7.加入している保険'!$D$46),\"\",'1-7.加入している保険'!$D$46)","v":""},null,null,null,null,null,null,null,null,null,{"$f":"IF(ISBLANK('1-7.加入している保険'!$E$46),\"\",'1-7.加入している保険'!$E$46)","v":""},null,null,null,null,null,null,null,null,null,{"$f":"IF(ISBLANK('1-7.加入している保険'!$F$46),\"\",'1-7.加入している保険'!$F$46)","v":""}]
[null,null,null,"種類",null,null,null,null,{"$f":"IF(ISBLANK('1-7.加入している保険'!$D$47),\"\",'1-7.加入している保険'!$D$47)","v":""},null,null,null,null,null,null,null,null,null,{"$f":"IF(ISBLANK('1-7.加入している保険'!$E$47),\"\",'1-7.加入している保険'!$E$47)","v":""},null,null,null,null,null,null,null,null,null,{"$f":"IF(ISBLANK('1-7.加入している保険'!$F$47),\"\",'1-7.加入している保険'!$F$47)","v":""}]
[null,null,null,"契約者",null,null,null,null,{"$f":"IF(ISBLANK('1-7.加入している保険'!$D$48),\"\",'1-7.加入している保険'!$D$48)","v":""},null,null,null,null,null,null,null,null,null,{"$f":"IF(ISBLANK('1-7.加入している保険'!$E$48),\"\",'1-7.加入している保険'!$E$48)","v":""},null,null,null,null,null,null,null,null,null,{"$f":"IF(ISBLANK('1-7.加入している保険'!$F$48),\"\",'1-7.加入している保険'!$F$48)","v":""}]
[null,null,null,"被保険者",null,null,null,null,{"$f":"IF(ISBLANK('1-7.加入している保険'!$D$49),\"\",'1-7.加入している保険'!$D$49)","v":""},null,null,null,null,null,null,null,null,null,{"$f":"IF(ISBLANK('1-7.加入している保険'!$E$49),\"\",'1-7.加入している保険'!$E$49)","v":""},null,null,null,null,null,null,null,null,null,{"$f":"IF(ISBLANK('1-7.加入している保険'!$F$49),\"\",'1-7.加入している保険'!$F$49)","v":""}]
[null,null,null,"受取人",null,null,null,null,{"$f":"IF(ISBLANK('1-7.加入している保険'!$D$50),\"\",'1-7.加入している保険'!$D$50)","v":""},null,null,null,null,null,null,null,null,null,{"$f":"IF(ISBLANK('1-7.加入している保険'!$E$50),\"\",'1-7.加入している保険'!$E$50)","v":""},null,null,null,null,null,null,null,null,null,{"$f":"IF(ISBLANK('1-7.加入している保険'!$F$50),\"\",'1-7.加入している保険'!$F$50)","v":""}]
[null,null,null,"契約日",null,null,null,null,{"$f":"IF(ISBLANK('1-7.加入している保険'!$D$51),\"\",'1-7.加入している保険'!$D$51)","v":""},null,null,null,null,null,null,null,null,null,{"$f":"IF(ISBLANK('1-7.加入している保険'!$E$51),\"\",'1-7.加入している保険'!$E$51)","v":""},null,null,null,null,null,null,null,null,null,{"$f":"IF(ISBLANK('1-7.加入している保険'!$F$51),\"\",'1-7.加入している保険'!$F$51)","v":""}]
[null,null,null,"保険期間",null,null,null,null,{"$f":"IF(ISBLANK('1-7.加入している保険'!$D$52),\"\",'1-7.加入している保険'!$D$52)","v":""},null,null,null,null,null,null,null,null,null,{"$f":"IF(ISBLANK('1-7.加入している保険'!$E$52),\"\",'1-7.加入している保険'!$E$52)","v":""},null,null,null,null,null,null,null,null,null,{"$f":"IF(ISBLANK('1-7.加入している保険'!$F$52),\"\",'1-7.加入している保険'!$F$52)","v":""}]
[null,null,null,"保険金\n（共済金）",null,null,null,null,{"$f":"IF(ISBLANK('1-7.加入している保険'!$D$53),\"\",'1-7.加入している保険'!$D$53)","v":""},null,null,null,null,null,null,null,null,null,{"$f":"IF(ISBLANK('1-7.加入している保険'!$E$53),\"\",'1-7.加入している保険'!$E$53)","v":""},null,null,null,null,null,null,null,null,null,{"$f":"IF(ISBLANK('1-7.加入している保険'!$F$53),\"\",'1-7.加入している保険'!$F$53)","v":""}]
[null,null,null,"保険料\n（掛金）",null,null,null,null,{"$f":"IF(ISBLANK('1-7.加入している保険'!$D$54),\"\",'1-7.加入している保険'!$D$54)","v":""},null,null,null,null,null,null,null,null,null,{"$f":"IF(ISBLANK('1-7.加入している保険'!$E$54),\"\",'1-7.加入している保険'!$E$54)","v":""},null,null,null,null,null,null,null,null,null,{"$f":"IF(ISBLANK('1-7.加入している保険'!$F$54),\"\",'1-7.加入している保険'!$F$54)","v":""}]
[null,null,null,"満期日",null,null,null,null,{"$f":"IF(ISBLANK('1-7.加入している保険'!$D$55),\"\",'1-7.加入している保険'!$D$55)","v":""},null,null,null,null,null,null,null,null,null,{"$f":"IF(ISBLANK('1-7.加入している保険'!$E$55),\"\",'1-7.加入している保険'!$E$55)","v":""},null,null,null,null,null,null,null,null,null,{"$f":"IF(ISBLANK('1-7.加入している保険'!$F$55),\"\",'1-7.加入している保険'!$F$55)","v":""}]
[null,null,null,"備考",null,null,null,null,{"$f":"IF(ISBLANK('1-7.加入している保険'!$D$56),\"\",'1-7.加入している保険'!$D$56)","v":""},null,null,null,null,null,null,null,null,null,{"$f":"IF(ISBLANK('1-7.加入している保険'!$E$56),\"\",'1-7.加入している保険'!$E$56)","v":""},null,null,null,null,null,null,null,null,null,{"$f":"IF(ISBLANK('1-7.加入している保険'!$F$56),\"\",'1-7.加入している保険'!$F$56)","v":""}]

{"sheet":"2-6-2.プロフィール④","index":16,"n_rows":27,"n_cols":29,"rows_kept":27,"cut":false,"hidden":false,"merged":[[26,3,26,7],[26,8,26,17],[26,18,26,27],[26,28,26,37],[24,3,24,7],[24,8,24,17],[24,18,24,27],[24,28,24,37],[25,3,25,7],[25,8,25,17],[25,18,25,27],[25,28,25,37],[22,3,22,7],[22,8,22,17],[22,18,22,27],[22,28,22,37],[23,3,23,7],[23,8,23,17],[23,18,23,27],[23,28,23,37],[20,3,20,7],[20,8,20,17],[20,18,20,27],[20,28,20,37],[21,3,21,7],[21,8,21,17],[21,18,21,27],[21,28,21,37],[9,3,9,7],[9,8,9,17],[9,18,9,27],[9,28,9,37],[19,3,19,7],[19,8,19,17],[19,18,19,27],[19,28,19,37],[13,18,13,27],[13,28,13,37],[10,3,10,7],[10,8,10,17],[10,18,10,27],[10,28,10,37],[11,3,11,7],[11,8,11,17],[8,3,8,7],[8,8,8,17],[8,18,8,27],[8,28,8,37],[7,3,7,7],[7,8,7,17],[7,18,7,27],[7,28,7,37],[11,18,11,27],[11,28,11,37],[14,3,14,7],[14,8,14,17],[14,18,14,27],[14,28,14,37],[12,3,12,7],[12,8,12,17],[12,18,12,27],[12,28,12,37],[13,3,13,7],[13,8,13,17]]}
[]
[]
[]
[]
[]
[]
[null,null,"【損害保険】"]
[null,null,null,"保険会社",null,null,null,null,{"$f":"IF(ISBLANK('1-7-2.加入している損保'!$D$10),\"\",'1-7-2.加入している損保'!$D$10)","v":""},null,null,null,null,null,null,null,null,null,{"$f":"IF(ISBLANK('1-7-2.加入している損保'!$E$10),\"\",'1-7-2.加入している損保'!$E$10)","v":""},null,null,null,null,null,null,null,null,null,{"$f":"IF(ISBLANK('1-7-2.加入している損保'!$F$10),\"\",'1-7-2.加入している損保'!$F$10)","v":""}]
[null,null,null,"種類",null,null,null,null,{"$f":"IF(ISBLANK('1-7-2.加入している損保'!$D$11),\"\",'1-7-2.加入している損保'!$D$11)","v":""},null,null,null,null,null,null,null,null,null,{"$f":"IF(ISBLANK('1-7-2.加入している損保'!$E$11),\"\",'1-7-2.加入している損保'!$E$11)","v":""},null,null,null,null,null,null,null,null,null,{"$f":"IF(ISBLANK('1-7-2.加入している損保'!$F$11),\"\",'1-7-2.加入している損保'!$F$11)","v":""}]
[null,null,null,"契約者",null,null,null,null,{"$f":"IF(ISBLANK('1-7-2.加入している損保'!$D$12),\"\",'1-7-2.加入している損保'!$D$12)","v":""},null,null,null,null,null,null,null,null,null,{"$f":"IF(ISBLANK('1-7-2.加入している損保'!$E$12),\"\",'1-7-2.加入している損保'!$E$12)","v":""},null,null,null,null,null,null,null,null,null,{"$f":"IF(ISBLANK('1-7-2.加入している損保'!$F$12),\"\",'1-7-2.加入している損保'!$F$12)","v":""}]
[null,null,null,"契約日",null,null,null,null,{"$f":"IF(ISBLANK('1-7-2.加入している損保'!$D$13),\"\",'1-7-2.加入している損保'!$D$13)","v":""},null,null,null,null,null,null,null,null,null,{"$f":"IF(ISBLANK('1-7-2.加入している損保'!$E$13),\"\",'1-7-2.加入している損保'!$E$13)","v":""},null,null,null,null,null,null,null,null,null,{"$f":"IF(ISBLANK('1-7-2.加入している損保'!$F$13),\"\",'1-7-2.加入している損保'!$F$13)","v":""}]
[null,null,null,"保険期間",null,null,null,null,{"$f":"IF(ISBLANK('1-7-2.加入している損保'!$D$14),\"\",'1-7-2.加入している損保'!$D$14)","v":""},null,null,null,null,null,null,null,null,null,{"$f":"IF(ISBLANK('1-7-2.加入している損保'!$E$14),\"\",'1-7-2.加入している損保'!$E$14)","v":""},null,null,null,null,null,null,null,null,null,{"$f":"IF(ISBLANK('1-7-2.加入している損保'!$F$14),\"\",'1-7-2.加入している損保'!$F$14)","v":""}]
[null,null,null,"保険金",null,null,null,null,{"$f":"IF(ISBLANK('1-7-2.加入している損保'!$D$15),\"\",'1-7-2.加入している損保'!$D$15)","v":""},null,null,null,null,null,null,null,null,null,{"$f":"IF(ISBLANK('1-7-2.加入している損保'!$E$15),\"\",'1-7-2.加入している損保'!$E$15)","v":""},null,null,null,null,null,null,null,null,null,{"$f":"IF(ISBLANK('1-7-2.加入している損保'!$F$15),\"\",'1-7-2.加入している損保'!$F$15)","v":""}]
[null,null,null,"保険料",null,null,null,null,{"$f":"IF(ISBLANK('1-7-2.加入している損保'!$D$16),\"\",'1-7-2.加入している損保'!$D$16)","v":""},null,null,null,null,null,null,null,null,null,{"$f":"IF(ISBLANK('1-7-2.加入している損保'!$E$16),\"\",'1-7-2.加入している損保'!$E$16)","v":""},null,null,null,null,null,null,null,null,null,{"$f":"IF(ISBLANK('1-7-2.加入している損保'!$F$16),\"\",'1-7-2.加入している損保'!$F$16)","v":""}]
[null,null,null,"備考",null,null,null,null,{"$f":"IF(ISBLANK('1-7-2.加入している損保'!$D$17),\"\",'1-7-2.加入している損保'!$D$17)","v":""},null,null,null,null,null,null,null,null,null,{"$f":"IF(ISBLANK('1-7-2.加入している損保'!$E$17),\"\",'1-7-2.加入している損保'!$E$17)","v":""},null,null,null,null,null,null,null,null,null,{"$f":"IF(ISBLANK('1-7-2.加入している損保'!$F$17),\"\",'1-7-2.加入している損保'!$F$17)","v":""}]
[]
[]
[]
[]
[null,null,null,"保険会社",null,null,null,null,{"$f":"IF(ISBLANK('1-7-2.加入している損保'!$D$19),\"\",'1-7-2.加入している損保'!$D$19)","v":""},null,null,null,null,null,null,null,null,null,{"$f":"IF(ISBLANK('1-7-2.加入している損保'!$E$19),\"\",'1-7-2.加入している損保'!$E$19)","v":""},null,null,null,null,null,null,null,null,null,{"$f":"IF(ISBLANK('1-7-2.加入している損保'!$F$19),\"\",'1-7-2.加入している損保'!$F$19)","v":""}]
[null,null,null,"種類",null,null,null,null,{"$f":"IF(ISBLANK('1-7-2.加入している損保'!$D$20),\"\",'1-7-2.加入している損保'!$D$20)","v":""},null,null,null,null,null,null,null,null,null,{"$f":"IF(ISBLANK('1-7-2.加入している損保'!$E$20),\"\",'1-7-2.加入している損保'!$E$20)","v":""},null,null,null,null,null,null,null,null,null,{"$f":"IF(ISBLANK('1-7-2.加入している損保'!$F$20),\"\",'1-7-2.加入している損保'!$F$20)","v":""}]
[null,null,null,"契約者",null,null,null,null,{"$f":"IF(ISBLANK('1-7-2.加入している損保'!$D$21),\"\",'1-7-2.加入している損保'!$D$21)","v":""},null,null,null,null,null,null,null,null,null,{"$f":"IF(ISBLANK('1-7-2.加入している損保'!$E$21),\"\",'1-7-2.加入している損保'!$E$21)","v":""},null,null,null,null,null,null,null,null,null,{"$f":"IF(ISBLANK('1-7-2.加入している損保'!$F$21),\"\",'1-7-2.加入している損保'!$F$21)","v":""}]
[null,null,null,"契約日",null,null,null,null,{"$f":"IF(ISBLANK('1-7-2.加入している損保'!$D$22),\"\",'1-7-2.加入している損保'!$D$22)","v":""},null,null,null,null,null,null,null,null,null,{"$f":"IF(ISBLANK('1-7-2.加入している損保'!$E$22),\"\",'1-7-2.加入している損保'!$E$22)","v":""},null,null,null,null,null,null,null,null,null,{"$f":"IF(ISBLANK('1-7-2.加入している損保'!$F$22),\"\",'1-7-2.加入している損保'!$F$22)","v":""}]
[null,null,null,"保険期間",null,null,null,null,{"$f":"IF(ISBLANK('1-7-2.加入している損保'!$D$23),\"\",'1-7-2.加入している損保'!$D$23)","v":""},null,null,null,null,null,null,null,null,null,{"$f":"IF(ISBLANK('1-7-2.加入している損保'!$E$23),\"\",'1-7-2.加入している損保'!$E$23)","v":""},null,null,null,null,null,null,null,null,null,{"$f":"IF(ISBLANK('1-7-2.加入している損保'!$F$23),\"\",'1-7-2.加入している損保'!$F$23)","v":""}]
[null,null,null,"保険金",null,null,null,null,{"$f":"IF(ISBLANK('1-7-2.加入している損保'!$D$24),\"\",'1-7-2.加入している損保'!$D$24)","v":""},null,null,null,null,null,null,null,null,null,{"$f":"IF(ISBLANK('1-7-2.加入している損保'!$E$24),\"\",'1-7-2.加入している損保'!$E$24)","v":""},null,null,null,null,null,null,null,null,null,{"$f":"IF(ISBLANK('1-7-2.加入している損保'!$F$24),\"\",'1-7-2.加入している損保'!$F$24)","v":""}]
[null,null,null,"保険料",null,null,null,null,{"$f":"IF(ISBLANK('1-7-2.加入している損保'!$D$25),\"\",'1-7-2.加入している損保'!$D$25)","v":""},null,null,null,null,null,null,null,null,null,{"$f":"IF(ISBLANK('1-7-2.加入している損保'!$E$25),\"\",'1-7-2.加入している損保'!$E$25)","v":""},null,null,null,null,null,null,null,null,null,{"$f":"IF(ISBLANK('1-7-2.加入している損保'!$F$25),\"\",'1-7-2.加入している損保'!$F$25)","v":""}]
[null,null,null,"備考",null,null,null,null,{"$f":"IF(ISBLANK('1-7-2.加入している損保'!$D$26),\"\",'1-7-2.加入している損保'!$D$26)","v":""},null,null,null,null,null,null,null,null,null,{"$f":"IF(ISBLANK('1-7-2.加入している損保'!$E$26),\"\",'1-7-2.加入している損保'!$E$26)","v":""},null,null,null,null,null,null,null,null,null,{"$f":"IF(ISBLANK('1-7-2.加入している損保'!$F$26),\"\",'1-7-2.加入している損保'!$F$26)","v":""}]

{"sheet":"1-10.顧客の希望","index":17,"n_rows":8,"n_cols":3,"rows_kept":8,"cut":false,"hidden":false,"merged":[]}
[]
[]
[]
[]
[]
[]
[]
[null,null,"Ⅱ. 〇〇様のご希望・プラン作成の目的"]

{"sheet":"1-11.ライフイベント表","index":18,"n_rows":94,"n_cols":13,"rows_kept":94,"cut":false,"hidden":false,"merged":[[50,2,53,2],[50,3,50,10],[50,11,53,11],[50,12,53,12],[51,3,53,3],[51,4,53,4],[51,5,53,5],[51,6,53,6],[51,7,53,7],[51,8,53,8],[51,9,53,9],[51,10,53,10],[8,2,10,12],[11,2,14,2],[12,3,14,3],[12,4,14,4],[12,7,14,7],[12,8,14,8],[11,3,11,10],[12,9,14,9],[12,5,14,5],[12,6,14,6],[11,11,14,11],[11,12,14,12],[12,10,14,10]]}
[]
[]
[]
[]
[]
[]
[]
[null,null,"Ⅲ. 〇〇家のライフイベント表"]
[null,null,"Ⅲ. 〇〇家ご一家の今後の主なライフイベントを一覧表にしましたのでご確認ください"]
[]
[]
[null,null,"西暦","ご家族の年齢",null,null,null,null,null,null,null,"ご家族のイベント","予算額\n(万円)"]
[null,null,null,{"$f":"IF(ISBLANK('1-4.プロフィール'!$D$12),\"\",'1-4.プロフィール'!$C$12&CHAR(10)&'1-4.プロフィール'!$D$12&CHAR(10)&\"様\")","v":""},{"$f":"IF(ISBLANK('1-4.プロフィール'!$D$13),\"\",'1-4.プロフィール'!$C$13&CHAR(10)&'1-4.プロフィール'!$D$13&CHAR(10)&\"様\")","v":""},{"$f":"IF(ISBLANK('1-4.プロフィール'!$D$14),\"\",'1-4.プロフィール'!$C$14&CHAR(10)&'1-4.プロフィール'!$D$14&CHAR(10)&\"様\")","v":""},{"$f":"IF(ISBLANK('1-4.プロフィール'!$D$15),\"\",'1-4.プロフィール'!$C$15&CHAR(10)&'1-4.プロフィール'!$D$15&CHAR(10)&\"様\")","v":""},{"$f":"IF(ISBLANK('1-4.プロフィール'!$D$16),\"\",'1-4.プロフィール'!$C$16&CHAR(10)&'1-4.プロフィール'!$D$16&CHAR(10)&\"様\")","v":""},{"$f":"IF(ISBLANK('1-4.プロフィール'!$D$17),\"\",'1-4.プロフィール'!$C$17&CHAR(10)&'1-4.プロフィール'!$D$17&CHAR(10)&\"様\")","v":""},{"$f":"IF(ISBLANK('1-4.プロフィール'!$D$18),\"\",'1-4.プロフィール'!$C$18&CHAR(10)&'1-4.プロフィール'!$D$18&CHAR(10)&\"様\")","v":""},{"$f":"IF(ISBLANK('1-4.プロフィール'!$D$19),\"\",'1-4.プロフィール'!$C$19&CHAR(10)&'1-4.プロフィール'!$D$19&CHAR(10)&\"様\")","v":""}]
[]
[]
[null,null,null,{"$f":"IF(ISBLANK('1-4.プロフィール'!$L$12),\"\",'1-4.プロフィール'!$L$12)","v":""},{"$f":"IF(ISBLANK('1-4.プロフィール'!$L$13),\"\",'1-4.プロフィール'!$L$13)","v":""},{"$f":"IF(ISBLANK('1-4.プロフィール'!$L$14),\"\",'1-4.プロフィール'!$L$14)","v":""},{"$f":"IF(ISBLANK('1-4.プロフィール'!$L$15),\"\",'1-4.プロフィール'!$L$15)","v":""},{"$f":"IF(ISBLANK('1-4.プロフィール'!$L$16),\"\",'1-4.プロフィール'!$L$16)","v":""},{"$f":"IF(ISBLANK('1-4.プロフィール'!$L$17),\"\",'1-4.プロフィール'!$L$17)","v":""},{"$f":"IF(ISBLANK('1-4.プロフィール'!$L$18),\"\",'1-4.プロフィール'!$L$18)","v":""},{"$f":"IF(ISBLANK('1-4.プロフィール'!$L$19),\"\",'1-4.プロフィール'!$L$19)","v":""}]
[null,null,{"$f":"IF(TRIM(C16)=\"\",\"\",C16+1)","v":""},"","","","","","","",""]
[null,null,{"$f":"IF(TRIM(C16)=\"\",\"\",C17+1)","v":""},"","","","","","","",""]
[null,null,{"$f":"IF(TRIM(C16)=\"\",\"\",C18+1)","v":""},"","","","","","","",""]
[null,null,{"$f":"IF(TRIM(C16)=\"\",\"\",C19+1)","v":""},"","","","","","","",""]
[null,null,{"$f":"IF(TRIM(C16)=\"\",\"\",C20+1)","v":""},"","","","","","","",""]
[null,null,{"$f":"IF(TRIM(C16)=\"\",\"\",C21+1)","v":""},"","","","","","","",""]
[null,null,{"$f":"IF(TRIM(C16)=\"\",\"\",C22+1)","v":""},"","","","","","","",""]
[null,null,{"$f":"IF(TRIM(C16)=\"\",\"\",C23+1)","v":""},"","","","","","","",""]
[null,null,{"$f":"IF(TRIM(C16)=\"\",\"\",C24+1)","v":""},"","","","","","","",""]
[null,null,{"$f":"IF(TRIM(C16)=\"\",\"\",C25+1)","v":""},"","","","","","","",""]
[null,null,{"$f":"IF(TRIM(C16)=\"\",\"\",C26+1)","v":""},"","","","","","","",""]
[null,null,{"$f":"IF(TRIM(C16)=\"\",\"\",C27+1)","v":""},"","","","","","","",""]
[null,null,{"$f":"IF(TRIM(C16)=\"\",\"\",C28+1)","v":""},"","","","","","","",""]
[null,null,{"$f":"IF(TRIM(C16)=\"\",\"\",C29+1)","v":""},"","","","","","","",""]
[null,null,{"$f":"IF(TRIM(C16)=\"\",\"\",C30+1)","v":""},"","","","","","","",""]
[null,null,{"$f":"IF(TRIM(C16)=\"\",\"\",C31+1)","v":""},"","","","","","","",""]
[null,null,{"$f":"IF(TRIM(C16)=\"\",\"\",C32+1)","v":""},"","","","","","","",""]
[null,null,{"$f":"IF(TRIM(C16)=\"\",\"\",C33+1)","v":""},"","","","","","","",""]
[null,null,{"$f":"IF(TRIM(C16)=\"\",\"\",C34+1)","v":""},"","","","","","","",""]
[null,null,{"$f":"IF(TRIM(C16)=\"\",\"\",C35+1)","v":""},"","","","","","","",""]
[null,null,{"$f":"IF(TRIM(C16)=\"\",\"\",C36+1)","v":""},"","","","","","","",""]
[null,null,{"$f":"IF(TRIM(C16)=\"\",\"\",C37+1)","v":""},"","","","","","","",""]
[null,null,{"$f":"IF(TRIM(C16)=\"\",\"\",C38+1)","v":""},"","","","","","","",""]
[null,null,{"$f":"IF(TRIM(C16)=\"\",\"\",C39+1)","v":""},"","","","","","","",""]
[null,null,{"$f":"IF(TRIM(C16)=\"\",\"\",C40+1)","v":""},"","","","","","","",""]
[null,null,{"$f":"IF(TRIM(C16)=\"\",\"\",C41+1)","v":""},"","","","","","","",""]
[null,null,{"$f":"IF(TRIM(C16)=\"\",\"\",C42+1)","v":""},"","","","","","","",""]
[null,null,{"$f":"IF(TRIM(C16)=\"\",\"\",C43+1)","v":""},"","","","","","","",""]
[null,null,{"$f":"IF(TRIM(C16)=\"\",\"\",C44+1)","v":""},"","","","","","","",""]
[null,null,{"$f":"IF(TRIM(C16)=\"\",\"\",C45+1)","v":""},"","","","","","","",""]
[]
[]
[]
[]
[null,null,"西暦","ご家族の年齢",null,null,null,null,null,null,null,"ご家族のイベント","予算額\n(万円)"]
[null,null,null,{"$f":"IF(ISBLANK('1-4.プロフィール'!$D$12),\"\",'1-4.プロフィール'!$C$12&CHAR(10)&'1-4.プロフィール'!$D$12&CHAR(10)&\"様\")","v":""},{"$f":"IF(ISBLANK('1-4.プロフィール'!$D$13),\"\",'1-4.プロフィール'!$C$13&CHAR(10)&'1-4.プロフィール'!$D$13&CHAR(10)&\"様\")","v":""},{"$f":"IF(ISBLANK('1-4.プロフィール'!$D$14),\"\",'1-4.プロフィール'!$C$14&CHAR(10)&'1-4.プロフィール'!$D$14&CHAR(10)&\"様\")","v":""},{"$f":"IF(ISBLANK('1-4.プロフィール'!$D$15),\"\",'1-4.プロフィール'!$C$15&CHAR(10)&'1-4.プロフィール'!$D$15&CHAR(10)&\"様\")","v":""},{"$f":"IF(ISBLANK('1-4.プロフィール'!$D$16),\"\",'1-4.プロフィール'!$C$16&CHAR(10)&'1-4.プロフィール'!$D$16&CHAR(10)&\"様\")","v":""},{"$f":"IF(ISBLANK('1-4.プロフィール'!$D$17),\"\",'1-4.プロフィール'!$C$17&CHAR(10)&'1-4.プロフィール'!$D$17&CHAR(10)&\"様\")","v":""},{"$f":"IF(ISBLANK('1-4.プロフィール'!$D$18),\"\",'1-4.プロフィール'!$C$18&CHAR(10)&'1-4.プロフィール'!$D$18&CHAR(10)&\"様\")","v":""},{"$f":"IF(ISBLANK('1-4.プロフィール'!$D$19),\"\",'1-4.プロフィール'!$C$19&CHAR(10)&'1-4.プロフィール'!$D$19&CHAR(10)&\"様\")","v":""}]
[]
[]
[null,null,{"$f":"IF(TRIM(C16)=\"\",\"\",C46+1)","v":""},{"$f":"IF(TRIM(D16)=\"\",\"\",D46+1)","v":""},"","","","","","",""]
[null,null,{"$f":"IF(TRIM(C55)=\"\",\"\",C55+1)","v":""},"","","","","","","",""]
[null,null,{"$f":"IF(TRIM(C55)=\"\",\"\",C56+1)","v":""},"","","","","","","",""]
[null,null,{"$f":"IF(TRIM(C55)=\"\",\"\",C57+1)","v":""},"","","","","","","",""]
[null,null,{"$f":"IF(TRIM(C55)=\"\",\"\",C58+1)","v":""},"","","","","","","",""]
[null,null,{"$f":"IF(TRIM(C55)=\"\",\"\",C59+1)","v":""},"","","","","","","",""]
[null,null,{"$f":"IF(TRIM(C55)=\"\",\"\",C60+1)","v":""},"","","","","","","",""]
[null,null,{"$f":"IF(TRIM(C55)=\"\",\"\",C61+1)","v":""},"","","","","","","",""]
[null,null,{"$f":"IF(TRIM(C55)=\"\",\"\",C62+1)","v":""},"","","","","","","",""]
[null,null,{"$f":"IF(TRIM(C55)=\"\",\"\",C63+1)","v":""},"","","","","","","",""]
[null,null,{"$f":"IF(TRIM(C55)=\"\",\"\",C64+1)","v":""},"","","","","","","",""]
[null,null,{"$f":"IF(TRIM(C55)=\"\",\"\",C65+1)","v":""},"","","","","","","",""]
[null,null,{"$f":"IF(TRIM(C55)=\"\",\"\",C66+1)","v":""},"","","","","","","",""]
[null,null,{"$f":"IF(TRIM(C55)=\"\",\"\",C67+1)","v":""},"","","","","","","",""]
[null,null,{"$f":"IF(TRIM(C55)=\"\",\"\",C68+1)","v":""},"","","","","","","",""]
[null,null,{"$f":"IF(TRIM(C55)=\"\",\"\",C69+1)","v":""},"","","","","","","",""]
[null,null,{"$f":"IF(TRIM(C55)=\"\",\"\",C70+1)","v":""},"","","","","","","",""]
[null,null,{"$f":"IF(TRIM(C55)=\"\",\"\",C71+1)","v":""},"","","","","","","",""]
[null,null,{"$f":"IF(TRIM(C55)=\"\",\"\",C72+1)","v":""},"","","","","","","",""]
[null,null,{"$f":"IF(TRIM(C55)=\"\",\"\",C73+1)","v":""},"","","","","","","",""]
[null,null,{"$f":"IF(TRIM(C55)=\"\",\"\",C74+1)","v":""},"","","","","","","",""]
[null,null,{"$f":"IF(TRIM(C55)=\"\",\"\",C75+1)","v":""},"","","","","","","",""]
[null,null,{"$f":"IF(TRIM(C55)=\"\",\"\",C76+1)","v":""},"","","","","","","",""]
[null,null,{"$f":"IF(TRIM(C55)=\"\",\"\",C77+1)","v":""},"","","","","","","",""]
[null,null,{"$f":"IF(TRIM(C55)=\"\",\"\",C78+1)","v":""},"","","","","","","",""]
[null,null,{"$f":"IF(TRIM(C55)=\"\",\"\",C79+1)","v":""},"","","","","","","",""]
[null,null,{"$f":"IF(TRIM(C55)=\"\",\"\",C80+1)","v":""},"","","","","","","",""]
[null,null,{"$f":"IF(TRIM(C55)=\"\",\"\",C81+1)","v":""},"","","","","","","",""]
[null,null,{"$f":"IF(TRIM(C55)=\"\",\"\",C82+1)","v":""},"","","","","","","",""]
[null,null,{"$f":"IF(TRIM(C55)=\"\",\"\",C83+1)","v":""},"","","","","","","",""]
[null,null,{"$f":"IF(TRIM(C55)=\"\",\"\",C84+1)","v":""},"","","","","","","",""]
[null,null,{"$f":"IF(TRIM(C65)=\"\",\"\",C85+1)","v":""},"","","","","","","",""]
[null,null,{"$f":"IF(TRIM(C65)=\"\",\"\",C86+1)","v":""},"","","","","","","",""]
[null,null,{"$f":"IF(TRIM(C65)=\"\",\"\",C87+1)","v":""},"","","","","","","",""]
[null,null,{"$f":"IF(TRIM(C65)=\"\",\"\",C88+1)","v":""},"","","","","","","",""]
[null,null,{"$f":"IF(TRIM(C65)=\"\",\"\",C89+1)","v":""},"","","","","","","",""]
[null,null,{"$f":"IF(TRIM(C65)=\"\",\"\",C90+1)","v":""},"","","","","","","",""]
[null,null,{"$f":"IF(TRIM(C65)=\"\",\"\",C91+1)","v":""},"","","","","","","",""]
[null,null,{"$f":"IF(TRIM(C65)=\"\",\"\",C92+1)","v":""},"","","","","","","",""]
[null,null,{"$f":"IF(TRIM(C65)=\"\",\"\",C93+1)","v":""},"","","","","","","",""]

{"sheet":"2-8.ライフイベント表","index":19,"n_rows":88,"n_cols":13,"rows_kept":88,"cut":false,"hidden":false,"merged":[[44,2,47,2],[44,3,44,10],[44,11,47,11],[44,12,47,12],[45,3,47,3],[45,4,47,4],[45,5,47,5],[45,6,47,6],[45,7,47,7],[45,8,47,8],[45,9,47,9],[45,10,47,10],[7,8,9,8],[7,9,9,9],[7,10,9,10],[3,2,5,12],[6,2,9,2],[6,3,6,10],[6,11,9,11],[6,12,9,12],[7,3,9,3],[7,4,9,4],[7,5,9,5],[7,6,9,6],[7,7,9,7]]}
[]
[]
[null,null,{"$f":"IF(ISBLANK('1-11.ライフイベント表'!C8),\"\",'1-11.ライフイベント表'!C8)","v":"Ⅲ. 〇〇家のライフイベント表"}]
[null,null,{"$f":"IF(ISBLANK('1-11.ライフイベント表'!C9),\"\",'1-11.ライフイベント表'!C9)","v":"Ⅲ. 〇〇家ご一家の今後の主なライフイベントを一覧表にしましたのでご確認ください"}]
[]
[]
[null,null,"西暦","ご家族の年齢",null,null,null,null,null,null,null,"ご家族のイベント","予算額\n(万円)"]
[null,null,null,{"$f":"IF(ISBLANK('1-4.プロフィール'!$D$12),\"\",'1-4.プロフィール'!$C$12&CHAR(10)&'1-4.プロフィール'!$D$12&CHAR(10)&\"様\")","v":""},{"$f":"IF(ISBLANK('1-4.プロフィール'!$D$13),\"\",'1-4.プロフィール'!$C$13&CHAR(10)&'1-4.プロフィール'!$D$13&CHAR(10)&\"様\")","v":""},{"$f":"IF(ISBLANK('1-4.プロフィール'!$D$14),\"\",'1-4.プロフィール'!$C$14&CHAR(10)&'1-4.プロフィール'!$D$14&CHAR(10)&\"様\")","v":""},{"$f":"IF(ISBLANK('1-4.プロフィール'!$D$15),\"\",'1-4.プロフィール'!$C$15&CHAR(10)&'1-4.プロフィール'!$D$15&CHAR(10)&\"様\")","v":""},{"$f":"IF(ISBLANK('1-4.プロフィール'!$D$16),\"\",'1-4.プロフィール'!$C$16&CHAR(10)&'1-4.プロフィール'!$D$16&CHAR(10)&\"様\")","v":""},{"$f":"IF(ISBLANK('1-4.プロフィール'!$D$17),\"\",'1-4.プロフィール'!$C$17&CHAR(10)&'1-4.プロフィール'!$D$17&CHAR(10)&\"様\")","v":""},{"$f":"IF(ISBLANK('1-4.プロフィール'!$D$18),\"\",'1-4.プロフィール'!$C$18&CHAR(10)&'1-4.プロフィール'!$D$18&CHAR(10)&\"様\")","v":""},{"$f":"IF(ISBLANK('1-4.プロフィール'!$D$19),\"\",'1-4.プロフィール'!$C$19&CHAR(10)&'1-4.プロフィール'!$D$19&CHAR(10)&\"様\")","v":""}]
[]
[]
[null,null,{"$f":"'1-11.ライフイベント表'!C16","v":0},{"$f":"'1-11.ライフイベント表'!D16","v":""},{"$f":"'1-11.ライフイベント表'!E16","v":""},{"$f":"'1-11.ライフイベント表'!F16","v":""},{"$f":"'1-11.ライフイベント表'!G16","v":""},{"$f":"'1-11.ライフイベント表'!H16","v":""},{"$f":"'1-11.ライフイベント表'!I16","v":""},{"$f":"'1-11.ライフイベント表'!J16","v":""},{"$f":"'1-11.ライフイベント表'!K16","v":""},{"$f":"IF(ISBLANK('1-11.ライフイベント表'!L16),\"\",'1-11.ライフイベント表'!L16)","v":""},{"$f":"IF(ISBLANK('1-11.ライフイベント表'!M16),\"\",'1-11.ライフイベント表'!M16)","v":""}]
[null,null,{"$f":"'1-11.ライフイベント表'!C17","v":""},{"$f":"'1-11.ライフイベント表'!D17","v":""},{"$f":"'1-11.ライフイベント表'!E17","v":""},{"$f":"'1-11.ライフイベント表'!F17","v":""},{"$f":"'1-11.ライフイベント表'!G17","v":""},{"$f":"'1-11.ライフイベント表'!H17","v":""},{"$f":"'1-11.ライフイベント表'!I17","v":""},{"$f":"'1-11.ライフイベント表'!J17","v":""},{"$f":"'1-11.ライフイベント表'!K17","v":""},{"$f":"IF(ISBLANK('1-11.ライフイベント表'!L17),\"\",'1-11.ライフイベント表'!L17)","v":""},{"$f":"IF(ISBLANK('1-11.ライフイベント表'!M17),\"\",'1-11.ライフイベント表'!M17)","v":""}]
[null,null,{"$f":"'1-11.ライフイベント表'!C18","v":""},{"$f":"'1-11.ライフイベント表'!D18","v":""},{"$f":"'1-11.ライフイベント表'!E18","v":""},{"$f":"'1-11.ライフイベント表'!F18","v":""},{"$f":"'1-11.ライフイベント表'!G18","v":""},{"$f":"'1-11.ライフイベント表'!H18","v":""},{"$f":"'1-11.ライフイベント表'!I18","v":""},{"$f":"'1-11.ライフイベント表'!J18","v":""},{"$f":"'1-11.ライフイベント表'!K18","v":""},{"$f":"IF(ISBLANK('1-11.ライフイベント表'!L18),\"\",'1-11.ライフイベント表'!L18)","v":""},{"$f":"IF(ISBLANK('1-11.ライフイベント表'!M18),\"\",'1-11.ライフイベント表'!M18)","v":""}]
[null,null,{"$f":"'1-11.ライフイベント表'!C19","v":""},{"$f":"'1-11.ライフイベント表'!D19","v":""},{"$f":"'1-11.ライフイベント表'!E19","v":""},{"$f":"'1-11.ライフイベント表'!F19","v":""},{"$f":"'1-11.ライフイベント表'!G19","v":""},{"$f":"'1-11.ライフイベント表'!H19","v":""},{"$f":"'1-11.ライフイベント表'!I19","v":""},{"$f":"'1-11.ライフイベント表'!J19","v":""},{"$f":"'1-11.ライフイベント表'!K19","v":""},{"$f":"IF(ISBLANK('1-11.ライフイベント表'!L19),\"\",'1-11.ライフイベント表'!L19)","v":""},{"$f":"IF(ISBLANK('1-11.ライフイベント表'!M19),\"\",'1-11.ライフイベント表'!M19)","v":""}]
[null,null,{"$f":"'1-11.ライフイベント表'!C20","v":""},{"$f":"'1-11.ライフイベント表'!D20","v":""},{"$f":"'1-11.ライフイベント表'!E20","v":""},{"$f":"'1-11.ライフイベント表'!F20","v":""},{"$f":"'1-11.ライフイベント表'!G20","v":""},{"$f":"'1-11.ライフイベント表'!H20","v":""},{"$f":"'1-11.ライフイベント表'!I20","v":""},{"$f":"'1-11.ライフイベント表'!J20","v":""},{"$f":"'1-11.ライフイベント表'!K20","v":""},{"$f":"IF(ISBLANK('1-11.ライフイベント表'!L20),\"\",'1-11.ライフイベント表'!L20)","v":""},{"$f":"IF(ISBLANK('1-11.ライフイベント表'!M20),\"\",'1-11.ライフイベント表'!M20)","v":""}]
[null,null,{"$f":"'1-11.ライフイベント表'!C21","v":""},{"$f":"'1-11.ライフイベント表'!D21","v":""},{"$f":"'1-11.ライフイベント表'!E21","v":""},{"$f":"'1-11.ライフイベント表'!F21","v":""},{"$f":"'1-11.ライフイベント表'!G21","v":""},{"$f":"'1-11.ライフイベント表'!H21","v":""},{"$f":"'1-11.ライフイベント表'!I21","v":""},{"$f":"'1-11.ライフイベント表'!J21","v":""},{"$f":"'1-11.ライフイベント表'!K21","v":""},{"$f":"IF(ISBLANK('1-11.ライフイベント表'!L21),\"\",'1-11.ライフイベント表'!L21)","v":""},{"$f":"IF(ISBLANK('1-11.ライフイベント表'!M21),\"\",'1-11.ライフイベント表'!M21)","v":""}]
[null,null,{"$f":"'1-11.ライフイベント表'!C22","v":""},{"$f":"'1-11.ライフイベント表'!D22","v":""},{"$f":"'1-11.ライフイベント表'!E22","v":""},{"$f":"'1-11.ライフイベント表'!F22","v":""},{"$f":"'1-11.ライフイベント表'!G22","v":""},{"$f":"'1-11.ライフイベント表'!H22","v":""},{"$f":"'1-11.ライフイベント表'!I22","v":""},{"$f":"'1-11.ライフイベント表'!J22","v":""},{"$f":"'1-11.ライフイベント表'!K22","v":""},{"$f":"IF(ISBLANK('1-11.ライフイベント表'!L22),\"\",'1-11.ライフイベント表'!L22)","v":""},{"$f":"IF(ISBLANK('1-11.ライフイベント表'!M22),\"\",'1-11.ライフイベント表'!M22)","v":""}]
[null,null,{"$f":"'1-11.ライフイベント表'!C23","v":""},{"$f":"'1-11.ライフイベント表'!D23","v":""},{"$f":"'1-11.ライフイベント表'!E23","v":""},{"$f":"'1-11.ライフイベント表'!F23","v":""},{"$f":"'1-11.ライフイベント表'!G23","v":""},{"$f":"'1-11.ライフイベント表'!H23","v":""},{"$f":"'1-11.ライフイベント表'!I23","v":""},{"$f":"'1-11.ライフイベント表'!J23","v":""},{"$f":"'1-11.ライフイベント表'!K23","v":""},{"$f":"IF(ISBLANK('1-11.ライフイベント表'!L23),\"\",'1-11.ライフイベント表'!L23)","v":""},{"$f":"IF(ISBLANK('1-11.ライフイベント表'!M23),\"\",'1-11.ライフイベント表'!M23)","v":""}]
[null,null,{"$f":"'1-11.ライフイベント表'!C24","v":""},{"$f":"'1-11.ライフイベント表'!D24","v":""},{"$f":"'1-11.ライフイベント表'!E24","v":""},{"$f":"'1-11.ライフイベント表'!F24","v":""},{"$f":"'1-11.ライフイベント表'!G24","v":""},{"$f":"'1-11.ライフイベント表'!H24","v":""},{"$f":"'1-11.ライフイベント表'!I24","v":""},{"$f":"'1-11.ライフイベント表'!J24","v":""},{"$f":"'1-11.ライフイベント表'!K24","v":""},{"$f":"IF(ISBLANK('1-11.ライフイベント表'!L24),\"\",'1-11.ライフイベント表'!L24)","v":""},{"$f":"IF(ISBLANK('1-11.ライフイベント表'!M24),\"\",'1-11.ライフイベント表'!M24)","v":""}]
[null,null,{"$f":"'1-11.ライフイベント表'!C25","v":""},{"$f":"'1-11.ライフイベント表'!D25","v":""},{"$f":"'1-11.ライフイベント表'!E25","v":""},{"$f":"'1-11.ライフイベント表'!F25","v":""},{"$f":"'1-11.ライフイベント表'!G25","v":""},{"$f":"'1-11.ライフイベント表'!H25","v":""},{"$f":"'1-11.ライフイベント表'!I25","v":""},{"$f":"'1-11.ライフイベント表'!J25","v":""},{"$f":"'1-11.ライフイベント表'!K25","v":""},{"$f":"IF(ISBLANK('1-11.ライフイベント表'!L25),\"\",'1-11.ライフイベント表'!L25)","v":""},{"$f":"IF(ISBLANK('1-11.ライフイベント表'!M25),\"\",'1-11.ライフイベント表'!M25)","v":""}]
[null,null,{"$f":"'1-11.ライフイベント表'!C26","v":""},{"$f":"'1-11.ライフイベント表'!D26","v":""},{"$f":"'1-11.ライフイベント表'!E26","v":""},{"$f":"'1-11.ライフイベント表'!F26","v":""},{"$f":"'1-11.ライフイベント表'!G26","v":""},{"$f":"'1-11.ライフイベント表'!H26","v":""},{"$f":"'1-11.ライフイベント表'!I26","v":""},{"$f":"'1-11.ライフイベント表'!J26","v":""},{"$f":"'1-11.ライフイベント表'!K26","v":""},{"$f":"IF(ISBLANK('1-11.ライフイベント表'!L26),\"\",'1-11.ライフイベント表'!L26)","v":""},{"$f":"IF(ISBLANK('1-11.ライフイベント表'!M26),\"\",'1-11.ライフイベント表'!M26)","v":""}]
[null,null,{"$f":"'1-11.ライフイベント表'!C27","v":""},{"$f":"'1-11.ライフイベント表'!D27","v":""},{"$f":"'1-11.ライフイベント表'!E27","v":""},{"$f":"'1-11.ライフイベント表'!F27","v":""},{"$f":"'1-11.ライフイベント表'!G27","v":""},{"$f":"'1-11.ライフイベント表'!H27","v":""},{"$f":"'1-11.ライフイベント表'!I27","v":""},{"$f":"'1-11.ライフイベント表'!J27","v":""},{"$f":"'1-11.ライフイベント表'!K27","v":""},{"$f":"IF(ISBLANK('1-11.ライフイベント表'!L27),\"\",'1-11.ライフイベント表'!L27)","v":""},{"$f":"IF(ISBLANK('1-11.ライフイベント表'!M27),\"\",'1-11.ライフイベント表'!M27)","v":""}]
[null,null,{"$f":"'1-11.ライフイベント表'!C28","v":""},{"$f":"'1-11.ライフイベント表'!D28","v":""},{"$f":"'1-11.ライフイベント表'!E28","v":""},{"$f":"'1-11.ライフイベント表'!F28","v":""},{"$f":"'1-11.ライフイベント表'!G28","v":""},{"$f":"'1-11.ライフイベント表'!H28","v":""},{"$f":"'1-11.ライフイベント表'!I28","v":""},{"$f":"'1-11.ライフイベント表'!J28","v":""},{"$f":"'1-11.ライフイベント表'!K28","v":""},{"$f":"IF(ISBLANK('1-11.ライフイベント表'!L28),\"\",'1-11.ライフイベント表'!L28)","v":""},{"$f":"IF(ISBLANK('1-11.ライフイベント表'!M28),\"\",'1-11.ライフイベント表'!M28)","v":""}]
[null,null,{"$f":"'1-11.ライフイベント表'!C29","v":""},{"$f":"'1-11.ライフイベント表'!D29","v":""},{"$f":"'1-11.ライフイベント表'!E29","v":""},{"$f":"'1-11.ライフイベント表'!F29","v":""},{"$f":"'1-11.ライフイベント表'!G29","v":""},{"$f":"'1-11.ライフイベント表'!H29","v":""},{"$f":"'1-11.ライフイベント表'!I29","v":""},{"$f":"'1-11.ライフイベント表'!J29","v":""},{"$f":"'1-11.ライフイベント表'!K29","v":""},{"$f":"IF(ISBLANK('1-11.ライフイベント表'!L29),\"\",'1-11.ライフイベント表'!L29)","v":""},{"$f":"IF(ISBLANK('1-11.ライフイベント表'!M29),\"\",'1-11.ライフイベント表'!M29)","v":""}]
[null,null,{"$f":"'1-11.ライフイベント表'!C30","v":""},{"$f":"'1-11.ライフイベント表'!D30","v":""},{"$f":"'1-11.ライフイベント表'!E30","v":""},{"$f":"'1-11.ライフイベント表'!F30","v":""},{"$f":"'1-11.ライフイベント表'!G30","v":""},{"$f":"'1-11.ライフイベント表'!H30","v":""},{"$f":"'1-11.ライフイベント表'!I30","v":""},{"$f":"'1-11.ライフイベント表'!J30","v":""},{"$f":"'1-11.ライフイベント表'!K30","v":""},{"$f":"IF(ISBLANK('1-11.ライフイベント表'!L30),\"\",'1-11.ライフイベント表'!L30)","v":""},{"$f":"IF(ISBLANK('1-11.ライフイベント表'!M30),\"\",'1-11.ライフイベント表'!M30)","v":""}]
[null,null,{"$f":"'1-11.ライフイベント表'!C31","v":""},{"$f":"'1-11.ライフイベント表'!D31","v":""},{"$f":"'1-11.ライフイベント表'!E31","v":""},{"$f":"'1-11.ライフイベント表'!F31","v":""},{"$f":"'1-11.ライフイベント表'!G31","v":""},{"$f":"'1-11.ライフイベント表'!H31","v":""},{"$f":"'1-11.ライフイベント表'!I31","v":""},{"$f":"'1-11.ライフイベント表'!J31","v":""},{"$f":"'1-11.ライフイベント表'!K31","v":""},{"$f":"IF(ISBLANK('1-11.ライフイベント表'!L31),\"\",'1-11.ライフイベント表'!L31)","v":""},{"$f":"IF(ISBLANK('1-11.ライフイベント表'!M31),\"\",'1-11.ライフイベント表'!M31)","v":""}]
[null,null,{"$f":"'1-11.ライフイベント表'!C32","v":""},{"$f":"'1-11.ライフイベント表'!D32","v":""},{"$f":"'1-11.ライフイベント表'!E32","v":""},{"$f":"'1-11.ライフイベント表'!F32","v":""},{"$f":"'1-11.ライフイベント表'!G32","v":""},{"$f":"'1-11.ライフイベント表'!H32","v":""},{"$f":"'1-11.ライフイベント表'!I32","v":""},{"$f":"'1-11.ライフイベント表'!J32","v":""},{"$f":"'1-11.ライフイベント表'!K32","v":""},{"$f":"IF(ISBLANK('1-11.ライフイベント表'!L32),\"\",'1-11.ライフイベント表'!L32)","v":""},{"$f":"IF(ISBLANK('1-11.ライフイベント表'!M32),\"\",'1-11.ライフイベント表'!M32)","v":""}]
[null,null,{"$f":"'1-11.ライフイベント表'!C33","v":""},{"$f":"'1-11.ライフイベント表'!D33","v":""},{"$f":"'1-11.ライフイベント表'!E33","v":""},{"$f":"'1-11.ライフイベント表'!F33","v":""},{"$f":"'1-11.ライフイベント表'!G33","v":""},{"$f":"'1-11.ライフイベント表'!H33","v":""},{"$f":"'1-11.ライフイベント表'!I33","v":""},{"$f":"'1-11.ライフイベント表'!J33","v":""},{"$f":"'1-11.ライフイベント表'!K33","v":""},{"$f":"IF(ISBLANK('1-11.ライフイベント表'!L33),\"\",'1-11.ライフイベント表'!L33)","v":""},{"$f":"IF(ISBLANK('1-11.ライフイベント表'!M33),\"\",'1-11.ライフイベント表'!M33)","v":""}]
[null,null,{"$f":"'1-11.ライフイベント表'!C34","v":""},{"$f":"'1-11.ライフイベント表'!D34","v":""},{"$f":"'1-11.ライフイベント表'!E34","v":""},{"$f":"'1-11.ライフイベント表'!F34","v":""},{"$f":"'1-11.ライフイベント表'!G34","v":""},{"$f":"'1-11.ライフイベント表'!H34","v":""},{"$f":"'1-11.ライフイベント表'!I34","v":""},{"$f":"'1-11.ライフイベント表'!J34","v":""},{"$f":"'1-11.ライフイベント表'!K34","v":""},{"$f":"IF(ISBLANK('1-11.ライフイベント表'!L34),\"\",'1-11.ライフイベント表'!L34)","v":""},{"$f":"IF(ISBLANK('1-11.ライフイベント表'!M34),\"\",'1-11.ライフイベント表'!M34)","v":""}]
[null,null,{"$f":"'1-11.ライフイベント表'!C35","v":""},{"$f":"'1-11.ライフイベント表'!D35","v":""},{"$f":"'1-11.ライフイベント表'!E35","v":""},{"$f":"'1-11.ライフイベント表'!F35","v":""},{"$f":"'1-11.ライフイベント表'!G35","v":""},{"$f":"'1-11.ライフイベント表'!H35","v":""},{"$f":"'1-11.ライフイベント表'!I35","v":""},{"$f":"'1-11.ライフイベント表'!J35","v":""},{"$f":"'1-11.ライフイベント表'!K35","v":""},{"$f":"IF(ISBLANK('1-11.ライフイベント表'!L35),\"\",'1-11.ライフイベント表'!L35)","v":""},{"$f":"IF(ISBLANK('1-11.ライフイベント表'!M35),\"\",'1-11.ライフイベント表'!M35)","v":""}]
[null,null,{"$f":"'1-11.ライフイベント表'!C36","v":""},{"$f":"'1-11.ライフイベント表'!D36","v":""},{"$f":"'1-11.ライフイベント表'!E36","v":""},{"$f":"'1-11.ライフイベント表'!F36","v":""},{"$f":"'1-11.ライフイベント表'!G36","v":""},{"$f":"'1-11.ライフイベント表'!H36","v":""},{"$f":"'1-11.ライフイベント表'!I36","v":""},{"$f":"'1-11.ライフイベント表'!J36","v":""},{"$f":"'1-11.ライフイベント表'!K36","v":""},{"$f":"IF(ISBLANK('1-11.ライフイベント表'!L36),\"\",'1-11.ライフイベント表'!L36)","v":""},{"$f":"IF(ISBLANK('1-11.ライフイベント表'!M36),\"\",'1-11.ライフイベント表'!M36)","v":""}]
[null,null,{"$f":"'1-11.ライフイベント表'!C37","v":""},{"$f":"'1-11.ライフイベント表'!D37","v":""},{"$f":"'1-11.ライフイベント表'!E37","v":""},{"$f":"'1-11.ライフイベント表'!F37","v":""},{"$f":"'1-11.ライフイベント表'!G37","v":""},{"$f":"'1-11.ライフイベント表'!H37","v":""},{"$f":"'1-11.ライフイベント表'!I37","v":""},{"$f":"'1-11.ライフイベント表'!J37","v":""},{"$f":"'1-11.ライフイベント表'!K37","v":""},{"$f":"IF(ISBLANK('1-11.ライフイベント表'!L37),\"\",'1-11.ライフイベント表'!L37)","v":""},{"$f":"IF(ISBLANK('1-11.ライフイベント表'!M37),\"\",'1-11.ライフイベント表'!M37)","v":""}]
[null,null,{"$f":"'1-11.ライフイベント表'!C38","v":""},{"$f":"'1-11.ライフイベント表'!D38","v":""},{"$f":"'1-11.ライフイベント表'!E38","v":""},{"$f":"'1-11.ライフイベント表'!F38","v":""},{"$f":"'1-11.ライフイベント表'!G38","v":""},{"$f":"'1-11.ライフイベント表'!H38","v":""},{"$f":"'1-11.ライフイベント表'!I38","v":""},{"$f":"'1-11.ライフイベント表'!J38","v":""},{"$f":"'1-11.ライフイベント表'!K38","v":""},{"$f":"IF(ISBLANK('1-11.ライフイベント表'!L38),\"\",'1-11.ライフイベント表'!L38)","v":""},{"$f":"IF(ISBLANK('1-11.ライフイベント表'!M38),\"\",'1-11.ライフイベント表'!M38)","v":""}]
[null,null,{"$f":"'1-11.ライフイベント表'!C39","v":""},{"$f":"'1-11.ライフイベント表'!D39","v":""},{"$f":"'1-11.ライフイベント表'!E39","v":""},{"$f":"'1-11.ライフイベント表'!F39","v":""},{"$f":"'1-11.ライフイベント表'!G39","v":""},{"$f":"'1-11.ライフイベント表'!H39","v":""},{"$f":"'1-11.ライフイベント表'!I39","v":""},{"$f":"'1-11.ライフイベント表'!J39","v":""},{"$f":"'1-11.ライフイベント表'!K39","v":""},{"$f":"IF(ISBLANK('1-11.ライフイベント表'!L39),\"\",'1-11.ライフイベント表'!L39)","v":""},{"$f":"IF(ISBLANK('1-11.ライフイベント表'!M39),\"\",'1-11.ライフイベント表'!M39)","v":""}]
[null,null,{"$f":"'1-11.ライフイベント表'!C40","v":""},{"$f":"'1-11.ライフイベント表'!D40","v":""},{"$f":"'1-11.ライフイベント表'!E40","v":""},{"$f":"'1-11.ライフイベント表'!F40","v":""},{"$f":"'1-11.ライフイベント表'!G40","v":""},{"$f":"'1-11.ライフイベント表'!H40","v":""},{"$f":"'1-11.ライフイベント表'!I40","v":""},{"$f":"'1-11.ライフイベント表'!J40","v":""},{"$f":"'1-11.ライフイベント表'!K40","v":""},{"$f":"IF(ISBLANK('1-11.ライフイベント表'!L40),\"\",'1-11.ライフイベント表'!L40)","v":""},{"$f":"IF(ISBLANK('1-11.ライフイベント表'!M40),\"\",'1-11.ライフイベント表'!M40)","v":""}]
[null,null,{"$f":"'1-11.ライフイベント表'!C41","v":""},{"$f":"'1-11.ライフイベント表'!D41","v":""},{"$f":"'1-11.ライフイベント表'!E41","v":""},{"$f":"'1-11.ライフイベント表'!F41","v":""},{"$f":"'1-11.ライフイベント表'!G41","v":""},{"$f":"'1-11.ライフイベント表'!H41","v":""},{"$f":"'1-11.ライフイベント表'!I41","v":""},{"$f":"'1-11.ライフイベント表'!J41","v":""},{"$f":"'1-11.ライフイベント表'!K41","v":""},{"$f":"IF(ISBLANK('1-11.ライフイベント表'!L41),\"\",'1-11.ライフイベント表'!L41)","v":""},{"$f":"IF(ISBLANK('1-11.ライフイベント表'!M41),\"\",'1-11.ライフイベント表'!M41)","v":""}]
[null,null,{"$f":"'1-11.ライフイベント表'!C42","v":""},{"$f":"'1-11.ライフイベント表'!D42","v":""},{"$f":"'1-11.ライフイベント表'!E42","v":""},{"$f":"'1-11.ライフイベント表'!F42","v":""},{"$f":"'1-11.ライフイベント表'!G42","v":""},{"$f":"'1-11.ライフイベント表'!H42","v":""},{"$f":"'1-11.ライフイベント表'!I42","v":""},{"$f":"'1-11.ライフイベント表'!J42","v":""},{"$f":"'1-11.ライフイベント表'!K42","v":""},{"$f":"IF(ISBLANK('1-11.ライフイベント表'!L42),\"\",'1-11.ライフイベント表'!L42)","v":""},{"$f":"IF(ISBLANK('1-11.ライフイベント表'!M42),\"\",'1-11.ライフイベント表'!M42)","v":""}]
[null,null,{"$f":"'1-11.ライフイベント表'!C43","v":""},{"$f":"'1-11.ライフイベント表'!D43","v":""},{"$f":"'1-11.ライフイベント表'!E43","v":""},{"$f":"'1-11.ライフイベント表'!F43","v":""},{"$f":"'1-11.ライフイベント表'!G43","v":""},{"$f":"'1-11.ライフイベント表'!H43","v":""},{"$f":"'1-11.ライフイベント表'!I43","v":""},{"$f":"'1-11.ライフイベント表'!J43","v":""},{"$f":"'1-11.ライフイベント表'!K43","v":""},{"$f":"IF(ISBLANK('1-11.ライフイベント表'!L43),\"\",'1-11.ライフイベント表'!L43)","v":""},{"$f":"IF(ISBLANK('1-11.ライフイベント表'!M43),\"\",'1-11.ライフイベント表'!M43)","v":""}]
[null,null,{"$f":"'1-11.ライフイベント表'!C44","v":""},{"$f":"'1-11.ライフイベント表'!D44","v":""},{"$f":"'1-11.ライフイベント表'!E44","v":""},{"$f":"'1-11.ライフイベント表'!F44","v":""},{"$f":"'1-11.ライフイベント表'!G44","v":""},{"$f":"'1-11.ライフイベント表'!H44","v":""},{"$f":"'1-11.ライフイベント表'!I44","v":""},{"$f":"'1-11.ライフイベント表'!J44","v":""},{"$f":"'1-11.ライフイベント表'!K44","v":""},{"$f":"IF(ISBLANK('1-11.ライフイベント表'!L44),\"\",'1-11.ライフイベント表'!L44)","v":""},{"$f":"IF(ISBLANK('1-11.ライフイベント表'!M44),\"\",'1-11.ライフイベント表'!M44)","v":""}]
[null,null,{"$f":"'1-11.ライフイベント表'!C45","v":""},{"$f":"'1-11.ライフイベント表'!D45","v":""},{"$f":"'1-11.ライフイベント表'!E45","v":""},{"$f":"'1-11.ライフイベント表'!F45","v":""},{"$f":"'1-11.ライフイベント表'!G45","v":""},{"$f":"'1-11.ライフイベント表'!H45","v":""},{"$f":"'1-11.ライフイベント表'!I45","v":""},{"$f":"'1-11.ライフイベント表'!J45","v":""},{"$f":"'1-11.ライフイベント表'!K45","v":""},{"$f":"IF(ISBLANK('1-11.ライフイベント表'!L45),\"\",'1-11.ライフイベント表'!L45)","v":""},{"$f":"IF(ISBLANK('1-11.ライフイベント表'!M45),\"\",'1-11.ライフイベント表'!M45)","v":""}]
[null,null,{"$f":"'1-11.ライフイベント表'!C46","v":""},{"$f":"'1-11.ライフイベント表'!D46","v":""},{"$f":"'1-11.ライフイベント表'!E46","v":""},{"$f":"'1-11.ライフイベント表'!F46","v":""},{"$f":"'1-11.ライフイベント表'!G46","v":""},{"$f":"'1-11.ライフイベント表'!H46","v":""},{"$f":"'1-11.ライフイベント表'!I46","v":""},{"$f":"'1-11.ライフイベント表'!J46","v":""},{"$f":"'1-11.ライフイベント表'!K46","v":""},{"$f":"IF(ISBLANK('1-11.ライフイベント表'!L46),\"\",'1-11.ライフイベント表'!L46)","v":""},{"$f":"IF(ISBLANK('1-11.ライフイベント表'!M46),\"\",'1-11.ライフイベント表'!M46)","v":""}]
[]
[]
[]
[null,null,"西暦","ご家族の年齢",null,null,null,null,null,null,null,"ご家族のイベント","予算額\n(万円)"]
[null,null,null,{"$f":"IF(ISBLANK('1-4.プロフィール'!$D$12),\"\",'1-4.プロフィール'!$C$12&CHAR(10)&'1-4.プロフィール'!$D$12&CHAR(10)&\"様\")","v":""},{"$f":"IF(ISBLANK('1-4.プロフィール'!$D$13),\"\",'1-4.プロフィール'!$C$13&CHAR(10)&'1-4.プロフィール'!$D$13&CHAR(10)&\"様\")","v":""},{"$f":"IF(ISBLANK('1-4.プロフィール'!$D$14),\"\",'1-4.プロフィール'!$C$14&CHAR(10)&'1-4.プロフィール'!$D$14&CHAR(10)&\"様\")","v":""},{"$f":"IF(ISBLANK('1-4.プロフィール'!$D$15),\"\",'1-4.プロフィール'!$C$15&CHAR(10)&'1-4.プロフィール'!$D$15&CHAR(10)&\"様\")","v":""},{"$f":"IF(ISBLANK('1-4.プロフィール'!$D$16),\"\",'1-4.プロフィール'!$C$16&CHAR(10)&'1-4.プロフィール'!$D$16&CHAR(10)&\"様\")","v":""},{"$f":"IF(ISBLANK('1-4.プロフィール'!$D$17),\"\",'1-4.プロフィール'!$C$17&CHAR(10)&'1-4.プロフィール'!$D$17&CHAR(10)&\"様\")","v":""},{"$f":"IF(ISBLANK('1-4.プロフィール'!$D$18),\"\",'1-4.プロフィール'!$C$18&CHAR(10)&'1-4.プロフィール'!$D$18&CHAR(10)&\"様\")","v":""},{"$f":"IF(ISBLANK('1-4.プロフィール'!$D$19),\"\",'1-4.プロフィール'!$C$19&CHAR(10)&'1-4.プロフィール'!$D$19&CHAR(10)&\"様\")","v":""}]
[]
[]
[null,null,{"$f":"'1-11.ライフイベント表'!C55","v":""},{"$f":"'1-11.ライフイベント表'!D55","v":""},{"$f":"'1-11.ライフイベント表'!E55","v":""},{"$f":"'1-11.ライフイベント表'!F55","v":""},{"$f":"'1-11.ライフイベント表'!G55","v":""},{"$f":"'1-11.ライフイベント表'!H55","v":""},{"$f":"'1-11.ライフイベント表'!I55","v":""},{"$f":"'1-11.ライフイベント表'!J55","v":""},{"$f":"'1-11.ライフイベント表'!K55","v":""},{"$f":"IF(ISBLANK('1-11.ライフイベント表'!L55),\"\",'1-11.ライフイベント表'!L55)","v":""},{"$f":"IF(ISBLANK('1-11.ライフイベント表'!M55),\"\",'1-11.ライフイベント表'!M55)","v":""}]
[null,null,{"$f":"'1-11.ライフイベント表'!C56","v":""},{"$f":"'1-11.ライフイベント表'!D56","v":""},{"$f":"'1-11.ライフイベント表'!E56","v":""},{"$f":"'1-11.ライフイベント表'!F56","v":""},{"$f":"'1-11.ライフイベント表'!G56","v":""},{"$f":"'1-11.ライフイベント表'!H56","v":""},{"$f":"'1-11.ライフイベント表'!I56","v":""},{"$f":"'1-11.ライフイベント表'!J56","v":""},{"$f":"'1-11.ライフイベント表'!K56","v":""},{"$f":"IF(ISBLANK('1-11.ライフイベント表'!L56),\"\",'1-11.ライフイベント表'!L56)","v":""},{"$f":"IF(ISBLANK('1-11.ライフイベント表'!M56),\"\",'1-11.ライフイベント表'!M56)","v":""}]
[null,null,{"$f":"'1-11.ライフイベント表'!C57","v":""},{"$f":"'1-11.ライフイベント表'!D57","v":""},{"$f":"'1-11.ライフイベント表'!E57","v":""},{"$f":"'1-11.ライフイベント表'!F57","v":""},{"$f":"'1-11.ライフイベント表'!G57","v":""},{"$f":"'1-11.ライフイベント表'!H57","v":""},{"$f":"'1-11.ライフイベント表'!I57","v":""},{"$f":"'1-11.ライフイベント表'!J57","v":""},{"$f":"'1-11.ライフイベント表'!K57","v":""},{"$f":"IF(ISBLANK('1-11.ライフイベント表'!L57),\"\",'1-11.ライフイベント表'!L57)","v":""},{"$f":"IF(ISBLANK('1-11.ライフイベント表'!M57),\"\",'1-11.ライフイベント表'!M57)","v":""}]
[null,null,{"$f":"'1-11.ライフイベント表'!C58","v":""},{"$f":"'1-11.ライフイベント表'!D58","v":""},{"$f":"'1-11.ライフイベント表'!E58","v":""},{"$f":"'1-11.ライフイベント表'!F58","v":""},{"$f":"'1-11.ライフイベント表'!G58","v":""},{"$f":"'1-11.ライフイベント表'!H58","v":""},{"$f":"'1-11.ライフイベント表'!I58","v":""},{"$f":"'1-11.ライフイベント表'!J58","v":""},{"$f":"'1-11.ライフイベント表'!K58","v":""},{"$f":"IF(ISBLANK('1-11.ライフイベント表'!L58),\"\",'1-11.ライフイベント表'!L58)","v":""},{"$f":"IF(ISBLANK('1-11.ライフイベント表'!M58),\"\",'1-11.ライフイベント表'!M58)","v":""}]
[null,null,{"$f":"'1-11.ライフイベント表'!C59","v":""},{"$f":"'1-11.ライフイベント表'!D59","v":""},{"$f":"'1-11.ライフイベント表'!E59","v":""},{"$f":"'1-11.ライフイベント表'!F59","v":""},{"$f":"'1-11.ライフイベント表'!G59","v":""},{"$f":"'1-11.ライフイベント表'!H59","v":""},{"$f":"'1-11.ライフイベント表'!I59","v":""},{"$f":"'1-11.ライフイベント表'!J59","v":""},{"$f":"'1-11.ライフイベント表'!K59","v":""},{"$f":"IF(ISBLANK('1-11.ライフイベント表'!L59),\"\",'1-11.ライフイベント表'!L59)","v":""},{"$f":"IF(ISBLANK('1-11.ライフイベント表'!M59),\"\",'1-11.ライフイベント表'!M59)","v":""}]
[null,null,{"$f":"'1-11.ライフイベント表'!C60","v":""},{"$f":"'1-11.ライフイベント表'!D60","v":""},{"$f":"'1-11.ライフイベント表'!E60","v":""},{"$f":"'1-11.ライフイベント表'!F60","v":""},{"$f":"'1-11.ライフイベント表'!G60","v":""},{"$f":"'1-11.ライフイベント表'!H60","v":""},{"$f":"'1-11.ライフイベント表'!I60","v":""},{"$f":"'1-11.ライフイベント表'!J60","v":""},{"$f":"'1-11.ライフイベント表'!K60","v":""},{"$f":"IF(ISBLANK('1-11.ライフイベント表'!L60),\"\",'1-11.ライフイベント表'!L60)","v":""},{"$f":"IF(ISBLANK('1-11.ライフイベント表'!M60),\"\",'1-11.ライフイベント表'!M60)","v":""}]
[null,null,{"$f":"'1-11.ライフイベント表'!C61","v":""},{"$f":"'1-11.ライフイベント表'!D61","v":""},{"$f":"'1-11.ライフイベント表'!E61","v":""},{"$f":"'1-11.ライフイベント表'!F61","v":""},{"$f":"'1-11.ライフイベント表'!G61","v":""},{"$f":"'1-11.ライフイベント表'!H61","v":""},{"$f":"'1-11.ライフイベント表'!I61","v":""},{"$f":"'1-11.ライフイベント表'!J61","v":""},{"$f":"'1-11.ライフイベント表'!K61","v":""},{"$f":"IF(ISBLANK('1-11.ライフイベント表'!L61),\"\",'1-11.ライフイベント表'!L61)","v":""},{"$f":"IF(ISBLANK('1-11.ライフイベント表'!M61),\"\",'1-11.ライフイベント表'!M61)","v":""}]
[null,null,{"$f":"'1-11.ライフイベント表'!C62","v":""},{"$f":"'1-11.ライフイベント表'!D62","v":""},{"$f":"'1-11.ライフイベント表'!E62","v":""},{"$f":"'1-11.ライフイベント表'!F62","v":""},{"$f":"'1-11.ライフイベント表'!G62","v":""},{"$f":"'1-11.ライフイベント表'!H62","v":""},{"$f":"'1-11.ライフイベント表'!I62","v":""},{"$f":"'1-11.ライフイベント表'!J62","v":""},{"$f":"'1-11.ライフイベント表'!K62","v":""},{"$f":"IF(ISBLANK('1-11.ライフイベント表'!L62),\"\",'1-11.ライフイベント表'!L62)","v":""},{"$f":"IF(ISBLANK('1-11.ライフイベント表'!M62),\"\",'1-11.ライフイベント表'!M62)","v":""}]
[null,null,{"$f":"'1-11.ライフイベント表'!C63","v":""},{"$f":"'1-11.ライフイベント表'!D63","v":""},{"$f":"'1-11.ライフイベント表'!E63","v":""},{"$f":"'1-11.ライフイベント表'!F63","v":""},{"$f":"'1-11.ライフイベント表'!G63","v":""},{"$f":"'1-11.ライフイベント表'!H63","v":""},{"$f":"'1-11.ライフイベント表'!I63","v":""},{"$f":"'1-11.ライフイベント表'!J63","v":""},{"$f":"'1-11.ライフイベント表'!K63","v":""},{"$f":"IF(ISBLANK('1-11.ライフイベント表'!L63),\"\",'1-11.ライフイベント表'!L63)","v":""},{"$f":"IF(ISBLANK('1-11.ライフイベント表'!M63),\"\",'1-11.ライフイベント表'!M63)","v":""}]
[null,null,{"$f":"'1-11.ライフイベント表'!C64","v":""},{"$f":"'1-11.ライフイベント表'!D64","v":""},{"$f":"'1-11.ライフイベント表'!E64","v":""},{"$f":"'1-11.ライフイベント表'!F64","v":""},{"$f":"'1-11.ライフイベント表'!G64","v":""},{"$f":"'1-11.ライフイベント表'!H64","v":""},{"$f":"'1-11.ライフイベント表'!I64","v":""},{"$f":"'1-11.ライフイベント表'!J64","v":""},{"$f":"'1-11.ライフイベント表'!K64","v":""},{"$f":"IF(ISBLANK('1-11.ライフイベント表'!L64),\"\",'1-11.ライフイベント表'!L64)","v":""},{"$f":"IF(ISBLANK('1-11.ライフイベント表'!M64),\"\",'1-11.ライフイベント表'!M64)","v":""}]
[null,null,{"$f":"'1-11.ライフイベント表'!C65","v":""},{"$f":"'1-11.ライフイベント表'!D65","v":""},{"$f":"'1-11.ライフイベント表'!E65","v":""},{"$f":"'1-11.ライフイベント表'!F65","v":""},{"$f":"'1-11.ライフイベント表'!G65","v":""},{"$f":"'1-11.ライフイベント表'!H65","v":""},{"$f":"'1-11.ライフイベント表'!I65","v":""},{"$f":"'1-11.ライフイベント表'!J65","v":""},{"$f":"'1-11.ライフイベント表'!K65","v":""},{"$f":"IF(ISBLANK('1-11.ライフイベント表'!L65),\"\",'1-11.ライフイベント表'!L65)","v":""},{"$f":"IF(ISBLANK('1-11.ライフイベント表'!M65),\"\",'1-11.ライフイベント表'!M65)","v":""}]
[null,null,{"$f":"'1-11.ライフイベント表'!C66","v":""},{"$f":"'1-11.ライフイベント表'!D66","v":""},{"$f":"'1-11.ライフイベント表'!E66","v":""},{"$f":"'1-11.ライフイベント表'!F66","v":""},{"$f":"'1-11.ライフイベント表'!G66","v":""},{"$f":"'1-11.ライフイベント表'!H66","v":""},{"$f":"'1-11.ライフイベント表'!I66","v":""},{"$f":"'1-11.ライフイベント表'!J66","v":""},{"$f":"'1-11.ライフイベント表'!K66","v":""},{"$f":"IF(ISBLANK('1-11.ライフイベント表'!L66),\"\",'1-11.ライフイベント表'!L66)","v":""},{"$f":"IF(ISBLANK('1-11.ライフイベント表'!M66),\"\",'1-11.ライフイベント表'!M66)","v":""}]
[null,null,{"$f":"'1-11.ライフイベント表'!C67","v":""},{"$f":"'1-11.ライフイベント表'!D67","v":""},{"$f":"'1-11.ライフイベント表'!E67","v":""},{"$f":"'1-11.ライフイベント表'!F67","v":""},{"$f":"'1-11.ライフイベント表'!G67","v":""},{"$f":"'1-11.ライフイベント表'!H67","v":""},{"$f":"'1-11.ライフイベント表'!I67","v":""},{"$f":"'1-11.ライフイベント表'!J67","v":""},{"$f":"'1-11.ライフイベント表'!K67","v":""},{"$f":"IF(ISBLANK('1-11.ライフイベント表'!L67),\"\",'1-11.ライフイベント表'!L67)","v":""},{"$f":"IF(ISBLANK('1-11.ライフイベント表'!M67),\"\",'1-11.ライフイベント表'!M67)","v":""}]
[null,null,{"$f":"'1-11.ライフイベント表'!C68","v":""},{"$f":"'1-11.ライフイベント表'!D68","v":""},{"$f":"'1-11.ライフイベント表'!E68","v":""},{"$f":"'1-11.ライフイベント表'!F68","v":""},{"$f":"'1-11.ライフイベント表'!G68","v":""},{"$f":"'1-11.ライフイベント表'!H68","v":""},{"$f":"'1-11.ライフイベント表'!I68","v":""},{"$f":"'1-11.ライフイベント表'!J68","v":""},{"$f":"'1-11.ライフイベント表'!K68","v":""},{"$f":"IF(ISBLANK('1-11.ライフイベント表'!L68),\"\",'1-11.ライフイベント表'!L68)","v":""},{"$f":"IF(ISBLANK('1-11.ライフイベント表'!M68),\"\",'1-11.ライフイベント表'!M68)","v":""}]
[null,null,{"$f":"'1-11.ライフイベント表'!C69","v":""},{"$f":"'1-11.ライフイベント表'!D69","v":""},{"$f":"'1-11.ライフイベント表'!E69","v":""},{"$f":"'1-11.ライフイベント表'!F69","v":""},{"$f":"'1-11.ライフイベント表'!G69","v":""},{"$f":"'1-11.ライフイベント表'!H69","v":""},{"$f":"'1-11.ライフイベント表'!I69","v":""},{"$f":"'1-11.ライフイベント表'!J69","v":""},{"$f":"'1-11.ライフイベント表'!K69","v":""},{"$f":"IF(ISBLANK('1-11.ライフイベント表'!L69),\"\",'1-11.ライフイベント表'!L69)","v":""},{"$f":"IF(ISBLANK('1-11.ライフイベント表'!M69),\"\",'1-11.ライフイベント表'!M69)","v":""}]
[null,null,{"$f":"'1-11.ライフイベント表'!C70","v":""},{"$f":"'1-11.ライフイベント表'!D70","v":""},{"$f":"'1-11.ライフイベント表'!E70","v":""},{"$f":"'1-11.ライフイベント表'!F70","v":""},{"$f":"'1-11.ライフイベント表'!G70","v":""},{"$f":"'1-11.ライフイベント表'!H70","v":""},{"$f":"'1-11.ライフイベント表'!I70","v":""},{"$f":"'1-11.ライフイベント表'!J70","v":""},{"$f":"'1-11.ライフイベント表'!K70","v":""},{"$f":"IF(ISBLANK('1-11.ライフイベント表'!L70),\"\",'1-11.ライフイベント表'!L70)","v":""},{"$f":"IF(ISBLANK('1-11.ライフイベント表'!M70),\"\",'1-11.ライフイベント表'!M70)","v":""}]
[null,null,{"$f":"'1-11.ライフイベント表'!C71","v":""},{"$f":"'1-11.ライフイベント表'!D71","v":""},{"$f":"'1-11.ライフイベント表'!E71","v":""},{"$f":"'1-11.ライフイベント表'!F71","v":""},{"$f":"'1-11.ライフイベント表'!G71","v":""},{"$f":"'1-11.ライフイベント表'!H71","v":""},{"$f":"'1-11.ライフイベント表'!I71","v":""},{"$f":"'1-11.ライフイベント表'!J71","v":""},{"$f":"'1-11.ライフイベント表'!K71","v":""},{"$f":"IF(ISBLANK('1-11.ライフイベント表'!L71),\"\",'1-11.ライフイベント表'!L71)","v":""},{"$f":"IF(ISBLANK('1-11.ライフイベント表'!M71),\"\",'1-11.ライフイベント表'!M71)","v":""}]
[null,null,{"$f":"'1-11.ライフイベント表'!C72","v":""},{"$f":"'1-11.ライフイベント表'!D72","v":""},{"$f":"'1-11.ライフイベント表'!E72","v":""},{"$f":"'1-11.ライフイベント表'!F72","v":""},{"$f":"'1-11.ライフイベント表'!G72","v":""},{"$f":"'1-11.ライフイベント表'!H72","v":""},{"$f":"'1-11.ライフイベント表'!I72","v":""},{"$f":"'1-11.ライフイベント表'!J72","v":""},{"$f":"'1-11.ライフイベント表'!K72","v":""},{"$f":"IF(ISBLANK('1-11.ライフイベント表'!L72),\"\",'1-11.ライフイベント表'!L72)","v":""},{"$f":"IF(ISBLANK('1-11.ライフイベント表'!M72),\"\",'1-11.ライフイベント表'!M72)","v":""}]
[null,null,{"$f":"'1-11.ライフイベント表'!C73","v":""},{"$f":"'1-11.ライフイベント表'!D73","v":""},{"$f":"'1-11.ライフイベント表'!E73","v":""},{"$f":"'1-11.ライフイベント表'!F73","v":""},{"$f":"'1-11.ライフイベント表'!G73","v":""},{"$f":"'1-11.ライフイベント表'!H73","v":""},{"$f":"'1-11.ライフイベント表'!I73","v":""},{"$f":"'1-11.ライフイベント表'!J73","v":""},{"$f":"'1-11.ライフイベント表'!K73","v":""},{"$f":"IF(ISBLANK('1-11.ライフイベント表'!L73),\"\",'1-11.ライフイベント表'!L73)","v":""},{"$f":"IF(ISBLANK('1-11.ライフイベント表'!M73),\"\",'1-11.ライフイベント表'!M73)","v":""}]
[null,null,{"$f":"'1-11.ライフイベント表'!C74","v":""},{"$f":"'1-11.ライフイベント表'!D74","v":""},{"$f":"'1-11.ライフイベント表'!E74","v":""},{"$f":"'1-11.ライフイベント表'!F74","v":""},{"$f":"'1-11.ライフイベント表'!G74","v":""},{"$f":"'1-11.ライフイベント表'!H74","v":""},{"$f":"'1-11.ライフイベント表'!I74","v":""},{"$f":"'1-11.ライフイベント表'!J74","v":""},{"$f":"'1-11.ライフイベント表'!K74","v":""},{"$f":"IF(ISBLANK('1-11.ライフイベント表'!L74),\"\",'1-11.ライフイベント表'!L74)","v":""},{"$f":"IF(ISBLANK('1-11.ライフイベント表'!M74),\"\",'1-11.ライフイベント表'!M74)","v":""}]
[null,null,{"$f":"'1-11.ライフイベント表'!C75","v":""},{"$f":"'1-11.ライフイベント表'!D75","v":""},{"$f":"'1-11.ライフイベント表'!E75","v":""},{"$f":"'1-11.ライフイベント表'!F75","v":""},{"$f":"'1-11.ライフイベント表'!G75","v":""},{"$f":"'1-11.ライフイベント表'!H75","v":""},{"$f":"'1-11.ライフイベント表'!I75","v":""},{"$f":"'1-11.ライフイベント表'!J75","v":""},{"$f":"'1-11.ライフイベント表'!K75","v":""},{"$f":"IF(ISBLANK('1-11.ライフイベント表'!L75),\"\",'1-11.ライフイベント表'!L75)","v":""},{"$f":"IF(ISBLANK('1-11.ライフイベント表'!M75),\"\",'1-11.ライフイベント表'!M75)","v":""}]
[null,null,{"$f":"'1-11.ライフイベント表'!C76","v":""},{"$f":"'1-11.ライフイベント表'!D76","v":""},{"$f":"'1-11.ライフイベント表'!E76","v":""},{"$f":"'1-11.ライフイベント表'!F76","v":""},{"$f":"'1-11.ライフイベント表'!G76","v":""},{"$f":"'1-11.ライフイベント表'!H76","v":""},{"$f":"'1-11.ライフイベント表'!I76","v":""},{"$f":"'1-11.ライフイベント表'!J76","v":""},{"$f":"'1-11.ライフイベント表'!K76","v":""},{"$f":"IF(ISBLANK('1-11.ライフイベント表'!L76),\"\",'1-11.ライフイベント表'!L76)","v":""},{"$f":"IF(ISBLANK('1-11.ライフイベント表'!M76),\"\",'1-11.ライフイベント表'!M76)","v":""}]
[null,null,{"$f":"'1-11.ライフイベント表'!C77","v":""},{"$f":"'1-11.ライフイベント表'!D77","v":""},{"$f":"'1-11.ライフイベント表'!E77","v":""},{"$f":"'1-11.ライフイベント表'!F77","v":""},{"$f":"'1-11.ライフイベント表'!G77","v":""},{"$f":"'1-11.ライフイベント表'!H77","v":""},{"$f":"'1-11.ライフイベント表'!I77","v":""},{"$f":"'1-11.ライフイベント表'!J77","v":""},{"$f":"'1-11.ライフイベント表'!K77","v":""},{"$f":"IF(ISBLANK('1-11.ライフイベント表'!L77),\"\",'1-11.ライフイベント表'!L77)","v":""},{"$f":"IF(ISBLANK('1-11.ライフイベント表'!M77),\"\",'1-11.ライフイベント表'!M77)","v":""}]
[null,null,{"$f":"'1-11.ライフイベント表'!C78","v":""},{"$f":"'1-11.ライフイベント表'!D78","v":""},{"$f":"'1-11.ライフイベント表'!E78","v":""},{"$f":"'1-11.ライフイベント表'!F78","v":""},{"$f":"'1-11.ライフイベント表'!G78","v":""},{"$f":"'1-11.ライフイベント表'!H78","v":""},{"$f":"'1-11.ライフイベント表'!I78","v":""},{"$f":"'1-11.ライフイベント表'!J78","v":""},{"$f":"'1-11.ライフイベント表'!K78","v":""},{"$f":"IF(ISBLANK('1-11.ライフイベント表'!L78),\"\",'1-11.ライフイベント表'!L78)","v":""},{"$f":"IF(ISBLANK('1-11.ライフイベント表'!M78),\"\",'1-11.ライフイベント表'!M78)","v":""}]
[null,null,{"$f":"'1-11.ライフイベント表'!C79","v":""},{"$f":"'1-11.ライフイベント表'!D79","v":""},{"$f":"'1-11.ライフイベント表'!E79","v":""},{"$f":"'1-11.ライフイベント表'!F79","v":""},{"$f":"'1-11.ライフイベント表'!G79","v":""},{"$f":"'1-11.ライフイベント表'!H79","v":""},{"$f":"'1-11.ライフイベント表'!I79","v":""},{"$f":"'1-11.ライフイベント表'!J79","v":""},{"$f":"'1-11.ライフイベント表'!K79","v":""},{"$f":"IF(ISBLANK('1-11.ライフイベント表'!L79),\"\",'1-11.ライフイベント表'!L79)","v":""},{"$f":"IF(ISBLANK('1-11.ライフイベント表'!M79),\"\",'1-11.ライフイベント表'!M79)","v":""}]
[null,null,{"$f":"'1-11.ライフイベント表'!C80","v":""},{"$f":"'1-11.ライフイベント表'!D80","v":""},{"$f":"'1-11.ライフイベント表'!E80","v":""},{"$f":"'1-11.ライフイベント表'!F80","v":""},{"$f":"'1-11.ライフイベント表'!G80","v":""},{"$f":"'1-11.ライフイベント表'!H80","v":""},{"$f":"'1-11.ライフイベント表'!I80","v":""},{"$f":"'1-11.ライフイベント表'!J80","v":""},{"$f":"'1-11.ライフイベント表'!K80","v":""},{"$f":"IF(ISBLANK('1-11.ライフイベント表'!L80),\"\",'1-11.ライフイベント表'!L80)","v":""},{"$f":"IF(ISBLANK('1-11.ライフイベント表'!M80),\"\",'1-11.ライフイベント表'!M80)","v":""}]
[null,null,{"$f":"'1-11.ライフイベント表'!C81","v":""},{"$f":"'1-11.ライフイベント表'!D81","v":""},{"$f":"'1-11.ライフイベント表'!E81","v":""},{"$f":"'1-11.ライフイベント表'!F81","v":""},{"$f":"'1-11.ライフイベント表'!G81","v":""},{"$f":"'1-11.ライフイベント表'!H81","v":""},{"$f":"'1-11.ライフイベント表'!I81","v":""},{"$f":"'1-11.ライフイベント表'!J81","v":""},{"$f":"'1-11.ライフイベント表'!K81","v":""},{"$f":"IF(ISBLANK('1-11.ライフイベント表'!L81),\"\",'1-11.ライフイベント表'!L81)","v":""},{"$f":"IF(ISBLANK('1-11.ライフイベント表'!M81),\"\",'1-11.ライフイベント表'!M81)","v":""}]
[null,null,{"$f":"'1-11.ライフイベント表'!C82","v":""},{"$f":"'1-11.ライフイベント表'!D82","v":""},{"$f":"'1-11.ライフイベント表'!E82","v":""},{"$f":"'1-11.ライフイベント表'!F82","v":""},{"$f":"'1-11.ライフイベント表'!G82","v":""},{"$f":"'1-11.ライフイベント表'!H82","v":""},{"$f":"'1-11.ライフイベント表'!I82","v":""},{"$f":"'1-11.ライフイベント表'!J82","v":""},{"$f":"'1-11.ライフイベント表'!K82","v":""},{"$f":"IF(ISBLANK('1-11.ライフイベント表'!L82),\"\",'1-11.ライフイベント表'!L82)","v":""},{"$f":"IF(ISBLANK('1-11.ライフイベント表'!M82),\"\",'1-11.ライフイベント表'!M82)","v":""}]
[null,null,{"$f":"'1-11.ライフイベント表'!C83","v":""},{"$f":"'1-11.ライフイベント表'!D83","v":""},{"$f":"'1-11.ライフイベント表'!E83","v":""},{"$f":"'1-11.ライフイベント表'!F83","v":""},{"$f":"'1-11.ライフイベント表'!G83","v":""},{"$f":"'1-11.ライフイベント表'!H83","v":""},{"$f":"'1-11.ライフイベント表'!I83","v":""},{"$f":"'1-11.ライフイベント表'!J83","v":""},{"$f":"'1-11.ライフイベント表'!K83","v":""},{"$f":"IF(ISBLANK('1-11.ライフイベント表'!L83),\"\",'1-11.ライフイベント表'!L83)","v":""},{"$f":"IF(ISBLANK('1-11.ライフイベント表'!M83),\"\",'1-11.ライフイベント表'!M83)","v":""}]
[null,null,{"$f":"'1-11.ライフイベント表'!C84","v":""},{"$f":"'1-11.ライフイベント表'!D84","v":""},{"$f":"'1-11.ライフイベント表'!E84","v":""},{"$f":"'1-11.ライフイベント表'!F84","v":""},{"$f":"'1-11.ライフイベント表'!G84","v":""},{"$f":"'1-11.ライフイベント表'!H84","v":""},{"$f":"'1-11.ライフイベント表'!I84","v":""},{"$f":"'1-11.ライフイベント表'!J84","v":""},{"$f":"'1-11.ライフイベント表'!K84","v":""},{"$f":"IF(ISBLANK('1-11.ライフイベント表'!L84),\"\",'1-11.ライフイベント表'!L84)","v":""},{"$f":"IF(ISBLANK('1-11.ライフイベント表'!M84),\"\",'1-11.ライフイベント表'!M84)","v":""}]
[null,null,{"$f":"'1-11.ライフイベント表'!C85","v":""},{"$f":"'1-11.ライフイベント表'!D85","v":""},{"$f":"'1-11.ライフイベント表'!E85","v":""},{"$f":"'1-11.ライフイベント表'!F85","v":""},{"$f":"'1-11.ライフイベント表'!G85","v":""},{"$f":"'1-11.ライフイベント表'!H85","v":""},{"$f":"'1-11.ライフイベント表'!I85","v":""},{"$f":"'1-11.ライフイベント表'!J85","v":""},{"$f":"'1-11.ライフイベント表'!K85","v":""},{"$f":"IF(ISBLANK('1-11.ライフイベント表'!L85),\"\",'1-11.ライフイベント表'!L85)","v":""},{"$f":"IF(ISBLANK('1-11.ライフイベント表'!M85),\"\",'1-11.ライフイベント表'!M85)","v":""}]
[null,null,{"$f":"'1-11.ライフイベント表'!C86","v":""},{"$f":"'1-11.ライフイベント表'!D86","v":""},{"$f":"'1-11.ライフイベント表'!E86","v":""},{"$f":"'1-11.ライフイベント表'!F86","v":""},{"$f":"'1-11.ライフイベント表'!G86","v":""},{"$f":"'1-11.ライフイベント表'!H86","v":""},{"$f":"'1-11.ライフイベント表'!I86","v":""},{"$f":"'1-11.ライフイベント表'!J86","v":""},{"$f":"'1-11.ライフイベント表'!K86","v":""},{"$f":"IF(ISBLANK('1-11.ライフイベント表'!L86),\"\",'1-11.ライフイベント表'!L86)","v":""},{"$f":"IF(ISBLANK('1-11.ライフイベント表'!M86),\"\",'1-11.ライフイベント表'!M86)","v":""}]
[null,null,{"$f":"'1-11.ライフイベント表'!C87","v":""},{"$f":"'1-11.ライフイベント表'!D87","v":""},{"$f":"'1-11.ライフイベント表'!E87","v":""},{"$f":"'1-11.ライフイベント表'!F87","v":""},{"$f":"'1-11.ライフイベント表'!G87","v":""},{"$f":"'1-11.ライフイベント表'!H87","v":""},{"$f":"'1-11.ライフイベント表'!I87","v":""},{"$f":"'1-11.ライフイベント表'!J87","v":""},{"$f":"'1-11.ライフイベント表'!K87","v":""},{"$f":"IF(ISBLANK('1-11.ライフイベント表'!L87),\"\",'1-11.ライフイベント表'!L87)","v":""},{"$f":"IF(ISBLANK('1-11.ライフイベント表'!M87),\"\",'1-11.ライフイベント表'!M87)","v":""}]
[null,null,{"$f":"'1-11.ライフイベント表'!C88","v":""},{"$f":"'1-11.ライフイベント表'!D88","v":""},{"$f":"'1-11.ライフイベント表'!E88","v":""},{"$f":"'1-11.ライフイベント表'!F88","v":""},{"$f":"'1-11.ライフイベント表'!G88","v":""},{"$f":"'1-11.ライフイベント表'!H88","v":""},{"$f":"'1-11.ライフイベント表'!I88","v":""},{"$f":"'1-11.ライフイベント表'!J88","v":""},{"$f":"'1-11.ライフイベント表'!K88","v":""},{"$f":"IF(ISBLANK('1-11.ライフイベント表'!L88),\"\",'1-11.ライフイベント表'!L88)","v":""},{"$f":"IF(ISBLANK('1-11.ライフイベント表'!M88),\"\",'1-11.ライフイベント表'!M88)","v":""}]
[null,null,{"$f":"'1-11.ライフイベント表'!C89","v":""},{"$f":"'1-11.ライフイベント表'!D89","v":""},{"$f":"'1-11.ライフイベント表'!E89","v":""},{"$f":"'1-11.ライフイベント表'!F89","v":""},{"$f":"'1-11.ライフイベント表'!G89","v":""},{"$f":"'1-11.ライフイベント表'!H89","v":""},{"$f":"'1-11.ライフイベント表'!I89","v":""},{"$f":"'1-11.ライフイベント表'!J89","v":""},{"$f":"'1-11.ライフイベント表'!K89","v":""},{"$f":"IF(ISBLANK('1-11.ライフイベント表'!L89),\"\",'1-11.ライフイベント表'!L89)","v":""},{"$f":"IF(ISBLANK('1-11.ライフイベント表'!M89),\"\",'1-11.ライフイベント表'!M89)","v":""}]
[null,null,{"$f":"'1-11.ライフイベント表'!C90","v":""},{"$f":"'1-11.ライフイベント表'!D90","v":""},{"$f":"'1-11.ライフイベント表'!E90","v":""},{"$f":"'1-11.ライフイベント表'!F90","v":""},{"$f":"'1-11.ライフイベント表'!G90","v":""},{"$f":"'1-11.ライフイベント表'!H90","v":""},{"$f":"'1-11.ライフイベント表'!I90","v":""},{"$f":"'1-11.ライフイベント表'!J90","v":""},{"$f":"'1-11.ライフイベント表'!K90","v":""},{"$f":"IF(ISBLANK('1-11.ライフイベント表'!L90),\"\",'1-11.ライフイベント表'!L90)","v":""},{"$f":"IF(ISBLANK('1-11.ライフイベント表'!M90),\"\",'1-11.ライフイベント表'!M90)","v":""}]
[null,null,{"$f":"'1-11.ライフイベント表'!C91","v":""},{"$f":"'1-11.ライフイベント表'!D91","v":""},{"$f":"'1-11.ライフイベント表'!E91","v":""},{"$f":"'1-11.ライフイベント表'!F91","v":""},{"$f":"'1-11.ライフイベント表'!G91","v":""},{"$f":"'1-11.ライフイベント表'!H91","v":""},{"$f":"'1-11.ライフイベント表'!I91","v":""},{"$f":"'1-11.ライフイベント表'!J91","v":""},{"$f":"'1-11.ライフイベント表'!K91","v":""},{"$f":"IF(ISBLANK('1-11.ライフイベント表'!L91),\"\",'1-11.ライフイベント表'!L91)","v":""},{"$f":"IF(ISBLANK('1-11.ライフイベント表'!M91),\"\",'1-11.ライフイベント表'!M91)","v":""}]
[null,null,{"$f":"'1-11.ライフイベント表'!C92","v":""},{"$f":"'1-11.ライフイベント表'!D92","v":""},{"$f":"'1-11.ライフイベント表'!E92","v":""},{"$f":"'1-11.ライフイベント表'!F92","v":""},{"$f":"'1-11.ライフイベント表'!G92","v":""},{"$f":"'1-11.ライフイベント表'!H92","v":""},{"$f":"'1-11.ライフイベント表'!I92","v":""},{"$f":"'1-11.ライフイベント表'!J92","v":""},{"$f":"'1-11.ライフイベント表'!K92","v":""},{"$f":"IF(ISBLANK('1-11.ライフイベント表'!L92),\"\",'1-11.ライフイベント表'!L92)","v":""},{"$f":"IF(ISBLANK('1-11.ライフイベント表'!M92),\"\",'1-11.ライフイベント表'!M92)","v":""}]
[null,null,{"$f":"'1-11.ライフイベント表'!C93","v":""},{"$f":"'1-11.ライフイベント表'!D93","v":""},{"$f":"'1-11.ライフイベント表'!E93","v":""},{"$f":"'1-11.ライフイベント表'!F93","v":""},{"$f":"'1-11.ライフイベント表'!G93","v":""},{"$f":"'1-11.ライフイベント表'!H93","v":""},{"$f":"'1-11.ライフイベント表'!I93","v":""},{"$f":"'1-11.ライフイベント表'!J93","v":""},{"$f":"'1-11.ライフイベント表'!K93","v":""},{"$f":"IF(ISBLANK('1-11.ライフイベント表'!L93),\"\",'1-11.ライフイベント表'!L93)","v":""},{"$f":"IF(ISBLANK('1-11.ライフイベント表'!M93),\"\",'1-11.ライフイベント表'!M93)","v":""}]
[null,null,{"$f":"'1-11.ライフイベント表'!C94","v":""},{"$f":"'1-11.ライフイベント表'!D94","v":""},{"$f":"'1-11.ライフイベント表'!E94","v":""},{"$f":"'1-11.ライフイベント表'!F94","v":""},{"$f":"'1-11.ライフイベント表'!G94","v":""},{"$f":"'1-11.ライフイベント表'!H94","v":""},{"$f":"'1-11.ライフイベント表'!I94","v":""},{"$f":"'1-11.ライフイベント表'!J94","v":""},{"$f":"'1-11.ライフイベント表'!K94","v":""},{"$f":"IF(ISBLANK('1-11.ライフイベント表'!L94),\"\",'1-11.ライフイベント表'!L94)","v":""},{"$f":"IF(ISBLANK('1-11.ライフイベント表'!M94),\"\",'1-11.ライフイベント表'!M94)","v":""}]

{"sheet":"1-12-1.キャッシュフロー表 現状","index":20,"n_rows":42,"n_cols":78,"rows_kept":42,"cut":false,"hidden":false,"merged":[[41,2,41,3],[20,2,29,2],[30,2,39,2],[11,2,18,2],[19,5,19,6],[19,7,19,37],[19,2,19,3],[9,2,9,6],[10,2,10,6],[40,2,40,3],[11,3,11,5],[12,3,12,5],[13,3,13,5],[14,3,14,5],[15,3,15,5],[16,3,16,5],[17,3,17,5],[18,3,18,5]]}
[]
[]
[]
[]
[]
[]
[]
[null,null,"Ⅳ．現状のキャッシュフロー表"]
[null,null,null,null,null,null,null,null,null,null,null,null,null,null,null,null,null,null,null,null,null,null,null,null,null,null,null,null,null,null,null,null,null,null,null,"（金額の単位：万円）",null,null,null,null,null,null,null,null,null,"",null,null,null,null,null,null,null,null,null,"",null,null,null,null,null,null,null,null,null,"",null,null,null,null,null,null,null,null,null,null,null,""]
[null,null,"経過年数",null,null,null,null,"現在",1,2,3,4,5,6,7,8,9,10,11,12,13,14,15,16,17,18,19,20,21,22,23,24,25,26,27,28,29,30,31,32,33,34,35,36,37,38,39,40,41,42,43,44,45,46,47,48,49,50,51,52,53,54,55,56,57,58,59,60,61,62,63,64,65,66,67,68,69,70]
[null,null,"西暦",null,null,null,null,null,{"$f":"IF(TRIM(H11)=\"\",\"\",H11+1)","v":""},{"$f":"IF(TRIM(I11)=\"\",\"\",I11+1)","v":""},{"$f":"IF(TRIM(J11)=\"\",\"\",J11+1)","v":""},{"$f":"IF(TRIM(K11)=\"\",\"\",K11+1)","v":""},{"$f":"IF(TRIM(L11)=\"\",\"\",L11+1)","v":""},{"$f":"IF(TRIM(M11)=\"\",\"\",M11+1)","v":""},{"$f":"IF(TRIM(N11)=\"\",\"\",N11+1)","v":""},{"$f":"IF(TRIM(O11)=\"\",\"\",O11+1)","v":""},{"$f":"IF(TRIM(P11)=\"\",\"\",P11+1)","v":""},{"$f":"IF(TRIM(Q11)=\"\",\"\",Q11+1)","v":""},{"$f":"IF(TRIM(R11)=\"\",\"\",R11+1)","v":""},{"$f":"IF(TRIM(S11)=\"\",\"\",S11+1)","v":""},{"$f":"IF(TRIM(T11)=\"\",\"\",T11+1)","v":""},{"$f":"IF(TRIM(U11)=\"\",\"\",U11+1)","v":""},"","","","","",{"$f":"IF(TRIM(AA11)=\"\",\"\",AA11+1)","v":""},"","","","","","","","",{"$f":"IF(TRIM(AJ11)=\"\",\"\",AJ11+1)","v":""},"",{"$f":"IF(TRIM(AL11)=\"\",\"\",AL11+1)","v":""},{"$f":"IF(TRIM(AM11)=\"\",\"\",AM11+1)","v":""},{"$f":"IF(TRIM(AN11)=\"\",\"\",AN11+1)","v":""},{"$f":"IF(TRIM(AO11)=\"\",\"\",AO11+1)","v":""},{"$f":"IF(TRIM(AP11)=\"\",\"\",AP11+1)","v":""},{"$f":"IF(TRIM(AQ11)=\"\",\"\",AQ11+1)","v":""},{"$f":"IF(TRIM(AR11)=\"\",\"\",AR11+1)","v":""},{"$f":"IF(TRIM(AS11)=\"\",\"\",AS11+1)","v":""},{"$f":"IF(TRIM(AT11)=\"\",\"\",AT11+1)","v":""},{"$f":"IF(TRIM(AU11)=\"\",\"\",AU11+1)","v":""},{"$f":"IF(TRIM(AV11)=\"\",\"\",AV11+1)","v":""},{"$f":"IF(TRIM(AW11)=\"\",\"\",AW11+1)","v":""},{"$f":"IF(TRIM(AX11)=\"\",\"\",AX11+1)","v":""},{"$f":"IF(TRIM(AY11)=\"\",\"\",AY11+1)","v":""},{"$f":"IF(TRIM(AZ11)=\"\",\"\",AZ11+1)","v":""},{"$f":"IF(TRIM(BA11)=\"\",\"\",BA11+1)","v":""},{"$f":"IF(TRIM(BB11)=\"\",\"\",BB11+1)","v":""},{"$f":"IF(TRIM(BC11)=\"\",\"\",BC11+1)","v":""},{"$f":"IF(TRIM(BD11)=\"\",\"\",BD11+1)","v":""},{"$f":"IF(TRIM(BE11)=\"\",\"\",BE11+1)","v":""},{"$f":"IF(TRIM(BF11)=\"\",\"\",BF11+1)","v":""},{"$f":"IF(TRIM(BG11)=\"\",\"\",BG11+1)","v":""},{"$f":"IF(TRIM(BH11)=\"\",\"\",BH11+1)","v":""},{"$f":"IF(TRIM(BI11)=\"\",\"\",BI11+1)","v":""},{"$f":"IF(TRIM(BJ11)=\"\",\"\",BJ11+1)","v":""},{"$f":"IF(TRIM(BK11)=\"\",\"\",BK11+1)","v":""},{"$f":"IF(TRIM(BL11)=\"\",\"\",BL11+1)","v":""},{"$f":"IF(TRIM(BM11)=\"\",\"\",BM11+1)","v":""},{"$f":"IF(TRIM(BN11)=\"\",\"\",BN11+1)","v":""},{"$f":"IF(TRIM(BO11)=\"\",\"\",BO11+1)","v":""},{"$f":"IF(TRIM(BP11)=\"\",\"\",BP11+1)","v":""},{"$f":"IF(TRIM(BQ11)=\"\",\"\",BQ11+1)","v":""},{"$f":"IF(TRIM(BR11)=\"\",\"\",BR11+1)","v":""},{"$f":"IF(TRIM(BS11)=\"\",\"\",BS11+1)","v":""},{"$f":"IF(TRIM(BT11)=\"\",\"\",BT11+1)","v":""},{"$f":"IF(TRIM(BU11)=\"\",\"\",BU11+1)","v":""},{"$f":"IF(TRIM(BV11)=\"\",\"\",BV11+1)","v":""},{"$f":"IF(TRIM(BW11)=\"\",\"\",BW11+1)","v":""},{"$f":"IF(TRIM(BX11)=\"\",\"\",BX11+1)","v":""},{"$f":"IF(TRIM(BY11)=\"\",\"\",BY11+1)","v":""}]
[null,null,"家族構成と年齢",{"$f":"IF(ISBLANK('1-4.プロフィール'!D12),\"\",'1-4.プロフィール'!C12 & \" \" & '1-4.プロフィール'!D12 & \"様\")","v":""},null,null,{"$f":"IF(ISBLANK('1-4.プロフィール'!E12),\"\",'1-4.プロフィール'!E12)","v":""},{"$f":"IF(ISBLANK('1-4.プロフィール'!L12),\"\",'1-4.プロフィール'!L12)","v":""},"","","","","","","","","","","","","",{"$f":"IF(TRIM(U12)=\"\",\"\",U12+1)","v":""},{"$f":"IF(TRIM(V12)=\"\",\"\",V12+1)","v":""},{"$f":"IF(TRIM(W12)=\"\",\"\",W12+1)","v":""},{"$f":"IF(TRIM(X12)=\"\",\"\",X12+1)","v":""},{"$f":"IF(TRIM(Y12)=\"\",\"\",Y12+1)","v":""},{"$f":"IF(TRIM(Z12)=\"\",\"\",Z12+1)","v":""},"",{"$f":"IF(TRIM(AB12)=\"\",\"\",AB12+1)","v":""},{"$f":"IF(TRIM(AC12)=\"\",\"\",AC12+1)","v":""},{"$f":"IF(TRIM(AD12)=\"\",\"\",AD12+1)","v":""},{"$f":"IF(TRIM(AE12)=\"\",\"\",AE12+1)","v":""},{"$f":"IF(TRIM(AF12)=\"\",\"\",AF12+1)","v":""},{"$f":"IF(TRIM(AG12)=\"\",\"\",AG12+1)","v":""},{"$f":"IF(TRIM(AH12)=\"\",\"\",AH12+1)","v":""},{"$f":"IF(TRIM(AI12)=\"\",\"\",AI12+1)","v":""},"","","","","","","","","","","","","","","","","","","","","","","","","","","","","","","","","","","","","","","","","",""]
[null,null,null,{"$f":"IF(ISBLANK('1-4.プロフィール'!D13),\"\",'1-4.プロフィール'!C13 & \" \" & '1-4.プロフィール'!D13 & \"様\")","v":""},null,null,{"$f":"IF(ISBLANK('1-4.プロフィール'!E13),\"\",'1-4.プロフィール'!E13)","v":""},{"$f":"IF(ISBLANK('1-4.プロフィール'!L13),\"\",'1-4.プロフィール'!L13)","v":""},"","","","","","","","","","","","","","","","","","","","","","","","","","","","","","","","","","","","","","","","","","","","","","","","","","","","","","","","","","","","","","","","","","","","","",""]
[null,null,null,{"$f":"IF(ISBLANK('1-4.プロフィール'!D14),\"\",'1-4.プロフィール'!C14 & \" \" & '1-4.プロフィール'!D14 & \"様\")","v":""},null,null,{"$f":"IF(ISBLANK('1-4.プロフィール'!E14),\"\",'1-4.プロフィール'!E14)","v":""},{"$f":"IF(ISBLANK('1-4.プロフィール'!L14),\"\",'1-4.プロフィール'!L14)","v":""},{"$f":"IF(TRIM(H14)=\"\",\"\",H14+1)","v":""},"","","","","","","","","","","","","","","","","","","","","","","","","","","","","","","","","","","","","","","","","","","","","","","","","","","","","","","","","","","","","","","","","","","","",""]
[null,null,null,{"$f":"IF(ISBLANK('1-4.プロフィール'!D15),\"\",'1-4.プロフィール'!C15 & \" \" & '1-4.プロフィール'!D15 & \"様\")","v":""},null,null,{"$f":"IF(ISBLANK('1-4.プロフィール'!E15),\"\",'1-4.プロフィール'!E15)","v":""},{"$f":"IF(ISBLANK('1-4.プロフィール'!L15),\"\",'1-4.プロフィール'!L15)","v":""},{"$f":"IF(TRIM(H15)=\"\",\"\",H15+1)","v":""},"","","","","","","","","","","","","","","","","","","","","","","","","","","","","","","","","","","","","","","","","","","","","","","","","","","","","","","","","","","","","","","","","","","","",""]
[null,null,null,{"$f":"IF(ISBLANK('1-4.プロフィール'!D16),\"\",'1-4.プロフィール'!C16 & \" \" & '1-4.プロフィール'!D16 & \"様\")","v":""},null,null,{"$f":"IF(ISBLANK('1-4.プロフィール'!E16),\"\",'1-4.プロフィール'!E16)","v":""},{"$f":"IF(ISBLANK('1-4.プロフィール'!L16),\"\",'1-4.プロフィール'!L16)","v":""},"","","","","","","","","","","","","","","","","","","","","","","","","","","","","","","","","","","","","","","","","","","","","","","","","","","","","","","","","","","","","","","","","","","","","",""]
[null,null,null,{"$f":"IF(ISBLANK('1-4.プロフィール'!D17),\"\",'1-4.プロフィール'!C17 & \" \" & '1-4.プロフィール'!D17 & \"様\")","v":""},null,null,{"$f":"IF(ISBLANK('1-4.プロフィール'!E17),\"\",'1-4.プロフィール'!E17)","v":""},{"$f":"IF(ISBLANK('1-4.プロフィール'!L17),\"\",'1-4.プロフィール'!L17)","v":""},"","","","","","","","","","","","","","","","","","","","","","","","","","","","","","","","","","","","","","","","","","","","","","","","","","","","","","","","","","","","","","","","","","","","","",""]
[null,null,null,{"$f":"IF(ISBLANK('1-4.プロフィール'!D18),\"\",'1-4.プロフィール'!C18 & \" \" & '1-4.プロフィール'!D18 & \"様\")","v":""},null,null,{"$f":"IF(ISBLANK('1-4.プロフィール'!E18),\"\",'1-4.プロフィール'!E18)","v":""},{"$f":"IF(ISBLANK('1-4.プロフィール'!L18),\"\",'1-4.プロフィール'!L18)","v":""},"","","","","","","","","","","","","","","","","","","","","","","","","","","","","","","","","","","","","","","","","","","","","","","","","","","","","","","","","","","","","","","","","","","","","",""]
[null,null,null,{"$f":"IF(ISBLANK('1-4.プロフィール'!D19),\"\",'1-4.プロフィール'!C19 & \" \" & '1-4.プロフィール'!D19 & \"様\")","v":""},null,null,{"$f":"IF(ISBLANK('1-4.プロフィール'!E19),\"\",'1-4.プロフィール'!E19)","v":""},{"$f":"IF(ISBLANK('1-4.プロフィール'!L19),\"\",'1-4.プロフィール'!L19)","v":""},"","","","","","","","","","","","","","","","","","","","","","","","","","","","","","","","","","","","","","","","","","","","","","","","","","","","","","","","","","","","","","","","","","","","","",""]
[null,null,"収入支出項目",null,"変動率","変動率○年後～"]
[null,null,"収　入",null,0,null,0,null,{"$f":"IF(TRIM(H21)=\"\",0,IF(I10<IF(OR($F21=\"\",$F21=0),99,$F21),H21*(1+$E21),H21*(1+$G21)))","v":0},0,0,0,0,0,0,0,0,0,0,0,0,0,0,0,0,0,0,0,0,0,0,0,0,0,0,0,0,0,0,0,{"$f":"IF(TRIM(AN21)=\"\",0,IF(AO10<IF(OR($F21=\"\",$F21=0),99,$F21),AN21*(1+$E21),AN21*(1+$G21)))","v":0},0,0,0,0,0,0,0,0,0,0,0,0,0,0,0,0,0,0,0,0,0,0,0,0,0,0,0,0,0,0,0,{"$f":"IF(TRIM(BT21)=\"\",0,IF(BU10<IF(OR($F21=\"\",$F21=0),99,$F21),BT21*(1+$E21),BT21*(1+$G21)))","v":0},0,0,0,0,0]
[null,null,null,null,0,null,0,null,{"$f":"IF(TRIM(H22)=\"\",0,IF(I10<IF(OR($F22=\"\",$F22=0),99,$F22),H22*(1+$E22),H22*(1+$G22)))","v":0},0,0,0,0,0,0,0,0,0,0,0,0,0,0,0,0,0,0,0,0,0,0,0,0,0,0,0,0,0,0,0,{"$f":"IF(TRIM(AN22)=\"\",0,IF(AO10<IF(OR($F22=\"\",$F22=0),99,$F22),AN22*(1+$E22),AN22*(1+$G22)))","v":0},0,0,0,0,0,0,0,0,0,0,0,0,0,0,0,0,0,0,0,0,0,0,0,0,0,0,0,0,0,0,0,{"$f":"IF(TRIM(BT22)=\"\",0,IF(BU10<IF(OR($F22=\"\",$F22=0),99,$F22),BT22*(1+$E22),BT22*(1+$G22)))","v":0},0,0,0,0,0]
[null,null,null,null,0,null,0,null,{"$f":"IF(TRIM(H23)=\"\",0,IF(I10<IF(OR($F23=\"\",$F23=0),99,$F23),H23*(1+$E23),H23*(1+$G23)))","v":0},0,0,0,0,0,0,0,0,0,0,0,0,0,0,0,0,0,0,{"$f":"IF(TRIM(AA23)=\"\",0,IF(AB10<IF(OR($F23=\"\",$F23=0),99,$F23),AA23*(1+$E23),AA23*(1+$G23)))","v":0},0,0,0,0,0,0,0,0,0,0,{"$f":"IF(TRIM(AL23)=\"\",0,IF(AM10<IF(OR($F23=\"\",$F23=0),99,$F23),AL23*(1+$E23),AL23*(1+$G23)))","v":0},{"$f":"IF(TRIM(AM23)=\"\",0,IF(AN10<IF(OR($F23=\"\",$F23=0),99,$F23),AM23*(1+$E23),AM23*(1+$G23)))","v":0},{"$f":"IF(TRIM(AN23)=\"\",0,IF(AO10<IF(OR($F23=\"\",$F23=0),99,$F23),AN23*(1+$E23),AN23*(1+$G23)))","v":0},{"$f":"IF(TRIM(AO23)=\"\",0,IF(AP10<IF(OR($F23=\"\",$F23=0),99,$F23),AO23*(1+$E23),AO23*(1+$G23)))","v":0},{"$f":"IF(TRIM(AP23)=\"\",0,IF(AQ10<IF(OR($F23=\"\",$F23=0),99,$F23),AP23*(1+$E23),AP23*(1+$G23)))","v":0},{"$f":"IF(TRIM(AQ23)=\"\",0,IF(AR10<IF(OR($F23=\"\",$F23=0),99,$F23),AQ23*(1+$E23),AQ23*(1+$G23)))","v":0},{"$f":"IF(TRIM(AR23)=\"\",0,IF(AS10<IF(OR($F23=\"\",$F23=0),99,$F23),AR23*(1+$E23),AR23*(1+$G23)))","v":0},{"$f":"IF(TRIM(AS23)=\"\",0,IF(AT10<IF(OR($F23=\"\",$F23=0),99,$F23),AS23*(1+$E23),AS23*(1+$G23)))","v":0},{"$f":"IF(TRIM(AT23)=\"\",0,IF(AU10<IF(OR($F23=\"\",$F23=0),99,$F23),AT23*(1+$E23),AT23*(1+$G23)))","v":0},{"$f":"IF(TRIM(AU23)=\"\",0,IF(AV10<IF(OR($F23=\"\",$F23=0),99,$F23),AU23*(1+$E23),AU23*(1+$G23)))","v":0},{"$f":"IF(TRIM(AV23)=\"\",0,IF(AW10<IF(OR($F23=\"\",$F23=0),99,$F23),AV23*(1+$E23),AV23*(1+$G23)))","v":0},{"$f":"IF(TRIM(AW23)=\"\",0,IF(AX10<IF(OR($F23=\"\",$F23=0),99,$F23),AW23*(1+$E23),AW23*(1+$G23)))","v":0},{"$f":"IF(TRIM(AX23)=\"\",0,IF(AY10<IF(OR($F23=\"\",$F23=0),99,$F23),AX23*(1+$E23),AX23*(1+$G23)))","v":0},{"$f":"IF(TRIM(AY23)=\"\",0,IF(AZ10<IF(OR($F23=\"\",$F23=0),99,$F23),AY23*(1+$E23),AY23*(1+$G23)))","v":0},{"$f":"IF(TRIM(AZ23)=\"\",0,IF(BA10<IF(OR($F23=\"\",$F23=0),99,$F23),AZ23*(1+$E23),AZ23*(1+$G23)))","v":0},{"$f":"IF(TRIM(BA23)=\"\",0,IF(BB10<IF(OR($F23=\"\",$F23=0),99,$F23),BA23*(1+$E23),BA23*(1+$G23)))","v":0},{"$f":"IF(TRIM(BB23)=\"\",0,IF(BC10<IF(OR($F23=\"\",$F23=0),99,$F23),BB23*(1+$E23),BB23*(1+$G23)))","v":0},{"$f":"IF(TRIM(BC23)=\"\",0,IF(BD10<IF(OR($F23=\"\",$F23=0),99,$F23),BC23*(1+$E23),BC23*(1+$G23)))","v":0},{"$f":"IF(TRIM(BD23)=\"\",0,IF(BE10<IF(OR($F23=\"\",$F23=0),99,$F23),BD23*(1+$E23),BD23*(1+$G23)))","v":0},{"$f":"IF(TRIM(BE23)=\"\",0,IF(BF10<IF(OR($F23=\"\",$F23=0),99,$F23),BE23*(1+$E23),BE23*(1+$G23)))","v":0},{"$f":"IF(TRIM(BF23)=\"\",0,IF(BG10<IF(OR($F23=\"\",$F23=0),99,$F23),BF23*(1+$E23),BF23*(1+$G23)))","v":0},{"$f":"IF(TRIM(BG23)=\"\",0,IF(BH10<IF(OR($F23=\"\",$F23=0),99,$F23),BG23*(1+$E23),BG23*(1+$G23)))","v":0},{"$f":"IF(TRIM(BH23)=\"\",0,IF(BI10<IF(OR($F23=\"\",$F23=0),99,$F23),BH23*(1+$E23),BH23*(1+$G23)))","v":0},{"$f":"IF(TRIM(BI23)=\"\",0,IF(BJ10<IF(OR($F23=\"\",$F23=0),99,$F23),BI23*(1+$E23),BI23*(1+$G23)))","v":0},{"$f":"IF(TRIM(BJ23)=\"\",0,IF(BK10<IF(OR($F23=\"\",$F23=0),99,$F23),BJ23*(1+$E23),BJ23*(1+$G23)))","v":0},{"$f":"IF(TRIM(BK23)=\"\",0,IF(BL10<IF(OR($F23=\"\",$F23=0),99,$F23),BK23*(1+$E23),BK23*(1+$G23)))","v":0},{"$f":"IF(TRIM(BL23)=\"\",0,IF(BM10<IF(OR($F23=\"\",$F23=0),99,$F23),BL23*(1+$E23),BL23*(1+$G23)))","v":0},{"$f":"IF(TRIM(BM23)=\"\",0,IF(BN10<IF(OR($F23=\"\",$F23=0),99,$F23),BM23*(1+$E23),BM23*(1+$G23)))","v":0},{"$f":"IF(TRIM(BN23)=\"\",0,IF(BO10<IF(OR($F23=\"\",$F23=0),99,$F23),BN23*(1+$E23),BN23*(1+$G23)))","v":0},{"$f":"IF(TRIM(BO23)=\"\",0,IF(BP10<IF(OR($F23=\"\",$F23=0),99,$F23),BO23*(1+$E23),BO23*(1+$G23)))","v":0},{"$f":"IF(TRIM(BP23)=\"\",0,IF(BQ10<IF(OR($F23=\"\",$F23=0),99,$F23),BP23*(1+$E23),BP23*(1+$G23)))","v":0},{"$f":"IF(TRIM(BQ23)=\"\",0,IF(BR10<IF(OR($F23=\"\",$F23=0),99,$F23),BQ23*(1+$E23),BQ23*(1+$G23)))","v":0},{"$f":"IF(TRIM(BR23)=\"\",0,IF(BS10<IF(OR($F23=\"\",$F23=0),99,$F23),BR23*(1+$E23),BR23*(1+$G23)))","v":0},{"$f":"IF(TRIM(BS23)=\"\",0,IF(BT10<IF(OR($F23=\"\",$F23=0),99,$F23),BS23*(1+$E23),BS23*(1+$G23)))","v":0},{"$f":"IF(TRIM(BT23)=\"\",0,IF(BU10<IF(OR($F23=\"\",$F23=0),99,$F23),BT23*(1+$E23),BT23*(1+$G23)))","v":0},{"$f":"IF(TRIM(BU23)=\"\",0,IF(BV10<IF(OR($F23=\"\",$F23=0),99,$F23),BU23*(1+$E23),BU23*(1+$G23)))","v":0},{"$f":"IF(TRIM(BV23)=\"\",0,IF(BW10<IF(OR($F23=\"\",$F23=0),99,$F23),BV23*(1+$E23),BV23*(1+$G23)))","v":0},{"$f":"IF(TRIM(BW23)=\"\",0,IF(BX10<IF(OR($F23=\"\",$F23=0),99,$F23),BW23*(1+$E23),BW23*(1+$G23)))","v":0},{"$f":"IF(TRIM(BX23)=\"\",0,IF(BY10<IF(OR($F23=\"\",$F23=0),99,$F23),BX23*(1+$E23),BX23*(1+$G23)))","v":0},{"$f":"IF(TRIM(BY23)=\"\",0,IF(BZ10<IF(OR($F23=\"\",$F23=0),99,$F23),BY23*(1+$E23),BY23*(1+$G23)))","v":0}]
[null,null,null,null,0,null,0,null,{"$f":"IF(TRIM(H24)=\"\",0,IF(I10<IF(OR($F24=\"\",$F24=0),99,$F24),H24*(1+$E24),H24*(1+$G24)))","v":0},0,0,0,0,0,0,0,0,0,0,0,0,0,0,0,0,0,0,{"$f":"IF(TRIM(AA24)=\"\",0,IF(AB10<IF(OR($F24=\"\",$F24=0),99,$F24),AA24*(1+$E24),AA24*(1+$G24)))","v":0},0,0,0,0,0,0,0,0,0,0,{"$f":"IF(TRIM(AL24)=\"\",0,IF(AM10<IF(OR($F24=\"\",$F24=0),99,$F24),AL24*(1+$E24),AL24*(1+$G24)))","v":0},{"$f":"IF(TRIM(AM24)=\"\",0,IF(AN10<IF(OR($F24=\"\",$F24=0),99,$F24),AM24*(1+$E24),AM24*(1+$G24)))","v":0},{"$f":"IF(TRIM(AN24)=\"\",0,IF(AO10<IF(OR($F24=\"\",$F24=0),99,$F24),AN24*(1+$E24),AN24*(1+$G24)))","v":0},{"$f":"IF(TRIM(AO24)=\"\",0,IF(AP10<IF(OR($F24=\"\",$F24=0),99,$F24),AO24*(1+$E24),AO24*(1+$G24)))","v":0},{"$f":"IF(TRIM(AP24)=\"\",0,IF(AQ10<IF(OR($F24=\"\",$F24=0),99,$F24),AP24*(1+$E24),AP24*(1+$G24)))","v":0},{"$f":"IF(TRIM(AQ24)=\"\",0,IF(AR10<IF(OR($F24=\"\",$F24=0),99,$F24),AQ24*(1+$E24),AQ24*(1+$G24)))","v":0},{"$f":"IF(TRIM(AR24)=\"\",0,IF(AS10<IF(OR($F24=\"\",$F24=0),99,$F24),AR24*(1+$E24),AR24*(1+$G24)))","v":0},{"$f":"IF(TRIM(AS24)=\"\",0,IF(AT10<IF(OR($F24=\"\",$F24=0),99,$F24),AS24*(1+$E24),AS24*(1+$G24)))","v":0},{"$f":"IF(TRIM(AT24)=\"\",0,IF(AU10<IF(OR($F24=\"\",$F24=0),99,$F24),AT24*(1+$E24),AT24*(1+$G24)))","v":0},{"$f":"IF(TRIM(AU24)=\"\",0,IF(AV10<IF(OR($F24=\"\",$F24=0),99,$F24),AU24*(1+$E24),AU24*(1+$G24)))","v":0},{"$f":"IF(TRIM(AV24)=\"\",0,IF(AW10<IF(OR($F24=\"\",$F24=0),99,$F24),AV24*(1+$E24),AV24*(1+$G24)))","v":0},{"$f":"IF(TRIM(AW24)=\"\",0,IF(AX10<IF(OR($F24=\"\",$F24=0),99,$F24),AW24*(1+$E24),AW24*(1+$G24)))","v":0},{"$f":"IF(TRIM(AX24)=\"\",0,IF(AY10<IF(OR($F24=\"\",$F24=0),99,$F24),AX24*(1+$E24),AX24*(1+$G24)))","v":0},{"$f":"IF(TRIM(AY24)=\"\",0,IF(AZ10<IF(OR($F24=\"\",$F24=0),99,$F24),AY24*(1+$E24),AY24*(1+$G24)))","v":0},{"$f":"IF(TRIM(AZ24)=\"\",0,IF(BA10<IF(OR($F24=\"\",$F24=0),99,$F24),AZ24*(1+$E24),AZ24*(1+$G24)))","v":0},{"$f":"IF(TRIM(BA24)=\"\",0,IF(BB10<IF(OR($F24=\"\",$F24=0),99,$F24),BA24*(1+$E24),BA24*(1+$G24)))","v":0},{"$f":"IF(TRIM(BB24)=\"\",0,IF(BC10<IF(OR($F24=\"\",$F24=0),99,$F24),BB24*(1+$E24),BB24*(1+$G24)))","v":0},{"$f":"IF(TRIM(BC24)=\"\",0,IF(BD10<IF(OR($F24=\"\",$F24=0),99,$F24),BC24*(1+$E24),BC24*(1+$G24)))","v":0},{"$f":"IF(TRIM(BD24)=\"\",0,IF(BE10<IF(OR($F24=\"\",$F24=0),99,$F24),BD24*(1+$E24),BD24*(1+$G24)))","v":0},{"$f":"IF(TRIM(BE24)=\"\",0,IF(BF10<IF(OR($F24=\"\",$F24=0),99,$F24),BE24*(1+$E24),BE24*(1+$G24)))","v":0},{"$f":"IF(TRIM(BF24)=\"\",0,IF(BG10<IF(OR($F24=\"\",$F24=0),99,$F24),BF24*(1+$E24),BF24*(1+$G24)))","v":0},{"$f":"IF(TRIM(BG24)=\"\",0,IF(BH10<IF(OR($F24=\"\",$F24=0),99,$F24),BG24*(1+$E24),BG24*(1+$G24)))","v":0},{"$f":"IF(TRIM(BH24)=\"\",0,IF(BI10<IF(OR($F24=\"\",$F24=0),99,$F24),BH24*(1+$E24),BH24*(1+$G24)))","v":0},{"$f":"IF(TRIM(BI24)=\"\",0,IF(BJ10<IF(OR($F24=\"\",$F24=0),99,$F24),BI24*(1+$E24),BI24*(1+$G24)))","v":0},{"$f":"IF(TRIM(BJ24)=\"\",0,IF(BK10<IF(OR($F24=\"\",$F24=0),99,$F24),BJ24*(1+$E24),BJ24*(1+$G24)))","v":0},{"$f":"IF(TRIM(BK24)=\"\",0,IF(BL10<IF(OR($F24=\"\",$F24=0),99,$F24),BK24*(1+$E24),BK24*(1+$G24)))","v":0},{"$f":"IF(TRIM(BL24)=\"\",0,IF(BM10<IF(OR($F24=\"\",$F24=0),99,$F24),BL24*(1+$E24),BL24*(1+$G24)))","v":0},{"$f":"IF(TRIM(BM24)=\"\",0,IF(BN10<IF(OR($F24=\"\",$F24=0),99,$F24),BM24*(1+$E24),BM24*(1+$G24)))","v":0},{"$f":"IF(TRIM(BN24)=\"\",0,IF(BO10<IF(OR($F24=\"\",$F24=0),99,$F24),BN24*(1+$E24),BN24*(1+$G24)))","v":0},{"$f":"IF(TRIM(BO24)=\"\",0,IF(BP10<IF(OR($F24=\"\",$F24=0),99,$F24),BO24*(1+$E24),BO24*(1+$G24)))","v":0},{"$f":"IF(TRIM(BP24)=\"\",0,IF(BQ10<IF(OR($F24=\"\",$F24=0),99,$F24),BP24*(1+$E24),BP24*(1+$G24)))","v":0},{"$f":"IF(TRIM(BQ24)=\"\",0,IF(BR10<IF(OR($F24=\"\",$F24=0),99,$F24),BQ24*(1+$E24),BQ24*(1+$G24)))","v":0},{"$f":"IF(TRIM(BR24)=\"\",0,IF(BS10<IF(OR($F24=\"\",$F24=0),99,$F24),BR24*(1+$E24),BR24*(1+$G24)))","v":0},{"$f":"IF(TRIM(BS24)=\"\",0,IF(BT10<IF(OR($F24=\"\",$F24=0),99,$F24),BS24*(1+$E24),BS24*(1+$G24)))","v":0},{"$f":"IF(TRIM(BT24)=\"\",0,IF(BU10<IF(OR($F24=\"\",$F24=0),99,$F24),BT24*(1+$E24),BT24*(1+$G24)))","v":0},{"$f":"IF(TRIM(BU24)=\"\",0,IF(BV10<IF(OR($F24=\"\",$F24=0),99,$F24),BU24*(1+$E24),BU24*(1+$G24)))","v":0},{"$f":"IF(TRIM(BV24)=\"\",0,IF(BW10<IF(OR($F24=\"\",$F24=0),99,$F24),BV24*(1+$E24),BV24*(1+$G24)))","v":0},{"$f":"IF(TRIM(BW24)=\"\",0,IF(BX10<IF(OR($F24=\"\",$F24=0),99,$F24),BW24*(1+$E24),BW24*(1+$G24)))","v":0},{"$f":"IF(TRIM(BX24)=\"\",0,IF(BY10<IF(OR($F24=\"\",$F24=0),99,$F24),BX24*(1+$E24),BX24*(1+$G24)))","v":0},{"$f":"IF(TRIM(BY24)=\"\",0,IF(BZ10<IF(OR($F24=\"\",$F24=0),99,$F24),BY24*(1+$E24),BY24*(1+$G24)))","v":0}]
[null,null,null,null,0,null,0,null,{"$f":"IF(TRIM(H25)=\"\",0,IF(I10<IF(OR($F25=\"\",$F25=0),99,$F25),H25*(1+$E25),H25*(1+$G25)))","v":0},0,0,0,0,0,0,0,0,0,0,0,0,0,0,0,0,0,0,{"$f":"IF(TRIM(AA25)=\"\",0,IF(AB10<IF(OR($F25=\"\",$F25=0),99,$F25),AA25*(1+$E25),AA25*(1+$G25)))","v":0},0,0,0,0,0,0,0,0,0,0,{"$f":"IF(TRIM(AL25)=\"\",0,IF(AM10<IF(OR($F25=\"\",$F25=0),99,$F25),AL25*(1+$E25),AL25*(1+$G25)))","v":0},{"$f":"IF(TRIM(AM25)=\"\",0,IF(AN10<IF(OR($F25=\"\",$F25=0),99,$F25),AM25*(1+$E25),AM25*(1+$G25)))","v":0},{"$f":"IF(TRIM(AN25)=\"\",0,IF(AO10<IF(OR($F25=\"\",$F25=0),99,$F25),AN25*(1+$E25),AN25*(1+$G25)))","v":0},{"$f":"IF(TRIM(AO25)=\"\",0,IF(AP10<IF(OR($F25=\"\",$F25=0),99,$F25),AO25*(1+$E25),AO25*(1+$G25)))","v":0},{"$f":"IF(TRIM(AP25)=\"\",0,IF(AQ10<IF(OR($F25=\"\",$F25=0),99,$F25),AP25*(1+$E25),AP25*(1+$G25)))","v":0},{"$f":"IF(TRIM(AQ25)=\"\",0,IF(AR10<IF(OR($F25=\"\",$F25=0),99,$F25),AQ25*(1+$E25),AQ25*(1+$G25)))","v":0},{"$f":"IF(TRIM(AR25)=\"\",0,IF(AS10<IF(OR($F25=\"\",$F25=0),99,$F25),AR25*(1+$E25),AR25*(1+$G25)))","v":0},{"$f":"IF(TRIM(AS25)=\"\",0,IF(AT10<IF(OR($F25=\"\",$F25=0),99,$F25),AS25*(1+$E25),AS25*(1+$G25)))","v":0},{"$f":"IF(TRIM(AT25)=\"\",0,IF(AU10<IF(OR($F25=\"\",$F25=0),99,$F25),AT25*(1+$E25),AT25*(1+$G25)))","v":0},{"$f":"IF(TRIM(AU25)=\"\",0,IF(AV10<IF(OR($F25=\"\",$F25=0),99,$F25),AU25*(1+$E25),AU25*(1+$G25)))","v":0},{"$f":"IF(TRIM(AV25)=\"\",0,IF(AW10<IF(OR($F25=\"\",$F25=0),99,$F25),AV25*(1+$E25),AV25*(1+$G25)))","v":0},{"$f":"IF(TRIM(AW25)=\"\",0,IF(AX10<IF(OR($F25=\"\",$F25=0),99,$F25),AW25*(1+$E25),AW25*(1+$G25)))","v":0},{"$f":"IF(TRIM(AX25)=\"\",0,IF(AY10<IF(OR($F25=\"\",$F25=0),99,$F25),AX25*(1+$E25),AX25*(1+$G25)))","v":0},{"$f":"IF(TRIM(AY25)=\"\",0,IF(AZ10<IF(OR($F25=\"\",$F25=0),99,$F25),AY25*(1+$E25),AY25*(1+$G25)))","v":0},{"$f":"IF(TRIM(AZ25)=\"\",0,IF(BA10<IF(OR($F25=\"\",$F25=0),99,$F25),AZ25*(1+$E25),AZ25*(1+$G25)))","v":0},{"$f":"IF(TRIM(BA25)=\"\",0,IF(BB10<IF(OR($F25=\"\",$F25=0),99,$F25),BA25*(1+$E25),BA25*(1+$G25)))","v":0},{"$f":"IF(TRIM(BB25)=\"\",0,IF(BC10<IF(OR($F25=\"\",$F25=0),99,$F25),BB25*(1+$E25),BB25*(1+$G25)))","v":0},{"$f":"IF(TRIM(BC25)=\"\",0,IF(BD10<IF(OR($F25=\"\",$F25=0),99,$F25),BC25*(1+$E25),BC25*(1+$G25)))","v":0},{"$f":"IF(TRIM(BD25)=\"\",0,IF(BE10<IF(OR($F25=\"\",$F25=0),99,$F25),BD25*(1+$E25),BD25*(1+$G25)))","v":0},{"$f":"IF(TRIM(BE25)=\"\",0,IF(BF10<IF(OR($F25=\"\",$F25=0),99,$F25),BE25*(1+$E25),BE25*(1+$G25)))","v":0},{"$f":"IF(TRIM(BF25)=\"\",0,IF(BG10<IF(OR($F25=\"\",$F25=0),99,$F25),BF25*(1+$E25),BF25*(1+$G25)))","v":0},{"$f":"IF(TRIM(BG25)=\"\",0,IF(BH10<IF(OR($F25=\"\",$F25=0),99,$F25),BG25*(1+$E25),BG25*(1+$G25)))","v":0},{"$f":"IF(TRIM(BH25)=\"\",0,IF(BI10<IF(OR($F25=\"\",$F25=0),99,$F25),BH25*(1+$E25),BH25*(1+$G25)))","v":0},{"$f":"IF(TRIM(BI25)=\"\",0,IF(BJ10<IF(OR($F25=\"\",$F25=0),99,$F25),BI25*(1+$E25),BI25*(1+$G25)))","v":0},{"$f":"IF(TRIM(BJ25)=\"\",0,IF(BK10<IF(OR($F25=\"\",$F25=0),99,$F25),BJ25*(1+$E25),BJ25*(1+$G25)))","v":0},{"$f":"IF(TRIM(BK25)=\"\",0,IF(BL10<IF(OR($F25=\"\",$F25=0),99,$F25),BK25*(1+$E25),BK25*(1+$G25)))","v":0},{"$f":"IF(TRIM(BL25)=\"\",0,IF(BM10<IF(OR($F25=\"\",$F25=0),99,$F25),BL25*(1+$E25),BL25*(1+$G25)))","v":0},{"$f":"IF(TRIM(BM25)=\"\",0,IF(BN10<IF(OR($F25=\"\",$F25=0),99,$F25),BM25*(1+$E25),BM25*(1+$G25)))","v":0},{"$f":"IF(TRIM(BN25)=\"\",0,IF(BO10<IF(OR($F25=\"\",$F25=0),99,$F25),BN25*(1+$E25),BN25*(1+$G25)))","v":0},{"$f":"IF(TRIM(BO25)=\"\",0,IF(BP10<IF(OR($F25=\"\",$F25=0),99,$F25),BO25*(1+$E25),BO25*(1+$G25)))","v":0},{"$f":"IF(TRIM(BP25)=\"\",0,IF(BQ10<IF(OR($F25=\"\",$F25=0),99,$F25),BP25*(1+$E25),BP25*(1+$G25)))","v":0},{"$f":"IF(TRIM(BQ25)=\"\",0,IF(BR10<IF(OR($F25=\"\",$F25=0),99,$F25),BQ25*(1+$E25),BQ25*(1+$G25)))","v":0},{"$f":"IF(TRIM(BR25)=\"\",0,IF(BS10<IF(OR($F25=\"\",$F25=0),99,$F25),BR25*(1+$E25),BR25*(1+$G25)))","v":0},{"$f":"IF(TRIM(BS25)=\"\",0,IF(BT10<IF(OR($F25=\"\",$F25=0),99,$F25),BS25*(1+$E25),BS25*(1+$G25)))","v":0},{"$f":"IF(TRIM(BT25)=\"\",0,IF(BU10<IF(OR($F25=\"\",$F25=0),99,$F25),BT25*(1+$E25),BT25*(1+$G25)))","v":0},{"$f":"IF(TRIM(BU25)=\"\",0,IF(BV10<IF(OR($F25=\"\",$F25=0),99,$F25),BU25*(1+$E25),BU25*(1+$G25)))","v":0},{"$f":"IF(TRIM(BV25)=\"\",0,IF(BW10<IF(OR($F25=\"\",$F25=0),99,$F25),BV25*(1+$E25),BV25*(1+$G25)))","v":0},{"$f":"IF(TRIM(BW25)=\"\",0,IF(BX10<IF(OR($F25=\"\",$F25=0),99,$F25),BW25*(1+$E25),BW25*(1+$G25)))","v":0},{"$f":"IF(TRIM(BX25)=\"\",0,IF(BY10<IF(OR($F25=\"\",$F25=0),99,$F25),BX25*(1+$E25),BX25*(1+$G25)))","v":0},{"$f":"IF(TRIM(BY25)=\"\",0,IF(BZ10<IF(OR($F25=\"\",$F25=0),99,$F25),BY25*(1+$E25),BY25*(1+$G25)))","v":0}]
[null,null,null,null,0,null,0,null,{"$f":"IF(TRIM(H26)=\"\",0,IF(I10<IF(OR($F26=\"\",$F26=0),99,$F26),H26*(1+$E26),H26*(1+$G26)))","v":0},0,0,0,0,0,0,0,0,0,0,0,0,0,0,0,0,0,0,{"$f":"IF(TRIM(AA26)=\"\",0,IF(AB10<IF(OR($F26=\"\",$F26=0),99,$F26),AA26*(1+$E26),AA26*(1+$G26)))","v":0},0,0,0,0,0,0,0,0,0,0,{"$f":"IF(TRIM(AL26)=\"\",0,IF(AM10<IF(OR($F26=\"\",$F26=0),99,$F26),AL26*(1+$E26),AL26*(1+$G26)))","v":0},{"$f":"IF(TRIM(AM26)=\"\",0,IF(AN10<IF(OR($F26=\"\",$F26=0),99,$F26),AM26*(1+$E26),AM26*(1+$G26)))","v":0},{"$f":"IF(TRIM(AN26)=\"\",0,IF(AO10<IF(OR($F26=\"\",$F26=0),99,$F26),AN26*(1+$E26),AN26*(1+$G26)))","v":0},{"$f":"IF(TRIM(AO26)=\"\",0,IF(AP10<IF(OR($F26=\"\",$F26=0),99,$F26),AO26*(1+$E26),AO26*(1+$G26)))","v":0},{"$f":"IF(TRIM(AP26)=\"\",0,IF(AQ10<IF(OR($F26=\"\",$F26=0),99,$F26),AP26*(1+$E26),AP26*(1+$G26)))","v":0},{"$f":"IF(TRIM(AQ26)=\"\",0,IF(AR10<IF(OR($F26=\"\",$F26=0),99,$F26),AQ26*(1+$E26),AQ26*(1+$G26)))","v":0},{"$f":"IF(TRIM(AR26)=\"\",0,IF(AS10<IF(OR($F26=\"\",$F26=0),99,$F26),AR26*(1+$E26),AR26*(1+$G26)))","v":0},{"$f":"IF(TRIM(AS26)=\"\",0,IF(AT10<IF(OR($F26=\"\",$F26=0),99,$F26),AS26*(1+$E26),AS26*(1+$G26)))","v":0},{"$f":"IF(TRIM(AT26)=\"\",0,IF(AU10<IF(OR($F26=\"\",$F26=0),99,$F26),AT26*(1+$E26),AT26*(1+$G26)))","v":0},{"$f":"IF(TRIM(AU26)=\"\",0,IF(AV10<IF(OR($F26=\"\",$F26=0),99,$F26),AU26*(1+$E26),AU26*(1+$G26)))","v":0},{"$f":"IF(TRIM(AV26)=\"\",0,IF(AW10<IF(OR($F26=\"\",$F26=0),99,$F26),AV26*(1+$E26),AV26*(1+$G26)))","v":0},{"$f":"IF(TRIM(AW26)=\"\",0,IF(AX10<IF(OR($F26=\"\",$F26=0),99,$F26),AW26*(1+$E26),AW26*(1+$G26)))","v":0},{"$f":"IF(TRIM(AX26)=\"\",0,IF(AY10<IF(OR($F26=\"\",$F26=0),99,$F26),AX26*(1+$E26),AX26*(1+$G26)))","v":0},{"$f":"IF(TRIM(AY26)=\"\",0,IF(AZ10<IF(OR($F26=\"\",$F26=0),99,$F26),AY26*(1+$E26),AY26*(1+$G26)))","v":0},{"$f":"IF(TRIM(AZ26)=\"\",0,IF(BA10<IF(OR($F26=\"\",$F26=0),99,$F26),AZ26*(1+$E26),AZ26*(1+$G26)))","v":0},{"$f":"IF(TRIM(BA26)=\"\",0,IF(BB10<IF(OR($F26=\"\",$F26=0),99,$F26),BA26*(1+$E26),BA26*(1+$G26)))","v":0},{"$f":"IF(TRIM(BB26)=\"\",0,IF(BC10<IF(OR($F26=\"\",$F26=0),99,$F26),BB26*(1+$E26),BB26*(1+$G26)))","v":0},{"$f":"IF(TRIM(BC26)=\"\",0,IF(BD10<IF(OR($F26=\"\",$F26=0),99,$F26),BC26*(1+$E26),BC26*(1+$G26)))","v":0},{"$f":"IF(TRIM(BD26)=\"\",0,IF(BE10<IF(OR($F26=\"\",$F26=0),99,$F26),BD26*(1+$E26),BD26*(1+$G26)))","v":0},{"$f":"IF(TRIM(BE26)=\"\",0,IF(BF10<IF(OR($F26=\"\",$F26=0),99,$F26),BE26*(1+$E26),BE26*(1+$G26)))","v":0},{"$f":"IF(TRIM(BF26)=\"\",0,IF(BG10<IF(OR($F26=\"\",$F26=0),99,$F26),BF26*(1+$E26),BF26*(1+$G26)))","v":0},{"$f":"IF(TRIM(BG26)=\"\",0,IF(BH10<IF(OR($F26=\"\",$F26=0),99,$F26),BG26*(1+$E26),BG26*(1+$G26)))","v":0},{"$f":"IF(TRIM(BH26)=\"\",0,IF(BI10<IF(OR($F26=\"\",$F26=0),99,$F26),BH26*(1+$E26),BH26*(1+$G26)))","v":0},{"$f":"IF(TRIM(BI26)=\"\",0,IF(BJ10<IF(OR($F26=\"\",$F26=0),99,$F26),BI26*(1+$E26),BI26*(1+$G26)))","v":0},{"$f":"IF(TRIM(BJ26)=\"\",0,IF(BK10<IF(OR($F26=\"\",$F26=0),99,$F26),BJ26*(1+$E26),BJ26*(1+$G26)))","v":0},{"$f":"IF(TRIM(BK26)=\"\",0,IF(BL10<IF(OR($F26=\"\",$F26=0),99,$F26),BK26*(1+$E26),BK26*(1+$G26)))","v":0},{"$f":"IF(TRIM(BL26)=\"\",0,IF(BM10<IF(OR($F26=\"\",$F26=0),99,$F26),BL26*(1+$E26),BL26*(1+$G26)))","v":0},{"$f":"IF(TRIM(BM26)=\"\",0,IF(BN10<IF(OR($F26=\"\",$F26=0),99,$F26),BM26*(1+$E26),BM26*(1+$G26)))","v":0},{"$f":"IF(TRIM(BN26)=\"\",0,IF(BO10<IF(OR($F26=\"\",$F26=0),99,$F26),BN26*(1+$E26),BN26*(1+$G26)))","v":0},{"$f":"IF(TRIM(BO26)=\"\",0,IF(BP10<IF(OR($F26=\"\",$F26=0),99,$F26),BO26*(1+$E26),BO26*(1+$G26)))","v":0},{"$f":"IF(TRIM(BP26)=\"\",0,IF(BQ10<IF(OR($F26=\"\",$F26=0),99,$F26),BP26*(1+$E26),BP26*(1+$G26)))","v":0},{"$f":"IF(TRIM(BQ26)=\"\",0,IF(BR10<IF(OR($F26=\"\",$F26=0),99,$F26),BQ26*(1+$E26),BQ26*(1+$G26)))","v":0},{"$f":"IF(TRIM(BR26)=\"\",0,IF(BS10<IF(OR($F26=\"\",$F26=0),99,$F26),BR26*(1+$E26),BR26*(1+$G26)))","v":0},{"$f":"IF(TRIM(BS26)=\"\",0,IF(BT10<IF(OR($F26=\"\",$F26=0),99,$F26),BS26*(1+$E26),BS26*(1+$G26)))","v":0},{"$f":"IF(TRIM(BT26)=\"\",0,IF(BU10<IF(OR($F26=\"\",$F26=0),99,$F26),BT26*(1+$E26),BT26*(1+$G26)))","v":0},{"$f":"IF(TRIM(BU26)=\"\",0,IF(BV10<IF(OR($F26=\"\",$F26=0),99,$F26),BU26*(1+$E26),BU26*(1+$G26)))","v":0},{"$f":"IF(TRIM(BV26)=\"\",0,IF(BW10<IF(OR($F26=\"\",$F26=0),99,$F26),BV26*(1+$E26),BV26*(1+$G26)))","v":0},{"$f":"IF(TRIM(BW26)=\"\",0,IF(BX10<IF(OR($F26=\"\",$F26=0),99,$F26),BW26*(1+$E26),BW26*(1+$G26)))","v":0},{"$f":"IF(TRIM(BX26)=\"\",0,IF(BY10<IF(OR($F26=\"\",$F26=0),99,$F26),BX26*(1+$E26),BX26*(1+$G26)))","v":0},{"$f":"IF(TRIM(BY26)=\"\",0,IF(BZ10<IF(OR($F26=\"\",$F26=0),99,$F26),BY26*(1+$E26),BY26*(1+$G26)))","v":0}]
[null,null,null,null,0,null,0,null,{"$f":"IF(TRIM(H27)=\"\",0,IF(I10<IF(OR($F27=\"\",$F27=0),99,$F27),H27*(1+$E27),H27*(1+$G27)))","v":0},0,0,0,0,0,0,0,0,0,0,0,0,0,0,0,0,0,0,{"$f":"IF(TRIM(AA27)=\"\",0,IF(AB10<IF(OR($F27=\"\",$F27=0),99,$F27),AA27*(1+$E27),AA27*(1+$G27)))","v":0},0,0,0,0,0,0,0,0,0,0,{"$f":"IF(TRIM(AL27)=\"\",0,IF(AM10<IF(OR($F27=\"\",$F27=0),99,$F27),AL27*(1+$E27),AL27*(1+$G27)))","v":0},{"$f":"IF(TRIM(AM27)=\"\",0,IF(AN10<IF(OR($F27=\"\",$F27=0),99,$F27),AM27*(1+$E27),AM27*(1+$G27)))","v":0},{"$f":"IF(TRIM(AN27)=\"\",0,IF(AO10<IF(OR($F27=\"\",$F27=0),99,$F27),AN27*(1+$E27),AN27*(1+$G27)))","v":0},{"$f":"IF(TRIM(AO27)=\"\",0,IF(AP10<IF(OR($F27=\"\",$F27=0),99,$F27),AO27*(1+$E27),AO27*(1+$G27)))","v":0},{"$f":"IF(TRIM(AP27)=\"\",0,IF(AQ10<IF(OR($F27=\"\",$F27=0),99,$F27),AP27*(1+$E27),AP27*(1+$G27)))","v":0},{"$f":"IF(TRIM(AQ27)=\"\",0,IF(AR10<IF(OR($F27=\"\",$F27=0),99,$F27),AQ27*(1+$E27),AQ27*(1+$G27)))","v":0},{"$f":"IF(TRIM(AR27)=\"\",0,IF(AS10<IF(OR($F27=\"\",$F27=0),99,$F27),AR27*(1+$E27),AR27*(1+$G27)))","v":0},{"$f":"IF(TRIM(AS27)=\"\",0,IF(AT10<IF(OR($F27=\"\",$F27=0),99,$F27),AS27*(1+$E27),AS27*(1+$G27)))","v":0},{"$f":"IF(TRIM(AT27)=\"\",0,IF(AU10<IF(OR($F27=\"\",$F27=0),99,$F27),AT27*(1+$E27),AT27*(1+$G27)))","v":0},{"$f":"IF(TRIM(AU27)=\"\",0,IF(AV10<IF(OR($F27=\"\",$F27=0),99,$F27),AU27*(1+$E27),AU27*(1+$G27)))","v":0},{"$f":"IF(TRIM(AV27)=\"\",0,IF(AW10<IF(OR($F27=\"\",$F27=0),99,$F27),AV27*(1+$E27),AV27*(1+$G27)))","v":0},{"$f":"IF(TRIM(AW27)=\"\",0,IF(AX10<IF(OR($F27=\"\",$F27=0),99,$F27),AW27*(1+$E27),AW27*(1+$G27)))","v":0},{"$f":"IF(TRIM(AX27)=\"\",0,IF(AY10<IF(OR($F27=\"\",$F27=0),99,$F27),AX27*(1+$E27),AX27*(1+$G27)))","v":0},{"$f":"IF(TRIM(AY27)=\"\",0,IF(AZ10<IF(OR($F27=\"\",$F27=0),99,$F27),AY27*(1+$E27),AY27*(1+$G27)))","v":0},{"$f":"IF(TRIM(AZ27)=\"\",0,IF(BA10<IF(OR($F27=\"\",$F27=0),99,$F27),AZ27*(1+$E27),AZ27*(1+$G27)))","v":0},{"$f":"IF(TRIM(BA27)=\"\",0,IF(BB10<IF(OR($F27=\"\",$F27=0),99,$F27),BA27*(1+$E27),BA27*(1+$G27)))","v":0},{"$f":"IF(TRIM(BB27)=\"\",0,IF(BC10<IF(OR($F27=\"\",$F27=0),99,$F27),BB27*(1+$E27),BB27*(1+$G27)))","v":0},{"$f":"IF(TRIM(BC27)=\"\",0,IF(BD10<IF(OR($F27=\"\",$F27=0),99,$F27),BC27*(1+$E27),BC27*(1+$G27)))","v":0},{"$f":"IF(TRIM(BD27)=\"\",0,IF(BE10<IF(OR($F27=\"\",$F27=0),99,$F27),BD27*(1+$E27),BD27*(1+$G27)))","v":0},{"$f":"IF(TRIM(BE27)=\"\",0,IF(BF10<IF(OR($F27=\"\",$F27=0),99,$F27),BE27*(1+$E27),BE27*(1+$G27)))","v":0},{"$f":"IF(TRIM(BF27)=\"\",0,IF(BG10<IF(OR($F27=\"\",$F27=0),99,$F27),BF27*(1+$E27),BF27*(1+$G27)))","v":0},{"$f":"IF(TRIM(BG27)=\"\",0,IF(BH10<IF(OR($F27=\"\",$F27=0),99,$F27),BG27*(1+$E27),BG27*(1+$G27)))","v":0},{"$f":"IF(TRIM(BH27)=\"\",0,IF(BI10<IF(OR($F27=\"\",$F27=0),99,$F27),BH27*(1+$E27),BH27*(1+$G27)))","v":0},{"$f":"IF(TRIM(BI27)=\"\",0,IF(BJ10<IF(OR($F27=\"\",$F27=0),99,$F27),BI27*(1+$E27),BI27*(1+$G27)))","v":0},{"$f":"IF(TRIM(BJ27)=\"\",0,IF(BK10<IF(OR($F27=\"\",$F27=0),99,$F27),BJ27*(1+$E27),BJ27*(1+$G27)))","v":0},{"$f":"IF(TRIM(BK27)=\"\",0,IF(BL10<IF(OR($F27=\"\",$F27=0),99,$F27),BK27*(1+$E27),BK27*(1+$G27)))","v":0},{"$f":"IF(TRIM(BL27)=\"\",0,IF(BM10<IF(OR($F27=\"\",$F27=0),99,$F27),BL27*(1+$E27),BL27*(1+$G27)))","v":0},{"$f":"IF(TRIM(BM27)=\"\",0,IF(BN10<IF(OR($F27=\"\",$F27=0),99,$F27),BM27*(1+$E27),BM27*(1+$G27)))","v":0},{"$f":"IF(TRIM(BN27)=\"\",0,IF(BO10<IF(OR($F27=\"\",$F27=0),99,$F27),BN27*(1+$E27),BN27*(1+$G27)))","v":0},{"$f":"IF(TRIM(BO27)=\"\",0,IF(BP10<IF(OR($F27=\"\",$F27=0),99,$F27),BO27*(1+$E27),BO27*(1+$G27)))","v":0},{"$f":"IF(TRIM(BP27)=\"\",0,IF(BQ10<IF(OR($F27=\"\",$F27=0),99,$F27),BP27*(1+$E27),BP27*(1+$G27)))","v":0},{"$f":"IF(TRIM(BQ27)=\"\",0,IF(BR10<IF(OR($F27=\"\",$F27=0),99,$F27),BQ27*(1+$E27),BQ27*(1+$G27)))","v":0},{"$f":"IF(TRIM(BR27)=\"\",0,IF(BS10<IF(OR($F27=\"\",$F27=0),99,$F27),BR27*(1+$E27),BR27*(1+$G27)))","v":0},{"$f":"IF(TRIM(BS27)=\"\",0,IF(BT10<IF(OR($F27=\"\",$F27=0),99,$F27),BS27*(1+$E27),BS27*(1+$G27)))","v":0},{"$f":"IF(TRIM(BT27)=\"\",0,IF(BU10<IF(OR($F27=\"\",$F27=0),99,$F27),BT27*(1+$E27),BT27*(1+$G27)))","v":0},{"$f":"IF(TRIM(BU27)=\"\",0,IF(BV10<IF(OR($F27=\"\",$F27=0),99,$F27),BU27*(1+$E27),BU27*(1+$G27)))","v":0},{"$f":"IF(TRIM(BV27)=\"\",0,IF(BW10<IF(OR($F27=\"\",$F27=0),99,$F27),BV27*(1+$E27),BV27*(1+$G27)))","v":0},{"$f":"IF(TRIM(BW27)=\"\",0,IF(BX10<IF(OR($F27=\"\",$F27=0),99,$F27),BW27*(1+$E27),BW27*(1+$G27)))","v":0},{"$f":"IF(TRIM(BX27)=\"\",0,IF(BY10<IF(OR($F27=\"\",$F27=0),99,$F27),BX27*(1+$E27),BX27*(1+$G27)))","v":0},{"$f":"IF(TRIM(BY27)=\"\",0,IF(BZ10<IF(OR($F27=\"\",$F27=0),99,$F27),BY27*(1+$E27),BY27*(1+$G27)))","v":0}]
[null,null,null,null,0,null,0,null,{"$f":"IF(TRIM(H28)=\"\",0,IF(I10<IF(OR(F28=\"\",F28=0),99,F28),H28*(1+$E28),H28*(1+$G28)))","v":0},{"$f":"IF(TRIM(I28)=\"\",0,IF(J10<IF(OR(F28=\"\",F28=0),99,F28),I28*(1+$E28),I28*(1+$G28)))","v":0},{"$f":"IF(TRIM(J28)=\"\",0,IF(K10<IF(OR(F28=\"\",F28=0),99,F28),J28*(1+$E28),J28*(1+$G28)))","v":0},{"$f":"IF(TRIM(K28)=\"\",0,IF(L10<IF(OR(F28=\"\",F28=0),99,F28),K28*(1+$E28),K28*(1+$G28)))","v":0},{"$f":"IF(TRIM(L28)=\"\",0,IF(M10<IF(OR(F28=\"\",F28=0),99,F28),L28*(1+$E28),L28*(1+$G28)))","v":0},{"$f":"IF(TRIM(M28)=\"\",0,IF(N10<IF(OR(F28=\"\",F28=0),99,F28),M28*(1+$E28),M28*(1+$G28)))","v":0},{"$f":"IF(TRIM(N28)=\"\",0,IF(O10<IF(OR(F28=\"\",F28=0),99,F28),N28*(1+$E28),N28*(1+$G28)))","v":0},{"$f":"IF(TRIM(O28)=\"\",0,IF(P10<IF(OR(F28=\"\",F28=0),99,F28),O28*(1+$E28),O28*(1+$G28)))","v":0},{"$f":"IF(TRIM(P28)=\"\",0,IF(Q10<IF(OR(F28=\"\",F28=0),99,F28),P28*(1+$E28),P28*(1+$G28)))","v":0},{"$f":"IF(TRIM(Q28)=\"\",0,IF(R10<IF(OR(F28=\"\",F28=0),99,F28),Q28*(1+$E28),Q28*(1+$G28)))","v":0},{"$f":"IF(TRIM(R28)=\"\",0,IF(S10<IF(OR(F28=\"\",F28=0),99,F28),R28*(1+$E28),R28*(1+$G28)))","v":0},{"$f":"IF(TRIM(S28)=\"\",0,IF(T10<IF(OR(F28=\"\",F28=0),99,F28),S28*(1+$E28),S28*(1+$G28)))","v":0},{"$f":"IF(TRIM(T28)=\"\",0,IF(U10<IF(OR(F28=\"\",F28=0),99,F28),T28*(1+$E28),T28*(1+$G28)))","v":0},{"$f":"IF(TRIM(U28)=\"\",0,IF(V10<IF(OR(F28=\"\",F28=0),99,F28),U28*(1+$E28),U28*(1+$G28)))","v":0},{"$f":"IF(TRIM(V28)=\"\",0,IF(W10<IF(OR(F28=\"\",F28=0),99,F28),V28*(1+$E28),V28*(1+$G28)))","v":0},{"$f":"IF(TRIM(W28)=\"\",0,IF(X10<IF(OR(F28=\"\",F28=0),99,F28),W28*(1+$E28),W28*(1+$G28)))","v":0},{"$f":"IF(TRIM(X28)=\"\",0,IF(Y10<IF(OR(F28=\"\",F28=0),99,F28),X28*(1+$E28),X28*(1+$G28)))","v":0},{"$f":"IF(TRIM(Y28)=\"\",0,IF(Z10<IF(OR(F28=\"\",F28=0),99,F28),Y28*(1+$E28),Y28*(1+$G28)))","v":0},{"$f":"IF(TRIM(Z28)=\"\",0,IF(AA10<IF(OR(F28=\"\",F28=0),99,F28),Z28*(1+$E28),Z28*(1+$G28)))","v":0},{"$f":"IF(TRIM(AA28)=\"\",0,IF(AB10<IF(OR(F28=\"\",F28=0),99,F28),AA28*(1+$E28),AA28*(1+$G28)))","v":0},{"$f":"IF(TRIM(AB28)=\"\",0,IF(AC10<IF(OR(F28=\"\",F28=0),99,F28),AB28*(1+$E28),AB28*(1+$G28)))","v":0},{"$f":"IF(TRIM(AC28)=\"\",0,IF(AD10<IF(OR(F28=\"\",F28=0),99,F28),AC28*(1+$E28),AC28*(1+$G28)))","v":0},{"$f":"IF(TRIM(AD28)=\"\",0,IF(AE10<IF(OR(F28=\"\",F28=0),99,F28),AD28*(1+$E28),AD28*(1+$G28)))","v":0},{"$f":"IF(TRIM(AE28)=\"\",0,IF(AF10<IF(OR(F28=\"\",F28=0),99,F28),AE28*(1+$E28),AE28*(1+$G28)))","v":0},{"$f":"IF(TRIM(AF28)=\"\",0,IF(AG10<IF(OR(F28=\"\",F28=0),99,F28),AF28*(1+$E28),AF28*(1+$G28)))","v":0},{"$f":"IF(TRIM(AG28)=\"\",0,IF(AH10<IF(OR(F28=\"\",F28=0),99,F28),AG28*(1+$E28),AG28*(1+$G28)))","v":0},{"$f":"IF(TRIM(AH28)=\"\",0,IF(AI10<IF(OR(F28=\"\",F28=0),99,F28),AH28*(1+$E28),AH28*(1+$G28)))","v":0},{"$f":"IF(TRIM(AI28)=\"\",0,IF(AJ10<IF(OR(F28=\"\",F28=0),99,F28),AI28*(1+$E28),AI28*(1+$G28)))","v":0},{"$f":"IF(TRIM(AJ28)=\"\",0,IF(AK10<IF(OR(F28=\"\",F28=0),99,F28),AJ28*(1+$E28),AJ28*(1+$G28)))","v":0},{"$f":"IF(TRIM(AK28)=\"\",0,IF(AL10<IF(OR(F28=\"\",F28=0),99,F28),AK28*(1+$E28),AK28*(1+$G28)))","v":0},{"$f":"IF(TRIM(AL28)=\"\",0,IF(AM10<IF(OR(P28=\"\",P28=0),99,P28),AL28*(1+$E28),AL28*(1+$G28)))","v":0},{"$f":"IF(TRIM(AM28)=\"\",0,IF(AN10<IF(OR(P28=\"\",P28=0),99,P28),AM28*(1+$E28),AM28*(1+$G28)))","v":0},{"$f":"IF(TRIM(AN28)=\"\",0,IF(AO10<IF(OR(P28=\"\",P28=0),99,P28),AN28*(1+$E28),AN28*(1+$G28)))","v":0},{"$f":"IF(TRIM(AO28)=\"\",0,IF(AP10<IF(OR(P28=\"\",P28=0),99,P28),AO28*(1+$E28),AO28*(1+$G28)))","v":0},{"$f":"IF(TRIM(AP28)=\"\",0,IF(AQ10<IF(OR(P28=\"\",P28=0),99,P28),AP28*(1+$E28),AP28*(1+$G28)))","v":0},{"$f":"IF(TRIM(AQ28)=\"\",0,IF(AR10<IF(OR(P28=\"\",P28=0),99,P28),AQ28*(1+$E28),AQ28*(1+$G28)))","v":0},{"$f":"IF(TRIM(AR28)=\"\",0,IF(AS10<IF(OR(P28=\"\",P28=0),99,P28),AR28*(1+$E28),AR28*(1+$G28)))","v":0},{"$f":"IF(TRIM(AS28)=\"\",0,IF(AT10<IF(OR(P28=\"\",P28=0),99,P28),AS28*(1+$E28),AS28*(1+$G28)))","v":0},{"$f":"IF(TRIM(AT28)=\"\",0,IF(AU10<IF(OR(P28=\"\",P28=0),99,P28),AT28*(1+$E28),AT28*(1+$G28)))","v":0},{"$f":"IF(TRIM(AU28)=\"\",0,IF(AV10<IF(OR(P28=\"\",P28=0),99,P28),AU28*(1+$E28),AU28*(1+$G28)))","v":0},{"$f":"IF(TRIM(AV28)=\"\",0,IF(AW10<IF(OR(Z28=\"\",Z28=0),99,Z28),AV28*(1+$E28),AV28*(1+$G28)))","v":0},{"$f":"IF(TRIM(AW28)=\"\",0,IF(AX10<IF(OR(Z28=\"\",Z28=0),99,Z28),AW28*(1+$E28),AW28*(1+$G28)))","v":0},{"$f":"IF(TRIM(AX28)=\"\",0,IF(AY10<IF(OR(Z28=\"\",Z28=0),99,Z28),AX28*(1+$E28),AX28*(1+$G28)))","v":0},{"$f":"IF(TRIM(AY28)=\"\",0,IF(AZ10<IF(OR(Z28=\"\",Z28=0),99,Z28),AY28*(1+$E28),AY28*(1+$G28)))","v":0},{"$f":"IF(TRIM(AZ28)=\"\",0,IF(BA10<IF(OR(Z28=\"\",Z28=0),99,Z28),AZ28*(1+$E28),AZ28*(1+$G28)))","v":0},{"$f":"IF(TRIM(BA28)=\"\",0,IF(BB10<IF(OR(Z28=\"\",Z28=0),99,Z28),BA28*(1+$E28),BA28*(1+$G28)))","v":0},{"$f":"IF(TRIM(BB28)=\"\",0,IF(BC10<IF(OR(Z28=\"\",Z28=0),99,Z28),BB28*(1+$E28),BB28*(1+$G28)))","v":0},{"$f":"IF(TRIM(BC28)=\"\",0,IF(BD10<IF(OR(Z28=\"\",Z28=0),99,Z28),BC28*(1+$E28),BC28*(1+$G28)))","v":0},{"$f":"IF(TRIM(BD28)=\"\",0,IF(BE10<IF(OR(Z28=\"\",Z28=0),99,Z28),BD28*(1+$E28),BD28*(1+$G28)))","v":0},{"$f":"IF(TRIM(BE28)=\"\",0,IF(BF10<IF(OR(Z28=\"\",Z28=0),99,Z28),BE28*(1+$E28),BE28*(1+$G28)))","v":0},{"$f":"IF(TRIM(BF28)=\"\",0,IF(BG10<IF(OR(AJ28=\"\",AJ28=0),99,AJ28),BF28*(1+$E28),BF28*(1+$G28)))","v":0},{"$f":"IF(TRIM(BG28)=\"\",0,IF(BH10<IF(OR(AJ28=\"\",AJ28=0),99,AJ28),BG28*(1+$E28),BG28*(1+$G28)))","v":0},{"$f":"IF(TRIM(BH28)=\"\",0,IF(BI10<IF(OR(AJ28=\"\",AJ28=0),99,AJ28),BH28*(1+$E28),BH28*(1+$G28)))","v":0},{"$f":"IF(TRIM(BI28)=\"\",0,IF(BJ10<IF(OR(AJ28=\"\",AJ28=0),99,AJ28),BI28*(1+$E28),BI28*(1+$G28)))","v":0},{"$f":"IF(TRIM(BJ28)=\"\",0,IF(BK10<IF(OR(AJ28=\"\",AJ28=0),99,AJ28),BJ28*(1+$E28),BJ28*(1+$G28)))","v":0},{"$f":"IF(TRIM(BK28)=\"\",0,IF(BL10<IF(OR(AJ28=\"\",AJ28=0),99,AJ28),BK28*(1+$E28),BK28*(1+$G28)))","v":0},{"$f":"IF(TRIM(BL28)=\"\",0,IF(BM10<IF(OR(AJ28=\"\",AJ28=0),99,AJ28),BL28*(1+$E28),BL28*(1+$G28)))","v":0},{"$f":"IF(TRIM(BM28)=\"\",0,IF(BN10<IF(OR(AJ28=\"\",AJ28=0),99,AJ28),BM28*(1+$E28),BM28*(1+$G28)))","v":0},{"$f":"IF(TRIM(BN28)=\"\",0,IF(BO10<IF(OR(AJ28=\"\",AJ28=0),99,AJ28),BN28*(1+$E28),BN28*(1+$G28)))","v":0},{"$f":"IF(TRIM(BO28)=\"\",0,IF(BP10<IF(OR(AJ28=\"\",AJ28=0),99,AJ28),BO28*(1+$E28),BO28*(1+$G28)))","v":0},{"$f":"IF(TRIM(BP28)=\"\",0,IF(BQ10<IF(OR(AT28=\"\",AT28=0),99,AT28),BP28*(1+$E28),BP28*(1+$G28)))","v":0},{"$f":"IF(TRIM(BQ28)=\"\",0,IF(BR10<IF(OR(AT28=\"\",AT28=0),99,AT28),BQ28*(1+$E28),BQ28*(1+$G28)))","v":0},{"$f":"IF(TRIM(BR28)=\"\",0,IF(BS10<IF(OR(AT28=\"\",AT28=0),99,AT28),BR28*(1+$E28),BR28*(1+$G28)))","v":0},{"$f":"IF(TRIM(BS28)=\"\",0,IF(BT10<IF(OR(AT28=\"\",AT28=0),99,AT28),BS28*(1+$E28),BS28*(1+$G28)))","v":0},{"$f":"IF(TRIM(BT28)=\"\",0,IF(BU10<IF(OR(AT28=\"\",AT28=0),99,AT28),BT28*(1+$E28),BT28*(1+$G28)))","v":0},{"$f":"IF(TRIM(BU28)=\"\",0,IF(BV10<IF(OR(AT28=\"\",AT28=0),99,AT28),BU28*(1+$E28),BU28*(1+$G28)))","v":0},{"$f":"IF(TRIM(BV28)=\"\",0,IF(BW10<IF(OR(AT28=\"\",AT28=0),99,AT28),BV28*(1+$E28),BV28*(1+$G28)))","v":0},{"$f":"IF(TRIM(BW28)=\"\",0,IF(BX10<IF(OR(AT28=\"\",AT28=0),99,AT28),BW28*(1+$E28),BW28*(1+$G28)))","v":0},{"$f":"IF(TRIM(BX28)=\"\",0,IF(BY10<IF(OR(AT28=\"\",AT28=0),99,AT28),BX28*(1+$E28),BX28*(1+$G28)))","v":0},{"$f":"IF(TRIM(BY28)=\"\",0,IF(BZ10<IF(OR(AT28=\"\",AT28=0),99,AT28),BY28*(1+$E28),BY28*(1+$G28)))","v":0}]
[null,null,null,"その他一時的収入"]
[null,null,null,"収入合計",null,null,null,{"$f":"SUM(H21:H29)","v":0},{"$f":"SUM(I21:I29)","v":0},0,0,0,0,0,0,0,0,0,0,0,0,0,0,0,0,0,0,0,0,0,0,0,0,0,0,0,0,{"$f":"SUM(AL21:AL29)","v":0},{"$f":"SUM(AM21:AM29)","v":0},0,0,0,0,0,0,0,0,{"$f":"SUM(AV21:AV29)","v":0},{"$f":"SUM(AW21:AW29)","v":0},0,0,0,0,0,0,0,0,{"$f":"SUM(BF21:BF29)","v":0},{"$f":"SUM(BG21:BG29)","v":0},0,0,0,0,0,0,0,0,{"$f":"SUM(BP21:BP29)","v":0},{"$f":"SUM(BQ21:BQ29)","v":0},0,0,0,0,0,0,0,0,{"$f":"SUM(BZ21:BZ29)","v":0}]
[null,null,"支　出",null,0,null,0,null,{"$f":"IF(TRIM(H31)=\"\",0,IF(I10<IF(OR($F31=\"\",$F31=0),99,$F31),H31*(1+$E31),H31*(1+$G31)))","v":0},0,0,0,0,0,0,0,0,0,0,0,0,0,0,0,0,0,0,{"$f":"IF(TRIM(AA31)=\"\",0,IF(AB10<IF(OR($F31=\"\",$F31=0),99,$F31),AA31*(1+$E31),AA31*(1+$G31)))","v":0},0,0,0,0,0,0,0,0,0,0,{"$f":"IF(TRIM(AL31)=\"\",0,IF(AM10<IF(OR($F31=\"\",$F31=0),99,$F31),AL31*(1+$E31),AL31*(1+$G31)))","v":0},{"$f":"IF(TRIM(AM31)=\"\",0,IF(AN10<IF(OR($F31=\"\",$F31=0),99,$F31),AM31*(1+$E31),AM31*(1+$G31)))","v":0},{"$f":"IF(TRIM(AN31)=\"\",0,IF(AO10<IF(OR($F31=\"\",$F31=0),99,$F31),AN31*(1+$E31),AN31*(1+$G31)))","v":0},{"$f":"IF(TRIM(AO31)=\"\",0,IF(AP10<IF(OR($F31=\"\",$F31=0),99,$F31),AO31*(1+$E31),AO31*(1+$G31)))","v":0},{"$f":"IF(TRIM(AP31)=\"\",0,IF(AQ10<IF(OR($F31=\"\",$F31=0),99,$F31),AP31*(1+$E31),AP31*(1+$G31)))","v":0},{"$f":"IF(TRIM(AQ31)=\"\",0,IF(AR10<IF(OR($F31=\"\",$F31=0),99,$F31),AQ31*(1+$E31),AQ31*(1+$G31)))","v":0},{"$f":"IF(TRIM(AR31)=\"\",0,IF(AS10<IF(OR($F31=\"\",$F31=0),99,$F31),AR31*(1+$E31),AR31*(1+$G31)))","v":0},{"$f":"IF(TRIM(AS31)=\"\",0,IF(AT10<IF(OR($F31=\"\",$F31=0),99,$F31),AS31*(1+$E31),AS31*(1+$G31)))","v":0},{"$f":"IF(TRIM(AT31)=\"\",0,IF(AU10<IF(OR($F31=\"\",$F31=0),99,$F31),AT31*(1+$E31),AT31*(1+$G31)))","v":0},{"$f":"IF(TRIM(AU31)=\"\",0,IF(AV10<IF(OR($F31=\"\",$F31=0),99,$F31),AU31*(1+$E31),AU31*(1+$G31)))","v":0},{"$f":"IF(TRIM(AV31)=\"\",0,IF(AW10<IF(OR($F31=\"\",$F31=0),99,$F31),AV31*(1+$E31),AV31*(1+$G31)))","v":0},{"$f":"IF(TRIM(AW31)=\"\",0,IF(AX10<IF(OR($F31=\"\",$F31=0),99,$F31),AW31*(1+$E31),AW31*(1+$G31)))","v":0},{"$f":"IF(TRIM(AX31)=\"\",0,IF(AY10<IF(OR($F31=\"\",$F31=0),99,$F31),AX31*(1+$E31),AX31*(1+$G31)))","v":0},{"$f":"IF(TRIM(AY31)=\"\",0,IF(AZ10<IF(OR($F31=\"\",$F31=0),99,$F31),AY31*(1+$E31),AY31*(1+$G31)))","v":0},{"$f":"IF(TRIM(AZ31)=\"\",0,IF(BA10<IF(OR($F31=\"\",$F31=0),99,$F31),AZ31*(1+$E31),AZ31*(1+$G31)))","v":0},{"$f":"IF(TRIM(BA31)=\"\",0,IF(BB10<IF(OR($F31=\"\",$F31=0),99,$F31),BA31*(1+$E31),BA31*(1+$G31)))","v":0},{"$f":"IF(TRIM(BB31)=\"\",0,IF(BC10<IF(OR($F31=\"\",$F31=0),99,$F31),BB31*(1+$E31),BB31*(1+$G31)))","v":0},{"$f":"IF(TRIM(BC31)=\"\",0,IF(BD10<IF(OR($F31=\"\",$F31=0),99,$F31),BC31*(1+$E31),BC31*(1+$G31)))","v":0},{"$f":"IF(TRIM(BD31)=\"\",0,IF(BE10<IF(OR($F31=\"\",$F31=0),99,$F31),BD31*(1+$E31),BD31*(1+$G31)))","v":0},{"$f":"IF(TRIM(BE31)=\"\",0,IF(BF10<IF(OR($F31=\"\",$F31=0),99,$F31),BE31*(1+$E31),BE31*(1+$G31)))","v":0},{"$f":"IF(TRIM(BF31)=\"\",0,IF(BG10<IF(OR($F31=\"\",$F31=0),99,$F31),BF31*(1+$E31),BF31*(1+$G31)))","v":0},{"$f":"IF(TRIM(BG31)=\"\",0,IF(BH10<IF(OR($F31=\"\",$F31=0),99,$F31),BG31*(1+$E31),BG31*(1+$G31)))","v":0},{"$f":"IF(TRIM(BH31)=\"\",0,IF(BI10<IF(OR($F31=\"\",$F31=0),99,$F31),BH31*(1+$E31),BH31*(1+$G31)))","v":0},{"$f":"IF(TRIM(BI31)=\"\",0,IF(BJ10<IF(OR($F31=\"\",$F31=0),99,$F31),BI31*(1+$E31),BI31*(1+$G31)))","v":0},{"$f":"IF(TRIM(BJ31)=\"\",0,IF(BK10<IF(OR($F31=\"\",$F31=0),99,$F31),BJ31*(1+$E31),BJ31*(1+$G31)))","v":0},{"$f":"IF(TRIM(BK31)=\"\",0,IF(BL10<IF(OR($F31=\"\",$F31=0),99,$F31),BK31*(1+$E31),BK31*(1+$G31)))","v":0},{"$f":"IF(TRIM(BL31)=\"\",0,IF(BM10<IF(OR($F31=\"\",$F31=0),99,$F31),BL31*(1+$E31),BL31*(1+$G31)))","v":0},{"$f":"IF(TRIM(BM31)=\"\",0,IF(BN10<IF(OR($F31=\"\",$F31=0),99,$F31),BM31*(1+$E31),BM31*(1+$G31)))","v":0},{"$f":"IF(TRIM(BN31)=\"\",0,IF(BO10<IF(OR($F31=\"\",$F31=0),99,$F31),BN31*(1+$E31),BN31*(1+$G31)))","v":0},{"$f":"IF(TRIM(BO31)=\"\",0,IF(BP10<IF(OR($F31=\"\",$F31=0),99,$F31),BO31*(1+$E31),BO31*(1+$G31)))","v":0},{"$f":"IF(TRIM(BP31)=\"\",0,IF(BQ10<IF(OR($F31=\"\",$F31=0),99,$F31),BP31*(1+$E31),BP31*(1+$G31)))","v":0},{"$f":"IF(TRIM(BQ31)=\"\",0,IF(BR10<IF(OR($F31=\"\",$F31=0),99,$F31),BQ31*(1+$E31),BQ31*(1+$G31)))","v":0},{"$f":"IF(TRIM(BR31)=\"\",0,IF(BS10<IF(OR($F31=\"\",$F31=0),99,$F31),BR31*(1+$E31),BR31*(1+$G31)))","v":0},{"$f":"IF(TRIM(BS31)=\"\",0,IF(BT10<IF(OR($F31=\"\",$F31=0),99,$F31),BS31*(1+$E31),BS31*(1+$G31)))","v":0},{"$f":"IF(TRIM(BT31)=\"\",0,IF(BU10<IF(OR($F31=\"\",$F31=0),99,$F31),BT31*(1+$E31),BT31*(1+$G31)))","v":0},{"$f":"IF(TRIM(BU31)=\"\",0,IF(BV10<IF(OR($F31=\"\",$F31=0),99,$F31),BU31*(1+$E31),BU31*(1+$G31)))","v":0},{"$f":"IF(TRIM(BV31)=\"\",0,IF(BW10<IF(OR($F31=\"\",$F31=0),99,$F31),BV31*(1+$E31),BV31*(1+$G31)))","v":0},{"$f":"IF(TRIM(BW31)=\"\",0,IF(BX10<IF(OR($F31=\"\",$F31=0),99,$F31),BW31*(1+$E31),BW31*(1+$G31)))","v":0},{"$f":"IF(TRIM(BX31)=\"\",0,IF(BY10<IF(OR($F31=\"\",$F31=0),99,$F31),BX31*(1+$E31),BX31*(1+$G31)))","v":0},{"$f":"IF(TRIM(BY31)=\"\",0,IF(BZ10<IF(OR($F31=\"\",$F31=0),99,$F31),BY31*(1+$E31),BY31*(1+$G31)))","v":0}]
[null,null,null,null,0,null,0,null,{"$f":"IF(TRIM(H32)=\"\",0,IF(I10<IF(OR($F32=\"\",$F32=0),99,$F32),H32*(1+$E32),H32*(1+$G32)))","v":0},0,0,0,0,0,0,0,0,0,0,0,0,0,0,0,0,0,0,{"$f":"IF(TRIM(AA32)=\"\",0,IF(AB10<IF(OR($F32=\"\",$F32=0),99,$F32),AA32*(1+$E32),AA32*(1+$G32)))","v":0},0,0,0,0,0,0,0,0,0,0,{"$f":"IF(TRIM(AL32)=\"\",0,IF(AM10<IF(OR($F32=\"\",$F32=0),99,$F32),AL32*(1+$E32),AL32*(1+$G32)))","v":0},{"$f":"IF(TRIM(AM32)=\"\",0,IF(AN10<IF(OR($F32=\"\",$F32=0),99,$F32),AM32*(1+$E32),AM32*(1+$G32)))","v":0},{"$f":"IF(TRIM(AN32)=\"\",0,IF(AO10<IF(OR($F32=\"\",$F32=0),99,$F32),AN32*(1+$E32),AN32*(1+$G32)))","v":0},{"$f":"IF(TRIM(AO32)=\"\",0,IF(AP10<IF(OR($F32=\"\",$F32=0),99,$F32),AO32*(1+$E32),AO32*(1+$G32)))","v":0},{"$f":"IF(TRIM(AP32)=\"\",0,IF(AQ10<IF(OR($F32=\"\",$F32=0),99,$F32),AP32*(1+$E32),AP32*(1+$G32)))","v":0},{"$f":"IF(TRIM(AQ32)=\"\",0,IF(AR10<IF(OR($F32=\"\",$F32=0),99,$F32),AQ32*(1+$E32),AQ32*(1+$G32)))","v":0},{"$f":"IF(TRIM(AR32)=\"\",0,IF(AS10<IF(OR($F32=\"\",$F32=0),99,$F32),AR32*(1+$E32),AR32*(1+$G32)))","v":0},{"$f":"IF(TRIM(AS32)=\"\",0,IF(AT10<IF(OR($F32=\"\",$F32=0),99,$F32),AS32*(1+$E32),AS32*(1+$G32)))","v":0},{"$f":"IF(TRIM(AT32)=\"\",0,IF(AU10<IF(OR($F32=\"\",$F32=0),99,$F32),AT32*(1+$E32),AT32*(1+$G32)))","v":0},{"$f":"IF(TRIM(AU32)=\"\",0,IF(AV10<IF(OR($F32=\"\",$F32=0),99,$F32),AU32*(1+$E32),AU32*(1+$G32)))","v":0},{"$f":"IF(TRIM(AV32)=\"\",0,IF(AW10<IF(OR($F32=\"\",$F32=0),99,$F32),AV32*(1+$E32),AV32*(1+$G32)))","v":0},{"$f":"IF(TRIM(AW32)=\"\",0,IF(AX10<IF(OR($F32=\"\",$F32=0),99,$F32),AW32*(1+$E32),AW32*(1+$G32)))","v":0},{"$f":"IF(TRIM(AX32)=\"\",0,IF(AY10<IF(OR($F32=\"\",$F32=0),99,$F32),AX32*(1+$E32),AX32*(1+$G32)))","v":0},{"$f":"IF(TRIM(AY32)=\"\",0,IF(AZ10<IF(OR($F32=\"\",$F32=0),99,$F32),AY32*(1+$E32),AY32*(1+$G32)))","v":0},{"$f":"IF(TRIM(AZ32)=\"\",0,IF(BA10<IF(OR($F32=\"\",$F32=0),99,$F32),AZ32*(1+$E32),AZ32*(1+$G32)))","v":0},{"$f":"IF(TRIM(BA32)=\"\",0,IF(BB10<IF(OR($F32=\"\",$F32=0),99,$F32),BA32*(1+$E32),BA32*(1+$G32)))","v":0},{"$f":"IF(TRIM(BB32)=\"\",0,IF(BC10<IF(OR($F32=\"\",$F32=0),99,$F32),BB32*(1+$E32),BB32*(1+$G32)))","v":0},{"$f":"IF(TRIM(BC32)=\"\",0,IF(BD10<IF(OR($F32=\"\",$F32=0),99,$F32),BC32*(1+$E32),BC32*(1+$G32)))","v":0},{"$f":"IF(TRIM(BD32)=\"\",0,IF(BE10<IF(OR($F32=\"\",$F32=0),99,$F32),BD32*(1+$E32),BD32*(1+$G32)))","v":0},{"$f":"IF(TRIM(BE32)=\"\",0,IF(BF10<IF(OR($F32=\"\",$F32=0),99,$F32),BE32*(1+$E32),BE32*(1+$G32)))","v":0},{"$f":"IF(TRIM(BF32)=\"\",0,IF(BG10<IF(OR($F32=\"\",$F32=0),99,$F32),BF32*(1+$E32),BF32*(1+$G32)))","v":0},{"$f":"IF(TRIM(BG32)=\"\",0,IF(BH10<IF(OR($F32=\"\",$F32=0),99,$F32),BG32*(1+$E32),BG32*(1+$G32)))","v":0},{"$f":"IF(TRIM(BH32)=\"\",0,IF(BI10<IF(OR($F32=\"\",$F32=0),99,$F32),BH32*(1+$E32),BH32*(1+$G32)))","v":0},{"$f":"IF(TRIM(BI32)=\"\",0,IF(BJ10<IF(OR($F32=\"\",$F32=0),99,$F32),BI32*(1+$E32),BI32*(1+$G32)))","v":0},{"$f":"IF(TRIM(BJ32)=\"\",0,IF(BK10<IF(OR($F32=\"\",$F32=0),99,$F32),BJ32*(1+$E32),BJ32*(1+$G32)))","v":0},{"$f":"IF(TRIM(BK32)=\"\",0,IF(BL10<IF(OR($F32=\"\",$F32=0),99,$F32),BK32*(1+$E32),BK32*(1+$G32)))","v":0},{"$f":"IF(TRIM(BL32)=\"\",0,IF(BM10<IF(OR($F32=\"\",$F32=0),99,$F32),BL32*(1+$E32),BL32*(1+$G32)))","v":0},{"$f":"IF(TRIM(BM32)=\"\",0,IF(BN10<IF(OR($F32=\"\",$F32=0),99,$F32),BM32*(1+$E32),BM32*(1+$G32)))","v":0},{"$f":"IF(TRIM(BN32)=\"\",0,IF(BO10<IF(OR($F32=\"\",$F32=0),99,$F32),BN32*(1+$E32),BN32*(1+$G32)))","v":0},{"$f":"IF(TRIM(BO32)=\"\",0,IF(BP10<IF(OR($F32=\"\",$F32=0),99,$F32),BO32*(1+$E32),BO32*(1+$G32)))","v":0},{"$f":"IF(TRIM(BP32)=\"\",0,IF(BQ10<IF(OR($F32=\"\",$F32=0),99,$F32),BP32*(1+$E32),BP32*(1+$G32)))","v":0},{"$f":"IF(TRIM(BQ32)=\"\",0,IF(BR10<IF(OR($F32=\"\",$F32=0),99,$F32),BQ32*(1+$E32),BQ32*(1+$G32)))","v":0},{"$f":"IF(TRIM(BR32)=\"\",0,IF(BS10<IF(OR($F32=\"\",$F32=0),99,$F32),BR32*(1+$E32),BR32*(1+$G32)))","v":0},{"$f":"IF(TRIM(BS32)=\"\",0,IF(BT10<IF(OR($F32=\"\",$F32=0),99,$F32),BS32*(1+$E32),BS32*(1+$G32)))","v":0},{"$f":"IF(TRIM(BT32)=\"\",0,IF(BU10<IF(OR($F32=\"\",$F32=0),99,$F32),BT32*(1+$E32),BT32*(1+$G32)))","v":0},{"$f":"IF(TRIM(BU32)=\"\",0,IF(BV10<IF(OR($F32=\"\",$F32=0),99,$F32),BU32*(1+$E32),BU32*(1+$G32)))","v":0},{"$f":"IF(TRIM(BV32)=\"\",0,IF(BW10<IF(OR($F32=\"\",$F32=0),99,$F32),BV32*(1+$E32),BV32*(1+$G32)))","v":0},{"$f":"IF(TRIM(BW32)=\"\",0,IF(BX10<IF(OR($F32=\"\",$F32=0),99,$F32),BW32*(1+$E32),BW32*(1+$G32)))","v":0},{"$f":"IF(TRIM(BX32)=\"\",0,IF(BY10<IF(OR($F32=\"\",$F32=0),99,$F32),BX32*(1+$E32),BX32*(1+$G32)))","v":0},{"$f":"IF(TRIM(BY32)=\"\",0,IF(BZ10<IF(OR($F32=\"\",$F32=0),99,$F32),BY32*(1+$E32),BY32*(1+$G32)))","v":0}]
[null,null,null,null,0,null,0,null,{"$f":"IF(TRIM(H33)=\"\",0,IF(I10<IF(OR($F33=\"\",$F33=0),99,$F33),H33*(1+$E33),H33*(1+$G33)))","v":0},0,0,0,0,0,0,0,0,0,0,0,0,0,0,0,0,0,0,{"$f":"IF(TRIM(AA33)=\"\",0,IF(AB10<IF(OR($F33=\"\",$F33=0),99,$F33),AA33*(1+$E33),AA33*(1+$G33)))","v":0},0,0,0,0,0,0,0,0,0,0,{"$f":"IF(TRIM(AL33)=\"\",0,IF(AM10<IF(OR($F33=\"\",$F33=0),99,$F33),AL33*(1+$E33),AL33*(1+$G33)))","v":0},{"$f":"IF(TRIM(AM33)=\"\",0,IF(AN10<IF(OR($F33=\"\",$F33=0),99,$F33),AM33*(1+$E33),AM33*(1+$G33)))","v":0},{"$f":"IF(TRIM(AN33)=\"\",0,IF(AO10<IF(OR($F33=\"\",$F33=0),99,$F33),AN33*(1+$E33),AN33*(1+$G33)))","v":0},{"$f":"IF(TRIM(AO33)=\"\",0,IF(AP10<IF(OR($F33=\"\",$F33=0),99,$F33),AO33*(1+$E33),AO33*(1+$G33)))","v":0},{"$f":"IF(TRIM(AP33)=\"\",0,IF(AQ10<IF(OR($F33=\"\",$F33=0),99,$F33),AP33*(1+$E33),AP33*(1+$G33)))","v":0},{"$f":"IF(TRIM(AQ33)=\"\",0,IF(AR10<IF(OR($F33=\"\",$F33=0),99,$F33),AQ33*(1+$E33),AQ33*(1+$G33)))","v":0},{"$f":"IF(TRIM(AR33)=\"\",0,IF(AS10<IF(OR($F33=\"\",$F33=0),99,$F33),AR33*(1+$E33),AR33*(1+$G33)))","v":0},{"$f":"IF(TRIM(AS33)=\"\",0,IF(AT10<IF(OR($F33=\"\",$F33=0),99,$F33),AS33*(1+$E33),AS33*(1+$G33)))","v":0},{"$f":"IF(TRIM(AT33)=\"\",0,IF(AU10<IF(OR($F33=\"\",$F33=0),99,$F33),AT33*(1+$E33),AT33*(1+$G33)))","v":0},{"$f":"IF(TRIM(AU33)=\"\",0,IF(AV10<IF(OR($F33=\"\",$F33=0),99,$F33),AU33*(1+$E33),AU33*(1+$G33)))","v":0},{"$f":"IF(TRIM(AV33)=\"\",0,IF(AW10<IF(OR($F33=\"\",$F33=0),99,$F33),AV33*(1+$E33),AV33*(1+$G33)))","v":0},{"$f":"IF(TRIM(AW33)=\"\",0,IF(AX10<IF(OR($F33=\"\",$F33=0),99,$F33),AW33*(1+$E33),AW33*(1+$G33)))","v":0},{"$f":"IF(TRIM(AX33)=\"\",0,IF(AY10<IF(OR($F33=\"\",$F33=0),99,$F33),AX33*(1+$E33),AX33*(1+$G33)))","v":0},{"$f":"IF(TRIM(AY33)=\"\",0,IF(AZ10<IF(OR($F33=\"\",$F33=0),99,$F33),AY33*(1+$E33),AY33*(1+$G33)))","v":0},{"$f":"IF(TRIM(AZ33)=\"\",0,IF(BA10<IF(OR($F33=\"\",$F33=0),99,$F33),AZ33*(1+$E33),AZ33*(1+$G33)))","v":0},{"$f":"IF(TRIM(BA33)=\"\",0,IF(BB10<IF(OR($F33=\"\",$F33=0),99,$F33),BA33*(1+$E33),BA33*(1+$G33)))","v":0},{"$f":"IF(TRIM(BB33)=\"\",0,IF(BC10<IF(OR($F33=\"\",$F33=0),99,$F33),BB33*(1+$E33),BB33*(1+$G33)))","v":0},{"$f":"IF(TRIM(BC33)=\"\",0,IF(BD10<IF(OR($F33=\"\",$F33=0),99,$F33),BC33*(1+$E33),BC33*(1+$G33)))","v":0},{"$f":"IF(TRIM(BD33)=\"\",0,IF(BE10<IF(OR($F33=\"\",$F33=0),99,$F33),BD33*(1+$E33),BD33*(1+$G33)))","v":0},{"$f":"IF(TRIM(BE33)=\"\",0,IF(BF10<IF(OR($F33=\"\",$F33=0),99,$F33),BE33*(1+$E33),BE33*(1+$G33)))","v":0},{"$f":"IF(TRIM(BF33)=\"\",0,IF(BG10<IF(OR($F33=\"\",$F33=0),99,$F33),BF33*(1+$E33),BF33*(1+$G33)))","v":0},{"$f":"IF(TRIM(BG33)=\"\",0,IF(BH10<IF(OR($F33=\"\",$F33=0),99,$F33),BG33*(1+$E33),BG33*(1+$G33)))","v":0},{"$f":"IF(TRIM(BH33)=\"\",0,IF(BI10<IF(OR($F33=\"\",$F33=0),99,$F33),BH33*(1+$E33),BH33*(1+$G33)))","v":0},{"$f":"IF(TRIM(BI33)=\"\",0,IF(BJ10<IF(OR($F33=\"\",$F33=0),99,$F33),BI33*(1+$E33),BI33*(1+$G33)))","v":0},{"$f":"IF(TRIM(BJ33)=\"\",0,IF(BK10<IF(OR($F33=\"\",$F33=0),99,$F33),BJ33*(1+$E33),BJ33*(1+$G33)))","v":0},{"$f":"IF(TRIM(BK33)=\"\",0,IF(BL10<IF(OR($F33=\"\",$F33=0),99,$F33),BK33*(1+$E33),BK33*(1+$G33)))","v":0},{"$f":"IF(TRIM(BL33)=\"\",0,IF(BM10<IF(OR($F33=\"\",$F33=0),99,$F33),BL33*(1+$E33),BL33*(1+$G33)))","v":0},{"$f":"IF(TRIM(BM33)=\"\",0,IF(BN10<IF(OR($F33=\"\",$F33=0),99,$F33),BM33*(1+$E33),BM33*(1+$G33)))","v":0},{"$f":"IF(TRIM(BN33)=\"\",0,IF(BO10<IF(OR($F33=\"\",$F33=0),99,$F33),BN33*(1+$E33),BN33*(1+$G33)))","v":0},{"$f":"IF(TRIM(BO33)=\"\",0,IF(BP10<IF(OR($F33=\"\",$F33=0),99,$F33),BO33*(1+$E33),BO33*(1+$G33)))","v":0},{"$f":"IF(TRIM(BP33)=\"\",0,IF(BQ10<IF(OR($F33=\"\",$F33=0),99,$F33),BP33*(1+$E33),BP33*(1+$G33)))","v":0},{"$f":"IF(TRIM(BQ33)=\"\",0,IF(BR10<IF(OR($F33=\"\",$F33=0),99,$F33),BQ33*(1+$E33),BQ33*(1+$G33)))","v":0},{"$f":"IF(TRIM(BR33)=\"\",0,IF(BS10<IF(OR($F33=\"\",$F33=0),99,$F33),BR33*(1+$E33),BR33*(1+$G33)))","v":0},{"$f":"IF(TRIM(BS33)=\"\",0,IF(BT10<IF(OR($F33=\"\",$F33=0),99,$F33),BS33*(1+$E33),BS33*(1+$G33)))","v":0},{"$f":"IF(TRIM(BT33)=\"\",0,IF(BU10<IF(OR($F33=\"\",$F33=0),99,$F33),BT33*(1+$E33),BT33*(1+$G33)))","v":0},{"$f":"IF(TRIM(BU33)=\"\",0,IF(BV10<IF(OR($F33=\"\",$F33=0),99,$F33),BU33*(1+$E33),BU33*(1+$G33)))","v":0},{"$f":"IF(TRIM(BV33)=\"\",0,IF(BW10<IF(OR($F33=\"\",$F33=0),99,$F33),BV33*(1+$E33),BV33*(1+$G33)))","v":0},{"$f":"IF(TRIM(BW33)=\"\",0,IF(BX10<IF(OR($F33=\"\",$F33=0),99,$F33),BW33*(1+$E33),BW33*(1+$G33)))","v":0},{"$f":"IF(TRIM(BX33)=\"\",0,IF(BY10<IF(OR($F33=\"\",$F33=0),99,$F33),BX33*(1+$E33),BX33*(1+$G33)))","v":0},{"$f":"IF(TRIM(BY33)=\"\",0,IF(BZ10<IF(OR($F33=\"\",$F33=0),99,$F33),BY33*(1+$E33),BY33*(1+$G33)))","v":0}]
[null,null,null,null,0,null,0,null,{"$f":"IF(TRIM(H34)=\"\",0,IF(I10<IF(OR($F34=\"\",$F34=0),99,$F34),H34*(1+$E34),H34*(1+$G34)))","v":0},0,0,0,0,0,0,0,0,0,0,0,0,0,0,0,0,0,0,{"$f":"IF(TRIM(AA34)=\"\",0,IF(AB10<IF(OR($F34=\"\",$F34=0),99,$F34),AA34*(1+$E34),AA34*(1+$G34)))","v":0},0,0,0,0,0,0,0,0,0,0,{"$f":"IF(TRIM(AL34)=\"\",0,IF(AM10<IF(OR($F34=\"\",$F34=0),99,$F34),AL34*(1+$E34),AL34*(1+$G34)))","v":0},{"$f":"IF(TRIM(AM34)=\"\",0,IF(AN10<IF(OR($F34=\"\",$F34=0),99,$F34),AM34*(1+$E34),AM34*(1+$G34)))","v":0},{"$f":"IF(TRIM(AN34)=\"\",0,IF(AO10<IF(OR($F34=\"\",$F34=0),99,$F34),AN34*(1+$E34),AN34*(1+$G34)))","v":0},{"$f":"IF(TRIM(AO34)=\"\",0,IF(AP10<IF(OR($F34=\"\",$F34=0),99,$F34),AO34*(1+$E34),AO34*(1+$G34)))","v":0},{"$f":"IF(TRIM(AP34)=\"\",0,IF(AQ10<IF(OR($F34=\"\",$F34=0),99,$F34),AP34*(1+$E34),AP34*(1+$G34)))","v":0},{"$f":"IF(TRIM(AQ34)=\"\",0,IF(AR10<IF(OR($F34=\"\",$F34=0),99,$F34),AQ34*(1+$E34),AQ34*(1+$G34)))","v":0},{"$f":"IF(TRIM(AR34)=\"\",0,IF(AS10<IF(OR($F34=\"\",$F34=0),99,$F34),AR34*(1+$E34),AR34*(1+$G34)))","v":0},{"$f":"IF(TRIM(AS34)=\"\",0,IF(AT10<IF(OR($F34=\"\",$F34=0),99,$F34),AS34*(1+$E34),AS34*(1+$G34)))","v":0},{"$f":"IF(TRIM(AT34)=\"\",0,IF(AU10<IF(OR($F34=\"\",$F34=0),99,$F34),AT34*(1+$E34),AT34*(1+$G34)))","v":0},{"$f":"IF(TRIM(AU34)=\"\",0,IF(AV10<IF(OR($F34=\"\",$F34=0),99,$F34),AU34*(1+$E34),AU34*(1+$G34)))","v":0},{"$f":"IF(TRIM(AV34)=\"\",0,IF(AW10<IF(OR($F34=\"\",$F34=0),99,$F34),AV34*(1+$E34),AV34*(1+$G34)))","v":0},{"$f":"IF(TRIM(AW34)=\"\",0,IF(AX10<IF(OR($F34=\"\",$F34=0),99,$F34),AW34*(1+$E34),AW34*(1+$G34)))","v":0},{"$f":"IF(TRIM(AX34)=\"\",0,IF(AY10<IF(OR($F34=\"\",$F34=0),99,$F34),AX34*(1+$E34),AX34*(1+$G34)))","v":0},{"$f":"IF(TRIM(AY34)=\"\",0,IF(AZ10<IF(OR($F34=\"\",$F34=0),99,$F34),AY34*(1+$E34),AY34*(1+$G34)))","v":0},{"$f":"IF(TRIM(AZ34)=\"\",0,IF(BA10<IF(OR($F34=\"\",$F34=0),99,$F34),AZ34*(1+$E34),AZ34*(1+$G34)))","v":0},{"$f":"IF(TRIM(BA34)=\"\",0,IF(BB10<IF(OR($F34=\"\",$F34=0),99,$F34),BA34*(1+$E34),BA34*(1+$G34)))","v":0},{"$f":"IF(TRIM(BB34)=\"\",0,IF(BC10<IF(OR($F34=\"\",$F34=0),99,$F34),BB34*(1+$E34),BB34*(1+$G34)))","v":0},{"$f":"IF(TRIM(BC34)=\"\",0,IF(BD10<IF(OR($F34=\"\",$F34=0),99,$F34),BC34*(1+$E34),BC34*(1+$G34)))","v":0},{"$f":"IF(TRIM(BD34)=\"\",0,IF(BE10<IF(OR($F34=\"\",$F34=0),99,$F34),BD34*(1+$E34),BD34*(1+$G34)))","v":0},{"$f":"IF(TRIM(BE34)=\"\",0,IF(BF10<IF(OR($F34=\"\",$F34=0),99,$F34),BE34*(1+$E34),BE34*(1+$G34)))","v":0},{"$f":"IF(TRIM(BF34)=\"\",0,IF(BG10<IF(OR($F34=\"\",$F34=0),99,$F34),BF34*(1+$E34),BF34*(1+$G34)))","v":0},{"$f":"IF(TRIM(BG34)=\"\",0,IF(BH10<IF(OR($F34=\"\",$F34=0),99,$F34),BG34*(1+$E34),BG34*(1+$G34)))","v":0},{"$f":"IF(TRIM(BH34)=\"\",0,IF(BI10<IF(OR($F34=\"\",$F34=0),99,$F34),BH34*(1+$E34),BH34*(1+$G34)))","v":0},{"$f":"IF(TRIM(BI34)=\"\",0,IF(BJ10<IF(OR($F34=\"\",$F34=0),99,$F34),BI34*(1+$E34),BI34*(1+$G34)))","v":0},{"$f":"IF(TRIM(BJ34)=\"\",0,IF(BK10<IF(OR($F34=\"\",$F34=0),99,$F34),BJ34*(1+$E34),BJ34*(1+$G34)))","v":0},{"$f":"IF(TRIM(BK34)=\"\",0,IF(BL10<IF(OR($F34=\"\",$F34=0),99,$F34),BK34*(1+$E34),BK34*(1+$G34)))","v":0},{"$f":"IF(TRIM(BL34)=\"\",0,IF(BM10<IF(OR($F34=\"\",$F34=0),99,$F34),BL34*(1+$E34),BL34*(1+$G34)))","v":0},{"$f":"IF(TRIM(BM34)=\"\",0,IF(BN10<IF(OR($F34=\"\",$F34=0),99,$F34),BM34*(1+$E34),BM34*(1+$G34)))","v":0},{"$f":"IF(TRIM(BN34)=\"\",0,IF(BO10<IF(OR($F34=\"\",$F34=0),99,$F34),BN34*(1+$E34),BN34*(1+$G34)))","v":0},{"$f":"IF(TRIM(BO34)=\"\",0,IF(BP10<IF(OR($F34=\"\",$F34=0),99,$F34),BO34*(1+$E34),BO34*(1+$G34)))","v":0},{"$f":"IF(TRIM(BP34)=\"\",0,IF(BQ10<IF(OR($F34=\"\",$F34=0),99,$F34),BP34*(1+$E34),BP34*(1+$G34)))","v":0},{"$f":"IF(TRIM(BQ34)=\"\",0,IF(BR10<IF(OR($F34=\"\",$F34=0),99,$F34),BQ34*(1+$E34),BQ34*(1+$G34)))","v":0},{"$f":"IF(TRIM(BR34)=\"\",0,IF(BS10<IF(OR($F34=\"\",$F34=0),99,$F34),BR34*(1+$E34),BR34*(1+$G34)))","v":0},{"$f":"IF(TRIM(BS34)=\"\",0,IF(BT10<IF(OR($F34=\"\",$F34=0),99,$F34),BS34*(1+$E34),BS34*(1+$G34)))","v":0},{"$f":"IF(TRIM(BT34)=\"\",0,IF(BU10<IF(OR($F34=\"\",$F34=0),99,$F34),BT34*(1+$E34),BT34*(1+$G34)))","v":0},{"$f":"IF(TRIM(BU34)=\"\",0,IF(BV10<IF(OR($F34=\"\",$F34=0),99,$F34),BU34*(1+$E34),BU34*(1+$G34)))","v":0},{"$f":"IF(TRIM(BV34)=\"\",0,IF(BW10<IF(OR($F34=\"\",$F34=0),99,$F34),BV34*(1+$E34),BV34*(1+$G34)))","v":0},{"$f":"IF(TRIM(BW34)=\"\",0,IF(BX10<IF(OR($F34=\"\",$F34=0),99,$F34),BW34*(1+$E34),BW34*(1+$G34)))","v":0},{"$f":"IF(TRIM(BX34)=\"\",0,IF(BY10<IF(OR($F34=\"\",$F34=0),99,$F34),BX34*(1+$E34),BX34*(1+$G34)))","v":0},{"$f":"IF(TRIM(BY34)=\"\",0,IF(BZ10<IF(OR($F34=\"\",$F34=0),99,$F34),BY34*(1+$E34),BY34*(1+$G34)))","v":0}]
[null,null,null,null,0,null,0,null,{"$f":"IF(TRIM(H35)=\"\",0,IF(I10<IF(OR($F35=\"\",$F35=0),99,$F35),H35*(1+$E35),H35*(1+$G35)))","v":0},0,0,0,0,0,0,0,0,0,0,0,0,0,0,0,0,0,0,{"$f":"IF(TRIM(AA35)=\"\",0,IF(AB10<IF(OR($F35=\"\",$F35=0),99,$F35),AA35*(1+$E35),AA35*(1+$G35)))","v":0},0,0,0,0,0,0,0,0,0,0,{"$f":"IF(TRIM(AL35)=\"\",0,IF(AM10<IF(OR($F35=\"\",$F35=0),99,$F35),AL35*(1+$E35),AL35*(1+$G35)))","v":0},{"$f":"IF(TRIM(AM35)=\"\",0,IF(AN10<IF(OR($F35=\"\",$F35=0),99,$F35),AM35*(1+$E35),AM35*(1+$G35)))","v":0},{"$f":"IF(TRIM(AN35)=\"\",0,IF(AO10<IF(OR($F35=\"\",$F35=0),99,$F35),AN35*(1+$E35),AN35*(1+$G35)))","v":0},{"$f":"IF(TRIM(AO35)=\"\",0,IF(AP10<IF(OR($F35=\"\",$F35=0),99,$F35),AO35*(1+$E35),AO35*(1+$G35)))","v":0},{"$f":"IF(TRIM(AP35)=\"\",0,IF(AQ10<IF(OR($F35=\"\",$F35=0),99,$F35),AP35*(1+$E35),AP35*(1+$G35)))","v":0},{"$f":"IF(TRIM(AQ35)=\"\",0,IF(AR10<IF(OR($F35=\"\",$F35=0),99,$F35),AQ35*(1+$E35),AQ35*(1+$G35)))","v":0},{"$f":"IF(TRIM(AR35)=\"\",0,IF(AS10<IF(OR($F35=\"\",$F35=0),99,$F35),AR35*(1+$E35),AR35*(1+$G35)))","v":0},{"$f":"IF(TRIM(AS35)=\"\",0,IF(AT10<IF(OR($F35=\"\",$F35=0),99,$F35),AS35*(1+$E35),AS35*(1+$G35)))","v":0},{"$f":"IF(TRIM(AT35)=\"\",0,IF(AU10<IF(OR($F35=\"\",$F35=0),99,$F35),AT35*(1+$E35),AT35*(1+$G35)))","v":0},{"$f":"IF(TRIM(AU35)=\"\",0,IF(AV10<IF(OR($F35=\"\",$F35=0),99,$F35),AU35*(1+$E35),AU35*(1+$G35)))","v":0},{"$f":"IF(TRIM(AV35)=\"\",0,IF(AW10<IF(OR($F35=\"\",$F35=0),99,$F35),AV35*(1+$E35),AV35*(1+$G35)))","v":0},{"$f":"IF(TRIM(AW35)=\"\",0,IF(AX10<IF(OR($F35=\"\",$F35=0),99,$F35),AW35*(1+$E35),AW35*(1+$G35)))","v":0},{"$f":"IF(TRIM(AX35)=\"\",0,IF(AY10<IF(OR($F35=\"\",$F35=0),99,$F35),AX35*(1+$E35),AX35*(1+$G35)))","v":0},{"$f":"IF(TRIM(AY35)=\"\",0,IF(AZ10<IF(OR($F35=\"\",$F35=0),99,$F35),AY35*(1+$E35),AY35*(1+$G35)))","v":0},{"$f":"IF(TRIM(AZ35)=\"\",0,IF(BA10<IF(OR($F35=\"\",$F35=0),99,$F35),AZ35*(1+$E35),AZ35*(1+$G35)))","v":0},{"$f":"IF(TRIM(BA35)=\"\",0,IF(BB10<IF(OR($F35=\"\",$F35=0),99,$F35),BA35*(1+$E35),BA35*(1+$G35)))","v":0},{"$f":"IF(TRIM(BB35)=\"\",0,IF(BC10<IF(OR($F35=\"\",$F35=0),99,$F35),BB35*(1+$E35),BB35*(1+$G35)))","v":0},{"$f":"IF(TRIM(BC35)=\"\",0,IF(BD10<IF(OR($F35=\"\",$F35=0),99,$F35),BC35*(1+$E35),BC35*(1+$G35)))","v":0},{"$f":"IF(TRIM(BD35)=\"\",0,IF(BE10<IF(OR($F35=\"\",$F35=0),99,$F35),BD35*(1+$E35),BD35*(1+$G35)))","v":0},{"$f":"IF(TRIM(BE35)=\"\",0,IF(BF10<IF(OR($F35=\"\",$F35=0),99,$F35),BE35*(1+$E35),BE35*(1+$G35)))","v":0},{"$f":"IF(TRIM(BF35)=\"\",0,IF(BG10<IF(OR($F35=\"\",$F35=0),99,$F35),BF35*(1+$E35),BF35*(1+$G35)))","v":0},{"$f":"IF(TRIM(BG35)=\"\",0,IF(BH10<IF(OR($F35=\"\",$F35=0),99,$F35),BG35*(1+$E35),BG35*(1+$G35)))","v":0},{"$f":"IF(TRIM(BH35)=\"\",0,IF(BI10<IF(OR($F35=\"\",$F35=0),99,$F35),BH35*(1+$E35),BH35*(1+$G35)))","v":0},{"$f":"IF(TRIM(BI35)=\"\",0,IF(BJ10<IF(OR($F35=\"\",$F35=0),99,$F35),BI35*(1+$E35),BI35*(1+$G35)))","v":0},{"$f":"IF(TRIM(BJ35)=\"\",0,IF(BK10<IF(OR($F35=\"\",$F35=0),99,$F35),BJ35*(1+$E35),BJ35*(1+$G35)))","v":0},{"$f":"IF(TRIM(BK35)=\"\",0,IF(BL10<IF(OR($F35=\"\",$F35=0),99,$F35),BK35*(1+$E35),BK35*(1+$G35)))","v":0},{"$f":"IF(TRIM(BL35)=\"\",0,IF(BM10<IF(OR($F35=\"\",$F35=0),99,$F35),BL35*(1+$E35),BL35*(1+$G35)))","v":0},{"$f":"IF(TRIM(BM35)=\"\",0,IF(BN10<IF(OR($F35=\"\",$F35=0),99,$F35),BM35*(1+$E35),BM35*(1+$G35)))","v":0},{"$f":"IF(TRIM(BN35)=\"\",0,IF(BO10<IF(OR($F35=\"\",$F35=0),99,$F35),BN35*(1+$E35),BN35*(1+$G35)))","v":0},{"$f":"IF(TRIM(BO35)=\"\",0,IF(BP10<IF(OR($F35=\"\",$F35=0),99,$F35),BO35*(1+$E35),BO35*(1+$G35)))","v":0},{"$f":"IF(TRIM(BP35)=\"\",0,IF(BQ10<IF(OR($F35=\"\",$F35=0),99,$F35),BP35*(1+$E35),BP35*(1+$G35)))","v":0},{"$f":"IF(TRIM(BQ35)=\"\",0,IF(BR10<IF(OR($F35=\"\",$F35=0),99,$F35),BQ35*(1+$E35),BQ35*(1+$G35)))","v":0},{"$f":"IF(TRIM(BR35)=\"\",0,IF(BS10<IF(OR($F35=\"\",$F35=0),99,$F35),BR35*(1+$E35),BR35*(1+$G35)))","v":0},{"$f":"IF(TRIM(BS35)=\"\",0,IF(BT10<IF(OR($F35=\"\",$F35=0),99,$F35),BS35*(1+$E35),BS35*(1+$G35)))","v":0},{"$f":"IF(TRIM(BT35)=\"\",0,IF(BU10<IF(OR($F35=\"\",$F35=0),99,$F35),BT35*(1+$E35),BT35*(1+$G35)))","v":0},{"$f":"IF(TRIM(BU35)=\"\",0,IF(BV10<IF(OR($F35=\"\",$F35=0),99,$F35),BU35*(1+$E35),BU35*(1+$G35)))","v":0},{"$f":"IF(TRIM(BV35)=\"\",0,IF(BW10<IF(OR($F35=\"\",$F35=0),99,$F35),BV35*(1+$E35),BV35*(1+$G35)))","v":0},{"$f":"IF(TRIM(BW35)=\"\",0,IF(BX10<IF(OR($F35=\"\",$F35=0),99,$F35),BW35*(1+$E35),BW35*(1+$G35)))","v":0},{"$f":"IF(TRIM(BX35)=\"\",0,IF(BY10<IF(OR($F35=\"\",$F35=0),99,$F35),BX35*(1+$E35),BX35*(1+$G35)))","v":0},{"$f":"IF(TRIM(BY35)=\"\",0,IF(BZ10<IF(OR($F35=\"\",$F35=0),99,$F35),BY35*(1+$E35),BY35*(1+$G35)))","v":0}]
[null,null,null,null,0,null,0,null,{"$f":"IF(TRIM(H36)=\"\",0,IF(I10<IF(OR($F36=\"\",$F36=0),99,$F36),H36*(1+$E36),H36*(1+$G36)))","v":0},0,0,0,0,0,0,0,0,0,0,0,0,0,0,0,0,0,0,{"$f":"IF(TRIM(AA36)=\"\",0,IF(AB10<IF(OR($F36=\"\",$F36=0),99,$F36),AA36*(1+$E36),AA36*(1+$G36)))","v":0},0,0,0,0,0,0,0,0,0,0,{"$f":"IF(TRIM(AL36)=\"\",0,IF(AM10<IF(OR($F36=\"\",$F36=0),99,$F36),AL36*(1+$E36),AL36*(1+$G36)))","v":0},{"$f":"IF(TRIM(AM36)=\"\",0,IF(AN10<IF(OR($F36=\"\",$F36=0),99,$F36),AM36*(1+$E36),AM36*(1+$G36)))","v":0},{"$f":"IF(TRIM(AN36)=\"\",0,IF(AO10<IF(OR($F36=\"\",$F36=0),99,$F36),AN36*(1+$E36),AN36*(1+$G36)))","v":0},{"$f":"IF(TRIM(AO36)=\"\",0,IF(AP10<IF(OR($F36=\"\",$F36=0),99,$F36),AO36*(1+$E36),AO36*(1+$G36)))","v":0},{"$f":"IF(TRIM(AP36)=\"\",0,IF(AQ10<IF(OR($F36=\"\",$F36=0),99,$F36),AP36*(1+$E36),AP36*(1+$G36)))","v":0},{"$f":"IF(TRIM(AQ36)=\"\",0,IF(AR10<IF(OR($F36=\"\",$F36=0),99,$F36),AQ36*(1+$E36),AQ36*(1+$G36)))","v":0},{"$f":"IF(TRIM(AR36)=\"\",0,IF(AS10<IF(OR($F36=\"\",$F36=0),99,$F36),AR36*(1+$E36),AR36*(1+$G36)))","v":0},{"$f":"IF(TRIM(AS36)=\"\",0,IF(AT10<IF(OR($F36=\"\",$F36=0),99,$F36),AS36*(1+$E36),AS36*(1+$G36)))","v":0},{"$f":"IF(TRIM(AT36)=\"\",0,IF(AU10<IF(OR($F36=\"\",$F36=0),99,$F36),AT36*(1+$E36),AT36*(1+$G36)))","v":0},{"$f":"IF(TRIM(AU36)=\"\",0,IF(AV10<IF(OR($F36=\"\",$F36=0),99,$F36),AU36*(1+$E36),AU36*(1+$G36)))","v":0},{"$f":"IF(TRIM(AV36)=\"\",0,IF(AW10<IF(OR($F36=\"\",$F36=0),99,$F36),AV36*(1+$E36),AV36*(1+$G36)))","v":0},{"$f":"IF(TRIM(AW36)=\"\",0,IF(AX10<IF(OR($F36=\"\",$F36=0),99,$F36),AW36*(1+$E36),AW36*(1+$G36)))","v":0},{"$f":"IF(TRIM(AX36)=\"\",0,IF(AY10<IF(OR($F36=\"\",$F36=0),99,$F36),AX36*(1+$E36),AX36*(1+$G36)))","v":0},{"$f":"IF(TRIM(AY36)=\"\",0,IF(AZ10<IF(OR($F36=\"\",$F36=0),99,$F36),AY36*(1+$E36),AY36*(1+$G36)))","v":0},{"$f":"IF(TRIM(AZ36)=\"\",0,IF(BA10<IF(OR($F36=\"\",$F36=0),99,$F36),AZ36*(1+$E36),AZ36*(1+$G36)))","v":0},{"$f":"IF(TRIM(BA36)=\"\",0,IF(BB10<IF(OR($F36=\"\",$F36=0),99,$F36),BA36*(1+$E36),BA36*(1+$G36)))","v":0},{"$f":"IF(TRIM(BB36)=\"\",0,IF(BC10<IF(OR($F36=\"\",$F36=0),99,$F36),BB36*(1+$E36),BB36*(1+$G36)))","v":0},{"$f":"IF(TRIM(BC36)=\"\",0,IF(BD10<IF(OR($F36=\"\",$F36=0),99,$F36),BC36*(1+$E36),BC36*(1+$G36)))","v":0},{"$f":"IF(TRIM(BD36)=\"\",0,IF(BE10<IF(OR($F36=\"\",$F36=0),99,$F36),BD36*(1+$E36),BD36*(1+$G36)))","v":0},{"$f":"IF(TRIM(BE36)=\"\",0,IF(BF10<IF(OR($F36=\"\",$F36=0),99,$F36),BE36*(1+$E36),BE36*(1+$G36)))","v":0},{"$f":"IF(TRIM(BF36)=\"\",0,IF(BG10<IF(OR($F36=\"\",$F36=0),99,$F36),BF36*(1+$E36),BF36*(1+$G36)))","v":0},{"$f":"IF(TRIM(BG36)=\"\",0,IF(BH10<IF(OR($F36=\"\",$F36=0),99,$F36),BG36*(1+$E36),BG36*(1+$G36)))","v":0},{"$f":"IF(TRIM(BH36)=\"\",0,IF(BI10<IF(OR($F36=\"\",$F36=0),99,$F36),BH36*(1+$E36),BH36*(1+$G36)))","v":0},{"$f":"IF(TRIM(BI36)=\"\",0,IF(BJ10<IF(OR($F36=\"\",$F36=0),99,$F36),BI36*(1+$E36),BI36*(1+$G36)))","v":0},{"$f":"IF(TRIM(BJ36)=\"\",0,IF(BK10<IF(OR($F36=\"\",$F36=0),99,$F36),BJ36*(1+$E36),BJ36*(1+$G36)))","v":0},{"$f":"IF(TRIM(BK36)=\"\",0,IF(BL10<IF(OR($F36=\"\",$F36=0),99,$F36),BK36*(1+$E36),BK36*(1+$G36)))","v":0},{"$f":"IF(TRIM(BL36)=\"\",0,IF(BM10<IF(OR($F36=\"\",$F36=0),99,$F36),BL36*(1+$E36),BL36*(1+$G36)))","v":0},{"$f":"IF(TRIM(BM36)=\"\",0,IF(BN10<IF(OR($F36=\"\",$F36=0),99,$F36),BM36*(1+$E36),BM36*(1+$G36)))","v":0},{"$f":"IF(TRIM(BN36)=\"\",0,IF(BO10<IF(OR($F36=\"\",$F36=0),99,$F36),BN36*(1+$E36),BN36*(1+$G36)))","v":0},{"$f":"IF(TRIM(BO36)=\"\",0,IF(BP10<IF(OR($F36=\"\",$F36=0),99,$F36),BO36*(1+$E36),BO36*(1+$G36)))","v":0},{"$f":"IF(TRIM(BP36)=\"\",0,IF(BQ10<IF(OR($F36=\"\",$F36=0),99,$F36),BP36*(1+$E36),BP36*(1+$G36)))","v":0},{"$f":"IF(TRIM(BQ36)=\"\",0,IF(BR10<IF(OR($F36=\"\",$F36=0),99,$F36),BQ36*(1+$E36),BQ36*(1+$G36)))","v":0},{"$f":"IF(TRIM(BR36)=\"\",0,IF(BS10<IF(OR($F36=\"\",$F36=0),99,$F36),BR36*(1+$E36),BR36*(1+$G36)))","v":0},{"$f":"IF(TRIM(BS36)=\"\",0,IF(BT10<IF(OR($F36=\"\",$F36=0),99,$F36),BS36*(1+$E36),BS36*(1+$G36)))","v":0},{"$f":"IF(TRIM(BT36)=\"\",0,IF(BU10<IF(OR($F36=\"\",$F36=0),99,$F36),BT36*(1+$E36),BT36*(1+$G36)))","v":0},{"$f":"IF(TRIM(BU36)=\"\",0,IF(BV10<IF(OR($F36=\"\",$F36=0),99,$F36),BU36*(1+$E36),BU36*(1+$G36)))","v":0},{"$f":"IF(TRIM(BV36)=\"\",0,IF(BW10<IF(OR($F36=\"\",$F36=0),99,$F36),BV36*(1+$E36),BV36*(1+$G36)))","v":0},{"$f":"IF(TRIM(BW36)=\"\",0,IF(BX10<IF(OR($F36=\"\",$F36=0),99,$F36),BW36*(1+$E36),BW36*(1+$G36)))","v":0},{"$f":"IF(TRIM(BX36)=\"\",0,IF(BY10<IF(OR($F36=\"\",$F36=0),99,$F36),BX36*(1+$E36),BX36*(1+$G36)))","v":0},{"$f":"IF(TRIM(BY36)=\"\",0,IF(BZ10<IF(OR($F36=\"\",$F36=0),99,$F36),BY36*(1+$E36),BY36*(1+$G36)))","v":0}]
[null,null,null,null,0,null,0,null,{"$f":"IF(TRIM(H37)=\"\",0,IF(I10<IF(OR($F37=\"\",$F37=0),99,$F37),H37*(1+$E37),H37*(1+$G37)))","v":0},0,0,0,0,0,0,0,0,0,0,0,0,0,0,0,0,0,0,{"$f":"IF(TRIM(AA37)=\"\",0,IF(AB10<IF(OR($F37=\"\",$F37=0),99,$F37),AA37*(1+$E37),AA37*(1+$G37)))","v":0},0,0,0,0,0,0,0,0,0,0,{"$f":"IF(TRIM(AL37)=\"\",0,IF(AM10<IF(OR($F37=\"\",$F37=0),99,$F37),AL37*(1+$E37),AL37*(1+$G37)))","v":0},{"$f":"IF(TRIM(AM37)=\"\",0,IF(AN10<IF(OR($F37=\"\",$F37=0),99,$F37),AM37*(1+$E37),AM37*(1+$G37)))","v":0},{"$f":"IF(TRIM(AN37)=\"\",0,IF(AO10<IF(OR($F37=\"\",$F37=0),99,$F37),AN37*(1+$E37),AN37*(1+$G37)))","v":0},{"$f":"IF(TRIM(AO37)=\"\",0,IF(AP10<IF(OR($F37=\"\",$F37=0),99,$F37),AO37*(1+$E37),AO37*(1+$G37)))","v":0},{"$f":"IF(TRIM(AP37)=\"\",0,IF(AQ10<IF(OR($F37=\"\",$F37=0),99,$F37),AP37*(1+$E37),AP37*(1+$G37)))","v":0},{"$f":"IF(TRIM(AQ37)=\"\",0,IF(AR10<IF(OR($F37=\"\",$F37=0),99,$F37),AQ37*(1+$E37),AQ37*(1+$G37)))","v":0},{"$f":"IF(TRIM(AR37)=\"\",0,IF(AS10<IF(OR($F37=\"\",$F37=0),99,$F37),AR37*(1+$E37),AR37*(1+$G37)))","v":0},{"$f":"IF(TRIM(AS37)=\"\",0,IF(AT10<IF(OR($F37=\"\",$F37=0),99,$F37),AS37*(1+$E37),AS37*(1+$G37)))","v":0},{"$f":"IF(TRIM(AT37)=\"\",0,IF(AU10<IF(OR($F37=\"\",$F37=0),99,$F37),AT37*(1+$E37),AT37*(1+$G37)))","v":0},{"$f":"IF(TRIM(AU37)=\"\",0,IF(AV10<IF(OR($F37=\"\",$F37=0),99,$F37),AU37*(1+$E37),AU37*(1+$G37)))","v":0},{"$f":"IF(TRIM(AV37)=\"\",0,IF(AW10<IF(OR($F37=\"\",$F37=0),99,$F37),AV37*(1+$E37),AV37*(1+$G37)))","v":0},{"$f":"IF(TRIM(AW37)=\"\",0,IF(AX10<IF(OR($F37=\"\",$F37=0),99,$F37),AW37*(1+$E37),AW37*(1+$G37)))","v":0},{"$f":"IF(TRIM(AX37)=\"\",0,IF(AY10<IF(OR($F37=\"\",$F37=0),99,$F37),AX37*(1+$E37),AX37*(1+$G37)))","v":0},{"$f":"IF(TRIM(AY37)=\"\",0,IF(AZ10<IF(OR($F37=\"\",$F37=0),99,$F37),AY37*(1+$E37),AY37*(1+$G37)))","v":0},{"$f":"IF(TRIM(AZ37)=\"\",0,IF(BA10<IF(OR($F37=\"\",$F37=0),99,$F37),AZ37*(1+$E37),AZ37*(1+$G37)))","v":0},{"$f":"IF(TRIM(BA37)=\"\",0,IF(BB10<IF(OR($F37=\"\",$F37=0),99,$F37),BA37*(1+$E37),BA37*(1+$G37)))","v":0},{"$f":"IF(TRIM(BB37)=\"\",0,IF(BC10<IF(OR($F37=\"\",$F37=0),99,$F37),BB37*(1+$E37),BB37*(1+$G37)))","v":0},{"$f":"IF(TRIM(BC37)=\"\",0,IF(BD10<IF(OR($F37=\"\",$F37=0),99,$F37),BC37*(1+$E37),BC37*(1+$G37)))","v":0},{"$f":"IF(TRIM(BD37)=\"\",0,IF(BE10<IF(OR($F37=\"\",$F37=0),99,$F37),BD37*(1+$E37),BD37*(1+$G37)))","v":0},{"$f":"IF(TRIM(BE37)=\"\",0,IF(BF10<IF(OR($F37=\"\",$F37=0),99,$F37),BE37*(1+$E37),BE37*(1+$G37)))","v":0},{"$f":"IF(TRIM(BF37)=\"\",0,IF(BG10<IF(OR($F37=\"\",$F37=0),99,$F37),BF37*(1+$E37),BF37*(1+$G37)))","v":0},{"$f":"IF(TRIM(BG37)=\"\",0,IF(BH10<IF(OR($F37=\"\",$F37=0),99,$F37),BG37*(1+$E37),BG37*(1+$G37)))","v":0},{"$f":"IF(TRIM(BH37)=\"\",0,IF(BI10<IF(OR($F37=\"\",$F37=0),99,$F37),BH37*(1+$E37),BH37*(1+$G37)))","v":0},{"$f":"IF(TRIM(BI37)=\"\",0,IF(BJ10<IF(OR($F37=\"\",$F37=0),99,$F37),BI37*(1+$E37),BI37*(1+$G37)))","v":0},{"$f":"IF(TRIM(BJ37)=\"\",0,IF(BK10<IF(OR($F37=\"\",$F37=0),99,$F37),BJ37*(1+$E37),BJ37*(1+$G37)))","v":0},{"$f":"IF(TRIM(BK37)=\"\",0,IF(BL10<IF(OR($F37=\"\",$F37=0),99,$F37),BK37*(1+$E37),BK37*(1+$G37)))","v":0},{"$f":"IF(TRIM(BL37)=\"\",0,IF(BM10<IF(OR($F37=\"\",$F37=0),99,$F37),BL37*(1+$E37),BL37*(1+$G37)))","v":0},{"$f":"IF(TRIM(BM37)=\"\",0,IF(BN10<IF(OR($F37=\"\",$F37=0),99,$F37),BM37*(1+$E37),BM37*(1+$G37)))","v":0},{"$f":"IF(TRIM(BN37)=\"\",0,IF(BO10<IF(OR($F37=\"\",$F37=0),99,$F37),BN37*(1+$E37),BN37*(1+$G37)))","v":0},{"$f":"IF(TRIM(BO37)=\"\",0,IF(BP10<IF(OR($F37=\"\",$F37=0),99,$F37),BO37*(1+$E37),BO37*(1+$G37)))","v":0},{"$f":"IF(TRIM(BP37)=\"\",0,IF(BQ10<IF(OR($F37=\"\",$F37=0),99,$F37),BP37*(1+$E37),BP37*(1+$G37)))","v":0},{"$f":"IF(TRIM(BQ37)=\"\",0,IF(BR10<IF(OR($F37=\"\",$F37=0),99,$F37),BQ37*(1+$E37),BQ37*(1+$G37)))","v":0},{"$f":"IF(TRIM(BR37)=\"\",0,IF(BS10<IF(OR($F37=\"\",$F37=0),99,$F37),BR37*(1+$E37),BR37*(1+$G37)))","v":0},{"$f":"IF(TRIM(BS37)=\"\",0,IF(BT10<IF(OR($F37=\"\",$F37=0),99,$F37),BS37*(1+$E37),BS37*(1+$G37)))","v":0},{"$f":"IF(TRIM(BT37)=\"\",0,IF(BU10<IF(OR($F37=\"\",$F37=0),99,$F37),BT37*(1+$E37),BT37*(1+$G37)))","v":0},{"$f":"IF(TRIM(BU37)=\"\",0,IF(BV10<IF(OR($F37=\"\",$F37=0),99,$F37),BU37*(1+$E37),BU37*(1+$G37)))","v":0},{"$f":"IF(TRIM(BV37)=\"\",0,IF(BW10<IF(OR($F37=\"\",$F37=0),99,$F37),BV37*(1+$E37),BV37*(1+$G37)))","v":0},{"$f":"IF(TRIM(BW37)=\"\",0,IF(BX10<IF(OR($F37=\"\",$F37=0),99,$F37),BW37*(1+$E37),BW37*(1+$G37)))","v":0},{"$f":"IF(TRIM(BX37)=\"\",0,IF(BY10<IF(OR($F37=\"\",$F37=0),99,$F37),BX37*(1+$E37),BX37*(1+$G37)))","v":0},{"$f":"IF(TRIM(BY37)=\"\",0,IF(BZ10<IF(OR($F37=\"\",$F37=0),99,$F37),BY37*(1+$E37),BY37*(1+$G37)))","v":0}]
[null,null,null,null,0,null,0,null,{"$f":"IF(TRIM(H38)=\"\",0,IF(I10<IF(OR($F38=\"\",$F38=0),99,$F38),H38*(1+$E38),H38*(1+$G38)))","v":0},0,0,0,0,0,0,0,0,0,0,0,0,0,0,0,0,0,0,{"$f":"IF(TRIM(AA38)=\"\",0,IF(AB10<IF(OR($F38=\"\",$F38=0),99,$F38),AA38*(1+$E38),AA38*(1+$G38)))","v":0},0,0,0,0,0,0,0,0,0,0,{"$f":"IF(TRIM(AL38)=\"\",0,IF(AM10<IF(OR($F38=\"\",$F38=0),99,$F38),AL38*(1+$E38),AL38*(1+$G38)))","v":0},{"$f":"IF(TRIM(AM38)=\"\",0,IF(AN10<IF(OR($F38=\"\",$F38=0),99,$F38),AM38*(1+$E38),AM38*(1+$G38)))","v":0},{"$f":"IF(TRIM(AN38)=\"\",0,IF(AO10<IF(OR($F38=\"\",$F38=0),99,$F38),AN38*(1+$E38),AN38*(1+$G38)))","v":0},{"$f":"IF(TRIM(AO38)=\"\",0,IF(AP10<IF(OR($F38=\"\",$F38=0),99,$F38),AO38*(1+$E38),AO38*(1+$G38)))","v":0},{"$f":"IF(TRIM(AP38)=\"\",0,IF(AQ10<IF(OR($F38=\"\",$F38=0),99,$F38),AP38*(1+$E38),AP38*(1+$G38)))","v":0},{"$f":"IF(TRIM(AQ38)=\"\",0,IF(AR10<IF(OR($F38=\"\",$F38=0),99,$F38),AQ38*(1+$E38),AQ38*(1+$G38)))","v":0},{"$f":"IF(TRIM(AR38)=\"\",0,IF(AS10<IF(OR($F38=\"\",$F38=0),99,$F38),AR38*(1+$E38),AR38*(1+$G38)))","v":0},{"$f":"IF(TRIM(AS38)=\"\",0,IF(AT10<IF(OR($F38=\"\",$F38=0),99,$F38),AS38*(1+$E38),AS38*(1+$G38)))","v":0},{"$f":"IF(TRIM(AT38)=\"\",0,IF(AU10<IF(OR($F38=\"\",$F38=0),99,$F38),AT38*(1+$E38),AT38*(1+$G38)))","v":0},{"$f":"IF(TRIM(AU38)=\"\",0,IF(AV10<IF(OR($F38=\"\",$F38=0),99,$F38),AU38*(1+$E38),AU38*(1+$G38)))","v":0},{"$f":"IF(TRIM(AV38)=\"\",0,IF(AW10<IF(OR($F38=\"\",$F38=0),99,$F38),AV38*(1+$E38),AV38*(1+$G38)))","v":0},{"$f":"IF(TRIM(AW38)=\"\",0,IF(AX10<IF(OR($F38=\"\",$F38=0),99,$F38),AW38*(1+$E38),AW38*(1+$G38)))","v":0},{"$f":"IF(TRIM(AX38)=\"\",0,IF(AY10<IF(OR($F38=\"\",$F38=0),99,$F38),AX38*(1+$E38),AX38*(1+$G38)))","v":0},{"$f":"IF(TRIM(AY38)=\"\",0,IF(AZ10<IF(OR($F38=\"\",$F38=0),99,$F38),AY38*(1+$E38),AY38*(1+$G38)))","v":0},{"$f":"IF(TRIM(AZ38)=\"\",0,IF(BA10<IF(OR($F38=\"\",$F38=0),99,$F38),AZ38*(1+$E38),AZ38*(1+$G38)))","v":0},{"$f":"IF(TRIM(BA38)=\"\",0,IF(BB10<IF(OR($F38=\"\",$F38=0),99,$F38),BA38*(1+$E38),BA38*(1+$G38)))","v":0},{"$f":"IF(TRIM(BB38)=\"\",0,IF(BC10<IF(OR($F38=\"\",$F38=0),99,$F38),BB38*(1+$E38),BB38*(1+$G38)))","v":0},{"$f":"IF(TRIM(BC38)=\"\",0,IF(BD10<IF(OR($F38=\"\",$F38=0),99,$F38),BC38*(1+$E38),BC38*(1+$G38)))","v":0},{"$f":"IF(TRIM(BD38)=\"\",0,IF(BE10<IF(OR($F38=\"\",$F38=0),99,$F38),BD38*(1+$E38),BD38*(1+$G38)))","v":0},{"$f":"IF(TRIM(BE38)=\"\",0,IF(BF10<IF(OR($F38=\"\",$F38=0),99,$F38),BE38*(1+$E38),BE38*(1+$G38)))","v":0},{"$f":"IF(TRIM(BF38)=\"\",0,IF(BG10<IF(OR($F38=\"\",$F38=0),99,$F38),BF38*(1+$E38),BF38*(1+$G38)))","v":0},{"$f":"IF(TRIM(BG38)=\"\",0,IF(BH10<IF(OR($F38=\"\",$F38=0),99,$F38),BG38*(1+$E38),BG38*(1+$G38)))","v":0},{"$f":"IF(TRIM(BH38)=\"\",0,IF(BI10<IF(OR($F38=\"\",$F38=0),99,$F38),BH38*(1+$E38),BH38*(1+$G38)))","v":0},{"$f":"IF(TRIM(BI38)=\"\",0,IF(BJ10<IF(OR($F38=\"\",$F38=0),99,$F38),BI38*(1+$E38),BI38*(1+$G38)))","v":0},{"$f":"IF(TRIM(BJ38)=\"\",0,IF(BK10<IF(OR($F38=\"\",$F38=0),99,$F38),BJ38*(1+$E38),BJ38*(1+$G38)))","v":0},{"$f":"IF(TRIM(BK38)=\"\",0,IF(BL10<IF(OR($F38=\"\",$F38=0),99,$F38),BK38*(1+$E38),BK38*(1+$G38)))","v":0},{"$f":"IF(TRIM(BL38)=\"\",0,IF(BM10<IF(OR($F38=\"\",$F38=0),99,$F38),BL38*(1+$E38),BL38*(1+$G38)))","v":0},{"$f":"IF(TRIM(BM38)=\"\",0,IF(BN10<IF(OR($F38=\"\",$F38=0),99,$F38),BM38*(1+$E38),BM38*(1+$G38)))","v":0},{"$f":"IF(TRIM(BN38)=\"\",0,IF(BO10<IF(OR($F38=\"\",$F38=0),99,$F38),BN38*(1+$E38),BN38*(1+$G38)))","v":0},{"$f":"IF(TRIM(BO38)=\"\",0,IF(BP10<IF(OR($F38=\"\",$F38=0),99,$F38),BO38*(1+$E38),BO38*(1+$G38)))","v":0},{"$f":"IF(TRIM(BP38)=\"\",0,IF(BQ10<IF(OR($F38=\"\",$F38=0),99,$F38),BP38*(1+$E38),BP38*(1+$G38)))","v":0},{"$f":"IF(TRIM(BQ38)=\"\",0,IF(BR10<IF(OR($F38=\"\",$F38=0),99,$F38),BQ38*(1+$E38),BQ38*(1+$G38)))","v":0},{"$f":"IF(TRIM(BR38)=\"\",0,IF(BS10<IF(OR($F38=\"\",$F38=0),99,$F38),BR38*(1+$E38),BR38*(1+$G38)))","v":0},{"$f":"IF(TRIM(BS38)=\"\",0,IF(BT10<IF(OR($F38=\"\",$F38=0),99,$F38),BS38*(1+$E38),BS38*(1+$G38)))","v":0},{"$f":"IF(TRIM(BT38)=\"\",0,IF(BU10<IF(OR($F38=\"\",$F38=0),99,$F38),BT38*(1+$E38),BT38*(1+$G38)))","v":0},{"$f":"IF(TRIM(BU38)=\"\",0,IF(BV10<IF(OR($F38=\"\",$F38=0),99,$F38),BU38*(1+$E38),BU38*(1+$G38)))","v":0},{"$f":"IF(TRIM(BV38)=\"\",0,IF(BW10<IF(OR($F38=\"\",$F38=0),99,$F38),BV38*(1+$E38),BV38*(1+$G38)))","v":0},{"$f":"IF(TRIM(BW38)=\"\",0,IF(BX10<IF(OR($F38=\"\",$F38=0),99,$F38),BW38*(1+$E38),BW38*(1+$G38)))","v":0},{"$f":"IF(TRIM(BX38)=\"\",0,IF(BY10<IF(OR($F38=\"\",$F38=0),99,$F38),BX38*(1+$E38),BX38*(1+$G38)))","v":0},{"$f":"IF(TRIM(BY38)=\"\",0,IF(BZ10<IF(OR($F38=\"\",$F38=0),99,$F38),BY38*(1+$E38),BY38*(1+$G38)))","v":0}]
[null,null,null,"その他一時的支出"]
[null,null,null,"支出合計",null,null,null,{"$f":"SUM(H31:H39)","v":0},{"$f":"SUM(I31:I39)","v":0},0,0,0,0,0,0,0,0,0,0,0,0,0,0,0,0,0,0,0,0,0,0,0,0,0,0,0,0,{"$f":"SUM(AL31:AL39)","v":0},{"$f":"SUM(AM31:AM39)","v":0},0,0,0,0,0,0,0,0,{"$f":"SUM(AV31:AV39)","v":0},{"$f":"SUM(AW31:AW39)","v":0},0,0,0,0,0,0,0,0,{"$f":"SUM(BF31:BF39)","v":0},{"$f":"SUM(BG31:BG39)","v":0},0,0,0,0,0,0,0,0,{"$f":"SUM(BP31:BP39)","v":0},{"$f":"SUM(BQ31:BQ39)","v":0},0,0,0,0,0,0,0,0,{"$f":"SUM(BZ31:BZ39)","v":0}]
[null,null,"年間収支",null,null,null,null,{"$f":"H30-H40","v":0},{"$f":"I30-I40","v":0},0,0,0,0,0,0,0,0,0,0,0,0,0,0,0,0,0,0,0,0,0,0,0,0,0,0,0,0,{"$f":"AL30-AL40","v":0},{"$f":"AM30-AM40","v":0},0,0,0,0,0,0,0,0,{"$f":"AV30-AV40","v":0},{"$f":"AW30-AW40","v":0},0,0,0,0,0,0,0,0,{"$f":"BF30-BF40","v":0},{"$f":"BG30-BG40","v":0},0,0,0,0,0,0,0,0,{"$f":"BP30-BP40","v":0},{"$f":"BQ30-BQ40","v":0},0,0,0,0,0,0,0,0,{"$f":"BZ30-BZ40","v":0}]
[null,null,"貯蓄残高",null,0,null,null,{"$f":"IF(ISBLANK('1-8-1.保有している金融商品、不動産 現状'!$E$27),0,'1-8-1.保有している金融商品、不動産 現状'!$E$27)+H41","v":0},{"$f":"IF(H42<0,H42+I41,H42*(1+$E42)+I41)","v":0},{"$f":"IF(I42<0,I42+J41,I42*(1+$E42)+J41)","v":0},0,0,0,0,0,0,0,0,0,0,0,0,0,0,0,0,0,{"$f":"IF(AA42<0,AA42+AB41,AA42*(1+$E42)+AB41)","v":0},0,0,0,0,0,0,0,0,0,{"$f":"IF(AK42<0,AK42+AL41,AK42*(1+$E42)+AL41)","v":0},{"$f":"IF(AL42<0,AL42+AM41,AL42*(1+$E42)+AM41)","v":0},{"$f":"IF(AM42<0,AM42+AN41,AM42*(1+$E42)+AN41)","v":0},{"$f":"IF(AN42<0,AN42+AO41,AN42*(1+$E42)+AO41)","v":0},{"$f":"IF(AO42<0,AO42+AP41,AO42*(1+$E42)+AP41)","v":0},{"$f":"IF(AP42<0,AP42+AQ41,AP42*(1+$E42)+AQ41)","v":0},{"$f":"IF(AQ42<0,AQ42+AR41,AQ42*(1+$E42)+AR41)","v":0},{"$f":"IF(AR42<0,AR42+AS41,AR42*(1+$E42)+AS41)","v":0},{"$f":"IF(AS42<0,AS42+AT41,AS42*(1+$E42)+AT41)","v":0},{"$f":"IF(AT42<0,AT42+AU41,AT42*(1+$E42)+AU41)","v":0},{"$f":"IF(AU42<0,AU42+AV41,AU42*(1+$E42)+AV41)","v":0},{"$f":"IF(AV42<0,AV42+AW41,AV42*(1+$E42)+AW41)","v":0},{"$f":"IF(AW42<0,AW42+AX41,AW42*(1+$E42)+AX41)","v":0},{"$f":"IF(AX42<0,AX42+AY41,AX42*(1+$E42)+AY41)","v":0},{"$f":"IF(AY42<0,AY42+AZ41,AY42*(1+$E42)+AZ41)","v":0},{"$f":"IF(AZ42<0,AZ42+BA41,AZ42*(1+$E42)+BA41)","v":0},{"$f":"IF(BA42<0,BA42+BB41,BA42*(1+$E42)+BB41)","v":0},{"$f":"IF(BB42<0,BB42+BC41,BB42*(1+$E42)+BC41)","v":0},{"$f":"IF(BC42<0,BC42+BD41,BC42*(1+$E42)+BD41)","v":0},{"$f":"IF(BD42<0,BD42+BE41,BD42*(1+$E42)+BE41)","v":0},{"$f":"IF(BE42<0,BE42+BF41,BE42*(1+$E42)+BF41)","v":0},{"$f":"IF(BF42<0,BF42+BG41,BF42*(1+$E42)+BG41)","v":0},{"$f":"IF(BG42<0,BG42+BH41,BG42*(1+$E42)+BH41)","v":0},{"$f":"IF(BH42<0,BH42+BI41,BH42*(1+$E42)+BI41)","v":0},{"$f":"IF(BI42<0,BI42+BJ41,BI42*(1+$E42)+BJ41)","v":0},{"$f":"IF(BJ42<0,BJ42+BK41,BJ42*(1+$E42)+BK41)","v":0},{"$f":"IF(BK42<0,BK42+BL41,BK42*(1+$E42)+BL41)","v":0},{"$f":"IF(BL42<0,BL42+BM41,BL42*(1+$E42)+BM41)","v":0},{"$f":"IF(BM42<0,BM42+BN41,BM42*(1+$E42)+BN41)","v":0},{"$f":"IF(BN42<0,BN42+BO41,BN42*(1+$E42)+BO41)","v":0},{"$f":"IF(BO42<0,BO42+BP41,BO42*(1+$E42)+BP41)","v":0},{"$f":"IF(BP42<0,BP42+BQ41,BP42*(1+$E42)+BQ41)","v":0},{"$f":"IF(BQ42<0,BQ42+BR41,BQ42*(1+$E42)+BR41)","v":0},{"$f":"IF(BR42<0,BR42+BS41,BR42*(1+$E42)+BS41)","v":0},{"$f":"IF(BS42<0,BS42+BT41,BS42*(1+$E42)+BT41)","v":0},{"$f":"IF(BT42<0,BT42+BU41,BT42*(1+$E42)+BU41)","v":0},{"$f":"IF(BU42<0,BU42+BV41,BU42*(1+$E42)+BV41)","v":0},{"$f":"IF(BV42<0,BV42+BW41,BV42*(1+$E42)+BW41)","v":0},{"$f":"IF(BW42<0,BW42+BX41,BW42*(1+$E42)+BX41)","v":0},{"$f":"IF(BX42<0,BX42+BY41,BX42*(1+$E42)+BY41)","v":0},{"$f":"IF(BY42<0,BY42+BZ41,BY42*(1+$E42)+BZ41)","v":0}]

{"sheet":"2-9.キャッシュフロー表 現状","index":21,"n_rows":37,"n_cols":88,"rows_kept":37,"cut":false,"hidden":false,"merged":[[14,58,14,87],[35,2,35,7],[36,2,36,6],[24,3,24,7],[34,3,34,7],[25,5,25,6],[25,2,34,2],[33,5,33,6],[32,5,32,6],[31,5,31,6],[30,5,30,6],[29,5,29,6],[28,5,28,6],[27,5,27,6],[26,5,26,6],[15,2,24,2],[20,5,20,6],[19,5,19,6],[14,8,14,38],[23,5,23,6],[22,5,22,6],[21,5,21,6],[18,5,18,6],[14,5,14,7],[17,5,17,6],[16,5,16,6],[15,5,15,6],[14,2,14,3],[4,2,4,7],[5,2,5,7],[6,2,13,2],[6,3,6,6],[12,3,12,6],[11,3,11,6],[10,3,10,6],[9,3,9,6],[8,3,8,6],[7,3,7,6],[13,3,13,6],[4,42,4,47],[5,42,5,47],[6,42,13,42],[6,43,6,46],[7,43,7,46],[8,43,8,46],[9,43,9,46],[10,43,10,46],[11,43,11,46],[12,43,12,46],[13,43,13,46],[14,42,14,43],[14,45,14,47],[15,42,24,42],[15,45,15,46],[16,45,16,46],[17,45,17,46],[18,45,18,46],[19,45,19,46],[20,45,20,46],[21,45,21,46],[22,45,22,46],[23,45,23,46],[24,43,24,47],[35,42,35,47],[36,42,36,46],[25,42,34,42],[25,45,25,46],[26,45,26,46],[27,45,27,46],[28,45,28,46],[29,45,29,46],[30,45,30,46],[31,45,31,46],[32,45,32,46],[33,45,33,46],[34,43,34,47]]}
[]
[]
[null,null,{"$f":"'1-12-1.キャッシュフロー表 現状'!C8","v":"Ⅳ．現状のキャッシュフロー表"},null,null,null,null,null,null,null,null,null,null,null,null,null,null,null,null,null,null,null,null,null,null,null,null,null,null,null,null,null,null,null,null,null,null,null,null,null,null,null,{"$f":"'1-12-1.キャッシュフロー表 現状'!AQ8","v":0}]
[null,null,null,null,null,null,null,null,null,null,null,null,null,null,null,null,null,null,null,null,null,null,null,null,null,null,null,null,null,null,null,null,null,null,null,null,null,null,"（金額の単位：万円）",null,null,null,null,null,null,null,null,null,null,null,null,null,null,null,null,null,null,{"$f":"IF('1-12-1.キャッシュフロー表 現状'!AT9<>\"\",\"（金額の単位：万円）\",\"\")","v":""},null,null,null,null,null,null,null,null,null,{"$f":"IF('1-12-1.キャッシュフロー表 現状'!BD9<>\"\",\"（金額の単位：万円）\",\"\")","v":""},null,null,null,null,null,null,null,null,null,{"$f":"IF('1-12-1.キャッシュフロー表 現状'!BN9<>\"\",\"（金額の単位：万円）\",\"\")","v":""},null,null,null,null,null,null,null,null,null,{"$f":"IF('1-12-1.キャッシュフロー表 現状'!BZ9<>\"\",\"（金額の単位：万円）\",\"\")","v":""}]
[null,null,"経過年数",null,null,null,null,null,"現在",1,2,3,4,5,6,7,8,9,10,11,12,13,14,15,16,17,18,19,20,21,22,23,24,25,26,27,28,29,30,null,null,null,"経過年数",null,null,null,null,null,31,32,33,34,35,36,37,38,39,40,41,42,43,44,45,46,47,48,49,50,51,52,53,54,55,56,57,58,59,60,61,62,63,64,65,66,67,68,69,70]
[null,null,"西暦",null,null,null,null,null,{"$f":"IF(ISBLANK('1-12-1.キャッシュフロー表 現状'!H11),\"\",'1-12-1.キャッシュフロー表 現状'!H11)","v":""},{"$f":"IF(ISBLANK('1-12-1.キャッシュフロー表 現状'!I11),\"\",'1-12-1.キャッシュフロー表 現状'!I11)","v":""},{"$f":"IF(ISBLANK('1-12-1.キャッシュフロー表 現状'!J11),\"\",'1-12-1.キャッシュフロー表 現状'!J11)","v":""},{"$f":"IF(ISBLANK('1-12-1.キャッシュフロー表 現状'!K11),\"\",'1-12-1.キャッシュフロー表 現状'!K11)","v":""},{"$f":"IF(ISBLANK('1-12-1.キャッシュフロー表 現状'!L11),\"\",'1-12-1.キャッシュフロー表 現状'!L11)","v":""},{"$f":"IF(ISBLANK('1-12-1.キャッシュフロー表 現状'!M11),\"\",'1-12-1.キャッシュフロー表 現状'!M11)","v":""},{"$f":"IF(ISBLANK('1-12-1.キャッシュフロー表 現状'!N11),\"\",'1-12-1.キャッシュフロー表 現状'!N11)","v":""},{"$f":"IF(ISBLANK('1-12-1.キャッシュフロー表 現状'!O11),\"\",'1-12-1.キャッシュフロー表 現状'!O11)","v":""},{"$f":"IF(ISBLANK('1-12-1.キャッシュフロー表 現状'!P11),\"\",'1-12-1.キャッシュフロー表 現状'!P11)","v":""},{"$f":"IF(ISBLANK('1-12-1.キャッシュフロー表 現状'!Q11),\"\",'1-12-1.キャッシュフロー表 現状'!Q11)","v":""},{"$f":"IF(ISBLANK('1-12-1.キャッシュフロー表 現状'!R11),\"\",'1-12-1.キャッシュフロー表 現状'!R11)","v":""},{"$f":"IF(ISBLANK('1-12-1.キャッシュフロー表 現状'!S11),\"\",'1-12-1.キャッシュフロー表 現状'!S11)","v":""},{"$f":"IF(ISBLANK('1-12-1.キャッシュフロー表 現状'!T11),\"\",'1-12-1.キャッシュフロー表 現状'!T11)","v":""},{"$f":"IF(ISBLANK('1-12-1.キャッシュフロー表 現状'!U11),\"\",'1-12-1.キャッシュフロー表 現状'!U11)","v":""},{"$f":"IF(ISBLANK('1-12-1.キャッシュフロー表 現状'!V11),\"\",'1-12-1.キャッシュフロー表 現状'!V11)","v":""},{"$f":"IF(ISBLANK('1-12-1.キャッシュフロー表 現状'!W11),\"\",'1-12-1.キャッシュフロー表 現状'!W11)","v":""},{"$f":"IF(ISBLANK('1-12-1.キャッシュフロー表 現状'!X11),\"\",'1-12-1.キャッシュフロー表 現状'!X11)","v":""},{"$f":"IF(ISBLANK('1-12-1.キャッシュフロー表 現状'!Y11),\"\",'1-12-1.キャッシュフロー表 現状'!Y11)","v":""},{"$f":"IF(ISBLANK('1-12-1.キャッシュフロー表 現状'!Z11),\"\",'1-12-1.キャッシュフロー表 現状'!Z11)","v":""},{"$f":"IF(ISBLANK('1-12-1.キャッシュフロー表 現状'!AA11),\"\",'1-12-1.キャッシュフロー表 現状'!AA11)","v":""},{"$f":"IF(ISBLANK('1-12-1.キャッシュフロー表 現状'!AB11),\"\",'1-12-1.キャッシュフロー表 現状'!AB11)","v":""},{"$f":"IF(ISBLANK('1-12-1.キャッシュフロー表 現状'!AC11),\"\",'1-12-1.キャッシュフロー表 現状'!AC11)","v":""},{"$f":"IF(ISBLANK('1-12-1.キャッシュフロー表 現状'!AD11),\"\",'1-12-1.キャッシュフロー表 現状'!AD11)","v":""},{"$f":"IF(ISBLANK('1-12-1.キャッシュフロー表 現状'!AE11),\"\",'1-12-1.キャッシュフロー表 現状'!AE11)","v":""},{"$f":"IF(ISBLANK('1-12-1.キャッシュフロー表 現状'!AF11),\"\",'1-12-1.キャッシュフロー表 現状'!AF11)","v":""},{"$f":"IF(ISBLANK('1-12-1.キャッシュフロー表 現状'!AG11),\"\",'1-12-1.キャッシュフロー表 現状'!AG11)","v":""},{"$f":"IF(ISBLANK('1-12-1.キャッシュフロー表 現状'!AH11),\"\",'1-12-1.キャッシュフロー表 現状'!AH11)","v":""},{"$f":"IF(ISBLANK('1-12-1.キャッシュフロー表 現状'!AI11),\"\",'1-12-1.キャッシュフロー表 現状'!AI11)","v":""},{"$f":"IF(ISBLANK('1-12-1.キャッシュフロー表 現状'!AJ11),\"\",'1-12-1.キャッシュフロー表 現状'!AJ11)","v":""},{"$f":"IF(ISBLANK('1-12-1.キャッシュフロー表 現状'!AK11),\"\",'1-12-1.キャッシュフロー表 現状'!AK11)","v":""},{"$f":"IF(ISBLANK('1-12-1.キャッシュフロー表 現状'!AL11),\"\",'1-12-1.キャッシュフロー表 現状'!AL11)","v":""},null,null,null,"西暦",null,null,null,null,null,{"$f":"IF(ISBLANK('1-12-1.キャッシュフロー表 現状'!AM11),\"\",'1-12-1.キャッシュフロー表 現状'!AM11)","v":""},{"$f":"IF(ISBLANK('1-12-1.キャッシュフロー表 現状'!AN11),\"\",'1-12-1.キャッシュフロー表 現状'!AN11)","v":""},{"$f":"IF(ISBLANK('1-12-1.キャッシュフロー表 現状'!AO11),\"\",'1-12-1.キャッシュフロー表 現状'!AO11)","v":""},{"$f":"IF(ISBLANK('1-12-1.キャッシュフロー表 現状'!AP11),\"\",'1-12-1.キャッシュフロー表 現状'!AP11)","v":""},{"$f":"IF(ISBLANK('1-12-1.キャッシュフロー表 現状'!AQ11),\"\",'1-12-1.キャッシュフロー表 現状'!AQ11)","v":""},{"$f":"IF(ISBLANK('1-12-1.キャッシュフロー表 現状'!AR11),\"\",'1-12-1.キャッシュフロー表 現状'!AR11)","v":""},{"$f":"IF(ISBLANK('1-12-1.キャッシュフロー表 現状'!AS11),\"\",'1-12-1.キャッシュフロー表 現状'!AS11)","v":""},{"$f":"IF(ISBLANK('1-12-1.キャッシュフロー表 現状'!AT11),\"\",'1-12-1.キャッシュフロー表 現状'!AT11)","v":""},{"$f":"IF(ISBLANK('1-12-1.キャッシュフロー表 現状'!AU11),\"\",'1-12-1.キャッシュフロー表 現状'!AU11)","v":""},{"$f":"IF(ISBLANK('1-12-1.キャッシュフロー表 現状'!AV11),\"\",'1-12-1.キャッシュフロー表 現状'!AV11)","v":""},{"$f":"IF(ISBLANK('1-12-1.キャッシュフロー表 現状'!AW11),\"\",'1-12-1.キャッシュフロー表 現状'!AW11)","v":""},{"$f":"IF(ISBLANK('1-12-1.キャッシュフロー表 現状'!AX11),\"\",'1-12-1.キャッシュフロー表 現状'!AX11)","v":""},{"$f":"IF(ISBLANK('1-12-1.キャッシュフロー表 現状'!AY11),\"\",'1-12-1.キャッシュフロー表 現状'!AY11)","v":""},{"$f":"IF(ISBLANK('1-12-1.キャッシュフロー表 現状'!AZ11),\"\",'1-12-1.キャッシュフロー表 現状'!AZ11)","v":""},{"$f":"IF(ISBLANK('1-12-1.キャッシュフロー表 現状'!BA11),\"\",'1-12-1.キャッシュフロー表 現状'!BA11)","v":""},{"$f":"IF(ISBLANK('1-12-1.キャッシュフロー表 現状'!BB11),\"\",'1-12-1.キャッシュフロー表 現状'!BB11)","v":""},{"$f":"IF(ISBLANK('1-12-1.キャッシュフロー表 現状'!BC11),\"\",'1-12-1.キャッシュフロー表 現状'!BC11)","v":""},{"$f":"IF(ISBLANK('1-12-1.キャッシュフロー表 現状'!BD11),\"\",'1-12-1.キャッシュフロー表 現状'!BD11)","v":""},{"$f":"IF(ISBLANK('1-12-1.キャッシュフロー表 現状'!BE11),\"\",'1-12-1.キャッシュフロー表 現状'!BE11)","v":""},{"$f":"IF(ISBLANK('1-12-1.キャッシュフロー表 現状'!BF11),\"\",'1-12-1.キャッシュフロー表 現状'!BF11)","v":""},{"$f":"IF(ISBLANK('1-12-1.キャッシュフロー表 現状'!BG11),\"\",'1-12-1.キャッシュフロー表 現状'!BG11)","v":""},{"$f":"IF(ISBLANK('1-12-1.キャッシュフロー表 現状'!BH11),\"\",'1-12-1.キャッシュフロー表 現状'!BH11)","v":""},{"$f":"IF(ISBLANK('1-12-1.キャッシュフロー表 現状'!BI11),\"\",'1-12-1.キャッシュフロー表 現状'!BI11)","v":""},{"$f":"IF(ISBLANK('1-12-1.キャッシュフロー表 現状'!BJ11),\"\",'1-12-1.キャッシュフロー表 現状'!BJ11)","v":""},{"$f":"IF(ISBLANK('1-12-1.キャッシュフロー表 現状'!BK11),\"\",'1-12-1.キャッシュフロー表 現状'!BK11)","v":""},{"$f":"IF(ISBLANK('1-12-1.キャッシュフロー表 現状'!BL11),\"\",'1-12-1.キャッシュフロー表 現状'!BL11)","v":""},{"$f":"IF(ISBLANK('1-12-1.キャッシュフロー表 現状'!BM11),\"\",'1-12-1.キャッシュフロー表 現状'!BM11)","v":""},{"$f":"IF(ISBLANK('1-12-1.キャッシュフロー表 現状'!BN11),\"\",'1-12-1.キャッシュフロー表 現状'!BN11)","v":""},{"$f":"IF(ISBLANK('1-12-1.キャッシュフロー表 現状'!BO11),\"\",'1-12-1.キャッシュフロー表 現状'!BO11)","v":""},{"$f":"IF(ISBLANK('1-12-1.キャッシュフロー表 現状'!BP11),\"\",'1-12-1.キャッシュフロー表 現状'!BP11)","v":""},{"$f":"IF(ISBLANK('1-12-1.キャッシュフロー表 現状'!BQ11),\"\",'1-12-1.キャッシュフロー表 現状'!BQ11)","v":""},{"$f":"IF(ISBLANK('1-12-1.キャッシュフロー表 現状'!BR11),\"\",'1-12-1.キャッシュフロー表 現状'!BR11)","v":""},{"$f":"IF(ISBLANK('1-12-1.キャッシュフロー表 現状'!BS11),\"\",'1-12-1.キャッシュフロー表 現状'!BS11)","v":""},{"$f":"IF(ISBLANK('1-12-1.キャッシュフロー表 現状'!BT11),\"\",'1-12-1.キャッシュフロー表 現状'!BT11)","v":""},{"$f":"IF(ISBLANK('1-12-1.キャッシュフロー表 現状'!BU11),\"\",'1-12-1.キャッシュフロー表 現状'!BU11)","v":""},{"$f":"IF(ISBLANK('1-12-1.キャッシュフロー表 現状'!BV11),\"\",'1-12-1.キャッシュフロー表 現状'!BV11)","v":""},{"$f":"IF(ISBLANK('1-12-1.キャッシュフロー表 現状'!BW11),\"\",'1-12-1.キャッシュフロー表 現状'!BW11)","v":""},{"$f":"IF(ISBLANK('1-12-1.キャッシュフロー表 現状'!BX11),\"\",'1-12-1.キャッシュフロー表 現状'!BX11)","v":""},{"$f":"IF(ISBLANK('1-12-1.キャッシュフロー表 現状'!BY11),\"\",'1-12-1.キャッシュフロー表 現状'!BY11)","v":""},{"$f":"IF(ISBLANK('1-12-1.キャッシュフロー表 現状'!BZ11),\"\",'1-12-1.キャッシュフロー表 現状'!BZ11)","v":""}]
[null,null,"家族構成と年齢",{"$f":"IF(ISBLANK('1-12-1.キャッシュフロー表 現状'!D12),\"\",'1-12-1.キャッシュフロー表 現状'!D12)","v":""},null,null,null,{"$f":"IF(ISBLANK('1-12-1.キャッシュフロー表 現状'!G12),\"\",'1-12-1.キャッシュフロー表 現状'!G12)","v":""},{"$f":"IF(ISBLANK('1-12-1.キャッシュフロー表 現状'!H12),\"\",'1-12-1.キャッシュフロー表 現状'!H12)","v":""},{"$f":"IF(ISBLANK('1-12-1.キャッシュフロー表 現状'!I12),\"\",'1-12-1.キャッシュフロー表 現状'!I12)","v":""},{"$f":"IF(ISBLANK('1-12-1.キャッシュフロー表 現状'!J12),\"\",'1-12-1.キャッシュフロー表 現状'!J12)","v":""},{"$f":"IF(ISBLANK('1-12-1.キャッシュフロー表 現状'!K12),\"\",'1-12-1.キャッシュフロー表 現状'!K12)","v":""},{"$f":"IF(ISBLANK('1-12-1.キャッシュフロー表 現状'!L12),\"\",'1-12-1.キャッシュフロー表 現状'!L12)","v":""},{"$f":"IF(ISBLANK('1-12-1.キャッシュフロー表 現状'!M12),\"\",'1-12-1.キャッシュフロー表 現状'!M12)","v":""},{"$f":"IF(ISBLANK('1-12-1.キャッシュフロー表 現状'!N12),\"\",'1-12-1.キャッシュフロー表 現状'!N12)","v":""},{"$f":"IF(ISBLANK('1-12-1.キャッシュフロー表 現状'!O12),\"\",'1-12-1.キャッシュフロー表 現状'!O12)","v":""},{"$f":"IF(ISBLANK('1-12-1.キャッシュフロー表 現状'!P12),\"\",'1-12-1.キャッシュフロー表 現状'!P12)","v":""},{"$f":"IF(ISBLANK('1-12-1.キャッシュフロー表 現状'!Q12),\"\",'1-12-1.キャッシュフロー表 現状'!Q12)","v":""},{"$f":"IF(ISBLANK('1-12-1.キャッシュフロー表 現状'!R12),\"\",'1-12-1.キャッシュフロー表 現状'!R12)","v":""},{"$f":"IF(ISBLANK('1-12-1.キャッシュフロー表 現状'!S12),\"\",'1-12-1.キャッシュフロー表 現状'!S12)","v":""},{"$f":"IF(ISBLANK('1-12-1.キャッシュフロー表 現状'!T12),\"\",'1-12-1.キャッシュフロー表 現状'!T12)","v":""},{"$f":"IF(ISBLANK('1-12-1.キャッシュフロー表 現状'!U12),\"\",'1-12-1.キャッシュフロー表 現状'!U12)","v":""},{"$f":"IF(ISBLANK('1-12-1.キャッシュフロー表 現状'!V12),\"\",'1-12-1.キャッシュフロー表 現状'!V12)","v":""},{"$f":"IF(ISBLANK('1-12-1.キャッシュフロー表 現状'!W12),\"\",'1-12-1.キャッシュフロー表 現状'!W12)","v":""},{"$f":"IF(ISBLANK('1-12-1.キャッシュフロー表 現状'!X12),\"\",'1-12-1.キャッシュフロー表 現状'!X12)","v":""},{"$f":"IF(ISBLANK('1-12-1.キャッシュフロー表 現状'!Y12),\"\",'1-12-1.キャッシュフロー表 現状'!Y12)","v":""},{"$f":"IF(ISBLANK('1-12-1.キャッシュフロー表 現状'!Z12),\"\",'1-12-1.キャッシュフロー表 現状'!Z12)","v":""},{"$f":"IF(ISBLANK('1-12-1.キャッシュフロー表 現状'!AA12),\"\",'1-12-1.キャッシュフロー表 現状'!AA12)","v":""},{"$f":"IF(ISBLANK('1-12-1.キャッシュフロー表 現状'!AB12),\"\",'1-12-1.キャッシュフロー表 現状'!AB12)","v":""},{"$f":"IF(ISBLANK('1-12-1.キャッシュフロー表 現状'!AC12),\"\",'1-12-1.キャッシュフロー表 現状'!AC12)","v":""},{"$f":"IF(ISBLANK('1-12-1.キャッシュフロー表 現状'!AD12),\"\",'1-12-1.キャッシュフロー表 現状'!AD12)","v":""},{"$f":"IF(ISBLANK('1-12-1.キャッシュフロー表 現状'!AE12),\"\",'1-12-1.キャッシュフロー表 現状'!AE12)","v":""},{"$f":"IF(ISBLANK('1-12-1.キャッシュフロー表 現状'!AF12),\"\",'1-12-1.キャッシュフロー表 現状'!AF12)","v":""},{"$f":"IF(ISBLANK('1-12-1.キャッシュフロー表 現状'!AG12),\"\",'1-12-1.キャッシュフロー表 現状'!AG12)","v":""},{"$f":"IF(ISBLANK('1-12-1.キャッシュフロー表 現状'!AH12),\"\",'1-12-1.キャッシュフロー表 現状'!AH12)","v":""},{"$f":"IF(ISBLANK('1-12-1.キャッシュフロー表 現状'!AI12),\"\",'1-12-1.キャッシュフロー表 現状'!AI12)","v":""},{"$f":"IF(ISBLANK('1-12-1.キャッシュフロー表 現状'!AJ12),\"\",'1-12-1.キャッシュフロー表 現状'!AJ12)","v":""},{"$f":"IF(ISBLANK('1-12-1.キャッシュフロー表 現状'!AK12),\"\",'1-12-1.キャッシュフロー表 現状'!AK12)","v":""},{"$f":"IF(ISBLANK('1-12-1.キャッシュフロー表 現状'!AL12),\"\",'1-12-1.キャッシュフロー表 現状'!AL12)","v":""},null,null,null,"家族構成と年齢",{"$f":"IF(ISBLANK('1-12-1.キャッシュフロー表 現状'!D12),\"\",'1-12-1.キャッシュフロー表 現状'!D12)","v":""},null,null,null,{"$f":"IF(ISBLANK('1-12-1.キャッシュフロー表 現状'!G12),\"\",'1-12-1.キャッシュフロー表 現状'!G12)","v":""},{"$f":"IF(ISBLANK('1-12-1.キャッシュフロー表 現状'!AM12),\"\",'1-12-1.キャッシュフロー表 現状'!AM12)","v":""},{"$f":"IF(ISBLANK('1-12-1.キャッシュフロー表 現状'!AN12),\"\",'1-12-1.キャッシュフロー表 現状'!AN12)","v":""},{"$f":"IF(ISBLANK('1-12-1.キャッシュフロー表 現状'!AO12),\"\",'1-12-1.キャッシュフロー表 現状'!AO12)","v":""},{"$f":"IF(ISBLANK('1-12-1.キャッシュフロー表 現状'!AP12),\"\",'1-12-1.キャッシュフロー表 現状'!AP12)","v":""},{"$f":"IF(ISBLANK('1-12-1.キャッシュフロー表 現状'!AQ12),\"\",'1-12-1.キャッシュフロー表 現状'!AQ12)","v":""},{"$f":"IF(ISBLANK('1-12-1.キャッシュフロー表 現状'!AR12),\"\",'1-12-1.キャッシュフロー表 現状'!AR12)","v":""},{"$f":"IF(ISBLANK('1-12-1.キャッシュフロー表 現状'!AS12),\"\",'1-12-1.キャッシュフロー表 現状'!AS12)","v":""},{"$f":"IF(ISBLANK('1-12-1.キャッシュフロー表 現状'!AT12),\"\",'1-12-1.キャッシュフロー表 現状'!AT12)","v":""},{"$f":"IF(ISBLANK('1-12-1.キャッシュフロー表 現状'!AU12),\"\",'1-12-1.キャッシュフロー表 現状'!AU12)","v":""},{"$f":"IF(ISBLANK('1-12-1.キャッシュフロー表 現状'!AV12),\"\",'1-12-1.キャッシュフロー表 現状'!AV12)","v":""},{"$f":"IF(ISBLANK('1-12-1.キャッシュフロー表 現状'!AW12),\"\",'1-12-1.キャッシュフロー表 現状'!AW12)","v":""},{"$f":"IF(ISBLANK('1-12-1.キャッシュフロー表 現状'!AX12),\"\",'1-12-1.キャッシュフロー表 現状'!AX12)","v":""},{"$f":"IF(ISBLANK('1-12-1.キャッシュフロー表 現状'!AY12),\"\",'1-12-1.キャッシュフロー表 現状'!AY12)","v":""},{"$f":"IF(ISBLANK('1-12-1.キャッシュフロー表 現状'!AZ12),\"\",'1-12-1.キャッシュフロー表 現状'!AZ12)","v":""},{"$f":"IF(ISBLANK('1-12-1.キャッシュフロー表 現状'!BA12),\"\",'1-12-1.キャッシュフロー表 現状'!BA12)","v":""},{"$f":"IF(ISBLANK('1-12-1.キャッシュフロー表 現状'!BB12),\"\",'1-12-1.キャッシュフロー表 現状'!BB12)","v":""},{"$f":"IF(ISBLANK('1-12-1.キャッシュフロー表 現状'!BC12),\"\",'1-12-1.キャッシュフロー表 現状'!BC12)","v":""},{"$f":"IF(ISBLANK('1-12-1.キャッシュフロー表 現状'!BD12),\"\",'1-12-1.キャッシュフロー表 現状'!BD12)","v":""},{"$f":"IF(ISBLANK('1-12-1.キャッシュフロー表 現状'!BE12),\"\",'1-12-1.キャッシュフロー表 現状'!BE12)","v":""},{"$f":"IF(ISBLANK('1-12-1.キャッシュフロー表 現状'!BF12),\"\",'1-12-1.キャッシュフロー表 現状'!BF12)","v":""},{"$f":"IF(ISBLANK('1-12-1.キャッシュフロー表 現状'!BG12),\"\",'1-12-1.キャッシュフロー表 現状'!BG12)","v":""},{"$f":"IF(ISBLANK('1-12-1.キャッシュフロー表 現状'!BH12),\"\",'1-12-1.キャッシュフロー表 現状'!BH12)","v":""},{"$f":"IF(ISBLANK('1-12-1.キャッシュフロー表 現状'!BI12),\"\",'1-12-1.キャッシュフロー表 現状'!BI12)","v":""},{"$f":"IF(ISBLANK('1-12-1.キャッシュフロー表 現状'!BJ12),\"\",'1-12-1.キャッシュフロー表 現状'!BJ12)","v":""},{"$f":"IF(ISBLANK('1-12-1.キャッシュフロー表 現状'!BK12),\"\",'1-12-1.キャッシュフロー表 現状'!BK12)","v":""},{"$f":"IF(ISBLANK('1-12-1.キャッシュフロー表 現状'!BL12),\"\",'1-12-1.キャッシュフロー表 現状'!BL12)","v":""},{"$f":"IF(ISBLANK('1-12-1.キャッシュフロー表 現状'!BM12),\"\",'1-12-1.キャッシュフロー表 現状'!BM12)","v":""},{"$f":"IF(ISBLANK('1-12-1.キャッシュフロー表 現状'!BN12),\"\",'1-12-1.キャッシュフロー表 現状'!BN12)","v":""},{"$f":"IF(ISBLANK('1-12-1.キャッシュフロー表 現状'!BO12),\"\",'1-12-1.キャッシュフロー表 現状'!BO12)","v":""},{"$f":"IF(ISBLANK('1-12-1.キャッシュフロー表 現状'!BP12),\"\",'1-12-1.キャッシュフロー表 現状'!BP12)","v":""},{"$f":"IF(ISBLANK('1-12-1.キャッシュフロー表 現状'!BQ12),\"\",'1-12-1.キャッシュフロー表 現状'!BQ12)","v":""},{"$f":"IF(ISBLANK('1-12-1.キャッシュフロー表 現状'!BR12),\"\",'1-12-1.キャッシュフロー表 現状'!BR12)","v":""},{"$f":"IF(ISBLANK('1-12-1.キャッシュフロー表 現状'!BS12),\"\",'1-12-1.キャッシュフロー表 現状'!BS12)","v":""},{"$f":"IF(ISBLANK('1-12-1.キャッシュフロー表 現状'!BT12),\"\",'1-12-1.キャッシュフロー表 現状'!BT12)","v":""},{"$f":"IF(ISBLANK('1-12-1.キャッシュフロー表 現状'!BU12),\"\",'1-12-1.キャッシュフロー表 現状'!BU12)","v":""},{"$f":"IF(ISBLANK('1-12-1.キャッシュフロー表 現状'!BV12),\"\",'1-12-1.キャッシュフロー表 現状'!BV12)","v":""},{"$f":"IF(ISBLANK('1-12-1.キャッシュフロー表 現状'!BW12),\"\",'1-12-1.キャッシュフロー表 現状'!BW12)","v":""},{"$f":"IF(ISBLANK('1-12-1.キャッシュフロー表 現状'!BX12),\"\",'1-12-1.キャッシュフロー表 現状'!BX12)","v":""},{"$f":"IF(ISBLANK('1-12-1.キャッシュフロー表 現状'!BY12),\"\",'1-12-1.キャッシュフロー表 現状'!BY12)","v":""},{"$f":"IF(ISBLANK('1-12-1.キャッシュフロー表 現状'!BZ12),\"\",'1-12-1.キャッシュフロー表 現状'!BZ12)","v":""}]
[null,null,null,{"$f":"IF(ISBLANK('1-12-1.キャッシュフロー表 現状'!D13),\"\",'1-12-1.キャッシュフロー表 現状'!D13)","v":""},null,null,null,{"$f":"IF(ISBLANK('1-12-1.キャッシュフロー表 現状'!G13),\"\",'1-12-1.キャッシュフロー表 現状'!G13)","v":""},{"$f":"IF(ISBLANK('1-12-1.キャッシュフロー表 現状'!H13),\"\",'1-12-1.キャッシュフロー表 現状'!H13)","v":""},{"$f":"IF(ISBLANK('1-12-1.キャッシュフロー表 現状'!I13),\"\",'1-12-1.キャッシュフロー表 現状'!I13)","v":""},{"$f":"IF(ISBLANK('1-12-1.キャッシュフロー表 現状'!J13),\"\",'1-12-1.キャッシュフロー表 現状'!J13)","v":""},{"$f":"IF(ISBLANK('1-12-1.キャッシュフロー表 現状'!K13),\"\",'1-12-1.キャッシュフロー表 現状'!K13)","v":""},{"$f":"IF(ISBLANK('1-12-1.キャッシュフロー表 現状'!L13),\"\",'1-12-1.キャッシュフロー表 現状'!L13)","v":""},{"$f":"IF(ISBLANK('1-12-1.キャッシュフロー表 現状'!M13),\"\",'1-12-1.キャッシュフロー表 現状'!M13)","v":""},{"$f":"IF(ISBLANK('1-12-1.キャッシュフロー表 現状'!N13),\"\",'1-12-1.キャッシュフロー表 現状'!N13)","v":""},{"$f":"IF(ISBLANK('1-12-1.キャッシュフロー表 現状'!O13),\"\",'1-12-1.キャッシュフロー表 現状'!O13)","v":""},{"$f":"IF(ISBLANK('1-12-1.キャッシュフロー表 現状'!P13),\"\",'1-12-1.キャッシュフロー表 現状'!P13)","v":""},{"$f":"IF(ISBLANK('1-12-1.キャッシュフロー表 現状'!Q13),\"\",'1-12-1.キャッシュフロー表 現状'!Q13)","v":""},{"$f":"IF(ISBLANK('1-12-1.キャッシュフロー表 現状'!R13),\"\",'1-12-1.キャッシュフロー表 現状'!R13)","v":""},{"$f":"IF(ISBLANK('1-12-1.キャッシュフロー表 現状'!S13),\"\",'1-12-1.キャッシュフロー表 現状'!S13)","v":""},{"$f":"IF(ISBLANK('1-12-1.キャッシュフロー表 現状'!T13),\"\",'1-12-1.キャッシュフロー表 現状'!T13)","v":""},{"$f":"IF(ISBLANK('1-12-1.キャッシュフロー表 現状'!U13),\"\",'1-12-1.キャッシュフロー表 現状'!U13)","v":""},{"$f":"IF(ISBLANK('1-12-1.キャッシュフロー表 現状'!V13),\"\",'1-12-1.キャッシュフロー表 現状'!V13)","v":""},{"$f":"IF(ISBLANK('1-12-1.キャッシュフロー表 現状'!W13),\"\",'1-12-1.キャッシュフロー表 現状'!W13)","v":""},{"$f":"IF(ISBLANK('1-12-1.キャッシュフロー表 現状'!X13),\"\",'1-12-1.キャッシュフロー表 現状'!X13)","v":""},{"$f":"IF(ISBLANK('1-12-1.キャッシュフロー表 現状'!Y13),\"\",'1-12-1.キャッシュフロー表 現状'!Y13)","v":""},{"$f":"IF(ISBLANK('1-12-1.キャッシュフロー表 現状'!Z13),\"\",'1-12-1.キャッシュフロー表 現状'!Z13)","v":""},{"$f":"IF(ISBLANK('1-12-1.キャッシュフロー表 現状'!AA13),\"\",'1-12-1.キャッシュフロー表 現状'!AA13)","v":""},{"$f":"IF(ISBLANK('1-12-1.キャッシュフロー表 現状'!AB13),\"\",'1-12-1.キャッシュフロー表 現状'!AB13)","v":""},{"$f":"IF(ISBLANK('1-12-1.キャッシュフロー表 現状'!AC13),\"\",'1-12-1.キャッシュフロー表 現状'!AC13)","v":""},{"$f":"IF(ISBLANK('1-12-1.キャッシュフロー表 現状'!AD13),\"\",'1-12-1.キャッシュフロー表 現状'!AD13)","v":""},{"$f":"IF(ISBLANK('1-12-1.キャッシュフロー表 現状'!AE13),\"\",'1-12-1.キャッシュフロー表 現状'!AE13)","v":""},{"$f":"IF(ISBLANK('1-12-1.キャッシュフロー表 現状'!AF13),\"\",'1-12-1.キャッシュフロー表 現状'!AF13)","v":""},{"$f":"IF(ISBLANK('1-12-1.キャッシュフロー表 現状'!AG13),\"\",'1-12-1.キャッシュフロー表 現状'!AG13)","v":""},{"$f":"IF(ISBLANK('1-12-1.キャッシュフロー表 現状'!AH13),\"\",'1-12-1.キャッシュフロー表 現状'!AH13)","v":""},{"$f":"IF(ISBLANK('1-12-1.キャッシュフロー表 現状'!AI13),\"\",'1-12-1.キャッシュフロー表 現状'!AI13)","v":""},{"$f":"IF(ISBLANK('1-12-1.キャッシュフロー表 現状'!AJ13),\"\",'1-12-1.キャッシュフロー表 現状'!AJ13)","v":""},{"$f":"IF(ISBLANK('1-12-1.キャッシュフロー表 現状'!AK13),\"\",'1-12-1.キャッシュフロー表 現状'!AK13)","v":""},{"$f":"IF(ISBLANK('1-12-1.キャッシュフロー表 現状'!AL13),\"\",'1-12-1.キャッシュフロー表 現状'!AL13)","v":""},null,null,null,null,{"$f":"IF(ISBLANK('1-12-1.キャッシュフロー表 現状'!D13),\"\",'1-12-1.キャッシュフロー表 現状'!D13)","v":""},null,null,null,{"$f":"IF(ISBLANK('1-12-1.キャッシュフロー表 現状'!G13),\"\",'1-12-1.キャッシュフロー表 現状'!G13)","v":""},{"$f":"IF(ISBLANK('1-12-1.キャッシュフロー表 現状'!AM13),\"\",'1-12-1.キャッシュフロー表 現状'!AM13)","v":""},{"$f":"IF(ISBLANK('1-12-1.キャッシュフロー表 現状'!AN13),\"\",'1-12-1.キャッシュフロー表 現状'!AN13)","v":""},{"$f":"IF(ISBLANK('1-12-1.キャッシュフロー表 現状'!AO13),\"\",'1-12-1.キャッシュフロー表 現状'!AO13)","v":""},{"$f":"IF(ISBLANK('1-12-1.キャッシュフロー表 現状'!AP13),\"\",'1-12-1.キャッシュフロー表 現状'!AP13)","v":""},{"$f":"IF(ISBLANK('1-12-1.キャッシュフロー表 現状'!AQ13),\"\",'1-12-1.キャッシュフロー表 現状'!AQ13)","v":""},{"$f":"IF(ISBLANK('1-12-1.キャッシュフロー表 現状'!AR13),\"\",'1-12-1.キャッシュフロー表 現状'!AR13)","v":""},{"$f":"IF(ISBLANK('1-12-1.キャッシュフロー表 現状'!AS13),\"\",'1-12-1.キャッシュフロー表 現状'!AS13)","v":""},{"$f":"IF(ISBLANK('1-12-1.キャッシュフロー表 現状'!AT13),\"\",'1-12-1.キャッシュフロー表 現状'!AT13)","v":""},{"$f":"IF(ISBLANK('1-12-1.キャッシュフロー表 現状'!AU13),\"\",'1-12-1.キャッシュフロー表 現状'!AU13)","v":""},{"$f":"IF(ISBLANK('1-12-1.キャッシュフロー表 現状'!AV13),\"\",'1-12-1.キャッシュフロー表 現状'!AV13)","v":""},{"$f":"IF(ISBLANK('1-12-1.キャッシュフロー表 現状'!AW13),\"\",'1-12-1.キャッシュフロー表 現状'!AW13)","v":""},{"$f":"IF(ISBLANK('1-12-1.キャッシュフロー表 現状'!AX13),\"\",'1-12-1.キャッシュフロー表 現状'!AX13)","v":""},{"$f":"IF(ISBLANK('1-12-1.キャッシュフロー表 現状'!AY13),\"\",'1-12-1.キャッシュフロー表 現状'!AY13)","v":""},{"$f":"IF(ISBLANK('1-12-1.キャッシュフロー表 現状'!AZ13),\"\",'1-12-1.キャッシュフロー表 現状'!AZ13)","v":""},{"$f":"IF(ISBLANK('1-12-1.キャッシュフロー表 現状'!BA13),\"\",'1-12-1.キャッシュフロー表 現状'!BA13)","v":""},{"$f":"IF(ISBLANK('1-12-1.キャッシュフロー表 現状'!BB13),\"\",'1-12-1.キャッシュフロー表 現状'!BB13)","v":""},{"$f":"IF(ISBLANK('1-12-1.キャッシュフロー表 現状'!BC13),\"\",'1-12-1.キャッシュフロー表 現状'!BC13)","v":""},{"$f":"IF(ISBLANK('1-12-1.キャッシュフロー表 現状'!BD13),\"\",'1-12-1.キャッシュフロー表 現状'!BD13)","v":""},{"$f":"IF(ISBLANK('1-12-1.キャッシュフロー表 現状'!BE13),\"\",'1-12-1.キャッシュフロー表 現状'!BE13)","v":""},{"$f":"IF(ISBLANK('1-12-1.キャッシュフロー表 現状'!BF13),\"\",'1-12-1.キャッシュフロー表 現状'!BF13)","v":""},{"$f":"IF(ISBLANK('1-12-1.キャッシュフロー表 現状'!BG13),\"\",'1-12-1.キャッシュフロー表 現状'!BG13)","v":""},{"$f":"IF(ISBLANK('1-12-1.キャッシュフロー表 現状'!BH13),\"\",'1-12-1.キャッシュフロー表 現状'!BH13)","v":""},{"$f":"IF(ISBLANK('1-12-1.キャッシュフロー表 現状'!BI13),\"\",'1-12-1.キャッシュフロー表 現状'!BI13)","v":""},{"$f":"IF(ISBLANK('1-12-1.キャッシュフロー表 現状'!BJ13),\"\",'1-12-1.キャッシュフロー表 現状'!BJ13)","v":""},{"$f":"IF(ISBLANK('1-12-1.キャッシュフロー表 現状'!BK13),\"\",'1-12-1.キャッシュフロー表 現状'!BK13)","v":""},{"$f":"IF(ISBLANK('1-12-1.キャッシュフロー表 現状'!BL13),\"\",'1-12-1.キャッシュフロー表 現状'!BL13)","v":""},{"$f":"IF(ISBLANK('1-12-1.キャッシュフロー表 現状'!BM13),\"\",'1-12-1.キャッシュフロー表 現状'!BM13)","v":""},{"$f":"IF(ISBLANK('1-12-1.キャッシュフロー表 現状'!BN13),\"\",'1-12-1.キャッシュフロー表 現状'!BN13)","v":""},{"$f":"IF(ISBLANK('1-12-1.キャッシュフロー表 現状'!BO13),\"\",'1-12-1.キャッシュフロー表 現状'!BO13)","v":""},{"$f":"IF(ISBLANK('1-12-1.キャッシュフロー表 現状'!BP13),\"\",'1-12-1.キャッシュフロー表 現状'!BP13)","v":""},{"$f":"IF(ISBLANK('1-12-1.キャッシュフロー表 現状'!BQ13),\"\",'1-12-1.キャッシュフロー表 現状'!BQ13)","v":""},{"$f":"IF(ISBLANK('1-12-1.キャッシュフロー表 現状'!BR13),\"\",'1-12-1.キャッシュフロー表 現状'!BR13)","v":""},{"$f":"IF(ISBLANK('1-12-1.キャッシュフロー表 現状'!BS13),\"\",'1-12-1.キャッシュフロー表 現状'!BS13)","v":""},{"$f":"IF(ISBLANK('1-12-1.キャッシュフロー表 現状'!BT13),\"\",'1-12-1.キャッシュフロー表 現状'!BT13)","v":""},{"$f":"IF(ISBLANK('1-12-1.キャッシュフロー表 現状'!BU13),\"\",'1-12-1.キャッシュフロー表 現状'!BU13)","v":""},{"$f":"IF(ISBLANK('1-12-1.キャッシュフロー表 現状'!BV13),\"\",'1-12-1.キャッシュフロー表 現状'!BV13)","v":""},{"$f":"IF(ISBLANK('1-12-1.キャッシュフロー表 現状'!BW13),\"\",'1-12-1.キャッシュフロー表 現状'!BW13)","v":""},{"$f":"IF(ISBLANK('1-12-1.キャッシュフロー表 現状'!BX13),\"\",'1-12-1.キャッシュフロー表 現状'!BX13)","v":""},{"$f":"IF(ISBLANK('1-12-1.キャッシュフロー表 現状'!BY13),\"\",'1-12-1.キャッシュフロー表 現状'!BY13)","v":""},{"$f":"IF(ISBLANK('1-12-1.キャッシュフロー表 現状'!BZ13),\"\",'1-12-1.キャッシュフロー表 現状'!BZ13)","v":""}]
[null,null,null,{"$f":"IF(ISBLANK('1-12-1.キャッシュフロー表 現状'!D14),\"\",'1-12-1.キャッシュフロー表 現状'!D14)","v":""},null,null,null,{"$f":"IF(ISBLANK('1-12-1.キャッシュフロー表 現状'!G14),\"\",'1-12-1.キャッシュフロー表 現状'!G14)","v":""},{"$f":"IF(ISBLANK('1-12-1.キャッシュフロー表 現状'!H14),\"\",'1-12-1.キャッシュフロー表 現状'!H14)","v":""},{"$f":"IF(ISBLANK('1-12-1.キャッシュフロー表 現状'!I14),\"\",'1-12-1.キャッシュフロー表 現状'!I14)","v":""},{"$f":"IF(ISBLANK('1-12-1.キャッシュフロー表 現状'!J14),\"\",'1-12-1.キャッシュフロー表 現状'!J14)","v":""},{"$f":"IF(ISBLANK('1-12-1.キャッシュフロー表 現状'!K14),\"\",'1-12-1.キャッシュフロー表 現状'!K14)","v":""},{"$f":"IF(ISBLANK('1-12-1.キャッシュフロー表 現状'!L14),\"\",'1-12-1.キャッシュフロー表 現状'!L14)","v":""},{"$f":"IF(ISBLANK('1-12-1.キャッシュフロー表 現状'!M14),\"\",'1-12-1.キャッシュフロー表 現状'!M14)","v":""},{"$f":"IF(ISBLANK('1-12-1.キャッシュフロー表 現状'!N14),\"\",'1-12-1.キャッシュフロー表 現状'!N14)","v":""},{"$f":"IF(ISBLANK('1-12-1.キャッシュフロー表 現状'!O14),\"\",'1-12-1.キャッシュフロー表 現状'!O14)","v":""},{"$f":"IF(ISBLANK('1-12-1.キャッシュフロー表 現状'!P14),\"\",'1-12-1.キャッシュフロー表 現状'!P14)","v":""},{"$f":"IF(ISBLANK('1-12-1.キャッシュフロー表 現状'!Q14),\"\",'1-12-1.キャッシュフロー表 現状'!Q14)","v":""},{"$f":"IF(ISBLANK('1-12-1.キャッシュフロー表 現状'!R14),\"\",'1-12-1.キャッシュフロー表 現状'!R14)","v":""},{"$f":"IF(ISBLANK('1-12-1.キャッシュフロー表 現状'!S14),\"\",'1-12-1.キャッシュフロー表 現状'!S14)","v":""},{"$f":"IF(ISBLANK('1-12-1.キャッシュフロー表 現状'!T14),\"\",'1-12-1.キャッシュフロー表 現状'!T14)","v":""},{"$f":"IF(ISBLANK('1-12-1.キャッシュフロー表 現状'!U14),\"\",'1-12-1.キャッシュフロー表 現状'!U14)","v":""},{"$f":"IF(ISBLANK('1-12-1.キャッシュフロー表 現状'!V14),\"\",'1-12-1.キャッシュフロー表 現状'!V14)","v":""},{"$f":"IF(ISBLANK('1-12-1.キャッシュフロー表 現状'!W14),\"\",'1-12-1.キャッシュフロー表 現状'!W14)","v":""},{"$f":"IF(ISBLANK('1-12-1.キャッシュフロー表 現状'!X14),\"\",'1-12-1.キャッシュフロー表 現状'!X14)","v":""},{"$f":"IF(ISBLANK('1-12-1.キャッシュフロー表 現状'!Y14),\"\",'1-12-1.キャッシュフロー表 現状'!Y14)","v":""},{"$f":"IF(ISBLANK('1-12-1.キャッシュフロー表 現状'!Z14),\"\",'1-12-1.キャッシュフロー表 現状'!Z14)","v":""},{"$f":"IF(ISBLANK('1-12-1.キャッシュフロー表 現状'!AA14),\"\",'1-12-1.キャッシュフロー表 現状'!AA14)","v":""},{"$f":"IF(ISBLANK('1-12-1.キャッシュフロー表 現状'!AB14),\"\",'1-12-1.キャッシュフロー表 現状'!AB14)","v":""},{"$f":"IF(ISBLANK('1-12-1.キャッシュフロー表 現状'!AC14),\"\",'1-12-1.キャッシュフロー表 現状'!AC14)","v":""},{"$f":"IF(ISBLANK('1-12-1.キャッシュフロー表 現状'!AD14),\"\",'1-12-1.キャッシュフロー表 現状'!AD14)","v":""},{"$f":"IF(ISBLANK('1-12-1.キャッシュフロー表 現状'!AE14),\"\",'1-12-1.キャッシュフロー表 現状'!AE14)","v":""},{"$f":"IF(ISBLANK('1-12-1.キャッシュフロー表 現状'!AF14),\"\",'1-12-1.キャッシュフロー表 現状'!AF14)","v":""},{"$f":"IF(ISBLANK('1-12-1.キャッシュフロー表 現状'!AG14),\"\",'1-12-1.キャッシュフロー表 現状'!AG14)","v":""},{"$f":"IF(ISBLANK('1-12-1.キャッシュフロー表 現状'!AH14),\"\",'1-12-1.キャッシュフロー表 現状'!AH14)","v":""},{"$f":"IF(ISBLANK('1-12-1.キャッシュフロー表 現状'!AI14),\"\",'1-12-1.キャッシュフロー表 現状'!AI14)","v":""},{"$f":"IF(ISBLANK('1-12-1.キャッシュフロー表 現状'!AJ14),\"\",'1-12-1.キャッシュフロー表 現状'!AJ14)","v":""},{"$f":"IF(ISBLANK('1-12-1.キャッシュフロー表 現状'!AK14),\"\",'1-12-1.キャッシュフロー表 現状'!AK14)","v":""},{"$f":"IF(ISBLANK('1-12-1.キャッシュフロー表 現状'!AL14),\"\",'1-12-1.キャッシュフロー表 現状'!AL14)","v":""},null,null,null,null,{"$f":"IF(ISBLANK('1-12-1.キャッシュフロー表 現状'!D14),\"\",'1-12-1.キャッシュフロー表 現状'!D14)","v":""},null,null,null,{"$f":"IF(ISBLANK('1-12-1.キャッシュフロー表 現状'!G14),\"\",'1-12-1.キャッシュフロー表 現状'!G14)","v":""},{"$f":"IF(ISBLANK('1-12-1.キャッシュフロー表 現状'!AM14),\"\",'1-12-1.キャッシュフロー表 現状'!AM14)","v":""},{"$f":"IF(ISBLANK('1-12-1.キャッシュフロー表 現状'!AN14),\"\",'1-12-1.キャッシュフロー表 現状'!AN14)","v":""},{"$f":"IF(ISBLANK('1-12-1.キャッシュフロー表 現状'!AO14),\"\",'1-12-1.キャッシュフロー表 現状'!AO14)","v":""},{"$f":"IF(ISBLANK('1-12-1.キャッシュフロー表 現状'!AP14),\"\",'1-12-1.キャッシュフロー表 現状'!AP14)","v":""},{"$f":"IF(ISBLANK('1-12-1.キャッシュフロー表 現状'!AQ14),\"\",'1-12-1.キャッシュフロー表 現状'!AQ14)","v":""},{"$f":"IF(ISBLANK('1-12-1.キャッシュフロー表 現状'!AR14),\"\",'1-12-1.キャッシュフロー表 現状'!AR14)","v":""},{"$f":"IF(ISBLANK('1-12-1.キャッシュフロー表 現状'!AS14),\"\",'1-12-1.キャッシュフロー表 現状'!AS14)","v":""},{"$f":"IF(ISBLANK('1-12-1.キャッシュフロー表 現状'!AT14),\"\",'1-12-1.キャッシュフロー表 現状'!AT14)","v":""},{"$f":"IF(ISBLANK('1-12-1.キャッシュフロー表 現状'!AU14),\"\",'1-12-1.キャッシュフロー表 現状'!AU14)","v":""},{"$f":"IF(ISBLANK('1-12-1.キャッシュフロー表 現状'!AV14),\"\",'1-12-1.キャッシュフロー表 現状'!AV14)","v":""},{"$f":"IF(ISBLANK('1-12-1.キャッシュフロー表 現状'!AW14),\"\",'1-12-1.キャッシュフロー表 現状'!AW14)","v":""},{"$f":"IF(ISBLANK('1-12-1.キャッシュフロー表 現状'!AX14),\"\",'1-12-1.キャッシュフロー表 現状'!AX14)","v":""},{"$f":"IF(ISBLANK('1-12-1.キャッシュフロー表 現状'!AY14),\"\",'1-12-1.キャッシュフロー表 現状'!AY14)","v":""},{"$f":"IF(ISBLANK('1-12-1.キャッシュフロー表 現状'!AZ14),\"\",'1-12-1.キャッシュフロー表 現状'!AZ14)","v":""},{"$f":"IF(ISBLANK('1-12-1.キャッシュフロー表 現状'!BA14),\"\",'1-12-1.キャッシュフロー表 現状'!BA14)","v":""},{"$f":"IF(ISBLANK('1-12-1.キャッシュフロー表 現状'!BB14),\"\",'1-12-1.キャッシュフロー表 現状'!BB14)","v":""},{"$f":"IF(ISBLANK('1-12-1.キャッシュフロー表 現状'!BC14),\"\",'1-12-1.キャッシュフロー表 現状'!BC14)","v":""},{"$f":"IF(ISBLANK('1-12-1.キャッシュフロー表 現状'!BD14),\"\",'1-12-1.キャッシュフロー表 現状'!BD14)","v":""},{"$f":"IF(ISBLANK('1-12-1.キャッシュフロー表 現状'!BE14),\"\",'1-12-1.キャッシュフロー表 現状'!BE14)","v":""},{"$f":"IF(ISBLANK('1-12-1.キャッシュフロー表 現状'!BF14),\"\",'1-12-1.キャッシュフロー表 現状'!BF14)","v":""},{"$f":"IF(ISBLANK('1-12-1.キャッシュフロー表 現状'!BG14),\"\",'1-12-1.キャッシュフロー表 現状'!BG14)","v":""},{"$f":"IF(ISBLANK('1-12-1.キャッシュフロー表 現状'!BH14),\"\",'1-12-1.キャッシュフロー表 現状'!BH14)","v":""},{"$f":"IF(ISBLANK('1-12-1.キャッシュフロー表 現状'!BI14),\"\",'1-12-1.キャッシュフロー表 現状'!BI14)","v":""},{"$f":"IF(ISBLANK('1-12-1.キャッシュフロー表 現状'!BJ14),\"\",'1-12-1.キャッシュフロー表 現状'!BJ14)","v":""},{"$f":"IF(ISBLANK('1-12-1.キャッシュフロー表 現状'!BK14),\"\",'1-12-1.キャッシュフロー表 現状'!BK14)","v":""},{"$f":"IF(ISBLANK('1-12-1.キャッシュフロー表 現状'!BL14),\"\",'1-12-1.キャッシュフロー表 現状'!BL14)","v":""},{"$f":"IF(ISBLANK('1-12-1.キャッシュフロー表 現状'!BM14),\"\",'1-12-1.キャッシュフロー表 現状'!BM14)","v":""},{"$f":"IF(ISBLANK('1-12-1.キャッシュフロー表 現状'!BN14),\"\",'1-12-1.キャッシュフロー表 現状'!BN14)","v":""},{"$f":"IF(ISBLANK('1-12-1.キャッシュフロー表 現状'!BO14),\"\",'1-12-1.キャッシュフロー表 現状'!BO14)","v":""},{"$f":"IF(ISBLANK('1-12-1.キャッシュフロー表 現状'!BP14),\"\",'1-12-1.キャッシュフロー表 現状'!BP14)","v":""},{"$f":"IF(ISBLANK('1-12-1.キャッシュフロー表 現状'!BQ14),\"\",'1-12-1.キャッシュフロー表 現状'!BQ14)","v":""},{"$f":"IF(ISBLANK('1-12-1.キャッシュフロー表 現状'!BR14),\"\",'1-12-1.キャッシュフロー表 現状'!BR14)","v":""},{"$f":"IF(ISBLANK('1-12-1.キャッシュフロー表 現状'!BS14),\"\",'1-12-1.キャッシュフロー表 現状'!BS14)","v":""},{"$f":"IF(ISBLANK('1-12-1.キャッシュフロー表 現状'!BT14),\"\",'1-12-1.キャッシュフロー表 現状'!BT14)","v":""},{"$f":"IF(ISBLANK('1-12-1.キャッシュフロー表 現状'!BU14),\"\",'1-12-1.キャッシュフロー表 現状'!BU14)","v":""},{"$f":"IF(ISBLANK('1-12-1.キャッシュフロー表 現状'!BV14),\"\",'1-12-1.キャッシュフロー表 現状'!BV14)","v":""},{"$f":"IF(ISBLANK('1-12-1.キャッシュフロー表 現状'!BW14),\"\",'1-12-1.キャッシュフロー表 現状'!BW14)","v":""},{"$f":"IF(ISBLANK('1-12-1.キャッシュフロー表 現状'!BX14),\"\",'1-12-1.キャッシュフロー表 現状'!BX14)","v":""},{"$f":"IF(ISBLANK('1-12-1.キャッシュフロー表 現状'!BY14),\"\",'1-12-1.キャッシュフロー表 現状'!BY14)","v":""},{"$f":"IF(ISBLANK('1-12-1.キャッシュフロー表 現状'!BZ14),\"\",'1-12-1.キャッシュフロー表 現状'!BZ14)","v":""}]
[null,null,null,{"$f":"IF(ISBLANK('1-12-1.キャッシュフロー表 現状'!D15),\"\",'1-12-1.キャッシュフロー表 現状'!D15)","v":""},null,null,null,{"$f":"IF(ISBLANK('1-12-1.キャッシュフロー表 現状'!G15),\"\",'1-12-1.キャッシュフロー表 現状'!G15)","v":""},{"$f":"IF(ISBLANK('1-12-1.キャッシュフロー表 現状'!H15),\"\",'1-12-1.キャッシュフロー表 現状'!H15)","v":""},{"$f":"IF(ISBLANK('1-12-1.キャッシュフロー表 現状'!I15),\"\",'1-12-1.キャッシュフロー表 現状'!I15)","v":""},{"$f":"IF(ISBLANK('1-12-1.キャッシュフロー表 現状'!J15),\"\",'1-12-1.キャッシュフロー表 現状'!J15)","v":""},{"$f":"IF(ISBLANK('1-12-1.キャッシュフロー表 現状'!K15),\"\",'1-12-1.キャッシュフロー表 現状'!K15)","v":""},{"$f":"IF(ISBLANK('1-12-1.キャッシュフロー表 現状'!L15),\"\",'1-12-1.キャッシュフロー表 現状'!L15)","v":""},{"$f":"IF(ISBLANK('1-12-1.キャッシュフロー表 現状'!M15),\"\",'1-12-1.キャッシュフロー表 現状'!M15)","v":""},{"$f":"IF(ISBLANK('1-12-1.キャッシュフロー表 現状'!N15),\"\",'1-12-1.キャッシュフロー表 現状'!N15)","v":""},{"$f":"IF(ISBLANK('1-12-1.キャッシュフロー表 現状'!O15),\"\",'1-12-1.キャッシュフロー表 現状'!O15)","v":""},{"$f":"IF(ISBLANK('1-12-1.キャッシュフロー表 現状'!P15),\"\",'1-12-1.キャッシュフロー表 現状'!P15)","v":""},{"$f":"IF(ISBLANK('1-12-1.キャッシュフロー表 現状'!Q15),\"\",'1-12-1.キャッシュフロー表 現状'!Q15)","v":""},{"$f":"IF(ISBLANK('1-12-1.キャッシュフロー表 現状'!R15),\"\",'1-12-1.キャッシュフロー表 現状'!R15)","v":""},{"$f":"IF(ISBLANK('1-12-1.キャッシュフロー表 現状'!S15),\"\",'1-12-1.キャッシュフロー表 現状'!S15)","v":""},{"$f":"IF(ISBLANK('1-12-1.キャッシュフロー表 現状'!T15),\"\",'1-12-1.キャッシュフロー表 現状'!T15)","v":""},{"$f":"IF(ISBLANK('1-12-1.キャッシュフロー表 現状'!U15),\"\",'1-12-1.キャッシュフロー表 現状'!U15)","v":""},{"$f":"IF(ISBLANK('1-12-1.キャッシュフロー表 現状'!V15),\"\",'1-12-1.キャッシュフロー表 現状'!V15)","v":""},{"$f":"IF(ISBLANK('1-12-1.キャッシュフロー表 現状'!W15),\"\",'1-12-1.キャッシュフロー表 現状'!W15)","v":""},{"$f":"IF(ISBLANK('1-12-1.キャッシュフロー表 現状'!X15),\"\",'1-12-1.キャッシュフロー表 現状'!X15)","v":""},{"$f":"IF(ISBLANK('1-12-1.キャッシュフロー表 現状'!Y15),\"\",'1-12-1.キャッシュフロー表 現状'!Y15)","v":""},{"$f":"IF(ISBLANK('1-12-1.キャッシュフロー表 現状'!Z15),\"\",'1-12-1.キャッシュフロー表 現状'!Z15)","v":""},{"$f":"IF(ISBLANK('1-12-1.キャッシュフロー表 現状'!AA15),\"\",'1-12-1.キャッシュフロー表 現状'!AA15)","v":""},{"$f":"IF(ISBLANK('1-12-1.キャッシュフロー表 現状'!AB15),\"\",'1-12-1.キャッシュフロー表 現状'!AB15)","v":""},{"$f":"IF(ISBLANK('1-12-1.キャッシュフロー表 現状'!AC15),\"\",'1-12-1.キャッシュフロー表 現状'!AC15)","v":""},{"$f":"IF(ISBLANK('1-12-1.キャッシュフロー表 現状'!AD15),\"\",'1-12-1.キャッシュフロー表 現状'!AD15)","v":""},{"$f":"IF(ISBLANK('1-12-1.キャッシュフロー表 現状'!AE15),\"\",'1-12-1.キャッシュフロー表 現状'!AE15)","v":""},{"$f":"IF(ISBLANK('1-12-1.キャッシュフロー表 現状'!AF15),\"\",'1-12-1.キャッシュフロー表 現状'!AF15)","v":""},{"$f":"IF(ISBLANK('1-12-1.キャッシュフロー表 現状'!AG15),\"\",'1-12-1.キャッシュフロー表 現状'!AG15)","v":""},{"$f":"IF(ISBLANK('1-12-1.キャッシュフロー表 現状'!AH15),\"\",'1-12-1.キャッシュフロー表 現状'!AH15)","v":""},{"$f":"IF(ISBLANK('1-12-1.キャッシュフロー表 現状'!AI15),\"\",'1-12-1.キャッシュフロー表 現状'!AI15)","v":""},{"$f":"IF(ISBLANK('1-12-1.キャッシュフロー表 現状'!AJ15),\"\",'1-12-1.キャッシュフロー表 現状'!AJ15)","v":""},{"$f":"IF(ISBLANK('1-12-1.キャッシュフロー表 現状'!AK15),\"\",'1-12-1.キャッシュフロー表 現状'!AK15)","v":""},{"$f":"IF(ISBLANK('1-12-1.キャッシュフロー表 現状'!AL15),\"\",'1-12-1.キャッシュフロー表 現状'!AL15)","v":""},null,null,null,null,{"$f":"IF(ISBLANK('1-12-1.キャッシュフロー表 現状'!D15),\"\",'1-12-1.キャッシュフロー表 現状'!D15)","v":""},null,null,null,{"$f":"IF(ISBLANK('1-12-1.キャッシュフロー表 現状'!G15),\"\",'1-12-1.キャッシュフロー表 現状'!G15)","v":""},{"$f":"IF(ISBLANK('1-12-1.キャッシュフロー表 現状'!AM15),\"\",'1-12-1.キャッシュフロー表 現状'!AM15)","v":""},{"$f":"IF(ISBLANK('1-12-1.キャッシュフロー表 現状'!AN15),\"\",'1-12-1.キャッシュフロー表 現状'!AN15)","v":""},{"$f":"IF(ISBLANK('1-12-1.キャッシュフロー表 現状'!AO15),\"\",'1-12-1.キャッシュフロー表 現状'!AO15)","v":""},{"$f":"IF(ISBLANK('1-12-1.キャッシュフロー表 現状'!AP15),\"\",'1-12-1.キャッシュフロー表 現状'!AP15)","v":""},{"$f":"IF(ISBLANK('1-12-1.キャッシュフロー表 現状'!AQ15),\"\",'1-12-1.キャッシュフロー表 現状'!AQ15)","v":""},{"$f":"IF(ISBLANK('1-12-1.キャッシュフロー表 現状'!AR15),\"\",'1-12-1.キャッシュフロー表 現状'!AR15)","v":""},{"$f":"IF(ISBLANK('1-12-1.キャッシュフロー表 現状'!AS15),\"\",'1-12-1.キャッシュフロー表 現状'!AS15)","v":""},{"$f":"IF(ISBLANK('1-12-1.キャッシュフロー表 現状'!AT15),\"\",'1-12-1.キャッシュフロー表 現状'!AT15)","v":""},{"$f":"IF(ISBLANK('1-12-1.キャッシュフロー表 現状'!AU15),\"\",'1-12-1.キャッシュフロー表 現状'!AU15)","v":""},{"$f":"IF(ISBLANK('1-12-1.キャッシュフロー表 現状'!AV15),\"\",'1-12-1.キャッシュフロー表 現状'!AV15)","v":""},{"$f":"IF(ISBLANK('1-12-1.キャッシュフロー表 現状'!AW15),\"\",'1-12-1.キャッシュフロー表 現状'!AW15)","v":""},{"$f":"IF(ISBLANK('1-12-1.キャッシュフロー表 現状'!AX15),\"\",'1-12-1.キャッシュフロー表 現状'!AX15)","v":""},{"$f":"IF(ISBLANK('1-12-1.キャッシュフロー表 現状'!AY15),\"\",'1-12-1.キャッシュフロー表 現状'!AY15)","v":""},{"$f":"IF(ISBLANK('1-12-1.キャッシュフロー表 現状'!AZ15),\"\",'1-12-1.キャッシュフロー表 現状'!AZ15)","v":""},{"$f":"IF(ISBLANK('1-12-1.キャッシュフロー表 現状'!BA15),\"\",'1-12-1.キャッシュフロー表 現状'!BA15)","v":""},{"$f":"IF(ISBLANK('1-12-1.キャッシュフロー表 現状'!BB15),\"\",'1-12-1.キャッシュフロー表 現状'!BB15)","v":""},{"$f":"IF(ISBLANK('1-12-1.キャッシュフロー表 現状'!BC15),\"\",'1-12-1.キャッシュフロー表 現状'!BC15)","v":""},{"$f":"IF(ISBLANK('1-12-1.キャッシュフロー表 現状'!BD15),\"\",'1-12-1.キャッシュフロー表 現状'!BD15)","v":""},{"$f":"IF(ISBLANK('1-12-1.キャッシュフロー表 現状'!BE15),\"\",'1-12-1.キャッシュフロー表 現状'!BE15)","v":""},{"$f":"IF(ISBLANK('1-12-1.キャッシュフロー表 現状'!BF15),\"\",'1-12-1.キャッシュフロー表 現状'!BF15)","v":""},{"$f":"IF(ISBLANK('1-12-1.キャッシュフロー表 現状'!BG15),\"\",'1-12-1.キャッシュフロー表 現状'!BG15)","v":""},{"$f":"IF(ISBLANK('1-12-1.キャッシュフロー表 現状'!BH15),\"\",'1-12-1.キャッシュフロー表 現状'!BH15)","v":""},{"$f":"IF(ISBLANK('1-12-1.キャッシュフロー表 現状'!BI15),\"\",'1-12-1.キャッシュフロー表 現状'!BI15)","v":""},{"$f":"IF(ISBLANK('1-12-1.キャッシュフロー表 現状'!BJ15),\"\",'1-12-1.キャッシュフロー表 現状'!BJ15)","v":""},{"$f":"IF(ISBLANK('1-12-1.キャッシュフロー表 現状'!BK15),\"\",'1-12-1.キャッシュフロー表 現状'!BK15)","v":""},{"$f":"IF(ISBLANK('1-12-1.キャッシュフロー表 現状'!BL15),\"\",'1-12-1.キャッシュフロー表 現状'!BL15)","v":""},{"$f":"IF(ISBLANK('1-12-1.キャッシュフロー表 現状'!BM15),\"\",'1-12-1.キャッシュフロー表 現状'!BM15)","v":""},{"$f":"IF(ISBLANK('1-12-1.キャッシュフロー表 現状'!BN15),\"\",'1-12-1.キャッシュフロー表 現状'!BN15)","v":""},{"$f":"IF(ISBLANK('1-12-1.キャッシュフロー表 現状'!BO15),\"\",'1-12-1.キャッシュフロー表 現状'!BO15)","v":""},{"$f":"IF(ISBLANK('1-12-1.キャッシュフロー表 現状'!BP15),\"\",'1-12-1.キャッシュフロー表 現状'!BP15)","v":""},{"$f":"IF(ISBLANK('1-12-1.キャッシュフロー表 現状'!BQ15),\"\",'1-12-1.キャッシュフロー表 現状'!BQ15)","v":""},{"$f":"IF(ISBLANK('1-12-1.キャッシュフロー表 現状'!BR15),\"\",'1-12-1.キャッシュフロー表 現状'!BR15)","v":""},{"$f":"IF(ISBLANK('1-12-1.キャッシュフロー表 現状'!BS15),\"\",'1-12-1.キャッシュフロー表 現状'!BS15)","v":""},{"$f":"IF(ISBLANK('1-12-1.キャッシュフロー表 現状'!BT15),\"\",'1-12-1.キャッシュフロー表 現状'!BT15)","v":""},{"$f":"IF(ISBLANK('1-12-1.キャッシュフロー表 現状'!BU15),\"\",'1-12-1.キャッシュフロー表 現状'!BU15)","v":""},{"$f":"IF(ISBLANK('1-12-1.キャッシュフロー表 現状'!BV15),\"\",'1-12-1.キャッシュフロー表 現状'!BV15)","v":""},{"$f":"IF(ISBLANK('1-12-1.キャッシュフロー表 現状'!BW15),\"\",'1-12-1.キャッシュフロー表 現状'!BW15)","v":""},{"$f":"IF(ISBLANK('1-12-1.キャッシュフロー表 現状'!BX15),\"\",'1-12-1.キャッシュフロー表 現状'!BX15)","v":""},{"$f":"IF(ISBLANK('1-12-1.キャッシュフロー表 現状'!BY15),\"\",'1-12-1.キャッシュフロー表 現状'!BY15)","v":""},{"$f":"IF(ISBLANK('1-12-1.キャッシュフロー表 現状'!BZ15),\"\",'1-12-1.キャッシュフロー表 現状'!BZ15)","v":""}]
[null,null,null,{"$f":"IF(ISBLANK('1-12-1.キャッシュフロー表 現状'!D16),\"\",'1-12-1.キャッシュフロー表 現状'!D16)","v":""},null,null,null,{"$f":"IF(ISBLANK('1-12-1.キャッシュフロー表 現状'!G16),\"\",'1-12-1.キャッシュフロー表 現状'!G16)","v":""},{"$f":"IF(ISBLANK('1-12-1.キャッシュフロー表 現状'!H16),\"\",'1-12-1.キャッシュフロー表 現状'!H16)","v":""},{"$f":"IF(ISBLANK('1-12-1.キャッシュフロー表 現状'!I16),\"\",'1-12-1.キャッシュフロー表 現状'!I16)","v":""},{"$f":"IF(ISBLANK('1-12-1.キャッシュフロー表 現状'!J16),\"\",'1-12-1.キャッシュフロー表 現状'!J16)","v":""},{"$f":"IF(ISBLANK('1-12-1.キャッシュフロー表 現状'!K16),\"\",'1-12-1.キャッシュフロー表 現状'!K16)","v":""},{"$f":"IF(ISBLANK('1-12-1.キャッシュフロー表 現状'!L16),\"\",'1-12-1.キャッシュフロー表 現状'!L16)","v":""},{"$f":"IF(ISBLANK('1-12-1.キャッシュフロー表 現状'!M16),\"\",'1-12-1.キャッシュフロー表 現状'!M16)","v":""},{"$f":"IF(ISBLANK('1-12-1.キャッシュフロー表 現状'!N16),\"\",'1-12-1.キャッシュフロー表 現状'!N16)","v":""},{"$f":"IF(ISBLANK('1-12-1.キャッシュフロー表 現状'!O16),\"\",'1-12-1.キャッシュフロー表 現状'!O16)","v":""},{"$f":"IF(ISBLANK('1-12-1.キャッシュフロー表 現状'!P16),\"\",'1-12-1.キャッシュフロー表 現状'!P16)","v":""},{"$f":"IF(ISBLANK('1-12-1.キャッシュフロー表 現状'!Q16),\"\",'1-12-1.キャッシュフロー表 現状'!Q16)","v":""},{"$f":"IF(ISBLANK('1-12-1.キャッシュフロー表 現状'!R16),\"\",'1-12-1.キャッシュフロー表 現状'!R16)","v":""},{"$f":"IF(ISBLANK('1-12-1.キャッシュフロー表 現状'!S16),\"\",'1-12-1.キャッシュフロー表 現状'!S16)","v":""},{"$f":"IF(ISBLANK('1-12-1.キャッシュフロー表 現状'!T16),\"\",'1-12-1.キャッシュフロー表 現状'!T16)","v":""},{"$f":"IF(ISBLANK('1-12-1.キャッシュフロー表 現状'!U16),\"\",'1-12-1.キャッシュフロー表 現状'!U16)","v":""},{"$f":"IF(ISBLANK('1-12-1.キャッシュフロー表 現状'!V16),\"\",'1-12-1.キャッシュフロー表 現状'!V16)","v":""},{"$f":"IF(ISBLANK('1-12-1.キャッシュフロー表 現状'!W16),\"\",'1-12-1.キャッシュフロー表 現状'!W16)","v":""},{"$f":"IF(ISBLANK('1-12-1.キャッシュフロー表 現状'!X16),\"\",'1-12-1.キャッシュフロー表 現状'!X16)","v":""},{"$f":"IF(ISBLANK('1-12-1.キャッシュフロー表 現状'!Y16),\"\",'1-12-1.キャッシュフロー表 現状'!Y16)","v":""},{"$f":"IF(ISBLANK('1-12-1.キャッシュフロー表 現状'!Z16),\"\",'1-12-1.キャッシュフロー表 現状'!Z16)","v":""},{"$f":"IF(ISBLANK('1-12-1.キャッシュフロー表 現状'!AA16),\"\",'1-12-1.キャッシュフロー表 現状'!AA16)","v":""},{"$f":"IF(ISBLANK('1-12-1.キャッシュフロー表 現状'!AB16),\"\",'1-12-1.キャッシュフロー表 現状'!AB16)","v":""},{"$f":"IF(ISBLANK('1-12-1.キャッシュフロー表 現状'!AC16),\"\",'1-12-1.キャッシュフロー表 現状'!AC16)","v":""},{"$f":"IF(ISBLANK('1-12-1.キャッシュフロー表 現状'!AD16),\"\",'1-12-1.キャッシュフロー表 現状'!AD16)","v":""},{"$f":"IF(ISBLANK('1-12-1.キャッシュフロー表 現状'!AE16),\"\",'1-12-1.キャッシュフロー表 現状'!AE16)","v":""},{"$f":"IF(ISBLANK('1-12-1.キャッシュフロー表 現状'!AF16),\"\",'1-12-1.キャッシュフロー表 現状'!AF16)","v":""},{"$f":"IF(ISBLANK('1-12-1.キャッシュフロー表 現状'!AG16),\"\",'1-12-1.キャッシュフロー表 現状'!AG16)","v":""},{"$f":"IF(ISBLANK('1-12-1.キャッシュフロー表 現状'!AH16),\"\",'1-12-1.キャッシュフロー表 現状'!AH16)","v":""},{"$f":"IF(ISBLANK('1-12-1.キャッシュフロー表 現状'!AI16),\"\",'1-12-1.キャッシュフロー表 現状'!AI16)","v":""},{"$f":"IF(ISBLANK('1-12-1.キャッシュフロー表 現状'!AJ16),\"\",'1-12-1.キャッシュフロー表 現状'!AJ16)","v":""},{"$f":"IF(ISBLANK('1-12-1.キャッシュフロー表 現状'!AK16),\"\",'1-12-1.キャッシュフロー表 現状'!AK16)","v":""},{"$f":"IF(ISBLANK('1-12-1.キャッシュフロー表 現状'!AL16),\"\",'1-12-1.キャッシュフロー表 現状'!AL16)","v":""},null,null,null,null,{"$f":"IF(ISBLANK('1-12-1.キャッシュフロー表 現状'!D16),\"\",'1-12-1.キャッシュフロー表 現状'!D16)","v":""},null,null,null,{"$f":"IF(ISBLANK('1-12-1.キャッシュフロー表 現状'!G16),\"\",'1-12-1.キャッシュフロー表 現状'!G16)","v":""},{"$f":"IF(ISBLANK('1-12-1.キャッシュフロー表 現状'!AM16),\"\",'1-12-1.キャッシュフロー表 現状'!AM16)","v":""},{"$f":"IF(ISBLANK('1-12-1.キャッシュフロー表 現状'!AN16),\"\",'1-12-1.キャッシュフロー表 現状'!AN16)","v":""},{"$f":"IF(ISBLANK('1-12-1.キャッシュフロー表 現状'!AO16),\"\",'1-12-1.キャッシュフロー表 現状'!AO16)","v":""},{"$f":"IF(ISBLANK('1-12-1.キャッシュフロー表 現状'!AP16),\"\",'1-12-1.キャッシュフロー表 現状'!AP16)","v":""},{"$f":"IF(ISBLANK('1-12-1.キャッシュフロー表 現状'!AQ16),\"\",'1-12-1.キャッシュフロー表 現状'!AQ16)","v":""},{"$f":"IF(ISBLANK('1-12-1.キャッシュフロー表 現状'!AR16),\"\",'1-12-1.キャッシュフロー表 現状'!AR16)","v":""},{"$f":"IF(ISBLANK('1-12-1.キャッシュフロー表 現状'!AS16),\"\",'1-12-1.キャッシュフロー表 現状'!AS16)","v":""},{"$f":"IF(ISBLANK('1-12-1.キャッシュフロー表 現状'!AT16),\"\",'1-12-1.キャッシュフロー表 現状'!AT16)","v":""},{"$f":"IF(ISBLANK('1-12-1.キャッシュフロー表 現状'!AU16),\"\",'1-12-1.キャッシュフロー表 現状'!AU16)","v":""},{"$f":"IF(ISBLANK('1-12-1.キャッシュフロー表 現状'!AV16),\"\",'1-12-1.キャッシュフロー表 現状'!AV16)","v":""},{"$f":"IF(ISBLANK('1-12-1.キャッシュフロー表 現状'!AW16),\"\",'1-12-1.キャッシュフロー表 現状'!AW16)","v":""},{"$f":"IF(ISBLANK('1-12-1.キャッシュフロー表 現状'!AX16),\"\",'1-12-1.キャッシュフロー表 現状'!AX16)","v":""},{"$f":"IF(ISBLANK('1-12-1.キャッシュフロー表 現状'!AY16),\"\",'1-12-1.キャッシュフロー表 現状'!AY16)","v":""},{"$f":"IF(ISBLANK('1-12-1.キャッシュフロー表 現状'!AZ16),\"\",'1-12-1.キャッシュフロー表 現状'!AZ16)","v":""},{"$f":"IF(ISBLANK('1-12-1.キャッシュフロー表 現状'!BA16),\"\",'1-12-1.キャッシュフロー表 現状'!BA16)","v":""},{"$f":"IF(ISBLANK('1-12-1.キャッシュフロー表 現状'!BB16),\"\",'1-12-1.キャッシュフロー表 現状'!BB16)","v":""},{"$f":"IF(ISBLANK('1-12-1.キャッシュフロー表 現状'!BC16),\"\",'1-12-1.キャッシュフロー表 現状'!BC16)","v":""},{"$f":"IF(ISBLANK('1-12-1.キャッシュフロー表 現状'!BD16),\"\",'1-12-1.キャッシュフロー表 現状'!BD16)","v":""},{"$f":"IF(ISBLANK('1-12-1.キャッシュフロー表 現状'!BE16),\"\",'1-12-1.キャッシュフロー表 現状'!BE16)","v":""},{"$f":"IF(ISBLANK('1-12-1.キャッシュフロー表 現状'!BF16),\"\",'1-12-1.キャッシュフロー表 現状'!BF16)","v":""},{"$f":"IF(ISBLANK('1-12-1.キャッシュフロー表 現状'!BG16),\"\",'1-12-1.キャッシュフロー表 現状'!BG16)","v":""},{"$f":"IF(ISBLANK('1-12-1.キャッシュフロー表 現状'!BH16),\"\",'1-12-1.キャッシュフロー表 現状'!BH16)","v":""},{"$f":"IF(ISBLANK('1-12-1.キャッシュフロー表 現状'!BI16),\"\",'1-12-1.キャッシュフロー表 現状'!BI16)","v":""},{"$f":"IF(ISBLANK('1-12-1.キャッシュフロー表 現状'!BJ16),\"\",'1-12-1.キャッシュフロー表 現状'!BJ16)","v":""},{"$f":"IF(ISBLANK('1-12-1.キャッシュフロー表 現状'!BK16),\"\",'1-12-1.キャッシュフロー表 現状'!BK16)","v":""},{"$f":"IF(ISBLANK('1-12-1.キャッシュフロー表 現状'!BL16),\"\",'1-12-1.キャッシュフロー表 現状'!BL16)","v":""},{"$f":"IF(ISBLANK('1-12-1.キャッシュフロー表 現状'!BM16),\"\",'1-12-1.キャッシュフロー表 現状'!BM16)","v":""},{"$f":"IF(ISBLANK('1-12-1.キャッシュフロー表 現状'!BN16),\"\",'1-12-1.キャッシュフロー表 現状'!BN16)","v":""},{"$f":"IF(ISBLANK('1-12-1.キャッシュフロー表 現状'!BO16),\"\",'1-12-1.キャッシュフロー表 現状'!BO16)","v":""},{"$f":"IF(ISBLANK('1-12-1.キャッシュフロー表 現状'!BP16),\"\",'1-12-1.キャッシュフロー表 現状'!BP16)","v":""},{"$f":"IF(ISBLANK('1-12-1.キャッシュフロー表 現状'!BQ16),\"\",'1-12-1.キャッシュフロー表 現状'!BQ16)","v":""},{"$f":"IF(ISBLANK('1-12-1.キャッシュフロー表 現状'!BR16),\"\",'1-12-1.キャッシュフロー表 現状'!BR16)","v":""},{"$f":"IF(ISBLANK('1-12-1.キャッシュフロー表 現状'!BS16),\"\",'1-12-1.キャッシュフロー表 現状'!BS16)","v":""},{"$f":"IF(ISBLANK('1-12-1.キャッシュフロー表 現状'!BT16),\"\",'1-12-1.キャッシュフロー表 現状'!BT16)","v":""},{"$f":"IF(ISBLANK('1-12-1.キャッシュフロー表 現状'!BU16),\"\",'1-12-1.キャッシュフロー表 現状'!BU16)","v":""},{"$f":"IF(ISBLANK('1-12-1.キャッシュフロー表 現状'!BV16),\"\",'1-12-1.キャッシュフロー表 現状'!BV16)","v":""},{"$f":"IF(ISBLANK('1-12-1.キャッシュフロー表 現状'!BW16),\"\",'1-12-1.キャッシュフロー表 現状'!BW16)","v":""},{"$f":"IF(ISBLANK('1-12-1.キャッシュフロー表 現状'!BX16),\"\",'1-12-1.キャッシュフロー表 現状'!BX16)","v":""},{"$f":"IF(ISBLANK('1-12-1.キャッシュフロー表 現状'!BY16),\"\",'1-12-1.キャッシュフロー表 現状'!BY16)","v":""},{"$f":"IF(ISBLANK('1-12-1.キャッシュフロー表 現状'!BZ16),\"\",'1-12-1.キャッシュフロー表 現状'!BZ16)","v":""}]
[null,null,null,{"$f":"IF(ISBLANK('1-12-1.キャッシュフロー表 現状'!D17),\"\",'1-12-1.キャッシュフロー表 現状'!D17)","v":""},null,null,null,{"$f":"IF(ISBLANK('1-12-1.キャッシュフロー表 現状'!G17),\"\",'1-12-1.キャッシュフロー表 現状'!G17)","v":""},{"$f":"IF(ISBLANK('1-12-1.キャッシュフロー表 現状'!H17),\"\",'1-12-1.キャッシュフロー表 現状'!H17)","v":""},{"$f":"IF(ISBLANK('1-12-1.キャッシュフロー表 現状'!I17),\"\",'1-12-1.キャッシュフロー表 現状'!I17)","v":""},{"$f":"IF(ISBLANK('1-12-1.キャッシュフロー表 現状'!J17),\"\",'1-12-1.キャッシュフロー表 現状'!J17)","v":""},{"$f":"IF(ISBLANK('1-12-1.キャッシュフロー表 現状'!K17),\"\",'1-12-1.キャッシュフロー表 現状'!K17)","v":""},{"$f":"IF(ISBLANK('1-12-1.キャッシュフロー表 現状'!L17),\"\",'1-12-1.キャッシュフロー表 現状'!L17)","v":""},{"$f":"IF(ISBLANK('1-12-1.キャッシュフロー表 現状'!M17),\"\",'1-12-1.キャッシュフロー表 現状'!M17)","v":""},{"$f":"IF(ISBLANK('1-12-1.キャッシュフロー表 現状'!N17),\"\",'1-12-1.キャッシュフロー表 現状'!N17)","v":""},{"$f":"IF(ISBLANK('1-12-1.キャッシュフロー表 現状'!O17),\"\",'1-12-1.キャッシュフロー表 現状'!O17)","v":""},{"$f":"IF(ISBLANK('1-12-1.キャッシュフロー表 現状'!P17),\"\",'1-12-1.キャッシュフロー表 現状'!P17)","v":""},{"$f":"IF(ISBLANK('1-12-1.キャッシュフロー表 現状'!Q17),\"\",'1-12-1.キャッシュフロー表 現状'!Q17)","v":""},{"$f":"IF(ISBLANK('1-12-1.キャッシュフロー表 現状'!R17),\"\",'1-12-1.キャッシュフロー表 現状'!R17)","v":""},{"$f":"IF(ISBLANK('1-12-1.キャッシュフロー表 現状'!S17),\"\",'1-12-1.キャッシュフロー表 現状'!S17)","v":""},{"$f":"IF(ISBLANK('1-12-1.キャッシュフロー表 現状'!T17),\"\",'1-12-1.キャッシュフロー表 現状'!T17)","v":""},{"$f":"IF(ISBLANK('1-12-1.キャッシュフロー表 現状'!U17),\"\",'1-12-1.キャッシュフロー表 現状'!U17)","v":""},{"$f":"IF(ISBLANK('1-12-1.キャッシュフロー表 現状'!V17),\"\",'1-12-1.キャッシュフロー表 現状'!V17)","v":""},{"$f":"IF(ISBLANK('1-12-1.キャッシュフロー表 現状'!W17),\"\",'1-12-1.キャッシュフロー表 現状'!W17)","v":""},{"$f":"IF(ISBLANK('1-12-1.キャッシュフロー表 現状'!X17),\"\",'1-12-1.キャッシュフロー表 現状'!X17)","v":""},{"$f":"IF(ISBLANK('1-12-1.キャッシュフロー表 現状'!Y17),\"\",'1-12-1.キャッシュフロー表 現状'!Y17)","v":""},{"$f":"IF(ISBLANK('1-12-1.キャッシュフロー表 現状'!Z17),\"\",'1-12-1.キャッシュフロー表 現状'!Z17)","v":""},{"$f":"IF(ISBLANK('1-12-1.キャッシュフロー表 現状'!AA17),\"\",'1-12-1.キャッシュフロー表 現状'!AA17)","v":""},{"$f":"IF(ISBLANK('1-12-1.キャッシュフロー表 現状'!AB17),\"\",'1-12-1.キャッシュフロー表 現状'!AB17)","v":""},{"$f":"IF(ISBLANK('1-12-1.キャッシュフロー表 現状'!AC17),\"\",'1-12-1.キャッシュフロー表 現状'!AC17)","v":""},{"$f":"IF(ISBLANK('1-12-1.キャッシュフロー表 現状'!AD17),\"\",'1-12-1.キャッシュフロー表 現状'!AD17)","v":""},{"$f":"IF(ISBLANK('1-12-1.キャッシュフロー表 現状'!AE17),\"\",'1-12-1.キャッシュフロー表 現状'!AE17)","v":""},{"$f":"IF(ISBLANK('1-12-1.キャッシュフロー表 現状'!AF17),\"\",'1-12-1.キャッシュフロー表 現状'!AF17)","v":""},{"$f":"IF(ISBLANK('1-12-1.キャッシュフロー表 現状'!AG17),\"\",'1-12-1.キャッシュフロー表 現状'!AG17)","v":""},{"$f":"IF(ISBLANK('1-12-1.キャッシュフロー表 現状'!AH17),\"\",'1-12-1.キャッシュフロー表 現状'!AH17)","v":""},{"$f":"IF(ISBLANK('1-12-1.キャッシュフロー表 現状'!AI17),\"\",'1-12-1.キャッシュフロー表 現状'!AI17)","v":""},{"$f":"IF(ISBLANK('1-12-1.キャッシュフロー表 現状'!AJ17),\"\",'1-12-1.キャッシュフロー表 現状'!AJ17)","v":""},{"$f":"IF(ISBLANK('1-12-1.キャッシュフロー表 現状'!AK17),\"\",'1-12-1.キャッシュフロー表 現状'!AK17)","v":""},{"$f":"IF(ISBLANK('1-12-1.キャッシュフロー表 現状'!AL17),\"\",'1-12-1.キャッシュフロー表 現状'!AL17)","v":""},null,null,null,null,{"$f":"IF(ISBLANK('1-12-1.キャッシュフロー表 現状'!D17),\"\",'1-12-1.キャッシュフロー表 現状'!D17)","v":""},null,null,null,{"$f":"IF(ISBLANK('1-12-1.キャッシュフロー表 現状'!G17),\"\",'1-12-1.キャッシュフロー表 現状'!G17)","v":""},{"$f":"IF(ISBLANK('1-12-1.キャッシュフロー表 現状'!AM17),\"\",'1-12-1.キャッシュフロー表 現状'!AM17)","v":""},{"$f":"IF(ISBLANK('1-12-1.キャッシュフロー表 現状'!AN17),\"\",'1-12-1.キャッシュフロー表 現状'!AN17)","v":""},{"$f":"IF(ISBLANK('1-12-1.キャッシュフロー表 現状'!AO17),\"\",'1-12-1.キャッシュフロー表 現状'!AO17)","v":""},{"$f":"IF(ISBLANK('1-12-1.キャッシュフロー表 現状'!AP17),\"\",'1-12-1.キャッシュフロー表 現状'!AP17)","v":""},{"$f":"IF(ISBLANK('1-12-1.キャッシュフロー表 現状'!AQ17),\"\",'1-12-1.キャッシュフロー表 現状'!AQ17)","v":""},{"$f":"IF(ISBLANK('1-12-1.キャッシュフロー表 現状'!AR17),\"\",'1-12-1.キャッシュフロー表 現状'!AR17)","v":""},{"$f":"IF(ISBLANK('1-12-1.キャッシュフロー表 現状'!AS17),\"\",'1-12-1.キャッシュフロー表 現状'!AS17)","v":""},{"$f":"IF(ISBLANK('1-12-1.キャッシュフロー表 現状'!AT17),\"\",'1-12-1.キャッシュフロー表 現状'!AT17)","v":""},{"$f":"IF(ISBLANK('1-12-1.キャッシュフロー表 現状'!AU17),\"\",'1-12-1.キャッシュフロー表 現状'!AU17)","v":""},{"$f":"IF(ISBLANK('1-12-1.キャッシュフロー表 現状'!AV17),\"\",'1-12-1.キャッシュフロー表 現状'!AV17)","v":""},{"$f":"IF(ISBLANK('1-12-1.キャッシュフロー表 現状'!AW17),\"\",'1-12-1.キャッシュフロー表 現状'!AW17)","v":""},{"$f":"IF(ISBLANK('1-12-1.キャッシュフロー表 現状'!AX17),\"\",'1-12-1.キャッシュフロー表 現状'!AX17)","v":""},{"$f":"IF(ISBLANK('1-12-1.キャッシュフロー表 現状'!AY17),\"\",'1-12-1.キャッシュフロー表 現状'!AY17)","v":""},{"$f":"IF(ISBLANK('1-12-1.キャッシュフロー表 現状'!AZ17),\"\",'1-12-1.キャッシュフロー表 現状'!AZ17)","v":""},{"$f":"IF(ISBLANK('1-12-1.キャッシュフロー表 現状'!BA17),\"\",'1-12-1.キャッシュフロー表 現状'!BA17)","v":""},{"$f":"IF(ISBLANK('1-12-1.キャッシュフロー表 現状'!BB17),\"\",'1-12-1.キャッシュフロー表 現状'!BB17)","v":""},{"$f":"IF(ISBLANK('1-12-1.キャッシュフロー表 現状'!BC17),\"\",'1-12-1.キャッシュフロー表 現状'!BC17)","v":""},{"$f":"IF(ISBLANK('1-12-1.キャッシュフロー表 現状'!BD17),\"\",'1-12-1.キャッシュフロー表 現状'!BD17)","v":""},{"$f":"IF(ISBLANK('1-12-1.キャッシュフロー表 現状'!BE17),\"\",'1-12-1.キャッシュフロー表 現状'!BE17)","v":""},{"$f":"IF(ISBLANK('1-12-1.キャッシュフロー表 現状'!BF17),\"\",'1-12-1.キャッシュフロー表 現状'!BF17)","v":""},{"$f":"IF(ISBLANK('1-12-1.キャッシュフロー表 現状'!BG17),\"\",'1-12-1.キャッシュフロー表 現状'!BG17)","v":""},{"$f":"IF(ISBLANK('1-12-1.キャッシュフロー表 現状'!BH17),\"\",'1-12-1.キャッシュフロー表 現状'!BH17)","v":""},{"$f":"IF(ISBLANK('1-12-1.キャッシュフロー表 現状'!BI17),\"\",'1-12-1.キャッシュフロー表 現状'!BI17)","v":""},{"$f":"IF(ISBLANK('1-12-1.キャッシュフロー表 現状'!BJ17),\"\",'1-12-1.キャッシュフロー表 現状'!BJ17)","v":""},{"$f":"IF(ISBLANK('1-12-1.キャッシュフロー表 現状'!BK17),\"\",'1-12-1.キャッシュフロー表 現状'!BK17)","v":""},{"$f":"IF(ISBLANK('1-12-1.キャッシュフロー表 現状'!BL17),\"\",'1-12-1.キャッシュフロー表 現状'!BL17)","v":""},{"$f":"IF(ISBLANK('1-12-1.キャッシュフロー表 現状'!BM17),\"\",'1-12-1.キャッシュフロー表 現状'!BM17)","v":""},{"$f":"IF(ISBLANK('1-12-1.キャッシュフロー表 現状'!BN17),\"\",'1-12-1.キャッシュフロー表 現状'!BN17)","v":""},{"$f":"IF(ISBLANK('1-12-1.キャッシュフロー表 現状'!BO17),\"\",'1-12-1.キャッシュフロー表 現状'!BO17)","v":""},{"$f":"IF(ISBLANK('1-12-1.キャッシュフロー表 現状'!BP17),\"\",'1-12-1.キャッシュフロー表 現状'!BP17)","v":""},{"$f":"IF(ISBLANK('1-12-1.キャッシュフロー表 現状'!BQ17),\"\",'1-12-1.キャッシュフロー表 現状'!BQ17)","v":""},{"$f":"IF(ISBLANK('1-12-1.キャッシュフロー表 現状'!BR17),\"\",'1-12-1.キャッシュフロー表 現状'!BR17)","v":""},{"$f":"IF(ISBLANK('1-12-1.キャッシュフロー表 現状'!BS17),\"\",'1-12-1.キャッシュフロー表 現状'!BS17)","v":""},{"$f":"IF(ISBLANK('1-12-1.キャッシュフロー表 現状'!BT17),\"\",'1-12-1.キャッシュフロー表 現状'!BT17)","v":""},{"$f":"IF(ISBLANK('1-12-1.キャッシュフロー表 現状'!BU17),\"\",'1-12-1.キャッシュフロー表 現状'!BU17)","v":""},{"$f":"IF(ISBLANK('1-12-1.キャッシュフロー表 現状'!BV17),\"\",'1-12-1.キャッシュフロー表 現状'!BV17)","v":""},{"$f":"IF(ISBLANK('1-12-1.キャッシュフロー表 現状'!BW17),\"\",'1-12-1.キャッシュフロー表 現状'!BW17)","v":""},{"$f":"IF(ISBLANK('1-12-1.キャッシュフロー表 現状'!BX17),\"\",'1-12-1.キャッシュフロー表 現状'!BX17)","v":""},{"$f":"IF(ISBLANK('1-12-1.キャッシュフロー表 現状'!BY17),\"\",'1-12-1.キャッシュフロー表 現状'!BY17)","v":""},{"$f":"IF(ISBLANK('1-12-1.キャッシュフロー表 現状'!BZ17),\"\",'1-12-1.キャッシュフロー表 現状'!BZ17)","v":""}]
[null,null,null,{"$f":"IF(ISBLANK('1-12-1.キャッシュフロー表 現状'!D18),\"\",'1-12-1.キャッシュフロー表 現状'!D18)","v":""},null,null,null,{"$f":"IF(ISBLANK('1-12-1.キャッシュフロー表 現状'!G18),\"\",'1-12-1.キャッシュフロー表 現状'!G18)","v":""},{"$f":"IF(ISBLANK('1-12-1.キャッシュフロー表 現状'!H18),\"\",'1-12-1.キャッシュフロー表 現状'!H18)","v":""},{"$f":"IF(ISBLANK('1-12-1.キャッシュフロー表 現状'!I18),\"\",'1-12-1.キャッシュフロー表 現状'!I18)","v":""},{"$f":"IF(ISBLANK('1-12-1.キャッシュフロー表 現状'!J18),\"\",'1-12-1.キャッシュフロー表 現状'!J18)","v":""},{"$f":"IF(ISBLANK('1-12-1.キャッシュフロー表 現状'!K18),\"\",'1-12-1.キャッシュフロー表 現状'!K18)","v":""},{"$f":"IF(ISBLANK('1-12-1.キャッシュフロー表 現状'!L18),\"\",'1-12-1.キャッシュフロー表 現状'!L18)","v":""},{"$f":"IF(ISBLANK('1-12-1.キャッシュフロー表 現状'!M18),\"\",'1-12-1.キャッシュフロー表 現状'!M18)","v":""},{"$f":"IF(ISBLANK('1-12-1.キャッシュフロー表 現状'!N18),\"\",'1-12-1.キャッシュフロー表 現状'!N18)","v":""},{"$f":"IF(ISBLANK('1-12-1.キャッシュフロー表 現状'!O18),\"\",'1-12-1.キャッシュフロー表 現状'!O18)","v":""},{"$f":"IF(ISBLANK('1-12-1.キャッシュフロー表 現状'!P18),\"\",'1-12-1.キャッシュフロー表 現状'!P18)","v":""},{"$f":"IF(ISBLANK('1-12-1.キャッシュフロー表 現状'!Q18),\"\",'1-12-1.キャッシュフロー表 現状'!Q18)","v":""},{"$f":"IF(ISBLANK('1-12-1.キャッシュフロー表 現状'!R18),\"\",'1-12-1.キャッシュフロー表 現状'!R18)","v":""},{"$f":"IF(ISBLANK('1-12-1.キャッシュフロー表 現状'!S18),\"\",'1-12-1.キャッシュフロー表 現状'!S18)","v":""},{"$f":"IF(ISBLANK('1-12-1.キャッシュフロー表 現状'!T18),\"\",'1-12-1.キャッシュフロー表 現状'!T18)","v":""},{"$f":"IF(ISBLANK('1-12-1.キャッシュフロー表 現状'!U18),\"\",'1-12-1.キャッシュフロー表 現状'!U18)","v":""},{"$f":"IF(ISBLANK('1-12-1.キャッシュフロー表 現状'!V18),\"\",'1-12-1.キャッシュフロー表 現状'!V18)","v":""},{"$f":"IF(ISBLANK('1-12-1.キャッシュフロー表 現状'!W18),\"\",'1-12-1.キャッシュフロー表 現状'!W18)","v":""},{"$f":"IF(ISBLANK('1-12-1.キャッシュフロー表 現状'!X18),\"\",'1-12-1.キャッシュフロー表 現状'!X18)","v":""},{"$f":"IF(ISBLANK('1-12-1.キャッシュフロー表 現状'!Y18),\"\",'1-12-1.キャッシュフロー表 現状'!Y18)","v":""},{"$f":"IF(ISBLANK('1-12-1.キャッシュフロー表 現状'!Z18),\"\",'1-12-1.キャッシュフロー表 現状'!Z18)","v":""},{"$f":"IF(ISBLANK('1-12-1.キャッシュフロー表 現状'!AA18),\"\",'1-12-1.キャッシュフロー表 現状'!AA18)","v":""},{"$f":"IF(ISBLANK('1-12-1.キャッシュフロー表 現状'!AB18),\"\",'1-12-1.キャッシュフロー表 現状'!AB18)","v":""},{"$f":"IF(ISBLANK('1-12-1.キャッシュフロー表 現状'!AC18),\"\",'1-12-1.キャッシュフロー表 現状'!AC18)","v":""},{"$f":"IF(ISBLANK('1-12-1.キャッシュフロー表 現状'!AD18),\"\",'1-12-1.キャッシュフロー表 現状'!AD18)","v":""},{"$f":"IF(ISBLANK('1-12-1.キャッシュフロー表 現状'!AE18),\"\",'1-12-1.キャッシュフロー表 現状'!AE18)","v":""},{"$f":"IF(ISBLANK('1-12-1.キャッシュフロー表 現状'!AF18),\"\",'1-12-1.キャッシュフロー表 現状'!AF18)","v":""},{"$f":"IF(ISBLANK('1-12-1.キャッシュフロー表 現状'!AG18),\"\",'1-12-1.キャッシュフロー表 現状'!AG18)","v":""},{"$f":"IF(ISBLANK('1-12-1.キャッシュフロー表 現状'!AH18),\"\",'1-12-1.キャッシュフロー表 現状'!AH18)","v":""},{"$f":"IF(ISBLANK('1-12-1.キャッシュフロー表 現状'!AI18),\"\",'1-12-1.キャッシュフロー表 現状'!AI18)","v":""},{"$f":"IF(ISBLANK('1-12-1.キャッシュフロー表 現状'!AJ18),\"\",'1-12-1.キャッシュフロー表 現状'!AJ18)","v":""},{"$f":"IF(ISBLANK('1-12-1.キャッシュフロー表 現状'!AK18),\"\",'1-12-1.キャッシュフロー表 現状'!AK18)","v":""},{"$f":"IF(ISBLANK('1-12-1.キャッシュフロー表 現状'!AL18),\"\",'1-12-1.キャッシュフロー表 現状'!AL18)","v":""},null,null,null,null,{"$f":"IF(ISBLANK('1-12-1.キャッシュフロー表 現状'!D18),\"\",'1-12-1.キャッシュフロー表 現状'!D18)","v":""},null,null,null,{"$f":"IF(ISBLANK('1-12-1.キャッシュフロー表 現状'!G18),\"\",'1-12-1.キャッシュフロー表 現状'!G18)","v":""},{"$f":"IF(ISBLANK('1-12-1.キャッシュフロー表 現状'!AM18),\"\",'1-12-1.キャッシュフロー表 現状'!AM18)","v":""},{"$f":"IF(ISBLANK('1-12-1.キャッシュフロー表 現状'!AN18),\"\",'1-12-1.キャッシュフロー表 現状'!AN18)","v":""},{"$f":"IF(ISBLANK('1-12-1.キャッシュフロー表 現状'!AO18),\"\",'1-12-1.キャッシュフロー表 現状'!AO18)","v":""},{"$f":"IF(ISBLANK('1-12-1.キャッシュフロー表 現状'!AP18),\"\",'1-12-1.キャッシュフロー表 現状'!AP18)","v":""},{"$f":"IF(ISBLANK('1-12-1.キャッシュフロー表 現状'!AQ18),\"\",'1-12-1.キャッシュフロー表 現状'!AQ18)","v":""},{"$f":"IF(ISBLANK('1-12-1.キャッシュフロー表 現状'!AR18),\"\",'1-12-1.キャッシュフロー表 現状'!AR18)","v":""},{"$f":"IF(ISBLANK('1-12-1.キャッシュフロー表 現状'!AS18),\"\",'1-12-1.キャッシュフロー表 現状'!AS18)","v":""},{"$f":"IF(ISBLANK('1-12-1.キャッシュフロー表 現状'!AT18),\"\",'1-12-1.キャッシュフロー表 現状'!AT18)","v":""},{"$f":"IF(ISBLANK('1-12-1.キャッシュフロー表 現状'!AU18),\"\",'1-12-1.キャッシュフロー表 現状'!AU18)","v":""},{"$f":"IF(ISBLANK('1-12-1.キャッシュフロー表 現状'!AV18),\"\",'1-12-1.キャッシュフロー表 現状'!AV18)","v":""},{"$f":"IF(ISBLANK('1-12-1.キャッシュフロー表 現状'!AW18),\"\",'1-12-1.キャッシュフロー表 現状'!AW18)","v":""},{"$f":"IF(ISBLANK('1-12-1.キャッシュフロー表 現状'!AX18),\"\",'1-12-1.キャッシュフロー表 現状'!AX18)","v":""},{"$f":"IF(ISBLANK('1-12-1.キャッシュフロー表 現状'!AY18),\"\",'1-12-1.キャッシュフロー表 現状'!AY18)","v":""},{"$f":"IF(ISBLANK('1-12-1.キャッシュフロー表 現状'!AZ18),\"\",'1-12-1.キャッシュフロー表 現状'!AZ18)","v":""},{"$f":"IF(ISBLANK('1-12-1.キャッシュフロー表 現状'!BA18),\"\",'1-12-1.キャッシュフロー表 現状'!BA18)","v":""},{"$f":"IF(ISBLANK('1-12-1.キャッシュフロー表 現状'!BB18),\"\",'1-12-1.キャッシュフロー表 現状'!BB18)","v":""},{"$f":"IF(ISBLANK('1-12-1.キャッシュフロー表 現状'!BC18),\"\",'1-12-1.キャッシュフロー表 現状'!BC18)","v":""},{"$f":"IF(ISBLANK('1-12-1.キャッシュフロー表 現状'!BD18),\"\",'1-12-1.キャッシュフロー表 現状'!BD18)","v":""},{"$f":"IF(ISBLANK('1-12-1.キャッシュフロー表 現状'!BE18),\"\",'1-12-1.キャッシュフロー表 現状'!BE18)","v":""},{"$f":"IF(ISBLANK('1-12-1.キャッシュフロー表 現状'!BF18),\"\",'1-12-1.キャッシュフロー表 現状'!BF18)","v":""},{"$f":"IF(ISBLANK('1-12-1.キャッシュフロー表 現状'!BG18),\"\",'1-12-1.キャッシュフロー表 現状'!BG18)","v":""},{"$f":"IF(ISBLANK('1-12-1.キャッシュフロー表 現状'!BH18),\"\",'1-12-1.キャッシュフロー表 現状'!BH18)","v":""},{"$f":"IF(ISBLANK('1-12-1.キャッシュフロー表 現状'!BI18),\"\",'1-12-1.キャッシュフロー表 現状'!BI18)","v":""},{"$f":"IF(ISBLANK('1-12-1.キャッシュフロー表 現状'!BJ18),\"\",'1-12-1.キャッシュフロー表 現状'!BJ18)","v":""},{"$f":"IF(ISBLANK('1-12-1.キャッシュフロー表 現状'!BK18),\"\",'1-12-1.キャッシュフロー表 現状'!BK18)","v":""},{"$f":"IF(ISBLANK('1-12-1.キャッシュフロー表 現状'!BL18),\"\",'1-12-1.キャッシュフロー表 現状'!BL18)","v":""},{"$f":"IF(ISBLANK('1-12-1.キャッシュフロー表 現状'!BM18),\"\",'1-12-1.キャッシュフロー表 現状'!BM18)","v":""},{"$f":"IF(ISBLANK('1-12-1.キャッシュフロー表 現状'!BN18),\"\",'1-12-1.キャッシュフロー表 現状'!BN18)","v":""},{"$f":"IF(ISBLANK('1-12-1.キャッシュフロー表 現状'!BO18),\"\",'1-12-1.キャッシュフロー表 現状'!BO18)","v":""},{"$f":"IF(ISBLANK('1-12-1.キャッシュフロー表 現状'!BP18),\"\",'1-12-1.キャッシュフロー表 現状'!BP18)","v":""},{"$f":"IF(ISBLANK('1-12-1.キャッシュフロー表 現状'!BQ18),\"\",'1-12-1.キャッシュフロー表 現状'!BQ18)","v":""},{"$f":"IF(ISBLANK('1-12-1.キャッシュフロー表 現状'!BR18),\"\",'1-12-1.キャッシュフロー表 現状'!BR18)","v":""},{"$f":"IF(ISBLANK('1-12-1.キャッシュフロー表 現状'!BS18),\"\",'1-12-1.キャッシュフロー表 現状'!BS18)","v":""},{"$f":"IF(ISBLANK('1-12-1.キャッシュフロー表 現状'!BT18),\"\",'1-12-1.キャッシュフロー表 現状'!BT18)","v":""},{"$f":"IF(ISBLANK('1-12-1.キャッシュフロー表 現状'!BU18),\"\",'1-12-1.キャッシュフロー表 現状'!BU18)","v":""},{"$f":"IF(ISBLANK('1-12-1.キャッシュフロー表 現状'!BV18),\"\",'1-12-1.キャッシュフロー表 現状'!BV18)","v":""},{"$f":"IF(ISBLANK('1-12-1.キャッシュフロー表 現状'!BW18),\"\",'1-12-1.キャッシュフロー表 現状'!BW18)","v":""},{"$f":"IF(ISBLANK('1-12-1.キャッシュフロー表 現状'!BX18),\"\",'1-12-1.キャッシュフロー表 現状'!BX18)","v":""},{"$f":"IF(ISBLANK('1-12-1.キャッシュフロー表 現状'!BY18),\"\",'1-12-1.キャッシュフロー表 現状'!BY18)","v":""},{"$f":"IF(ISBLANK('1-12-1.キャッシュフロー表 現状'!BZ18),\"\",'1-12-1.キャッシュフロー表 現状'!BZ18)","v":""}]
[null,null,null,{"$f":"IF(ISBLANK('1-12-1.キャッシュフロー表 現状'!D19),\"\",'1-12-1.キャッシュフロー表 現状'!D19)","v":""},null,null,null,{"$f":"IF(ISBLANK('1-12-1.キャッシュフロー表 現状'!G19),\"\",'1-12-1.キャッシュフロー表 現状'!G19)","v":""},{"$f":"IF(ISBLANK('1-12-1.キャッシュフロー表 現状'!H19),\"\",'1-12-1.キャッシュフロー表 現状'!H19)","v":""},{"$f":"IF(ISBLANK('1-12-1.キャッシュフロー表 現状'!I19),\"\",'1-12-1.キャッシュフロー表 現状'!I19)","v":""},{"$f":"IF(ISBLANK('1-12-1.キャッシュフロー表 現状'!J19),\"\",'1-12-1.キャッシュフロー表 現状'!J19)","v":""},{"$f":"IF(ISBLANK('1-12-1.キャッシュフロー表 現状'!K19),\"\",'1-12-1.キャッシュフロー表 現状'!K19)","v":""},{"$f":"IF(ISBLANK('1-12-1.キャッシュフロー表 現状'!L19),\"\",'1-12-1.キャッシュフロー表 現状'!L19)","v":""},{"$f":"IF(ISBLANK('1-12-1.キャッシュフロー表 現状'!M19),\"\",'1-12-1.キャッシュフロー表 現状'!M19)","v":""},{"$f":"IF(ISBLANK('1-12-1.キャッシュフロー表 現状'!N19),\"\",'1-12-1.キャッシュフロー表 現状'!N19)","v":""},{"$f":"IF(ISBLANK('1-12-1.キャッシュフロー表 現状'!O19),\"\",'1-12-1.キャッシュフロー表 現状'!O19)","v":""},{"$f":"IF(ISBLANK('1-12-1.キャッシュフロー表 現状'!P19),\"\",'1-12-1.キャッシュフロー表 現状'!P19)","v":""},{"$f":"IF(ISBLANK('1-12-1.キャッシュフロー表 現状'!Q19),\"\",'1-12-1.キャッシュフロー表 現状'!Q19)","v":""},{"$f":"IF(ISBLANK('1-12-1.キャッシュフロー表 現状'!R19),\"\",'1-12-1.キャッシュフロー表 現状'!R19)","v":""},{"$f":"IF(ISBLANK('1-12-1.キャッシュフロー表 現状'!S19),\"\",'1-12-1.キャッシュフロー表 現状'!S19)","v":""},{"$f":"IF(ISBLANK('1-12-1.キャッシュフロー表 現状'!T19),\"\",'1-12-1.キャッシュフロー表 現状'!T19)","v":""},{"$f":"IF(ISBLANK('1-12-1.キャッシュフロー表 現状'!U19),\"\",'1-12-1.キャッシュフロー表 現状'!U19)","v":""},{"$f":"IF(ISBLANK('1-12-1.キャッシュフロー表 現状'!V19),\"\",'1-12-1.キャッシュフロー表 現状'!V19)","v":""},{"$f":"IF(ISBLANK('1-12-1.キャッシュフロー表 現状'!W19),\"\",'1-12-1.キャッシュフロー表 現状'!W19)","v":""},{"$f":"IF(ISBLANK('1-12-1.キャッシュフロー表 現状'!X19),\"\",'1-12-1.キャッシュフロー表 現状'!X19)","v":""},{"$f":"IF(ISBLANK('1-12-1.キャッシュフロー表 現状'!Y19),\"\",'1-12-1.キャッシュフロー表 現状'!Y19)","v":""},{"$f":"IF(ISBLANK('1-12-1.キャッシュフロー表 現状'!Z19),\"\",'1-12-1.キャッシュフロー表 現状'!Z19)","v":""},{"$f":"IF(ISBLANK('1-12-1.キャッシュフロー表 現状'!AA19),\"\",'1-12-1.キャッシュフロー表 現状'!AA19)","v":""},{"$f":"IF(ISBLANK('1-12-1.キャッシュフロー表 現状'!AB19),\"\",'1-12-1.キャッシュフロー表 現状'!AB19)","v":""},{"$f":"IF(ISBLANK('1-12-1.キャッシュフロー表 現状'!AC19),\"\",'1-12-1.キャッシュフロー表 現状'!AC19)","v":""},{"$f":"IF(ISBLANK('1-12-1.キャッシュフロー表 現状'!AD19),\"\",'1-12-1.キャッシュフロー表 現状'!AD19)","v":""},{"$f":"IF(ISBLANK('1-12-1.キャッシュフロー表 現状'!AE19),\"\",'1-12-1.キャッシュフロー表 現状'!AE19)","v":""},{"$f":"IF(ISBLANK('1-12-1.キャッシュフロー表 現状'!AF19),\"\",'1-12-1.キャッシュフロー表 現状'!AF19)","v":""},{"$f":"IF(ISBLANK('1-12-1.キャッシュフロー表 現状'!AG19),\"\",'1-12-1.キャッシュフロー表 現状'!AG19)","v":""},{"$f":"IF(ISBLANK('1-12-1.キャッシュフロー表 現状'!AH19),\"\",'1-12-1.キャッシュフロー表 現状'!AH19)","v":""},{"$f":"IF(ISBLANK('1-12-1.キャッシュフロー表 現状'!AI19),\"\",'1-12-1.キャッシュフロー表 現状'!AI19)","v":""},{"$f":"IF(ISBLANK('1-12-1.キャッシュフロー表 現状'!AJ19),\"\",'1-12-1.キャッシュフロー表 現状'!AJ19)","v":""},{"$f":"IF(ISBLANK('1-12-1.キャッシュフロー表 現状'!AK19),\"\",'1-12-1.キャッシュフロー表 現状'!AK19)","v":""},{"$f":"IF(ISBLANK('1-12-1.キャッシュフロー表 現状'!AL19),\"\",'1-12-1.キャッシュフロー表 現状'!AL19)","v":""},null,null,null,null,{"$f":"IF(ISBLANK('1-12-1.キャッシュフロー表 現状'!D19),\"\",'1-12-1.キャッシュフロー表 現状'!D19)","v":""},null,null,null,{"$f":"IF(ISBLANK('1-12-1.キャッシュフロー表 現状'!G19),\"\",'1-12-1.キャッシュフロー表 現状'!G19)","v":""},{"$f":"IF(ISBLANK('1-12-1.キャッシュフロー表 現状'!AM19),\"\",'1-12-1.キャッシュフロー表 現状'!AM19)","v":""},{"$f":"IF(ISBLANK('1-12-1.キャッシュフロー表 現状'!AN19),\"\",'1-12-1.キャッシュフロー表 現状'!AN19)","v":""},{"$f":"IF(ISBLANK('1-12-1.キャッシュフロー表 現状'!AO19),\"\",'1-12-1.キャッシュフロー表 現状'!AO19)","v":""},{"$f":"IF(ISBLANK('1-12-1.キャッシュフロー表 現状'!AP19),\"\",'1-12-1.キャッシュフロー表 現状'!AP19)","v":""},{"$f":"IF(ISBLANK('1-12-1.キャッシュフロー表 現状'!AQ19),\"\",'1-12-1.キャッシュフロー表 現状'!AQ19)","v":""},{"$f":"IF(ISBLANK('1-12-1.キャッシュフロー表 現状'!AR19),\"\",'1-12-1.キャッシュフロー表 現状'!AR19)","v":""},{"$f":"IF(ISBLANK('1-12-1.キャッシュフロー表 現状'!AS19),\"\",'1-12-1.キャッシュフロー表 現状'!AS19)","v":""},{"$f":"IF(ISBLANK('1-12-1.キャッシュフロー表 現状'!AT19),\"\",'1-12-1.キャッシュフロー表 現状'!AT19)","v":""},{"$f":"IF(ISBLANK('1-12-1.キャッシュフロー表 現状'!AU19),\"\",'1-12-1.キャッシュフロー表 現状'!AU19)","v":""},{"$f":"IF(ISBLANK('1-12-1.キャッシュフロー表 現状'!AV19),\"\",'1-12-1.キャッシュフロー表 現状'!AV19)","v":""},{"$f":"IF(ISBLANK('1-12-1.キャッシュフロー表 現状'!AW19),\"\",'1-12-1.キャッシュフロー表 現状'!AW19)","v":""},{"$f":"IF(ISBLANK('1-12-1.キャッシュフロー表 現状'!AX19),\"\",'1-12-1.キャッシュフロー表 現状'!AX19)","v":""},{"$f":"IF(ISBLANK('1-12-1.キャッシュフロー表 現状'!AY19),\"\",'1-12-1.キャッシュフロー表 現状'!AY19)","v":""},{"$f":"IF(ISBLANK('1-12-1.キャッシュフロー表 現状'!AZ19),\"\",'1-12-1.キャッシュフロー表 現状'!AZ19)","v":""},{"$f":"IF(ISBLANK('1-12-1.キャッシュフロー表 現状'!BA19),\"\",'1-12-1.キャッシュフロー表 現状'!BA19)","v":""},{"$f":"IF(ISBLANK('1-12-1.キャッシュフロー表 現状'!BB19),\"\",'1-12-1.キャッシュフロー表 現状'!BB19)","v":""},{"$f":"IF(ISBLANK('1-12-1.キャッシュフロー表 現状'!BC19),\"\",'1-12-1.キャッシュフロー表 現状'!BC19)","v":""},{"$f":"IF(ISBLANK('1-12-1.キャッシュフロー表 現状'!BD19),\"\",'1-12-1.キャッシュフロー表 現状'!BD19)","v":""},{"$f":"IF(ISBLANK('1-12-1.キャッシュフロー表 現状'!BE19),\"\",'1-12-1.キャッシュフロー表 現状'!BE19)","v":""},{"$f":"IF(ISBLANK('1-12-1.キャッシュフロー表 現状'!BF19),\"\",'1-12-1.キャッシュフロー表 現状'!BF19)","v":""},{"$f":"IF(ISBLANK('1-12-1.キャッシュフロー表 現状'!BG19),\"\",'1-12-1.キャッシュフロー表 現状'!BG19)","v":""},{"$f":"IF(ISBLANK('1-12-1.キャッシュフロー表 現状'!BH19),\"\",'1-12-1.キャッシュフロー表 現状'!BH19)","v":""},{"$f":"IF(ISBLANK('1-12-1.キャッシュフロー表 現状'!BI19),\"\",'1-12-1.キャッシュフロー表 現状'!BI19)","v":""},{"$f":"IF(ISBLANK('1-12-1.キャッシュフロー表 現状'!BJ19),\"\",'1-12-1.キャッシュフロー表 現状'!BJ19)","v":""},{"$f":"IF(ISBLANK('1-12-1.キャッシュフロー表 現状'!BK19),\"\",'1-12-1.キャッシュフロー表 現状'!BK19)","v":""},{"$f":"IF(ISBLANK('1-12-1.キャッシュフロー表 現状'!BL19),\"\",'1-12-1.キャッシュフロー表 現状'!BL19)","v":""},{"$f":"IF(ISBLANK('1-12-1.キャッシュフロー表 現状'!BM19),\"\",'1-12-1.キャッシュフロー表 現状'!BM19)","v":""},{"$f":"IF(ISBLANK('1-12-1.キャッシュフロー表 現状'!BN19),\"\",'1-12-1.キャッシュフロー表 現状'!BN19)","v":""},{"$f":"IF(ISBLANK('1-12-1.キャッシュフロー表 現状'!BO19),\"\",'1-12-1.キャッシュフロー表 現状'!BO19)","v":""},{"$f":"IF(ISBLANK('1-12-1.キャッシュフロー表 現状'!BP19),\"\",'1-12-1.キャッシュフロー表 現状'!BP19)","v":""},{"$f":"IF(ISBLANK('1-12-1.キャッシュフロー表 現状'!BQ19),\"\",'1-12-1.キャッシュフロー表 現状'!BQ19)","v":""},{"$f":"IF(ISBLANK('1-12-1.キャッシュフロー表 現状'!BR19),\"\",'1-12-1.キャッシュフロー表 現状'!BR19)","v":""},{"$f":"IF(ISBLANK('1-12-1.キャッシュフロー表 現状'!BS19),\"\",'1-12-1.キャッシュフロー表 現状'!BS19)","v":""},{"$f":"IF(ISBLANK('1-12-1.キャッシュフロー表 現状'!BT19),\"\",'1-12-1.キャッシュフロー表 現状'!BT19)","v":""},{"$f":"IF(ISBLANK('1-12-1.キャッシュフロー表 現状'!BU19),\"\",'1-12-1.キャッシュフロー表 現状'!BU19)","v":""},{"$f":"IF(ISBLANK('1-12-1.キャッシュフロー表 現状'!BV19),\"\",'1-12-1.キャッシュフロー表 現状'!BV19)","v":""},{"$f":"IF(ISBLANK('1-12-1.キャッシュフロー表 現状'!BW19),\"\",'1-12-1.キャッシュフロー表 現状'!BW19)","v":""},{"$f":"IF(ISBLANK('1-12-1.キャッシュフロー表 現状'!BX19),\"\",'1-12-1.キャッシュフロー表 現状'!BX19)","v":""},{"$f":"IF(ISBLANK('1-12-1.キャッシュフロー表 現状'!BY19),\"\",'1-12-1.キャッシュフロー表 現状'!BY19)","v":""},{"$f":"IF(ISBLANK('1-12-1.キャッシュフロー表 現状'!BZ19),\"\",'1-12-1.キャッシュフロー表 現状'!BZ19)","v":""}]
[null,null,"収支支出項目",null,"変動率","変動率○年後～",null,null,null,null,null,null,null,null,null,null,null,null,null,null,null,null,null,null,null,null,null,null,null,null,null,null,null,null,null,null,null,null,null,null,null,null,"収支支出項目",null,"変動率","変動率○年後～"]
[null,null,"収　入",{"$f":"IF(ISBLANK('1-12-1.キャッシュフロー表 現状'!D21),\"\",'1-12-1.キャッシュフロー表 現状'!D21)","v":""},{"$f":"IF(ISBLANK('1-12-1.キャッシュフロー表 現状'!E21),\"\",'1-12-1.キャッシュフロー表 現状'!E21)","v":0},{"$f":"IF(ISBLANK('1-12-1.キャッシュフロー表 現状'!F21),\"\",'1-12-1.キャッシュフロー表 現状'!F21&\"年後\")","v":""},null,{"$f":"IF(ISBLANK('1-12-1.キャッシュフロー表 現状'!G21),\"\",'1-12-1.キャッシュフロー表 現状'!G21)","v":0},{"$f":"IF(ISBLANK('1-12-1.キャッシュフロー表 現状'!H21),\"\",'1-12-1.キャッシュフロー表 現状'!H21)","v":""},{"$f":"IF(ISBLANK('1-12-1.キャッシュフロー表 現状'!I21),\"\",'1-12-1.キャッシュフロー表 現状'!I21)","v":0},{"$f":"IF(ISBLANK('1-12-1.キャッシュフロー表 現状'!J21),\"\",'1-12-1.キャッシュフロー表 現状'!J21)","v":0},{"$f":"IF(ISBLANK('1-12-1.キャッシュフロー表 現状'!K21),\"\",'1-12-1.キャッシュフロー表 現状'!K21)","v":0},{"$f":"IF(ISBLANK('1-12-1.キャッシュフロー表 現状'!L21),\"\",'1-12-1.キャッシュフロー表 現状'!L21)","v":0},{"$f":"IF(ISBLANK('1-12-1.キャッシュフロー表 現状'!M21),\"\",'1-12-1.キャッシュフロー表 現状'!M21)","v":0},{"$f":"IF(ISBLANK('1-12-1.キャッシュフロー表 現状'!N21),\"\",'1-12-1.キャッシュフロー表 現状'!N21)","v":0},{"$f":"IF(ISBLANK('1-12-1.キャッシュフロー表 現状'!O21),\"\",'1-12-1.キャッシュフロー表 現状'!O21)","v":0},{"$f":"IF(ISBLANK('1-12-1.キャッシュフロー表 現状'!P21),\"\",'1-12-1.キャッシュフロー表 現状'!P21)","v":0},{"$f":"IF(ISBLANK('1-12-1.キャッシュフロー表 現状'!Q21),\"\",'1-12-1.キャッシュフロー表 現状'!Q21)","v":0},{"$f":"IF(ISBLANK('1-12-1.キャッシュフロー表 現状'!R21),\"\",'1-12-1.キャッシュフロー表 現状'!R21)","v":0},{"$f":"IF(ISBLANK('1-12-1.キャッシュフロー表 現状'!S21),\"\",'1-12-1.キャッシュフロー表 現状'!S21)","v":0},{"$f":"IF(ISBLANK('1-12-1.キャッシュフロー表 現状'!T21),\"\",'1-12-1.キャッシュフロー表 現状'!T21)","v":0},{"$f":"IF(ISBLANK('1-12-1.キャッシュフロー表 現状'!U21),\"\",'1-12-1.キャッシュフロー表 現状'!U21)","v":0},{"$f":"IF(ISBLANK('1-12-1.キャッシュフロー表 現状'!V21),\"\",'1-12-1.キャッシュフロー表 現状'!V21)","v":0},{"$f":"IF(ISBLANK('1-12-1.キャッシュフロー表 現状'!W21),\"\",'1-12-1.キャッシュフロー表 現状'!W21)","v":0},{"$f":"IF(ISBLANK('1-12-1.キャッシュフロー表 現状'!X21),\"\",'1-12-1.キャッシュフロー表 現状'!X21)","v":0},{"$f":"IF(ISBLANK('1-12-1.キャッシュフロー表 現状'!Y21),\"\",'1-12-1.キャッシュフロー表 現状'!Y21)","v":0},{"$f":"IF(ISBLANK('1-12-1.キャッシュフロー表 現状'!Z21),\"\",'1-12-1.キャッシュフロー表 現状'!Z21)","v":0},{"$f":"IF(ISBLANK('1-12-1.キャッシュフロー表 現状'!AA21),\"\",'1-12-1.キャッシュフロー表 現状'!AA21)","v":0},{"$f":"IF(ISBLANK('1-12-1.キャッシュフロー表 現状'!AB21),\"\",'1-12-1.キャッシュフロー表 現状'!AB21)","v":0},{"$f":"IF(ISBLANK('1-12-1.キャッシュフロー表 現状'!AC21),\"\",'1-12-1.キャッシュフロー表 現状'!AC21)","v":0},{"$f":"IF(ISBLANK('1-12-1.キャッシュフロー表 現状'!AD21),\"\",'1-12-1.キャッシュフロー表 現状'!AD21)","v":0},{"$f":"IF(ISBLANK('1-12-1.キャッシュフロー表 現状'!AE21),\"\",'1-12-1.キャッシュフロー表 現状'!AE21)","v":0},{"$f":"IF(ISBLANK('1-12-1.キャッシュフロー表 現状'!AF21),\"\",'1-12-1.キャッシュフロー表 現状'!AF21)","v":0},{"$f":"IF(ISBLANK('1-12-1.キャッシュフロー表 現状'!AG21),\"\",'1-12-1.キャッシュフロー表 現状'!AG21)","v":0},{"$f":"IF(ISBLANK('1-12-1.キャッシュフロー表 現状'!AH21),\"\",'1-12-1.キャッシュフロー表 現状'!AH21)","v":0},{"$f":"IF(ISBLANK('1-12-1.キャッシュフロー表 現状'!AI21),\"\",'1-12-1.キャッシュフロー表 現状'!AI21)","v":0},{"$f":"IF(ISBLANK('1-12-1.キャッシュフロー表 現状'!AJ21),\"\",'1-12-1.キャッシュフロー表 現状'!AJ21)","v":0},{"$f":"IF(ISBLANK('1-12-1.キャッシュフロー表 現状'!AK21),\"\",'1-12-1.キャッシュフロー表 現状'!AK21)","v":0},{"$f":"IF(ISBLANK('1-12-1.キャッシュフロー表 現状'!AL21),\"\",'1-12-1.キャッシュフロー表 現状'!AL21)","v":0},null,null,null,"収　入",{"$f":"IF(ISBLANK('1-12-1.キャッシュフロー表 現状'!D21),\"\",'1-12-1.キャッシュフロー表 現状'!D21)","v":""},{"$f":"IF(ISBLANK('1-12-1.キャッシュフロー表 現状'!E21),\"\",'1-12-1.キャッシュフロー表 現状'!E21)","v":0},{"$f":"IF(ISBLANK('1-12-1.キャッシュフロー表 現状'!F21),\"\",'1-12-1.キャッシュフロー表 現状'!F21&\"年後\")","v":""},null,{"$f":"IF(ISBLANK('1-12-1.キャッシュフロー表 現状'!G21),\"\",'1-12-1.キャッシュフロー表 現状'!G21)","v":0},{"$f":"IF(ISBLANK('1-12-1.キャッシュフロー表 現状'!AM21),\"\",'1-12-1.キャッシュフロー表 現状'!AM21)","v":0},{"$f":"IF(ISBLANK('1-12-1.キャッシュフロー表 現状'!AN21),\"\",'1-12-1.キャッシュフロー表 現状'!AN21)","v":0},{"$f":"IF(ISBLANK('1-12-1.キャッシュフロー表 現状'!AO21),\"\",'1-12-1.キャッシュフロー表 現状'!AO21)","v":0},{"$f":"IF(ISBLANK('1-12-1.キャッシュフロー表 現状'!AP21),\"\",'1-12-1.キャッシュフロー表 現状'!AP21)","v":0},{"$f":"IF(ISBLANK('1-12-1.キャッシュフロー表 現状'!AQ21),\"\",'1-12-1.キャッシュフロー表 現状'!AQ21)","v":0},{"$f":"IF(ISBLANK('1-12-1.キャッシュフロー表 現状'!AR21),\"\",'1-12-1.キャッシュフロー表 現状'!AR21)","v":0},{"$f":"IF(ISBLANK('1-12-1.キャッシュフロー表 現状'!AS21),\"\",'1-12-1.キャッシュフロー表 現状'!AS21)","v":0},{"$f":"IF(ISBLANK('1-12-1.キャッシュフロー表 現状'!AT21),\"\",'1-12-1.キャッシュフロー表 現状'!AT21)","v":0},{"$f":"IF(ISBLANK('1-12-1.キャッシュフロー表 現状'!AU21),\"\",'1-12-1.キャッシュフロー表 現状'!AU21)","v":0},{"$f":"IF(ISBLANK('1-12-1.キャッシュフロー表 現状'!AV21),\"\",'1-12-1.キャッシュフロー表 現状'!AV21)","v":0},{"$f":"IF(ISBLANK('1-12-1.キャッシュフロー表 現状'!AW21),\"\",'1-12-1.キャッシュフロー表 現状'!AW21)","v":0},{"$f":"IF(ISBLANK('1-12-1.キャッシュフロー表 現状'!AX21),\"\",'1-12-1.キャッシュフロー表 現状'!AX21)","v":0},{"$f":"IF(ISBLANK('1-12-1.キャッシュフロー表 現状'!AY21),\"\",'1-12-1.キャッシュフロー表 現状'!AY21)","v":0},{"$f":"IF(ISBLANK('1-12-1.キャッシュフロー表 現状'!AZ21),\"\",'1-12-1.キャッシュフロー表 現状'!AZ21)","v":0},{"$f":"IF(ISBLANK('1-12-1.キャッシュフロー表 現状'!BA21),\"\",'1-12-1.キャッシュフロー表 現状'!BA21)","v":0},{"$f":"IF(ISBLANK('1-12-1.キャッシュフロー表 現状'!BB21),\"\",'1-12-1.キャッシュフロー表 現状'!BB21)","v":0},{"$f":"IF(ISBLANK('1-12-1.キャッシュフロー表 現状'!BC21),\"\",'1-12-1.キャッシュフロー表 現状'!BC21)","v":0},{"$f":"IF(ISBLANK('1-12-1.キャッシュフロー表 現状'!BD21),\"\",'1-12-1.キャッシュフロー表 現状'!BD21)","v":0},{"$f":"IF(ISBLANK('1-12-1.キャッシュフロー表 現状'!BE21),\"\",'1-12-1.キャッシュフロー表 現状'!BE21)","v":0},{"$f":"IF(ISBLANK('1-12-1.キャッシュフロー表 現状'!BF21),\"\",'1-12-1.キャッシュフロー表 現状'!BF21)","v":0},{"$f":"IF(ISBLANK('1-12-1.キャッシュフロー表 現状'!BG21),\"\",'1-12-1.キャッシュフロー表 現状'!BG21)","v":0},{"$f":"IF(ISBLANK('1-12-1.キャッシュフロー表 現状'!BH21),\"\",'1-12-1.キャッシュフロー表 現状'!BH21)","v":0},{"$f":"IF(ISBLANK('1-12-1.キャッシュフロー表 現状'!BI21),\"\",'1-12-1.キャッシュフロー表 現状'!BI21)","v":0},{"$f":"IF(ISBLANK('1-12-1.キャッシュフロー表 現状'!BJ21),\"\",'1-12-1.キャッシュフロー表 現状'!BJ21)","v":0},{"$f":"IF(ISBLANK('1-12-1.キャッシュフロー表 現状'!BK21),\"\",'1-12-1.キャッシュフロー表 現状'!BK21)","v":0},{"$f":"IF(ISBLANK('1-12-1.キャッシュフロー表 現状'!BL21),\"\",'1-12-1.キャッシュフロー表 現状'!BL21)","v":0},{"$f":"IF(ISBLANK('1-12-1.キャッシュフロー表 現状'!BM21),\"\",'1-12-1.キャッシュフロー表 現状'!BM21)","v":0},{"$f":"IF(ISBLANK('1-12-1.キャッシュフロー表 現状'!BN21),\"\",'1-12-1.キャッシュフロー表 現状'!BN21)","v":0},{"$f":"IF(ISBLANK('1-12-1.キャッシュフロー表 現状'!BO21),\"\",'1-12-1.キャッシュフロー表 現状'!BO21)","v":0},{"$f":"IF(ISBLANK('1-12-1.キャッシュフロー表 現状'!BP21),\"\",'1-12-1.キャッシュフロー表 現状'!BP21)","v":0},{"$f":"IF(ISBLANK('1-12-1.キャッシュフロー表 現状'!BQ21),\"\",'1-12-1.キャッシュフロー表 現状'!BQ21)","v":0},{"$f":"IF(ISBLANK('1-12-1.キャッシュフロー表 現状'!BR21),\"\",'1-12-1.キャッシュフロー表 現状'!BR21)","v":0},{"$f":"IF(ISBLANK('1-12-1.キャッシュフロー表 現状'!BS21),\"\",'1-12-1.キャッシュフロー表 現状'!BS21)","v":0},{"$f":"IF(ISBLANK('1-12-1.キャッシュフロー表 現状'!BT21),\"\",'1-12-1.キャッシュフロー表 現状'!BT21)","v":0},{"$f":"IF(ISBLANK('1-12-1.キャッシュフロー表 現状'!BU21),\"\",'1-12-1.キャッシュフロー表 現状'!BU21)","v":0},{"$f":"IF(ISBLANK('1-12-1.キャッシュフロー表 現状'!BV21),\"\",'1-12-1.キャッシュフロー表 現状'!BV21)","v":0},{"$f":"IF(ISBLANK('1-12-1.キャッシュフロー表 現状'!BW21),\"\",'1-12-1.キャッシュフロー表 現状'!BW21)","v":0},{"$f":"IF(ISBLANK('1-12-1.キャッシュフロー表 現状'!BX21),\"\",'1-12-1.キャッシュフロー表 現状'!BX21)","v":0},{"$f":"IF(ISBLANK('1-12-1.キャッシュフロー表 現状'!BY21),\"\",'1-12-1.キャッシュフロー表 現状'!BY21)","v":0},{"$f":"IF(ISBLANK('1-12-1.キャッシュフロー表 現状'!BZ21),\"\",'1-12-1.キャッシュフロー表 現状'!BZ21)","v":0}]
[null,null,null,{"$f":"IF(ISBLANK('1-12-1.キャッシュフロー表 現状'!D22),\"\",'1-12-1.キャッシュフロー表 現状'!D22)","v":""},{"$f":"IF(ISBLANK('1-12-1.キャッシュフロー表 現状'!E22),\"\",'1-12-1.キャッシュフロー表 現状'!E22)","v":0},{"$f":"IF(ISBLANK('1-12-1.キャッシュフロー表 現状'!F22),\"\",'1-12-1.キャッシュフロー表 現状'!F22&\"年後\")","v":""},null,{"$f":"IF(ISBLANK('1-12-1.キャッシュフロー表 現状'!G22),\"\",'1-12-1.キャッシュフロー表 現状'!G22)","v":0},{"$f":"IF(ISBLANK('1-12-1.キャッシュフロー表 現状'!H22),\"\",'1-12-1.キャッシュフロー表 現状'!H22)","v":""},{"$f":"IF(ISBLANK('1-12-1.キャッシュフロー表 現状'!I22),\"\",'1-12-1.キャッシュフロー表 現状'!I22)","v":0},{"$f":"IF(ISBLANK('1-12-1.キャッシュフロー表 現状'!J22),\"\",'1-12-1.キャッシュフロー表 現状'!J22)","v":0},{"$f":"IF(ISBLANK('1-12-1.キャッシュフロー表 現状'!K22),\"\",'1-12-1.キャッシュフロー表 現状'!K22)","v":0},{"$f":"IF(ISBLANK('1-12-1.キャッシュフロー表 現状'!L22),\"\",'1-12-1.キャッシュフロー表 現状'!L22)","v":0},{"$f":"IF(ISBLANK('1-12-1.キャッシュフロー表 現状'!M22),\"\",'1-12-1.キャッシュフロー表 現状'!M22)","v":0},{"$f":"IF(ISBLANK('1-12-1.キャッシュフロー表 現状'!N22),\"\",'1-12-1.キャッシュフロー表 現状'!N22)","v":0},{"$f":"IF(ISBLANK('1-12-1.キャッシュフロー表 現状'!O22),\"\",'1-12-1.キャッシュフロー表 現状'!O22)","v":0},{"$f":"IF(ISBLANK('1-12-1.キャッシュフロー表 現状'!P22),\"\",'1-12-1.キャッシュフロー表 現状'!P22)","v":0},{"$f":"IF(ISBLANK('1-12-1.キャッシュフロー表 現状'!Q22),\"\",'1-12-1.キャッシュフロー表 現状'!Q22)","v":0},{"$f":"IF(ISBLANK('1-12-1.キャッシュフロー表 現状'!R22),\"\",'1-12-1.キャッシュフロー表 現状'!R22)","v":0},{"$f":"IF(ISBLANK('1-12-1.キャッシュフロー表 現状'!S22),\"\",'1-12-1.キャッシュフロー表 現状'!S22)","v":0},{"$f":"IF(ISBLANK('1-12-1.キャッシュフロー表 現状'!T22),\"\",'1-12-1.キャッシュフロー表 現状'!T22)","v":0},{"$f":"IF(ISBLANK('1-12-1.キャッシュフロー表 現状'!U22),\"\",'1-12-1.キャッシュフロー表 現状'!U22)","v":0},{"$f":"IF(ISBLANK('1-12-1.キャッシュフロー表 現状'!V22),\"\",'1-12-1.キャッシュフロー表 現状'!V22)","v":0},{"$f":"IF(ISBLANK('1-12-1.キャッシュフロー表 現状'!W22),\"\",'1-12-1.キャッシュフロー表 現状'!W22)","v":0},{"$f":"IF(ISBLANK('1-12-1.キャッシュフロー表 現状'!X22),\"\",'1-12-1.キャッシュフロー表 現状'!X22)","v":0},{"$f":"IF(ISBLANK('1-12-1.キャッシュフロー表 現状'!Y22),\"\",'1-12-1.キャッシュフロー表 現状'!Y22)","v":0},{"$f":"IF(ISBLANK('1-12-1.キャッシュフロー表 現状'!Z22),\"\",'1-12-1.キャッシュフロー表 現状'!Z22)","v":0},{"$f":"IF(ISBLANK('1-12-1.キャッシュフロー表 現状'!AA22),\"\",'1-12-1.キャッシュフロー表 現状'!AA22)","v":0},{"$f":"IF(ISBLANK('1-12-1.キャッシュフロー表 現状'!AB22),\"\",'1-12-1.キャッシュフロー表 現状'!AB22)","v":0},{"$f":"IF(ISBLANK('1-12-1.キャッシュフロー表 現状'!AC22),\"\",'1-12-1.キャッシュフロー表 現状'!AC22)","v":0},{"$f":"IF(ISBLANK('1-12-1.キャッシュフロー表 現状'!AD22),\"\",'1-12-1.キャッシュフロー表 現状'!AD22)","v":0},{"$f":"IF(ISBLANK('1-12-1.キャッシュフロー表 現状'!AE22),\"\",'1-12-1.キャッシュフロー表 現状'!AE22)","v":0},{"$f":"IF(ISBLANK('1-12-1.キャッシュフロー表 現状'!AF22),\"\",'1-12-1.キャッシュフロー表 現状'!AF22)","v":0},{"$f":"IF(ISBLANK('1-12-1.キャッシュフロー表 現状'!AG22),\"\",'1-12-1.キャッシュフロー表 現状'!AG22)","v":0},{"$f":"IF(ISBLANK('1-12-1.キャッシュフロー表 現状'!AH22),\"\",'1-12-1.キャッシュフロー表 現状'!AH22)","v":0},{"$f":"IF(ISBLANK('1-12-1.キャッシュフロー表 現状'!AI22),\"\",'1-12-1.キャッシュフロー表 現状'!AI22)","v":0},{"$f":"IF(ISBLANK('1-12-1.キャッシュフロー表 現状'!AJ22),\"\",'1-12-1.キャッシュフロー表 現状'!AJ22)","v":0},{"$f":"IF(ISBLANK('1-12-1.キャッシュフロー表 現状'!AK22),\"\",'1-12-1.キャッシュフロー表 現状'!AK22)","v":0},{"$f":"IF(ISBLANK('1-12-1.キャッシュフロー表 現状'!AL22),\"\",'1-12-1.キャッシュフロー表 現状'!AL22)","v":0},null,null,null,null,{"$f":"IF(ISBLANK('1-12-1.キャッシュフロー表 現状'!D22),\"\",'1-12-1.キャッシュフロー表 現状'!D22)","v":""},{"$f":"IF(ISBLANK('1-12-1.キャッシュフロー表 現状'!E22),\"\",'1-12-1.キャッシュフロー表 現状'!E22)","v":0},{"$f":"IF(ISBLANK('1-12-1.キャッシュフロー表 現状'!F22),\"\",'1-12-1.キャッシュフロー表 現状'!F22&\"年後\")","v":""},null,{"$f":"IF(ISBLANK('1-12-1.キャッシュフロー表 現状'!G22),\"\",'1-12-1.キャッシュフロー表 現状'!G22)","v":0},{"$f":"IF(ISBLANK('1-12-1.キャッシュフロー表 現状'!AM22),\"\",'1-12-1.キャッシュフロー表 現状'!AM22)","v":0},{"$f":"IF(ISBLANK('1-12-1.キャッシュフロー表 現状'!AN22),\"\",'1-12-1.キャッシュフロー表 現状'!AN22)","v":0},{"$f":"IF(ISBLANK('1-12-1.キャッシュフロー表 現状'!AO22),\"\",'1-12-1.キャッシュフロー表 現状'!AO22)","v":0},{"$f":"IF(ISBLANK('1-12-1.キャッシュフロー表 現状'!AP22),\"\",'1-12-1.キャッシュフロー表 現状'!AP22)","v":0},{"$f":"IF(ISBLANK('1-12-1.キャッシュフロー表 現状'!AQ22),\"\",'1-12-1.キャッシュフロー表 現状'!AQ22)","v":0},{"$f":"IF(ISBLANK('1-12-1.キャッシュフロー表 現状'!AR22),\"\",'1-12-1.キャッシュフロー表 現状'!AR22)","v":0},{"$f":"IF(ISBLANK('1-12-1.キャッシュフロー表 現状'!AS22),\"\",'1-12-1.キャッシュフロー表 現状'!AS22)","v":0},{"$f":"IF(ISBLANK('1-12-1.キャッシュフロー表 現状'!AT22),\"\",'1-12-1.キャッシュフロー表 現状'!AT22)","v":0},{"$f":"IF(ISBLANK('1-12-1.キャッシュフロー表 現状'!AU22),\"\",'1-12-1.キャッシュフロー表 現状'!AU22)","v":0},{"$f":"IF(ISBLANK('1-12-1.キャッシュフロー表 現状'!AV22),\"\",'1-12-1.キャッシュフロー表 現状'!AV22)","v":0},{"$f":"IF(ISBLANK('1-12-1.キャッシュフロー表 現状'!AW22),\"\",'1-12-1.キャッシュフロー表 現状'!AW22)","v":0},{"$f":"IF(ISBLANK('1-12-1.キャッシュフロー表 現状'!AX22),\"\",'1-12-1.キャッシュフロー表 現状'!AX22)","v":0},{"$f":"IF(ISBLANK('1-12-1.キャッシュフロー表 現状'!AY22),\"\",'1-12-1.キャッシュフロー表 現状'!AY22)","v":0},{"$f":"IF(ISBLANK('1-12-1.キャッシュフロー表 現状'!AZ22),\"\",'1-12-1.キャッシュフロー表 現状'!AZ22)","v":0},{"$f":"IF(ISBLANK('1-12-1.キャッシュフロー表 現状'!BA22),\"\",'1-12-1.キャッシュフロー表 現状'!BA22)","v":0},{"$f":"IF(ISBLANK('1-12-1.キャッシュフロー表 現状'!BB22),\"\",'1-12-1.キャッシュフロー表 現状'!BB22)","v":0},{"$f":"IF(ISBLANK('1-12-1.キャッシュフロー表 現状'!BC22),\"\",'1-12-1.キャッシュフロー表 現状'!BC22)","v":0},{"$f":"IF(ISBLANK('1-12-1.キャッシュフロー表 現状'!BD22),\"\",'1-12-1.キャッシュフロー表 現状'!BD22)","v":0},{"$f":"IF(ISBLANK('1-12-1.キャッシュフロー表 現状'!BE22),\"\",'1-12-1.キャッシュフロー表 現状'!BE22)","v":0},{"$f":"IF(ISBLANK('1-12-1.キャッシュフロー表 現状'!BF22),\"\",'1-12-1.キャッシュフロー表 現状'!BF22)","v":0},{"$f":"IF(ISBLANK('1-12-1.キャッシュフロー表 現状'!BG22),\"\",'1-12-1.キャッシュフロー表 現状'!BG22)","v":0},{"$f":"IF(ISBLANK('1-12-1.キャッシュフロー表 現状'!BH22),\"\",'1-12-1.キャッシュフロー表 現状'!BH22)","v":0},{"$f":"IF(ISBLANK('1-12-1.キャッシュフロー表 現状'!BI22),\"\",'1-12-1.キャッシュフロー表 現状'!BI22)","v":0},{"$f":"IF(ISBLANK('1-12-1.キャッシュフロー表 現状'!BJ22),\"\",'1-12-1.キャッシュフロー表 現状'!BJ22)","v":0},{"$f":"IF(ISBLANK('1-12-1.キャッシュフロー表 現状'!BK22),\"\",'1-12-1.キャッシュフロー表 現状'!BK22)","v":0},{"$f":"IF(ISBLANK('1-12-1.キャッシュフロー表 現状'!BL22),\"\",'1-12-1.キャッシュフロー表 現状'!BL22)","v":0},{"$f":"IF(ISBLANK('1-12-1.キャッシュフロー表 現状'!BM22),\"\",'1-12-1.キャッシュフロー表 現状'!BM22)","v":0},{"$f":"IF(ISBLANK('1-12-1.キャッシュフロー表 現状'!BN22),\"\",'1-12-1.キャッシュフロー表 現状'!BN22)","v":0},{"$f":"IF(ISBLANK('1-12-1.キャッシュフロー表 現状'!BO22),\"\",'1-12-1.キャッシュフロー表 現状'!BO22)","v":0},{"$f":"IF(ISBLANK('1-12-1.キャッシュフロー表 現状'!BP22),\"\",'1-12-1.キャッシュフロー表 現状'!BP22)","v":0},{"$f":"IF(ISBLANK('1-12-1.キャッシュフロー表 現状'!BQ22),\"\",'1-12-1.キャッシュフロー表 現状'!BQ22)","v":0},{"$f":"IF(ISBLANK('1-12-1.キャッシュフロー表 現状'!BR22),\"\",'1-12-1.キャッシュフロー表 現状'!BR22)","v":0},{"$f":"IF(ISBLANK('1-12-1.キャッシュフロー表 現状'!BS22),\"\",'1-12-1.キャッシュフロー表 現状'!BS22)","v":0},{"$f":"IF(ISBLANK('1-12-1.キャッシュフロー表 現状'!BT22),\"\",'1-12-1.キャッシュフロー表 現状'!BT22)","v":0},{"$f":"IF(ISBLANK('1-12-1.キャッシュフロー表 現状'!BU22),\"\",'1-12-1.キャッシュフロー表 現状'!BU22)","v":0},{"$f":"IF(ISBLANK('1-12-1.キャッシュフロー表 現状'!BV22),\"\",'1-12-1.キャッシュフロー表 現状'!BV22)","v":0},{"$f":"IF(ISBLANK('1-12-1.キャッシュフロー表 現状'!BW22),\"\",'1-12-1.キャッシュフロー表 現状'!BW22)","v":0},{"$f":"IF(ISBLANK('1-12-1.キャッシュフロー表 現状'!BX22),\"\",'1-12-1.キャッシュフロー表 現状'!BX22)","v":0},{"$f":"IF(ISBLANK('1-12-1.キャッシュフロー表 現状'!BY22),\"\",'1-12-1.キャッシュフロー表 現状'!BY22)","v":0},{"$f":"IF(ISBLANK('1-12-1.キャッシュフロー表 現状'!BZ22),\"\",'1-12-1.キャッシュフロー表 現状'!BZ22)","v":0}]
[null,null,null,{"$f":"IF(ISBLANK('1-12-1.キャッシュフロー表 現状'!D23),\"\",'1-12-1.キャッシュフロー表 現状'!D23)","v":""},{"$f":"IF(ISBLANK('1-12-1.キャッシュフロー表 現状'!E23),\"\",'1-12-1.キャッシュフロー表 現状'!E23)","v":0},{"$f":"IF(ISBLANK('1-12-1.キャッシュフロー表 現状'!F23),\"\",'1-12-1.キャッシュフロー表 現状'!F23&\"年後\")","v":""},null,{"$f":"IF(ISBLANK('1-12-1.キャッシュフロー表 現状'!G23),\"\",'1-12-1.キャッシュフロー表 現状'!G23)","v":0},{"$f":"IF(ISBLANK('1-12-1.キャッシュフロー表 現状'!H23),\"\",'1-12-1.キャッシュフロー表 現状'!H23)","v":""},{"$f":"IF(ISBLANK('1-12-1.キャッシュフロー表 現状'!I23),\"\",'1-12-1.キャッシュフロー表 現状'!I23)","v":0},{"$f":"IF(ISBLANK('1-12-1.キャッシュフロー表 現状'!J23),\"\",'1-12-1.キャッシュフロー表 現状'!J23)","v":0},{"$f":"IF(ISBLANK('1-12-1.キャッシュフロー表 現状'!K23),\"\",'1-12-1.キャッシュフロー表 現状'!K23)","v":0},{"$f":"IF(ISBLANK('1-12-1.キャッシュフロー表 現状'!L23),\"\",'1-12-1.キャッシュフロー表 現状'!L23)","v":0},{"$f":"IF(ISBLANK('1-12-1.キャッシュフロー表 現状'!M23),\"\",'1-12-1.キャッシュフロー表 現状'!M23)","v":0},{"$f":"IF(ISBLANK('1-12-1.キャッシュフロー表 現状'!N23),\"\",'1-12-1.キャッシュフロー表 現状'!N23)","v":0},{"$f":"IF(ISBLANK('1-12-1.キャッシュフロー表 現状'!O23),\"\",'1-12-1.キャッシュフロー表 現状'!O23)","v":0},{"$f":"IF(ISBLANK('1-12-1.キャッシュフロー表 現状'!P23),\"\",'1-12-1.キャッシュフロー表 現状'!P23)","v":0},{"$f":"IF(ISBLANK('1-12-1.キャッシュフロー表 現状'!Q23),\"\",'1-12-1.キャッシュフロー表 現状'!Q23)","v":0},{"$f":"IF(ISBLANK('1-12-1.キャッシュフロー表 現状'!R23),\"\",'1-12-1.キャッシュフロー表 現状'!R23)","v":0},{"$f":"IF(ISBLANK('1-12-1.キャッシュフロー表 現状'!S23),\"\",'1-12-1.キャッシュフロー表 現状'!S23)","v":0},{"$f":"IF(ISBLANK('1-12-1.キャッシュフロー表 現状'!T23),\"\",'1-12-1.キャッシュフロー表 現状'!T23)","v":0},{"$f":"IF(ISBLANK('1-12-1.キャッシュフロー表 現状'!U23),\"\",'1-12-1.キャッシュフロー表 現状'!U23)","v":0},{"$f":"IF(ISBLANK('1-12-1.キャッシュフロー表 現状'!V23),\"\",'1-12-1.キャッシュフロー表 現状'!V23)","v":0},{"$f":"IF(ISBLANK('1-12-1.キャッシュフロー表 現状'!W23),\"\",'1-12-1.キャッシュフロー表 現状'!W23)","v":0},{"$f":"IF(ISBLANK('1-12-1.キャッシュフロー表 現状'!X23),\"\",'1-12-1.キャッシュフロー表 現状'!X23)","v":0},{"$f":"IF(ISBLANK('1-12-1.キャッシュフロー表 現状'!Y23),\"\",'1-12-1.キャッシュフロー表 現状'!Y23)","v":0},{"$f":"IF(ISBLANK('1-12-1.キャッシュフロー表 現状'!Z23),\"\",'1-12-1.キャッシュフロー表 現状'!Z23)","v":0},{"$f":"IF(ISBLANK('1-12-1.キャッシュフロー表 現状'!AA23),\"\",'1-12-1.キャッシュフロー表 現状'!AA23)","v":0},{"$f":"IF(ISBLANK('1-12-1.キャッシュフロー表 現状'!AB23),\"\",'1-12-1.キャッシュフロー表 現状'!AB23)","v":0},{"$f":"IF(ISBLANK('1-12-1.キャッシュフロー表 現状'!AC23),\"\",'1-12-1.キャッシュフロー表 現状'!AC23)","v":0},{"$f":"IF(ISBLANK('1-12-1.キャッシュフロー表 現状'!AD23),\"\",'1-12-1.キャッシュフロー表 現状'!AD23)","v":0},{"$f":"IF(ISBLANK('1-12-1.キャッシュフロー表 現状'!AE23),\"\",'1-12-1.キャッシュフロー表 現状'!AE23)","v":0},{"$f":"IF(ISBLANK('1-12-1.キャッシュフロー表 現状'!AF23),\"\",'1-12-1.キャッシュフロー表 現状'!AF23)","v":0},{"$f":"IF(ISBLANK('1-12-1.キャッシュフロー表 現状'!AG23),\"\",'1-12-1.キャッシュフロー表 現状'!AG23)","v":0},{"$f":"IF(ISBLANK('1-12-1.キャッシュフロー表 現状'!AH23),\"\",'1-12-1.キャッシュフロー表 現状'!AH23)","v":0},{"$f":"IF(ISBLANK('1-12-1.キャッシュフロー表 現状'!AI23),\"\",'1-12-1.キャッシュフロー表 現状'!AI23)","v":0},{"$f":"IF(ISBLANK('1-12-1.キャッシュフロー表 現状'!AJ23),\"\",'1-12-1.キャッシュフロー表 現状'!AJ23)","v":0},{"$f":"IF(ISBLANK('1-12-1.キャッシュフロー表 現状'!AK23),\"\",'1-12-1.キャッシュフロー表 現状'!AK23)","v":0},{"$f":"IF(ISBLANK('1-12-1.キャッシュフロー表 現状'!AL23),\"\",'1-12-1.キャッシュフロー表 現状'!AL23)","v":0},null,null,null,null,{"$f":"IF(ISBLANK('1-12-1.キャッシュフロー表 現状'!D23),\"\",'1-12-1.キャッシュフロー表 現状'!D23)","v":""},{"$f":"IF(ISBLANK('1-12-1.キャッシュフロー表 現状'!E23),\"\",'1-12-1.キャッシュフロー表 現状'!E23)","v":0},{"$f":"IF(ISBLANK('1-12-1.キャッシュフロー表 現状'!F23),\"\",'1-12-1.キャッシュフロー表 現状'!F23&\"年後\")","v":""},null,{"$f":"IF(ISBLANK('1-12-1.キャッシュフロー表 現状'!G23),\"\",'1-12-1.キャッシュフロー表 現状'!G23)","v":0},{"$f":"IF(ISBLANK('1-12-1.キャッシュフロー表 現状'!AM23),\"\",'1-12-1.キャッシュフロー表 現状'!AM23)","v":0},{"$f":"IF(ISBLANK('1-12-1.キャッシュフロー表 現状'!AN23),\"\",'1-12-1.キャッシュフロー表 現状'!AN23)","v":0},{"$f":"IF(ISBLANK('1-12-1.キャッシュフロー表 現状'!AO23),\"\",'1-12-1.キャッシュフロー表 現状'!AO23)","v":0},{"$f":"IF(ISBLANK('1-12-1.キャッシュフロー表 現状'!AP23),\"\",'1-12-1.キャッシュフロー表 現状'!AP23)","v":0},{"$f":"IF(ISBLANK('1-12-1.キャッシュフロー表 現状'!AQ23),\"\",'1-12-1.キャッシュフロー表 現状'!AQ23)","v":0},{"$f":"IF(ISBLANK('1-12-1.キャッシュフロー表 現状'!AR23),\"\",'1-12-1.キャッシュフロー表 現状'!AR23)","v":0},{"$f":"IF(ISBLANK('1-12-1.キャッシュフロー表 現状'!AS23),\"\",'1-12-1.キャッシュフロー表 現状'!AS23)","v":0},{"$f":"IF(ISBLANK('1-12-1.キャッシュフロー表 現状'!AT23),\"\",'1-12-1.キャッシュフロー表 現状'!AT23)","v":0},{"$f":"IF(ISBLANK('1-12-1.キャッシュフロー表 現状'!AU23),\"\",'1-12-1.キャッシュフロー表 現状'!AU23)","v":0},{"$f":"IF(ISBLANK('1-12-1.キャッシュフロー表 現状'!AV23),\"\",'1-12-1.キャッシュフロー表 現状'!AV23)","v":0},{"$f":"IF(ISBLANK('1-12-1.キャッシュフロー表 現状'!AW23),\"\",'1-12-1.キャッシュフロー表 現状'!AW23)","v":0},{"$f":"IF(ISBLANK('1-12-1.キャッシュフロー表 現状'!AX23),\"\",'1-12-1.キャッシュフロー表 現状'!AX23)","v":0},{"$f":"IF(ISBLANK('1-12-1.キャッシュフロー表 現状'!AY23),\"\",'1-12-1.キャッシュフロー表 現状'!AY23)","v":0},{"$f":"IF(ISBLANK('1-12-1.キャッシュフロー表 現状'!AZ23),\"\",'1-12-1.キャッシュフロー表 現状'!AZ23)","v":0},{"$f":"IF(ISBLANK('1-12-1.キャッシュフロー表 現状'!BA23),\"\",'1-12-1.キャッシュフロー表 現状'!BA23)","v":0},{"$f":"IF(ISBLANK('1-12-1.キャッシュフロー表 現状'!BB23),\"\",'1-12-1.キャッシュフロー表 現状'!BB23)","v":0},{"$f":"IF(ISBLANK('1-12-1.キャッシュフロー表 現状'!BC23),\"\",'1-12-1.キャッシュフロー表 現状'!BC23)","v":0},{"$f":"IF(ISBLANK('1-12-1.キャッシュフロー表 現状'!BD23),\"\",'1-12-1.キャッシュフロー表 現状'!BD23)","v":0},{"$f":"IF(ISBLANK('1-12-1.キャッシュフロー表 現状'!BE23),\"\",'1-12-1.キャッシュフロー表 現状'!BE23)","v":0},{"$f":"IF(ISBLANK('1-12-1.キャッシュフロー表 現状'!BF23),\"\",'1-12-1.キャッシュフロー表 現状'!BF23)","v":0},{"$f":"IF(ISBLANK('1-12-1.キャッシュフロー表 現状'!BG23),\"\",'1-12-1.キャッシュフロー表 現状'!BG23)","v":0},{"$f":"IF(ISBLANK('1-12-1.キャッシュフロー表 現状'!BH23),\"\",'1-12-1.キャッシュフロー表 現状'!BH23)","v":0},{"$f":"IF(ISBLANK('1-12-1.キャッシュフロー表 現状'!BI23),\"\",'1-12-1.キャッシュフロー表 現状'!BI23)","v":0},{"$f":"IF(ISBLANK('1-12-1.キャッシュフロー表 現状'!BJ23),\"\",'1-12-1.キャッシュフロー表 現状'!BJ23)","v":0},{"$f":"IF(ISBLANK('1-12-1.キャッシュフロー表 現状'!BK23),\"\",'1-12-1.キャッシュフロー表 現状'!BK23)","v":0},{"$f":"IF(ISBLANK('1-12-1.キャッシュフロー表 現状'!BL23),\"\",'1-12-1.キャッシュフロー表 現状'!BL23)","v":0},{"$f":"IF(ISBLANK('1-12-1.キャッシュフロー表 現状'!BM23),\"\",'1-12-1.キャッシュフロー表 現状'!BM23)","v":0},{"$f":"IF(ISBLANK('1-12-1.キャッシュフロー表 現状'!BN23),\"\",'1-12-1.キャッシュフロー表 現状'!BN23)","v":0},{"$f":"IF(ISBLANK('1-12-1.キャッシュフロー表 現状'!BO23),\"\",'1-12-1.キャッシュフロー表 現状'!BO23)","v":0},{"$f":"IF(ISBLANK('1-12-1.キャッシュフロー表 現状'!BP23),\"\",'1-12-1.キャッシュフロー表 現状'!BP23)","v":0},{"$f":"IF(ISBLANK('1-12-1.キャッシュフロー表 現状'!BQ23),\"\",'1-12-1.キャッシュフロー表 現状'!BQ23)","v":0},{"$f":"IF(ISBLANK('1-12-1.キャッシュフロー表 現状'!BR23),\"\",'1-12-1.キャッシュフロー表 現状'!BR23)","v":0},{"$f":"IF(ISBLANK('1-12-1.キャッシュフロー表 現状'!BS23),\"\",'1-12-1.キャッシュフロー表 現状'!BS23)","v":0},{"$f":"IF(ISBLANK('1-12-1.キャッシュフロー表 現状'!BT23),\"\",'1-12-1.キャッシュフロー表 現状'!BT23)","v":0},{"$f":"IF(ISBLANK('1-12-1.キャッシュフロー表 現状'!BU23),\"\",'1-12-1.キャッシュフロー表 現状'!BU23)","v":0},{"$f":"IF(ISBLANK('1-12-1.キャッシュフロー表 現状'!BV23),\"\",'1-12-1.キャッシュフロー表 現状'!BV23)","v":0},{"$f":"IF(ISBLANK('1-12-1.キャッシュフロー表 現状'!BW23),\"\",'1-12-1.キャッシュフロー表 現状'!BW23)","v":0},{"$f":"IF(ISBLANK('1-12-1.キャッシュフロー表 現状'!BX23),\"\",'1-12-1.キャッシュフロー表 現状'!BX23)","v":0},{"$f":"IF(ISBLANK('1-12-1.キャッシュフロー表 現状'!BY23),\"\",'1-12-1.キャッシュフロー表 現状'!BY23)","v":0},{"$f":"IF(ISBLANK('1-12-1.キャッシュフロー表 現状'!BZ23),\"\",'1-12-1.キャッシュフロー表 現状'!BZ23)","v":0}]
[null,null,null,{"$f":"IF(ISBLANK('1-12-1.キャッシュフロー表 現状'!D24),\"\",'1-12-1.キャッシュフロー表 現状'!D24)","v":""},{"$f":"IF(ISBLANK('1-12-1.キャッシュフロー表 現状'!E24),\"\",'1-12-1.キャッシュフロー表 現状'!E24)","v":0},{"$f":"IF(ISBLANK('1-12-1.キャッシュフロー表 現状'!F24),\"\",'1-12-1.キャッシュフロー表 現状'!F24&\"年後\")","v":""},null,{"$f":"IF(ISBLANK('1-12-1.キャッシュフロー表 現状'!G24),\"\",'1-12-1.キャッシュフロー表 現状'!G24)","v":0},{"$f":"IF(ISBLANK('1-12-1.キャッシュフロー表 現状'!H24),\"\",'1-12-1.キャッシュフロー表 現状'!H24)","v":""},{"$f":"IF(ISBLANK('1-12-1.キャッシュフロー表 現状'!I24),\"\",'1-12-1.キャッシュフロー表 現状'!I24)","v":0},{"$f":"IF(ISBLANK('1-12-1.キャッシュフロー表 現状'!J24),\"\",'1-12-1.キャッシュフロー表 現状'!J24)","v":0},{"$f":"IF(ISBLANK('1-12-1.キャッシュフロー表 現状'!K24),\"\",'1-12-1.キャッシュフロー表 現状'!K24)","v":0},{"$f":"IF(ISBLANK('1-12-1.キャッシュフロー表 現状'!L24),\"\",'1-12-1.キャッシュフロー表 現状'!L24)","v":0},{"$f":"IF(ISBLANK('1-12-1.キャッシュフロー表 現状'!M24),\"\",'1-12-1.キャッシュフロー表 現状'!M24)","v":0},{"$f":"IF(ISBLANK('1-12-1.キャッシュフロー表 現状'!N24),\"\",'1-12-1.キャッシュフロー表 現状'!N24)","v":0},{"$f":"IF(ISBLANK('1-12-1.キャッシュフロー表 現状'!O24),\"\",'1-12-1.キャッシュフロー表 現状'!O24)","v":0},{"$f":"IF(ISBLANK('1-12-1.キャッシュフロー表 現状'!P24),\"\",'1-12-1.キャッシュフロー表 現状'!P24)","v":0},{"$f":"IF(ISBLANK('1-12-1.キャッシュフロー表 現状'!Q24),\"\",'1-12-1.キャッシュフロー表 現状'!Q24)","v":0},{"$f":"IF(ISBLANK('1-12-1.キャッシュフロー表 現状'!R24),\"\",'1-12-1.キャッシュフロー表 現状'!R24)","v":0},{"$f":"IF(ISBLANK('1-12-1.キャッシュフロー表 現状'!S24),\"\",'1-12-1.キャッシュフロー表 現状'!S24)","v":0},{"$f":"IF(ISBLANK('1-12-1.キャッシュフロー表 現状'!T24),\"\",'1-12-1.キャッシュフロー表 現状'!T24)","v":0},{"$f":"IF(ISBLANK('1-12-1.キャッシュフロー表 現状'!U24),\"\",'1-12-1.キャッシュフロー表 現状'!U24)","v":0},{"$f":"IF(ISBLANK('1-12-1.キャッシュフロー表 現状'!V24),\"\",'1-12-1.キャッシュフロー表 現状'!V24)","v":0},{"$f":"IF(ISBLANK('1-12-1.キャッシュフロー表 現状'!W24),\"\",'1-12-1.キャッシュフロー表 現状'!W24)","v":0},{"$f":"IF(ISBLANK('1-12-1.キャッシュフロー表 現状'!X24),\"\",'1-12-1.キャッシュフロー表 現状'!X24)","v":0},{"$f":"IF(ISBLANK('1-12-1.キャッシュフロー表 現状'!Y24),\"\",'1-12-1.キャッシュフロー表 現状'!Y24)","v":0},{"$f":"IF(ISBLANK('1-12-1.キャッシュフロー表 現状'!Z24),\"\",'1-12-1.キャッシュフロー表 現状'!Z24)","v":0},{"$f":"IF(ISBLANK('1-12-1.キャッシュフロー表 現状'!AA24),\"\",'1-12-1.キャッシュフロー表 現状'!AA24)","v":0},{"$f":"IF(ISBLANK('1-12-1.キャッシュフロー表 現状'!AB24),\"\",'1-12-1.キャッシュフロー表 現状'!AB24)","v":0},{"$f":"IF(ISBLANK('1-12-1.キャッシュフロー表 現状'!AC24),\"\",'1-12-1.キャッシュフロー表 現状'!AC24)","v":0},{"$f":"IF(ISBLANK('1-12-1.キャッシュフロー表 現状'!AD24),\"\",'1-12-1.キャッシュフロー表 現状'!AD24)","v":0},{"$f":"IF(ISBLANK('1-12-1.キャッシュフロー表 現状'!AE24),\"\",'1-12-1.キャッシュフロー表 現状'!AE24)","v":0},{"$f":"IF(ISBLANK('1-12-1.キャッシュフロー表 現状'!AF24),\"\",'1-12-1.キャッシュフロー表 現状'!AF24)","v":0},{"$f":"IF(ISBLANK('1-12-1.キャッシュフロー表 現状'!AG24),\"\",'1-12-1.キャッシュフロー表 現状'!AG24)","v":0},{"$f":"IF(ISBLANK('1-12-1.キャッシュフロー表 現状'!AH24),\"\",'1-12-1.キャッシュフロー表 現状'!AH24)","v":0},{"$f":"IF(ISBLANK('1-12-1.キャッシュフロー表 現状'!AI24),\"\",'1-12-1.キャッシュフロー表 現状'!AI24)","v":0},{"$f":"IF(ISBLANK('1-12-1.キャッシュフロー表 現状'!AJ24),\"\",'1-12-1.キャッシュフロー表 現状'!AJ24)","v":0},{"$f":"IF(ISBLANK('1-12-1.キャッシュフロー表 現状'!AK24),\"\",'1-12-1.キャッシュフロー表 現状'!AK24)","v":0},{"$f":"IF(ISBLANK('1-12-1.キャッシュフロー表 現状'!AL24),\"\",'1-12-1.キャッシュフロー表 現状'!AL24)","v":0},null,null,null,null,{"$f":"IF(ISBLANK('1-12-1.キャッシュフロー表 現状'!D24),\"\",'1-12-1.キャッシュフロー表 現状'!D24)","v":""},{"$f":"IF(ISBLANK('1-12-1.キャッシュフロー表 現状'!E24),\"\",'1-12-1.キャッシュフロー表 現状'!E24)","v":0},{"$f":"IF(ISBLANK('1-12-1.キャッシュフロー表 現状'!F24),\"\",'1-12-1.キャッシュフロー表 現状'!F24&\"年後\")","v":""},null,{"$f":"IF(ISBLANK('1-12-1.キャッシュフロー表 現状'!G24),\"\",'1-12-1.キャッシュフロー表 現状'!G24)","v":0},{"$f":"IF(ISBLANK('1-12-1.キャッシュフロー表 現状'!AM24),\"\",'1-12-1.キャッシュフロー表 現状'!AM24)","v":0},{"$f":"IF(ISBLANK('1-12-1.キャッシュフロー表 現状'!AN24),\"\",'1-12-1.キャッシュフロー表 現状'!AN24)","v":0},{"$f":"IF(ISBLANK('1-12-1.キャッシュフロー表 現状'!AO24),\"\",'1-12-1.キャッシュフロー表 現状'!AO24)","v":0},{"$f":"IF(ISBLANK('1-12-1.キャッシュフロー表 現状'!AP24),\"\",'1-12-1.キャッシュフロー表 現状'!AP24)","v":0},{"$f":"IF(ISBLANK('1-12-1.キャッシュフロー表 現状'!AQ24),\"\",'1-12-1.キャッシュフロー表 現状'!AQ24)","v":0},{"$f":"IF(ISBLANK('1-12-1.キャッシュフロー表 現状'!AR24),\"\",'1-12-1.キャッシュフロー表 現状'!AR24)","v":0},{"$f":"IF(ISBLANK('1-12-1.キャッシュフロー表 現状'!AS24),\"\",'1-12-1.キャッシュフロー表 現状'!AS24)","v":0},{"$f":"IF(ISBLANK('1-12-1.キャッシュフロー表 現状'!AT24),\"\",'1-12-1.キャッシュフロー表 現状'!AT24)","v":0},{"$f":"IF(ISBLANK('1-12-1.キャッシュフロー表 現状'!AU24),\"\",'1-12-1.キャッシュフロー表 現状'!AU24)","v":0},{"$f":"IF(ISBLANK('1-12-1.キャッシュフロー表 現状'!AV24),\"\",'1-12-1.キャッシュフロー表 現状'!AV24)","v":0},{"$f":"IF(ISBLANK('1-12-1.キャッシュフロー表 現状'!AW24),\"\",'1-12-1.キャッシュフロー表 現状'!AW24)","v":0},{"$f":"IF(ISBLANK('1-12-1.キャッシュフロー表 現状'!AX24),\"\",'1-12-1.キャッシュフロー表 現状'!AX24)","v":0},{"$f":"IF(ISBLANK('1-12-1.キャッシュフロー表 現状'!AY24),\"\",'1-12-1.キャッシュフロー表 現状'!AY24)","v":0},{"$f":"IF(ISBLANK('1-12-1.キャッシュフロー表 現状'!AZ24),\"\",'1-12-1.キャッシュフロー表 現状'!AZ24)","v":0},{"$f":"IF(ISBLANK('1-12-1.キャッシュフロー表 現状'!BA24),\"\",'1-12-1.キャッシュフロー表 現状'!BA24)","v":0},{"$f":"IF(ISBLANK('1-12-1.キャッシュフロー表 現状'!BB24),\"\",'1-12-1.キャッシュフロー表 現状'!BB24)","v":0},{"$f":"IF(ISBLANK('1-12-1.キャッシュフロー表 現状'!BC24),\"\",'1-12-1.キャッシュフロー表 現状'!BC24)","v":0},{"$f":"IF(ISBLANK('1-12-1.キャッシュフロー表 現状'!BD24),\"\",'1-12-1.キャッシュフロー表 現状'!BD24)","v":0},{"$f":"IF(ISBLANK('1-12-1.キャッシュフロー表 現状'!BE24),\"\",'1-12-1.キャッシュフロー表 現状'!BE24)","v":0},{"$f":"IF(ISBLANK('1-12-1.キャッシュフロー表 現状'!BF24),\"\",'1-12-1.キャッシュフロー表 現状'!BF24)","v":0},{"$f":"IF(ISBLANK('1-12-1.キャッシュフロー表 現状'!BG24),\"\",'1-12-1.キャッシュフロー表 現状'!BG24)","v":0},{"$f":"IF(ISBLANK('1-12-1.キャッシュフロー表 現状'!BH24),\"\",'1-12-1.キャッシュフロー表 現状'!BH24)","v":0},{"$f":"IF(ISBLANK('1-12-1.キャッシュフロー表 現状'!BI24),\"\",'1-12-1.キャッシュフロー表 現状'!BI24)","v":0},{"$f":"IF(ISBLANK('1-12-1.キャッシュフロー表 現状'!BJ24),\"\",'1-12-1.キャッシュフロー表 現状'!BJ24)","v":0},{"$f":"IF(ISBLANK('1-12-1.キャッシュフロー表 現状'!BK24),\"\",'1-12-1.キャッシュフロー表 現状'!BK24)","v":0},{"$f":"IF(ISBLANK('1-12-1.キャッシュフロー表 現状'!BL24),\"\",'1-12-1.キャッシュフロー表 現状'!BL24)","v":0},{"$f":"IF(ISBLANK('1-12-1.キャッシュフロー表 現状'!BM24),\"\",'1-12-1.キャッシュフロー表 現状'!BM24)","v":0},{"$f":"IF(ISBLANK('1-12-1.キャッシュフロー表 現状'!BN24),\"\",'1-12-1.キャッシュフロー表 現状'!BN24)","v":0},{"$f":"IF(ISBLANK('1-12-1.キャッシュフロー表 現状'!BO24),\"\",'1-12-1.キャッシュフロー表 現状'!BO24)","v":0},{"$f":"IF(ISBLANK('1-12-1.キャッシュフロー表 現状'!BP24),\"\",'1-12-1.キャッシュフロー表 現状'!BP24)","v":0},{"$f":"IF(ISBLANK('1-12-1.キャッシュフロー表 現状'!BQ24),\"\",'1-12-1.キャッシュフロー表 現状'!BQ24)","v":0},{"$f":"IF(ISBLANK('1-12-1.キャッシュフロー表 現状'!BR24),\"\",'1-12-1.キャッシュフロー表 現状'!BR24)","v":0},{"$f":"IF(ISBLANK('1-12-1.キャッシュフロー表 現状'!BS24),\"\",'1-12-1.キャッシュフロー表 現状'!BS24)","v":0},{"$f":"IF(ISBLANK('1-12-1.キャッシュフロー表 現状'!BT24),\"\",'1-12-1.キャッシュフロー表 現状'!BT24)","v":0},{"$f":"IF(ISBLANK('1-12-1.キャッシュフロー表 現状'!BU24),\"\",'1-12-1.キャッシュフロー表 現状'!BU24)","v":0},{"$f":"IF(ISBLANK('1-12-1.キャッシュフロー表 現状'!BV24),\"\",'1-12-1.キャッシュフロー表 現状'!BV24)","v":0},{"$f":"IF(ISBLANK('1-12-1.キャッシュフロー表 現状'!BW24),\"\",'1-12-1.キャッシュフロー表 現状'!BW24)","v":0},{"$f":"IF(ISBLANK('1-12-1.キャッシュフロー表 現状'!BX24),\"\",'1-12-1.キャッシュフロー表 現状'!BX24)","v":0},{"$f":"IF(ISBLANK('1-12-1.キャッシュフロー表 現状'!BY24),\"\",'1-12-1.キャッシュフロー表 現状'!BY24)","v":0},{"$f":"IF(ISBLANK('1-12-1.キャッシュフロー表 現状'!BZ24),\"\",'1-12-1.キャッシュフロー表 現状'!BZ24)","v":0}]
[null,null,null,{"$f":"IF(ISBLANK('1-12-1.キャッシュフロー表 現状'!D25),\"\",'1-12-1.キャッシュフロー表 現状'!D25)","v":""},{"$f":"IF(ISBLANK('1-12-1.キャッシュフロー表 現状'!E25),\"\",'1-12-1.キャッシュフロー表 現状'!E25)","v":0},{"$f":"IF(ISBLANK('1-12-1.キャッシュフロー表 現状'!F25),\"\",'1-12-1.キャッシュフロー表 現状'!F25&\"年後\")","v":""},null,{"$f":"IF(ISBLANK('1-12-1.キャッシュフロー表 現状'!G25),\"\",'1-12-1.キャッシュフロー表 現状'!G25)","v":0},{"$f":"IF(ISBLANK('1-12-1.キャッシュフロー表 現状'!H25),\"\",'1-12-1.キャッシュフロー表 現状'!H25)","v":""},{"$f":"IF(ISBLANK('1-12-1.キャッシュフロー表 現状'!I25),\"\",'1-12-1.キャッシュフロー表 現状'!I25)","v":0},{"$f":"IF(ISBLANK('1-12-1.キャッシュフロー表 現状'!J25),\"\",'1-12-1.キャッシュフロー表 現状'!J25)","v":0},{"$f":"IF(ISBLANK('1-12-1.キャッシュフロー表 現状'!K25),\"\",'1-12-1.キャッシュフロー表 現状'!K25)","v":0},{"$f":"IF(ISBLANK('1-12-1.キャッシュフロー表 現状'!L25),\"\",'1-12-1.キャッシュフロー表 現状'!L25)","v":0},{"$f":"IF(ISBLANK('1-12-1.キャッシュフロー表 現状'!M25),\"\",'1-12-1.キャッシュフロー表 現状'!M25)","v":0},{"$f":"IF(ISBLANK('1-12-1.キャッシュフロー表 現状'!N25),\"\",'1-12-1.キャッシュフロー表 現状'!N25)","v":0},{"$f":"IF(ISBLANK('1-12-1.キャッシュフロー表 現状'!O25),\"\",'1-12-1.キャッシュフロー表 現状'!O25)","v":0},{"$f":"IF(ISBLANK('1-12-1.キャッシュフロー表 現状'!P25),\"\",'1-12-1.キャッシュフロー表 現状'!P25)","v":0},{"$f":"IF(ISBLANK('1-12-1.キャッシュフロー表 現状'!Q25),\"\",'1-12-1.キャッシュフロー表 現状'!Q25)","v":0},{"$f":"IF(ISBLANK('1-12-1.キャッシュフロー表 現状'!R25),\"\",'1-12-1.キャッシュフロー表 現状'!R25)","v":0},{"$f":"IF(ISBLANK('1-12-1.キャッシュフロー表 現状'!S25),\"\",'1-12-1.キャッシュフロー表 現状'!S25)","v":0},{"$f":"IF(ISBLANK('1-12-1.キャッシュフロー表 現状'!T25),\"\",'1-12-1.キャッシュフロー表 現状'!T25)","v":0},{"$f":"IF(ISBLANK('1-12-1.キャッシュフロー表 現状'!U25),\"\",'1-12-1.キャッシュフロー表 現状'!U25)","v":0},{"$f":"IF(ISBLANK('1-12-1.キャッシュフロー表 現状'!V25),\"\",'1-12-1.キャッシュフロー表 現状'!V25)","v":0},{"$f":"IF(ISBLANK('1-12-1.キャッシュフロー表 現状'!W25),\"\",'1-12-1.キャッシュフロー表 現状'!W25)","v":0},{"$f":"IF(ISBLANK('1-12-1.キャッシュフロー表 現状'!X25),\"\",'1-12-1.キャッシュフロー表 現状'!X25)","v":0},{"$f":"IF(ISBLANK('1-12-1.キャッシュフロー表 現状'!Y25),\"\",'1-12-1.キャッシュフロー表 現状'!Y25)","v":0},{"$f":"IF(ISBLANK('1-12-1.キャッシュフロー表 現状'!Z25),\"\",'1-12-1.キャッシュフロー表 現状'!Z25)","v":0},{"$f":"IF(ISBLANK('1-12-1.キャッシュフロー表 現状'!AA25),\"\",'1-12-1.キャッシュフロー表 現状'!AA25)","v":0},{"$f":"IF(ISBLANK('1-12-1.キャッシュフロー表 現状'!AB25),\"\",'1-12-1.キャッシュフロー表 現状'!AB25)","v":0},{"$f":"IF(ISBLANK('1-12-1.キャッシュフロー表 現状'!AC25),\"\",'1-12-1.キャッシュフロー表 現状'!AC25)","v":0},{"$f":"IF(ISBLANK('1-12-1.キャッシュフロー表 現状'!AD25),\"\",'1-12-1.キャッシュフロー表 現状'!AD25)","v":0},{"$f":"IF(ISBLANK('1-12-1.キャッシュフロー表 現状'!AE25),\"\",'1-12-1.キャッシュフロー表 現状'!AE25)","v":0},{"$f":"IF(ISBLANK('1-12-1.キャッシュフロー表 現状'!AF25),\"\",'1-12-1.キャッシュフロー表 現状'!AF25)","v":0},{"$f":"IF(ISBLANK('1-12-1.キャッシュフロー表 現状'!AG25),\"\",'1-12-1.キャッシュフロー表 現状'!AG25)","v":0},{"$f":"IF(ISBLANK('1-12-1.キャッシュフロー表 現状'!AH25),\"\",'1-12-1.キャッシュフロー表 現状'!AH25)","v":0},{"$f":"IF(ISBLANK('1-12-1.キャッシュフロー表 現状'!AI25),\"\",'1-12-1.キャッシュフロー表 現状'!AI25)","v":0},{"$f":"IF(ISBLANK('1-12-1.キャッシュフロー表 現状'!AJ25),\"\",'1-12-1.キャッシュフロー表 現状'!AJ25)","v":0},{"$f":"IF(ISBLANK('1-12-1.キャッシュフロー表 現状'!AK25),\"\",'1-12-1.キャッシュフロー表 現状'!AK25)","v":0},{"$f":"IF(ISBLANK('1-12-1.キャッシュフロー表 現状'!AL25),\"\",'1-12-1.キャッシュフロー表 現状'!AL25)","v":0},null,null,null,null,{"$f":"IF(ISBLANK('1-12-1.キャッシュフロー表 現状'!D25),\"\",'1-12-1.キャッシュフロー表 現状'!D25)","v":""},{"$f":"IF(ISBLANK('1-12-1.キャッシュフロー表 現状'!E25),\"\",'1-12-1.キャッシュフロー表 現状'!E25)","v":0},{"$f":"IF(ISBLANK('1-12-1.キャッシュフロー表 現状'!F25),\"\",'1-12-1.キャッシュフロー表 現状'!F25&\"年後\")","v":""},null,{"$f":"IF(ISBLANK('1-12-1.キャッシュフロー表 現状'!G25),\"\",'1-12-1.キャッシュフロー表 現状'!G25)","v":0},{"$f":"IF(ISBLANK('1-12-1.キャッシュフロー表 現状'!AM25),\"\",'1-12-1.キャッシュフロー表 現状'!AM25)","v":0},{"$f":"IF(ISBLANK('1-12-1.キャッシュフロー表 現状'!AN25),\"\",'1-12-1.キャッシュフロー表 現状'!AN25)","v":0},{"$f":"IF(ISBLANK('1-12-1.キャッシュフロー表 現状'!AO25),\"\",'1-12-1.キャッシュフロー表 現状'!AO25)","v":0},{"$f":"IF(ISBLANK('1-12-1.キャッシュフロー表 現状'!AP25),\"\",'1-12-1.キャッシュフロー表 現状'!AP25)","v":0},{"$f":"IF(ISBLANK('1-12-1.キャッシュフロー表 現状'!AQ25),\"\",'1-12-1.キャッシュフロー表 現状'!AQ25)","v":0},{"$f":"IF(ISBLANK('1-12-1.キャッシュフロー表 現状'!AR25),\"\",'1-12-1.キャッシュフロー表 現状'!AR25)","v":0},{"$f":"IF(ISBLANK('1-12-1.キャッシュフロー表 現状'!AS25),\"\",'1-12-1.キャッシュフロー表 現状'!AS25)","v":0},{"$f":"IF(ISBLANK('1-12-1.キャッシュフロー表 現状'!AT25),\"\",'1-12-1.キャッシュフロー表 現状'!AT25)","v":0},{"$f":"IF(ISBLANK('1-12-1.キャッシュフロー表 現状'!AU25),\"\",'1-12-1.キャッシュフロー表 現状'!AU25)","v":0},{"$f":"IF(ISBLANK('1-12-1.キャッシュフロー表 現状'!AV25),\"\",'1-12-1.キャッシュフロー表 現状'!AV25)","v":0},{"$f":"IF(ISBLANK('1-12-1.キャッシュフロー表 現状'!AW25),\"\",'1-12-1.キャッシュフロー表 現状'!AW25)","v":0},{"$f":"IF(ISBLANK('1-12-1.キャッシュフロー表 現状'!AX25),\"\",'1-12-1.キャッシュフロー表 現状'!AX25)","v":0},{"$f":"IF(ISBLANK('1-12-1.キャッシュフロー表 現状'!AY25),\"\",'1-12-1.キャッシュフロー表 現状'!AY25)","v":0},{"$f":"IF(ISBLANK('1-12-1.キャッシュフロー表 現状'!AZ25),\"\",'1-12-1.キャッシュフロー表 現状'!AZ25)","v":0},{"$f":"IF(ISBLANK('1-12-1.キャッシュフロー表 現状'!BA25),\"\",'1-12-1.キャッシュフロー表 現状'!BA25)","v":0},{"$f":"IF(ISBLANK('1-12-1.キャッシュフロー表 現状'!BB25),\"\",'1-12-1.キャッシュフロー表 現状'!BB25)","v":0},{"$f":"IF(ISBLANK('1-12-1.キャッシュフロー表 現状'!BC25),\"\",'1-12-1.キャッシュフロー表 現状'!BC25)","v":0},{"$f":"IF(ISBLANK('1-12-1.キャッシュフロー表 現状'!BD25),\"\",'1-12-1.キャッシュフロー表 現状'!BD25)","v":0},{"$f":"IF(ISBLANK('1-12-1.キャッシュフロー表 現状'!BE25),\"\",'1-12-1.キャッシュフロー表 現状'!BE25)","v":0},{"$f":"IF(ISBLANK('1-12-1.キャッシュフロー表 現状'!BF25),\"\",'1-12-1.キャッシュフロー表 現状'!BF25)","v":0},{"$f":"IF(ISBLANK('1-12-1.キャッシュフロー表 現状'!BG25),\"\",'1-12-1.キャッシュフロー表 現状'!BG25)","v":0},{"$f":"IF(ISBLANK('1-12-1.キャッシュフロー表 現状'!BH25),\"\",'1-12-1.キャッシュフロー表 現状'!BH25)","v":0},{"$f":"IF(ISBLANK('1-12-1.キャッシュフロー表 現状'!BI25),\"\",'1-12-1.キャッシュフロー表 現状'!BI25)","v":0},{"$f":"IF(ISBLANK('1-12-1.キャッシュフロー表 現状'!BJ25),\"\",'1-12-1.キャッシュフロー表 現状'!BJ25)","v":0},{"$f":"IF(ISBLANK('1-12-1.キャッシュフロー表 現状'!BK25),\"\",'1-12-1.キャッシュフロー表 現状'!BK25)","v":0},{"$f":"IF(ISBLANK('1-12-1.キャッシュフロー表 現状'!BL25),\"\",'1-12-1.キャッシュフロー表 現状'!BL25)","v":0},{"$f":"IF(ISBLANK('1-12-1.キャッシュフロー表 現状'!BM25),\"\",'1-12-1.キャッシュフロー表 現状'!BM25)","v":0},{"$f":"IF(ISBLANK('1-12-1.キャッシュフロー表 現状'!BN25),\"\",'1-12-1.キャッシュフロー表 現状'!BN25)","v":0},{"$f":"IF(ISBLANK('1-12-1.キャッシュフロー表 現状'!BO25),\"\",'1-12-1.キャッシュフロー表 現状'!BO25)","v":0},{"$f":"IF(ISBLANK('1-12-1.キャッシュフロー表 現状'!BP25),\"\",'1-12-1.キャッシュフロー表 現状'!BP25)","v":0},{"$f":"IF(ISBLANK('1-12-1.キャッシュフロー表 現状'!BQ25),\"\",'1-12-1.キャッシュフロー表 現状'!BQ25)","v":0},{"$f":"IF(ISBLANK('1-12-1.キャッシュフロー表 現状'!BR25),\"\",'1-12-1.キャッシュフロー表 現状'!BR25)","v":0},{"$f":"IF(ISBLANK('1-12-1.キャッシュフロー表 現状'!BS25),\"\",'1-12-1.キャッシュフロー表 現状'!BS25)","v":0},{"$f":"IF(ISBLANK('1-12-1.キャッシュフロー表 現状'!BT25),\"\",'1-12-1.キャッシュフロー表 現状'!BT25)","v":0},{"$f":"IF(ISBLANK('1-12-1.キャッシュフロー表 現状'!BU25),\"\",'1-12-1.キャッシュフロー表 現状'!BU25)","v":0},{"$f":"IF(ISBLANK('1-12-1.キャッシュフロー表 現状'!BV25),\"\",'1-12-1.キャッシュフロー表 現状'!BV25)","v":0},{"$f":"IF(ISBLANK('1-12-1.キャッシュフロー表 現状'!BW25),\"\",'1-12-1.キャッシュフロー表 現状'!BW25)","v":0},{"$f":"IF(ISBLANK('1-12-1.キャッシュフロー表 現状'!BX25),\"\",'1-12-1.キャッシュフロー表 現状'!BX25)","v":0},{"$f":"IF(ISBLANK('1-12-1.キャッシュフロー表 現状'!BY25),\"\",'1-12-1.キャッシュフロー表 現状'!BY25)","v":0},{"$f":"IF(ISBLANK('1-12-1.キャッシュフロー表 現状'!BZ25),\"\",'1-12-1.キャッシュフロー表 現状'!BZ25)","v":0}]
[null,null,null,{"$f":"IF(ISBLANK('1-12-1.キャッシュフロー表 現状'!D26),\"\",'1-12-1.キャッシュフロー表 現状'!D26)","v":""},{"$f":"IF(ISBLANK('1-12-1.キャッシュフロー表 現状'!E26),\"\",'1-12-1.キャッシュフロー表 現状'!E26)","v":0},{"$f":"IF(ISBLANK('1-12-1.キャッシュフロー表 現状'!F26),\"\",'1-12-1.キャッシュフロー表 現状'!F26&\"年後\")","v":""},null,{"$f":"IF(ISBLANK('1-12-1.キャッシュフロー表 現状'!G26),\"\",'1-12-1.キャッシュフロー表 現状'!G26)","v":0},{"$f":"IF(ISBLANK('1-12-1.キャッシュフロー表 現状'!H26),\"\",'1-12-1.キャッシュフロー表 現状'!H26)","v":""},{"$f":"IF(ISBLANK('1-12-1.キャッシュフロー表 現状'!I26),\"\",'1-12-1.キャッシュフロー表 現状'!I26)","v":0},{"$f":"IF(ISBLANK('1-12-1.キャッシュフロー表 現状'!J26),\"\",'1-12-1.キャッシュフロー表 現状'!J26)","v":0},{"$f":"IF(ISBLANK('1-12-1.キャッシュフロー表 現状'!K26),\"\",'1-12-1.キャッシュフロー表 現状'!K26)","v":0},{"$f":"IF(ISBLANK('1-12-1.キャッシュフロー表 現状'!L26),\"\",'1-12-1.キャッシュフロー表 現状'!L26)","v":0},{"$f":"IF(ISBLANK('1-12-1.キャッシュフロー表 現状'!M26),\"\",'1-12-1.キャッシュフロー表 現状'!M26)","v":0},{"$f":"IF(ISBLANK('1-12-1.キャッシュフロー表 現状'!N26),\"\",'1-12-1.キャッシュフロー表 現状'!N26)","v":0},{"$f":"IF(ISBLANK('1-12-1.キャッシュフロー表 現状'!O26),\"\",'1-12-1.キャッシュフロー表 現状'!O26)","v":0},{"$f":"IF(ISBLANK('1-12-1.キャッシュフロー表 現状'!P26),\"\",'1-12-1.キャッシュフロー表 現状'!P26)","v":0},{"$f":"IF(ISBLANK('1-12-1.キャッシュフロー表 現状'!Q26),\"\",'1-12-1.キャッシュフロー表 現状'!Q26)","v":0},{"$f":"IF(ISBLANK('1-12-1.キャッシュフロー表 現状'!R26),\"\",'1-12-1.キャッシュフロー表 現状'!R26)","v":0},{"$f":"IF(ISBLANK('1-12-1.キャッシュフロー表 現状'!S26),\"\",'1-12-1.キャッシュフロー表 現状'!S26)","v":0},{"$f":"IF(ISBLANK('1-12-1.キャッシュフロー表 現状'!T26),\"\",'1-12-1.キャッシュフロー表 現状'!T26)","v":0},{"$f":"IF(ISBLANK('1-12-1.キャッシュフロー表 現状'!U26),\"\",'1-12-1.キャッシュフロー表 現状'!U26)","v":0},{"$f":"IF(ISBLANK('1-12-1.キャッシュフロー表 現状'!V26),\"\",'1-12-1.キャッシュフロー表 現状'!V26)","v":0},{"$f":"IF(ISBLANK('1-12-1.キャッシュフロー表 現状'!W26),\"\",'1-12-1.キャッシュフロー表 現状'!W26)","v":0},{"$f":"IF(ISBLANK('1-12-1.キャッシュフロー表 現状'!X26),\"\",'1-12-1.キャッシュフロー表 現状'!X26)","v":0},{"$f":"IF(ISBLANK('1-12-1.キャッシュフロー表 現状'!Y26),\"\",'1-12-1.キャッシュフロー表 現状'!Y26)","v":0},{"$f":"IF(ISBLANK('1-12-1.キャッシュフロー表 現状'!Z26),\"\",'1-12-1.キャッシュフロー表 現状'!Z26)","v":0},{"$f":"IF(ISBLANK('1-12-1.キャッシュフロー表 現状'!AA26),\"\",'1-12-1.キャッシュフロー表 現状'!AA26)","v":0},{"$f":"IF(ISBLANK('1-12-1.キャッシュフロー表 現状'!AB26),\"\",'1-12-1.キャッシュフロー表 現状'!AB26)","v":0},{"$f":"IF(ISBLANK('1-12-1.キャッシュフロー表 現状'!AC26),\"\",'1-12-1.キャッシュフロー表 現状'!AC26)","v":0},{"$f":"IF(ISBLANK('1-12-1.キャッシュフロー表 現状'!AD26),\"\",'1-12-1.キャッシュフロー表 現状'!AD26)","v":0},{"$f":"IF(ISBLANK('1-12-1.キャッシュフロー表 現状'!AE26),\"\",'1-12-1.キャッシュフロー表 現状'!AE26)","v":0},{"$f":"IF(ISBLANK('1-12-1.キャッシュフロー表 現状'!AF26),\"\",'1-12-1.キャッシュフロー表 現状'!AF26)","v":0},{"$f":"IF(ISBLANK('1-12-1.キャッシュフロー表 現状'!AG26),\"\",'1-12-1.キャッシュフロー表 現状'!AG26)","v":0},{"$f":"IF(ISBLANK('1-12-1.キャッシュフロー表 現状'!AH26),\"\",'1-12-1.キャッシュフロー表 現状'!AH26)","v":0},{"$f":"IF(ISBLANK('1-12-1.キャッシュフロー表 現状'!AI26),\"\",'1-12-1.キャッシュフロー表 現状'!AI26)","v":0},{"$f":"IF(ISBLANK('1-12-1.キャッシュフロー表 現状'!AJ26),\"\",'1-12-1.キャッシュフロー表 現状'!AJ26)","v":0},{"$f":"IF(ISBLANK('1-12-1.キャッシュフロー表 現状'!AK26),\"\",'1-12-1.キャッシュフロー表 現状'!AK26)","v":0},{"$f":"IF(ISBLANK('1-12-1.キャッシュフロー表 現状'!AL26),\"\",'1-12-1.キャッシュフロー表 現状'!AL26)","v":0},null,null,null,null,{"$f":"IF(ISBLANK('1-12-1.キャッシュフロー表 現状'!D26),\"\",'1-12-1.キャッシュフロー表 現状'!D26)","v":""},{"$f":"IF(ISBLANK('1-12-1.キャッシュフロー表 現状'!E26),\"\",'1-12-1.キャッシュフロー表 現状'!E26)","v":0},{"$f":"IF(ISBLANK('1-12-1.キャッシュフロー表 現状'!F26),\"\",'1-12-1.キャッシュフロー表 現状'!F26&\"年後\")","v":""},null,{"$f":"IF(ISBLANK('1-12-1.キャッシュフロー表 現状'!G26),\"\",'1-12-1.キャッシュフロー表 現状'!G26)","v":0},{"$f":"IF(ISBLANK('1-12-1.キャッシュフロー表 現状'!AM26),\"\",'1-12-1.キャッシュフロー表 現状'!AM26)","v":0},{"$f":"IF(ISBLANK('1-12-1.キャッシュフロー表 現状'!AN26),\"\",'1-12-1.キャッシュフロー表 現状'!AN26)","v":0},{"$f":"IF(ISBLANK('1-12-1.キャッシュフロー表 現状'!AO26),\"\",'1-12-1.キャッシュフロー表 現状'!AO26)","v":0},{"$f":"IF(ISBLANK('1-12-1.キャッシュフロー表 現状'!AP26),\"\",'1-12-1.キャッシュフロー表 現状'!AP26)","v":0},{"$f":"IF(ISBLANK('1-12-1.キャッシュフロー表 現状'!AQ26),\"\",'1-12-1.キャッシュフロー表 現状'!AQ26)","v":0},{"$f":"IF(ISBLANK('1-12-1.キャッシュフロー表 現状'!AR26),\"\",'1-12-1.キャッシュフロー表 現状'!AR26)","v":0},{"$f":"IF(ISBLANK('1-12-1.キャッシュフロー表 現状'!AS26),\"\",'1-12-1.キャッシュフロー表 現状'!AS26)","v":0},{"$f":"IF(ISBLANK('1-12-1.キャッシュフロー表 現状'!AT26),\"\",'1-12-1.キャッシュフロー表 現状'!AT26)","v":0},{"$f":"IF(ISBLANK('1-12-1.キャッシュフロー表 現状'!AU26),\"\",'1-12-1.キャッシュフロー表 現状'!AU26)","v":0},{"$f":"IF(ISBLANK('1-12-1.キャッシュフロー表 現状'!AV26),\"\",'1-12-1.キャッシュフロー表 現状'!AV26)","v":0},{"$f":"IF(ISBLANK('1-12-1.キャッシュフロー表 現状'!AW26),\"\",'1-12-1.キャッシュフロー表 現状'!AW26)","v":0},{"$f":"IF(ISBLANK('1-12-1.キャッシュフロー表 現状'!AX26),\"\",'1-12-1.キャッシュフロー表 現状'!AX26)","v":0},{"$f":"IF(ISBLANK('1-12-1.キャッシュフロー表 現状'!AY26),\"\",'1-12-1.キャッシュフロー表 現状'!AY26)","v":0},{"$f":"IF(ISBLANK('1-12-1.キャッシュフロー表 現状'!AZ26),\"\",'1-12-1.キャッシュフロー表 現状'!AZ26)","v":0},{"$f":"IF(ISBLANK('1-12-1.キャッシュフロー表 現状'!BA26),\"\",'1-12-1.キャッシュフロー表 現状'!BA26)","v":0},{"$f":"IF(ISBLANK('1-12-1.キャッシュフロー表 現状'!BB26),\"\",'1-12-1.キャッシュフロー表 現状'!BB26)","v":0},{"$f":"IF(ISBLANK('1-12-1.キャッシュフロー表 現状'!BC26),\"\",'1-12-1.キャッシュフロー表 現状'!BC26)","v":0},{"$f":"IF(ISBLANK('1-12-1.キャッシュフロー表 現状'!BD26),\"\",'1-12-1.キャッシュフロー表 現状'!BD26)","v":0},{"$f":"IF(ISBLANK('1-12-1.キャッシュフロー表 現状'!BE26),\"\",'1-12-1.キャッシュフロー表 現状'!BE26)","v":0},{"$f":"IF(ISBLANK('1-12-1.キャッシュフロー表 現状'!BF26),\"\",'1-12-1.キャッシュフロー表 現状'!BF26)","v":0},{"$f":"IF(ISBLANK('1-12-1.キャッシュフロー表 現状'!BG26),\"\",'1-12-1.キャッシュフロー表 現状'!BG26)","v":0},{"$f":"IF(ISBLANK('1-12-1.キャッシュフロー表 現状'!BH26),\"\",'1-12-1.キャッシュフロー表 現状'!BH26)","v":0},{"$f":"IF(ISBLANK('1-12-1.キャッシュフロー表 現状'!BI26),\"\",'1-12-1.キャッシュフロー表 現状'!BI26)","v":0},{"$f":"IF(ISBLANK('1-12-1.キャッシュフロー表 現状'!BJ26),\"\",'1-12-1.キャッシュフロー表 現状'!BJ26)","v":0},{"$f":"IF(ISBLANK('1-12-1.キャッシュフロー表 現状'!BK26),\"\",'1-12-1.キャッシュフロー表 現状'!BK26)","v":0},{"$f":"IF(ISBLANK('1-12-1.キャッシュフロー表 現状'!BL26),\"\",'1-12-1.キャッシュフロー表 現状'!BL26)","v":0},{"$f":"IF(ISBLANK('1-12-1.キャッシュフロー表 現状'!BM26),\"\",'1-12-1.キャッシュフロー表 現状'!BM26)","v":0},{"$f":"IF(ISBLANK('1-12-1.キャッシュフロー表 現状'!BN26),\"\",'1-12-1.キャッシュフロー表 現状'!BN26)","v":0},{"$f":"IF(ISBLANK('1-12-1.キャッシュフロー表 現状'!BO26),\"\",'1-12-1.キャッシュフロー表 現状'!BO26)","v":0},{"$f":"IF(ISBLANK('1-12-1.キャッシュフロー表 現状'!BP26),\"\",'1-12-1.キャッシュフロー表 現状'!BP26)","v":0},{"$f":"IF(ISBLANK('1-12-1.キャッシュフロー表 現状'!BQ26),\"\",'1-12-1.キャッシュフロー表 現状'!BQ26)","v":0},{"$f":"IF(ISBLANK('1-12-1.キャッシュフロー表 現状'!BR26),\"\",'1-12-1.キャッシュフロー表 現状'!BR26)","v":0},{"$f":"IF(ISBLANK('1-12-1.キャッシュフロー表 現状'!BS26),\"\",'1-12-1.キャッシュフロー表 現状'!BS26)","v":0},{"$f":"IF(ISBLANK('1-12-1.キャッシュフロー表 現状'!BT26),\"\",'1-12-1.キャッシュフロー表 現状'!BT26)","v":0},{"$f":"IF(ISBLANK('1-12-1.キャッシュフロー表 現状'!BU26),\"\",'1-12-1.キャッシュフロー表 現状'!BU26)","v":0},{"$f":"IF(ISBLANK('1-12-1.キャッシュフロー表 現状'!BV26),\"\",'1-12-1.キャッシュフロー表 現状'!BV26)","v":0},{"$f":"IF(ISBLANK('1-12-1.キャッシュフロー表 現状'!BW26),\"\",'1-12-1.キャッシュフロー表 現状'!BW26)","v":0},{"$f":"IF(ISBLANK('1-12-1.キャッシュフロー表 現状'!BX26),\"\",'1-12-1.キャッシュフロー表 現状'!BX26)","v":0},{"$f":"IF(ISBLANK('1-12-1.キャッシュフロー表 現状'!BY26),\"\",'1-12-1.キャッシュフロー表 現状'!BY26)","v":0},{"$f":"IF(ISBLANK('1-12-1.キャッシュフロー表 現状'!BZ26),\"\",'1-12-1.キャッシュフロー表 現状'!BZ26)","v":0}]
[null,null,null,{"$f":"IF(ISBLANK('1-12-1.キャッシュフロー表 現状'!D27),\"\",'1-12-1.キャッシュフロー表 現状'!D27)","v":""},{"$f":"IF(ISBLANK('1-12-1.キャッシュフロー表 現状'!E27),\"\",'1-12-1.キャッシュフロー表 現状'!E27)","v":0},{"$f":"IF(ISBLANK('1-12-1.キャッシュフロー表 現状'!F27),\"\",'1-12-1.キャッシュフロー表 現状'!F27&\"年後\")","v":""},null,{"$f":"IF(ISBLANK('1-12-1.キャッシュフロー表 現状'!G27),\"\",'1-12-1.キャッシュフロー表 現状'!G27)","v":0},{"$f":"IF(ISBLANK('1-12-1.キャッシュフロー表 現状'!H27),\"\",'1-12-1.キャッシュフロー表 現状'!H27)","v":""},{"$f":"IF(ISBLANK('1-12-1.キャッシュフロー表 現状'!I27),\"\",'1-12-1.キャッシュフロー表 現状'!I27)","v":0},{"$f":"IF(ISBLANK('1-12-1.キャッシュフロー表 現状'!J27),\"\",'1-12-1.キャッシュフロー表 現状'!J27)","v":0},{"$f":"IF(ISBLANK('1-12-1.キャッシュフロー表 現状'!K27),\"\",'1-12-1.キャッシュフロー表 現状'!K27)","v":0},{"$f":"IF(ISBLANK('1-12-1.キャッシュフロー表 現状'!L27),\"\",'1-12-1.キャッシュフロー表 現状'!L27)","v":0},{"$f":"IF(ISBLANK('1-12-1.キャッシュフロー表 現状'!M27),\"\",'1-12-1.キャッシュフロー表 現状'!M27)","v":0},{"$f":"IF(ISBLANK('1-12-1.キャッシュフロー表 現状'!N27),\"\",'1-12-1.キャッシュフロー表 現状'!N27)","v":0},{"$f":"IF(ISBLANK('1-12-1.キャッシュフロー表 現状'!O27),\"\",'1-12-1.キャッシュフロー表 現状'!O27)","v":0},{"$f":"IF(ISBLANK('1-12-1.キャッシュフロー表 現状'!P27),\"\",'1-12-1.キャッシュフロー表 現状'!P27)","v":0},{"$f":"IF(ISBLANK('1-12-1.キャッシュフロー表 現状'!Q27),\"\",'1-12-1.キャッシュフロー表 現状'!Q27)","v":0},{"$f":"IF(ISBLANK('1-12-1.キャッシュフロー表 現状'!R27),\"\",'1-12-1.キャッシュフロー表 現状'!R27)","v":0},{"$f":"IF(ISBLANK('1-12-1.キャッシュフロー表 現状'!S27),\"\",'1-12-1.キャッシュフロー表 現状'!S27)","v":0},{"$f":"IF(ISBLANK('1-12-1.キャッシュフロー表 現状'!T27),\"\",'1-12-1.キャッシュフロー表 現状'!T27)","v":0},{"$f":"IF(ISBLANK('1-12-1.キャッシュフロー表 現状'!U27),\"\",'1-12-1.キャッシュフロー表 現状'!U27)","v":0},{"$f":"IF(ISBLANK('1-12-1.キャッシュフロー表 現状'!V27),\"\",'1-12-1.キャッシュフロー表 現状'!V27)","v":0},{"$f":"IF(ISBLANK('1-12-1.キャッシュフロー表 現状'!W27),\"\",'1-12-1.キャッシュフロー表 現状'!W27)","v":0},{"$f":"IF(ISBLANK('1-12-1.キャッシュフロー表 現状'!X27),\"\",'1-12-1.キャッシュフロー表 現状'!X27)","v":0},{"$f":"IF(ISBLANK('1-12-1.キャッシュフロー表 現状'!Y27),\"\",'1-12-1.キャッシュフロー表 現状'!Y27)","v":0},{"$f":"IF(ISBLANK('1-12-1.キャッシュフロー表 現状'!Z27),\"\",'1-12-1.キャッシュフロー表 現状'!Z27)","v":0},{"$f":"IF(ISBLANK('1-12-1.キャッシュフロー表 現状'!AA27),\"\",'1-12-1.キャッシュフロー表 現状'!AA27)","v":0},{"$f":"IF(ISBLANK('1-12-1.キャッシュフロー表 現状'!AB27),\"\",'1-12-1.キャッシュフロー表 現状'!AB27)","v":0},{"$f":"IF(ISBLANK('1-12-1.キャッシュフロー表 現状'!AC27),\"\",'1-12-1.キャッシュフロー表 現状'!AC27)","v":0},{"$f":"IF(ISBLANK('1-12-1.キャッシュフロー表 現状'!AD27),\"\",'1-12-1.キャッシュフロー表 現状'!AD27)","v":0},{"$f":"IF(ISBLANK('1-12-1.キャッシュフロー表 現状'!AE27),\"\",'1-12-1.キャッシュフロー表 現状'!AE27)","v":0},{"$f":"IF(ISBLANK('1-12-1.キャッシュフロー表 現状'!AF27),\"\",'1-12-1.キャッシュフロー表 現状'!AF27)","v":0},{"$f":"IF(ISBLANK('1-12-1.キャッシュフロー表 現状'!AG27),\"\",'1-12-1.キャッシュフロー表 現状'!AG27)","v":0},{"$f":"IF(ISBLANK('1-12-1.キャッシュフロー表 現状'!AH27),\"\",'1-12-1.キャッシュフロー表 現状'!AH27)","v":0},{"$f":"IF(ISBLANK('1-12-1.キャッシュフロー表 現状'!AI27),\"\",'1-12-1.キャッシュフロー表 現状'!AI27)","v":0},{"$f":"IF(ISBLANK('1-12-1.キャッシュフロー表 現状'!AJ27),\"\",'1-12-1.キャッシュフロー表 現状'!AJ27)","v":0},{"$f":"IF(ISBLANK('1-12-1.キャッシュフロー表 現状'!AK27),\"\",'1-12-1.キャッシュフロー表 現状'!AK27)","v":0},{"$f":"IF(ISBLANK('1-12-1.キャッシュフロー表 現状'!AL27),\"\",'1-12-1.キャッシュフロー表 現状'!AL27)","v":0},null,null,null,null,{"$f":"IF(ISBLANK('1-12-1.キャッシュフロー表 現状'!D27),\"\",'1-12-1.キャッシュフロー表 現状'!D27)","v":""},{"$f":"IF(ISBLANK('1-12-1.キャッシュフロー表 現状'!E27),\"\",'1-12-1.キャッシュフロー表 現状'!E27)","v":0},{"$f":"IF(ISBLANK('1-12-1.キャッシュフロー表 現状'!F27),\"\",'1-12-1.キャッシュフロー表 現状'!F27&\"年後\")","v":""},null,{"$f":"IF(ISBLANK('1-12-1.キャッシュフロー表 現状'!G27),\"\",'1-12-1.キャッシュフロー表 現状'!G27)","v":0},{"$f":"IF(ISBLANK('1-12-1.キャッシュフロー表 現状'!AM27),\"\",'1-12-1.キャッシュフロー表 現状'!AM27)","v":0},{"$f":"IF(ISBLANK('1-12-1.キャッシュフロー表 現状'!AN27),\"\",'1-12-1.キャッシュフロー表 現状'!AN27)","v":0},{"$f":"IF(ISBLANK('1-12-1.キャッシュフロー表 現状'!AO27),\"\",'1-12-1.キャッシュフロー表 現状'!AO27)","v":0},{"$f":"IF(ISBLANK('1-12-1.キャッシュフロー表 現状'!AP27),\"\",'1-12-1.キャッシュフロー表 現状'!AP27)","v":0},{"$f":"IF(ISBLANK('1-12-1.キャッシュフロー表 現状'!AQ27),\"\",'1-12-1.キャッシュフロー表 現状'!AQ27)","v":0},{"$f":"IF(ISBLANK('1-12-1.キャッシュフロー表 現状'!AR27),\"\",'1-12-1.キャッシュフロー表 現状'!AR27)","v":0},{"$f":"IF(ISBLANK('1-12-1.キャッシュフロー表 現状'!AS27),\"\",'1-12-1.キャッシュフロー表 現状'!AS27)","v":0},{"$f":"IF(ISBLANK('1-12-1.キャッシュフロー表 現状'!AT27),\"\",'1-12-1.キャッシュフロー表 現状'!AT27)","v":0},{"$f":"IF(ISBLANK('1-12-1.キャッシュフロー表 現状'!AU27),\"\",'1-12-1.キャッシュフロー表 現状'!AU27)","v":0},{"$f":"IF(ISBLANK('1-12-1.キャッシュフロー表 現状'!AV27),\"\",'1-12-1.キャッシュフロー表 現状'!AV27)","v":0},{"$f":"IF(ISBLANK('1-12-1.キャッシュフロー表 現状'!AW27),\"\",'1-12-1.キャッシュフロー表 現状'!AW27)","v":0},{"$f":"IF(ISBLANK('1-12-1.キャッシュフロー表 現状'!AX27),\"\",'1-12-1.キャッシュフロー表 現状'!AX27)","v":0},{"$f":"IF(ISBLANK('1-12-1.キャッシュフロー表 現状'!AY27),\"\",'1-12-1.キャッシュフロー表 現状'!AY27)","v":0},{"$f":"IF(ISBLANK('1-12-1.キャッシュフロー表 現状'!AZ27),\"\",'1-12-1.キャッシュフロー表 現状'!AZ27)","v":0},{"$f":"IF(ISBLANK('1-12-1.キャッシュフロー表 現状'!BA27),\"\",'1-12-1.キャッシュフロー表 現状'!BA27)","v":0},{"$f":"IF(ISBLANK('1-12-1.キャッシュフロー表 現状'!BB27),\"\",'1-12-1.キャッシュフロー表 現状'!BB27)","v":0},{"$f":"IF(ISBLANK('1-12-1.キャッシュフロー表 現状'!BC27),\"\",'1-12-1.キャッシュフロー表 現状'!BC27)","v":0},{"$f":"IF(ISBLANK('1-12-1.キャッシュフロー表 現状'!BD27),\"\",'1-12-1.キャッシュフロー表 現状'!BD27)","v":0},{"$f":"IF(ISBLANK('1-12-1.キャッシュフロー表 現状'!BE27),\"\",'1-12-1.キャッシュフロー表 現状'!BE27)","v":0},{"$f":"IF(ISBLANK('1-12-1.キャッシュフロー表 現状'!BF27),\"\",'1-12-1.キャッシュフロー表 現状'!BF27)","v":0},{"$f":"IF(ISBLANK('1-12-1.キャッシュフロー表 現状'!BG27),\"\",'1-12-1.キャッシュフロー表 現状'!BG27)","v":0},{"$f":"IF(ISBLANK('1-12-1.キャッシュフロー表 現状'!BH27),\"\",'1-12-1.キャッシュフロー表 現状'!BH27)","v":0},{"$f":"IF(ISBLANK('1-12-1.キャッシュフロー表 現状'!BI27),\"\",'1-12-1.キャッシュフロー表 現状'!BI27)","v":0},{"$f":"IF(ISBLANK('1-12-1.キャッシュフロー表 現状'!BJ27),\"\",'1-12-1.キャッシュフロー表 現状'!BJ27)","v":0},{"$f":"IF(ISBLANK('1-12-1.キャッシュフロー表 現状'!BK27),\"\",'1-12-1.キャッシュフロー表 現状'!BK27)","v":0},{"$f":"IF(ISBLANK('1-12-1.キャッシュフロー表 現状'!BL27),\"\",'1-12-1.キャッシュフロー表 現状'!BL27)","v":0},{"$f":"IF(ISBLANK('1-12-1.キャッシュフロー表 現状'!BM27),\"\",'1-12-1.キャッシュフロー表 現状'!BM27)","v":0},{"$f":"IF(ISBLANK('1-12-1.キャッシュフロー表 現状'!BN27),\"\",'1-12-1.キャッシュフロー表 現状'!BN27)","v":0},{"$f":"IF(ISBLANK('1-12-1.キャッシュフロー表 現状'!BO27),\"\",'1-12-1.キャッシュフロー表 現状'!BO27)","v":0},{"$f":"IF(ISBLANK('1-12-1.キャッシュフロー表 現状'!BP27),\"\",'1-12-1.キャッシュフロー表 現状'!BP27)","v":0},{"$f":"IF(ISBLANK('1-12-1.キャッシュフロー表 現状'!BQ27),\"\",'1-12-1.キャッシュフロー表 現状'!BQ27)","v":0},{"$f":"IF(ISBLANK('1-12-1.キャッシュフロー表 現状'!BR27),\"\",'1-12-1.キャッシュフロー表 現状'!BR27)","v":0},{"$f":"IF(ISBLANK('1-12-1.キャッシュフロー表 現状'!BS27),\"\",'1-12-1.キャッシュフロー表 現状'!BS27)","v":0},{"$f":"IF(ISBLANK('1-12-1.キャッシュフロー表 現状'!BT27),\"\",'1-12-1.キャッシュフロー表 現状'!BT27)","v":0},{"$f":"IF(ISBLANK('1-12-1.キャッシュフロー表 現状'!BU27),\"\",'1-12-1.キャッシュフロー表 現状'!BU27)","v":0},{"$f":"IF(ISBLANK('1-12-1.キャッシュフロー表 現状'!BV27),\"\",'1-12-1.キャッシュフロー表 現状'!BV27)","v":0},{"$f":"IF(ISBLANK('1-12-1.キャッシュフロー表 現状'!BW27),\"\",'1-12-1.キャッシュフロー表 現状'!BW27)","v":0},{"$f":"IF(ISBLANK('1-12-1.キャッシュフロー表 現状'!BX27),\"\",'1-12-1.キャッシュフロー表 現状'!BX27)","v":0},{"$f":"IF(ISBLANK('1-12-1.キャッシュフロー表 現状'!BY27),\"\",'1-12-1.キャッシュフロー表 現状'!BY27)","v":0},{"$f":"IF(ISBLANK('1-12-1.キャッシュフロー表 現状'!BZ27),\"\",'1-12-1.キャッシュフロー表 現状'!BZ27)","v":0}]
[null,null,null,{"$f":"IF(ISBLANK('1-12-1.キャッシュフロー表 現状'!D28),\"\",'1-12-1.キャッシュフロー表 現状'!D28)","v":""},{"$f":"IF(ISBLANK('1-12-1.キャッシュフロー表 現状'!E28),\"\",'1-12-1.キャッシュフロー表 現状'!E28)","v":0},{"$f":"IF(ISBLANK('1-12-1.キャッシュフロー表 現状'!F28),\"\",'1-12-1.キャッシュフロー表 現状'!F28&\"年後\")","v":""},null,{"$f":"IF(ISBLANK('1-12-1.キャッシュフロー表 現状'!G28),\"\",'1-12-1.キャッシュフロー表 現状'!G28)","v":0},{"$f":"IF(ISBLANK('1-12-1.キャッシュフロー表 現状'!H28),\"\",'1-12-1.キャッシュフロー表 現状'!H28)","v":""},{"$f":"IF(ISBLANK('1-12-1.キャッシュフロー表 現状'!I28),\"\",'1-12-1.キャッシュフロー表 現状'!I28)","v":0},{"$f":"IF(ISBLANK('1-12-1.キャッシュフロー表 現状'!J28),\"\",'1-12-1.キャッシュフロー表 現状'!J28)","v":0},{"$f":"IF(ISBLANK('1-12-1.キャッシュフロー表 現状'!K28),\"\",'1-12-1.キャッシュフロー表 現状'!K28)","v":0},{"$f":"IF(ISBLANK('1-12-1.キャッシュフロー表 現状'!L28),\"\",'1-12-1.キャッシュフロー表 現状'!L28)","v":0},{"$f":"IF(ISBLANK('1-12-1.キャッシュフロー表 現状'!M28),\"\",'1-12-1.キャッシュフロー表 現状'!M28)","v":0},{"$f":"IF(ISBLANK('1-12-1.キャッシュフロー表 現状'!N28),\"\",'1-12-1.キャッシュフロー表 現状'!N28)","v":0},{"$f":"IF(ISBLANK('1-12-1.キャッシュフロー表 現状'!O28),\"\",'1-12-1.キャッシュフロー表 現状'!O28)","v":0},{"$f":"IF(ISBLANK('1-12-1.キャッシュフロー表 現状'!P28),\"\",'1-12-1.キャッシュフロー表 現状'!P28)","v":0},{"$f":"IF(ISBLANK('1-12-1.キャッシュフロー表 現状'!Q28),\"\",'1-12-1.キャッシュフロー表 現状'!Q28)","v":0},{"$f":"IF(ISBLANK('1-12-1.キャッシュフロー表 現状'!R28),\"\",'1-12-1.キャッシュフロー表 現状'!R28)","v":0},{"$f":"IF(ISBLANK('1-12-1.キャッシュフロー表 現状'!S28),\"\",'1-12-1.キャッシュフロー表 現状'!S28)","v":0},{"$f":"IF(ISBLANK('1-12-1.キャッシュフロー表 現状'!T28),\"\",'1-12-1.キャッシュフロー表 現状'!T28)","v":0},{"$f":"IF(ISBLANK('1-12-1.キャッシュフロー表 現状'!U28),\"\",'1-12-1.キャッシュフロー表 現状'!U28)","v":0},{"$f":"IF(ISBLANK('1-12-1.キャッシュフロー表 現状'!V28),\"\",'1-12-1.キャッシュフロー表 現状'!V28)","v":0},{"$f":"IF(ISBLANK('1-12-1.キャッシュフロー表 現状'!W28),\"\",'1-12-1.キャッシュフロー表 現状'!W28)","v":0},{"$f":"IF(ISBLANK('1-12-1.キャッシュフロー表 現状'!X28),\"\",'1-12-1.キャッシュフロー表 現状'!X28)","v":0},{"$f":"IF(ISBLANK('1-12-1.キャッシュフロー表 現状'!Y28),\"\",'1-12-1.キャッシュフロー表 現状'!Y28)","v":0},{"$f":"IF(ISBLANK('1-12-1.キャッシュフロー表 現状'!Z28),\"\",'1-12-1.キャッシュフロー表 現状'!Z28)","v":0},{"$f":"IF(ISBLANK('1-12-1.キャッシュフロー表 現状'!AA28),\"\",'1-12-1.キャッシュフロー表 現状'!AA28)","v":0},{"$f":"IF(ISBLANK('1-12-1.キャッシュフロー表 現状'!AB28),\"\",'1-12-1.キャッシュフロー表 現状'!AB28)","v":0},{"$f":"IF(ISBLANK('1-12-1.キャッシュフロー表 現状'!AC28),\"\",'1-12-1.キャッシュフロー表 現状'!AC28)","v":0},{"$f":"IF(ISBLANK('1-12-1.キャッシュフロー表 現状'!AD28),\"\",'1-12-1.キャッシュフロー表 現状'!AD28)","v":0},{"$f":"IF(ISBLANK('1-12-1.キャッシュフロー表 現状'!AE28),\"\",'1-12-1.キャッシュフロー表 現状'!AE28)","v":0},{"$f":"IF(ISBLANK('1-12-1.キャッシュフロー表 現状'!AF28),\"\",'1-12-1.キャッシュフロー表 現状'!AF28)","v":0},{"$f":"IF(ISBLANK('1-12-1.キャッシュフロー表 現状'!AG28),\"\",'1-12-1.キャッシュフロー表 現状'!AG28)","v":0},{"$f":"IF(ISBLANK('1-12-1.キャッシュフロー表 現状'!AH28),\"\",'1-12-1.キャッシュフロー表 現状'!AH28)","v":0},{"$f":"IF(ISBLANK('1-12-1.キャッシュフロー表 現状'!AI28),\"\",'1-12-1.キャッシュフロー表 現状'!AI28)","v":0},{"$f":"IF(ISBLANK('1-12-1.キャッシュフロー表 現状'!AJ28),\"\",'1-12-1.キャッシュフロー表 現状'!AJ28)","v":0},{"$f":"IF(ISBLANK('1-12-1.キャッシュフロー表 現状'!AK28),\"\",'1-12-1.キャッシュフロー表 現状'!AK28)","v":0},{"$f":"IF(ISBLANK('1-12-1.キャッシュフロー表 現状'!AL28),\"\",'1-12-1.キャッシュフロー表 現状'!AL28)","v":0},null,null,null,null,{"$f":"IF(ISBLANK('1-12-1.キャッシュフロー表 現状'!D28),\"\",'1-12-1.キャッシュフロー表 現状'!D28)","v":""},{"$f":"IF(ISBLANK('1-12-1.キャッシュフロー表 現状'!E28),\"\",'1-12-1.キャッシュフロー表 現状'!E28)","v":0},{"$f":"IF(ISBLANK('1-12-1.キャッシュフロー表 現状'!F28),\"\",'1-12-1.キャッシュフロー表 現状'!F28&\"年後\")","v":""},null,{"$f":"IF(ISBLANK('1-12-1.キャッシュフロー表 現状'!G28),\"\",'1-12-1.キャッシュフロー表 現状'!G28)","v":0},{"$f":"IF(ISBLANK('1-12-1.キャッシュフロー表 現状'!AM28),\"\",'1-12-1.キャッシュフロー表 現状'!AM28)","v":0},{"$f":"IF(ISBLANK('1-12-1.キャッシュフロー表 現状'!AN28),\"\",'1-12-1.キャッシュフロー表 現状'!AN28)","v":0},{"$f":"IF(ISBLANK('1-12-1.キャッシュフロー表 現状'!AO28),\"\",'1-12-1.キャッシュフロー表 現状'!AO28)","v":0},{"$f":"IF(ISBLANK('1-12-1.キャッシュフロー表 現状'!AP28),\"\",'1-12-1.キャッシュフロー表 現状'!AP28)","v":0},{"$f":"IF(ISBLANK('1-12-1.キャッシュフロー表 現状'!AQ28),\"\",'1-12-1.キャッシュフロー表 現状'!AQ28)","v":0},{"$f":"IF(ISBLANK('1-12-1.キャッシュフロー表 現状'!AR28),\"\",'1-12-1.キャッシュフロー表 現状'!AR28)","v":0},{"$f":"IF(ISBLANK('1-12-1.キャッシュフロー表 現状'!AS28),\"\",'1-12-1.キャッシュフロー表 現状'!AS28)","v":0},{"$f":"IF(ISBLANK('1-12-1.キャッシュフロー表 現状'!AT28),\"\",'1-12-1.キャッシュフロー表 現状'!AT28)","v":0},{"$f":"IF(ISBLANK('1-12-1.キャッシュフロー表 現状'!AU28),\"\",'1-12-1.キャッシュフロー表 現状'!AU28)","v":0},{"$f":"IF(ISBLANK('1-12-1.キャッシュフロー表 現状'!AV28),\"\",'1-12-1.キャッシュフロー表 現状'!AV28)","v":0},{"$f":"IF(ISBLANK('1-12-1.キャッシュフロー表 現状'!AW28),\"\",'1-12-1.キャッシュフロー表 現状'!AW28)","v":0},{"$f":"IF(ISBLANK('1-12-1.キャッシュフロー表 現状'!AX28),\"\",'1-12-1.キャッシュフロー表 現状'!AX28)","v":0},{"$f":"IF(ISBLANK('1-12-1.キャッシュフロー表 現状'!AY28),\"\",'1-12-1.キャッシュフロー表 現状'!AY28)","v":0},{"$f":"IF(ISBLANK('1-12-1.キャッシュフロー表 現状'!AZ28),\"\",'1-12-1.キャッシュフロー表 現状'!AZ28)","v":0},{"$f":"IF(ISBLANK('1-12-1.キャッシュフロー表 現状'!BA28),\"\",'1-12-1.キャッシュフロー表 現状'!BA28)","v":0},{"$f":"IF(ISBLANK('1-12-1.キャッシュフロー表 現状'!BB28),\"\",'1-12-1.キャッシュフロー表 現状'!BB28)","v":0},{"$f":"IF(ISBLANK('1-12-1.キャッシュフロー表 現状'!BC28),\"\",'1-12-1.キャッシュフロー表 現状'!BC28)","v":0},{"$f":"IF(ISBLANK('1-12-1.キャッシュフロー表 現状'!BD28),\"\",'1-12-1.キャッシュフロー表 現状'!BD28)","v":0},{"$f":"IF(ISBLANK('1-12-1.キャッシュフロー表 現状'!BE28),\"\",'1-12-1.キャッシュフロー表 現状'!BE28)","v":0},{"$f":"IF(ISBLANK('1-12-1.キャッシュフロー表 現状'!BF28),\"\",'1-12-1.キャッシュフロー表 現状'!BF28)","v":0},{"$f":"IF(ISBLANK('1-12-1.キャッシュフロー表 現状'!BG28),\"\",'1-12-1.キャッシュフロー表 現状'!BG28)","v":0},{"$f":"IF(ISBLANK('1-12-1.キャッシュフロー表 現状'!BH28),\"\",'1-12-1.キャッシュフロー表 現状'!BH28)","v":0},{"$f":"IF(ISBLANK('1-12-1.キャッシュフロー表 現状'!BI28),\"\",'1-12-1.キャッシュフロー表 現状'!BI28)","v":0},{"$f":"IF(ISBLANK('1-12-1.キャッシュフロー表 現状'!BJ28),\"\",'1-12-1.キャッシュフロー表 現状'!BJ28)","v":0},{"$f":"IF(ISBLANK('1-12-1.キャッシュフロー表 現状'!BK28),\"\",'1-12-1.キャッシュフロー表 現状'!BK28)","v":0},{"$f":"IF(ISBLANK('1-12-1.キャッシュフロー表 現状'!BL28),\"\",'1-12-1.キャッシュフロー表 現状'!BL28)","v":0},{"$f":"IF(ISBLANK('1-12-1.キャッシュフロー表 現状'!BM28),\"\",'1-12-1.キャッシュフロー表 現状'!BM28)","v":0},{"$f":"IF(ISBLANK('1-12-1.キャッシュフロー表 現状'!BN28),\"\",'1-12-1.キャッシュフロー表 現状'!BN28)","v":0},{"$f":"IF(ISBLANK('1-12-1.キャッシュフロー表 現状'!BO28),\"\",'1-12-1.キャッシュフロー表 現状'!BO28)","v":0},{"$f":"IF(ISBLANK('1-12-1.キャッシュフロー表 現状'!BP28),\"\",'1-12-1.キャッシュフロー表 現状'!BP28)","v":0},{"$f":"IF(ISBLANK('1-12-1.キャッシュフロー表 現状'!BQ28),\"\",'1-12-1.キャッシュフロー表 現状'!BQ28)","v":0},{"$f":"IF(ISBLANK('1-12-1.キャッシュフロー表 現状'!BR28),\"\",'1-12-1.キャッシュフロー表 現状'!BR28)","v":0},{"$f":"IF(ISBLANK('1-12-1.キャッシュフロー表 現状'!BS28),\"\",'1-12-1.キャッシュフロー表 現状'!BS28)","v":0},{"$f":"IF(ISBLANK('1-12-1.キャッシュフロー表 現状'!BT28),\"\",'1-12-1.キャッシュフロー表 現状'!BT28)","v":0},{"$f":"IF(ISBLANK('1-12-1.キャッシュフロー表 現状'!BU28),\"\",'1-12-1.キャッシュフロー表 現状'!BU28)","v":0},{"$f":"IF(ISBLANK('1-12-1.キャッシュフロー表 現状'!BV28),\"\",'1-12-1.キャッシュフロー表 現状'!BV28)","v":0},{"$f":"IF(ISBLANK('1-12-1.キャッシュフロー表 現状'!BW28),\"\",'1-12-1.キャッシュフロー表 現状'!BW28)","v":0},{"$f":"IF(ISBLANK('1-12-1.キャッシュフロー表 現状'!BX28),\"\",'1-12-1.キャッシュフロー表 現状'!BX28)","v":0},{"$f":"IF(ISBLANK('1-12-1.キャッシュフロー表 現状'!BY28),\"\",'1-12-1.キャッシュフロー表 現状'!BY28)","v":0},{"$f":"IF(ISBLANK('1-12-1.キャッシュフロー表 現状'!BZ28),\"\",'1-12-1.キャッシュフロー表 現状'!BZ28)","v":0}]
[null,null,null,{"$f":"IF(ISBLANK('1-12-1.キャッシュフロー表 現状'!D29),\"\",'1-12-1.キャッシュフロー表 現状'!D29)","v":"その他一時的収入"},null,null,null,null,{"$f":"IF(ISBLANK('1-12-1.キャッシュフロー表 現状'!H29),\"\",'1-12-1.キャッシュフロー表 現状'!H29)","v":""},{"$f":"IF(ISBLANK('1-12-1.キャッシュフロー表 現状'!I29),\"\",'1-12-1.キャッシュフロー表 現状'!I29)","v":""},{"$f":"IF(ISBLANK('1-12-1.キャッシュフロー表 現状'!J29),\"\",'1-12-1.キャッシュフロー表 現状'!J29)","v":""},{"$f":"IF(ISBLANK('1-12-1.キャッシュフロー表 現状'!K29),\"\",'1-12-1.キャッシュフロー表 現状'!K29)","v":""},{"$f":"IF(ISBLANK('1-12-1.キャッシュフロー表 現状'!L29),\"\",'1-12-1.キャッシュフロー表 現状'!L29)","v":""},{"$f":"IF(ISBLANK('1-12-1.キャッシュフロー表 現状'!M29),\"\",'1-12-1.キャッシュフロー表 現状'!M29)","v":""},{"$f":"IF(ISBLANK('1-12-1.キャッシュフロー表 現状'!N29),\"\",'1-12-1.キャッシュフロー表 現状'!N29)","v":""},{"$f":"IF(ISBLANK('1-12-1.キャッシュフロー表 現状'!O29),\"\",'1-12-1.キャッシュフロー表 現状'!O29)","v":""},{"$f":"IF(ISBLANK('1-12-1.キャッシュフロー表 現状'!P29),\"\",'1-12-1.キャッシュフロー表 現状'!P29)","v":""},{"$f":"IF(ISBLANK('1-12-1.キャッシュフロー表 現状'!Q29),\"\",'1-12-1.キャッシュフロー表 現状'!Q29)","v":""},{"$f":"IF(ISBLANK('1-12-1.キャッシュフロー表 現状'!R29),\"\",'1-12-1.キャッシュフロー表 現状'!R29)","v":""},{"$f":"IF(ISBLANK('1-12-1.キャッシュフロー表 現状'!S29),\"\",'1-12-1.キャッシュフロー表 現状'!S29)","v":""},{"$f":"IF(ISBLANK('1-12-1.キャッシュフロー表 現状'!T29),\"\",'1-12-1.キャッシュフロー表 現状'!T29)","v":""},{"$f":"IF(ISBLANK('1-12-1.キャッシュフロー表 現状'!U29),\"\",'1-12-1.キャッシュフロー表 現状'!U29)","v":""},{"$f":"IF(ISBLANK('1-12-1.キャッシュフロー表 現状'!V29),\"\",'1-12-1.キャッシュフロー表 現状'!V29)","v":""},{"$f":"IF(ISBLANK('1-12-1.キャッシュフロー表 現状'!W29),\"\",'1-12-1.キャッシュフロー表 現状'!W29)","v":""},{"$f":"IF(ISBLANK('1-12-1.キャッシュフロー表 現状'!X29),\"\",'1-12-1.キャッシュフロー表 現状'!X29)","v":""},{"$f":"IF(ISBLANK('1-12-1.キャッシュフロー表 現状'!Y29),\"\",'1-12-1.キャッシュフロー表 現状'!Y29)","v":""},{"$f":"IF(ISBLANK('1-12-1.キャッシュフロー表 現状'!Z29),\"\",'1-12-1.キャッシュフロー表 現状'!Z29)","v":""},{"$f":"IF(ISBLANK('1-12-1.キャッシュフロー表 現状'!AA29),\"\",'1-12-1.キャッシュフロー表 現状'!AA29)","v":""},{"$f":"IF(ISBLANK('1-12-1.キャッシュフロー表 現状'!AB29),\"\",'1-12-1.キャッシュフロー表 現状'!AB29)","v":""},{"$f":"IF(ISBLANK('1-12-1.キャッシュフロー表 現状'!AC29),\"\",'1-12-1.キャッシュフロー表 現状'!AC29)","v":""},{"$f":"IF(ISBLANK('1-12-1.キャッシュフロー表 現状'!AD29),\"\",'1-12-1.キャッシュフロー表 現状'!AD29)","v":""},{"$f":"IF(ISBLANK('1-12-1.キャッシュフロー表 現状'!AE29),\"\",'1-12-1.キャッシュフロー表 現状'!AE29)","v":""},{"$f":"IF(ISBLANK('1-12-1.キャッシュフロー表 現状'!AF29),\"\",'1-12-1.キャッシュフロー表 現状'!AF29)","v":""},{"$f":"IF(ISBLANK('1-12-1.キャッシュフロー表 現状'!AG29),\"\",'1-12-1.キャッシュフロー表 現状'!AG29)","v":""},{"$f":"IF(ISBLANK('1-12-1.キャッシュフロー表 現状'!AH29),\"\",'1-12-1.キャッシュフロー表 現状'!AH29)","v":""},{"$f":"IF(ISBLANK('1-12-1.キャッシュフロー表 現状'!AI29),\"\",'1-12-1.キャッシュフロー表 現状'!AI29)","v":""},{"$f":"IF(ISBLANK('1-12-1.キャッシュフロー表 現状'!AJ29),\"\",'1-12-1.キャッシュフロー表 現状'!AJ29)","v":""},{"$f":"IF(ISBLANK('1-12-1.キャッシュフロー表 現状'!AK29),\"\",'1-12-1.キャッシュフロー表 現状'!AK29)","v":""},{"$f":"IF(ISBLANK('1-12-1.キャッシュフロー表 現状'!AL29),\"\",'1-12-1.キャッシュフロー表 現状'!AL29)","v":""},null,null,null,null,{"$f":"IF(ISBLANK('1-12-1.キャッシュフロー表 現状'!D29),\"\",'1-12-1.キャッシュフロー表 現状'!D29)","v":"その他一時的収入"},{"$f":"IF(ISBLANK('1-12-1.キャッシュフロー表 現状'!E29),\"\",'1-12-1.キャッシュフロー表 現状'!E29)","v":""},{"$f":"IF(ISBLANK('1-12-1.キャッシュフロー表 現状'!F29),\"\",'1-12-1.キャッシュフロー表 現状'!F29&\"年後\")","v":""},null,{"$f":"IF(ISBLANK('1-12-1.キャッシュフロー表 現状'!G29),\"\",'1-12-1.キャッシュフロー表 現状'!G29)","v":""},{"$f":"IF(ISBLANK('1-12-1.キャッシュフロー表 現状'!AM29),\"\",'1-12-1.キャッシュフロー表 現状'!AM29)","v":""},{"$f":"IF(ISBLANK('1-12-1.キャッシュフロー表 現状'!AN29),\"\",'1-12-1.キャッシュフロー表 現状'!AN29)","v":""},{"$f":"IF(ISBLANK('1-12-1.キャッシュフロー表 現状'!AO29),\"\",'1-12-1.キャッシュフロー表 現状'!AO29)","v":""},{"$f":"IF(ISBLANK('1-12-1.キャッシュフロー表 現状'!AP29),\"\",'1-12-1.キャッシュフロー表 現状'!AP29)","v":""},{"$f":"IF(ISBLANK('1-12-1.キャッシュフロー表 現状'!AQ29),\"\",'1-12-1.キャッシュフロー表 現状'!AQ29)","v":""},{"$f":"IF(ISBLANK('1-12-1.キャッシュフロー表 現状'!AR29),\"\",'1-12-1.キャッシュフロー表 現状'!AR29)","v":""},{"$f":"IF(ISBLANK('1-12-1.キャッシュフロー表 現状'!AS29),\"\",'1-12-1.キャッシュフロー表 現状'!AS29)","v":""},{"$f":"IF(ISBLANK('1-12-1.キャッシュフロー表 現状'!AT29),\"\",'1-12-1.キャッシュフロー表 現状'!AT29)","v":""},{"$f":"IF(ISBLANK('1-12-1.キャッシュフロー表 現状'!AU29),\"\",'1-12-1.キャッシュフロー表 現状'!AU29)","v":""},{"$f":"IF(ISBLANK('1-12-1.キャッシュフロー表 現状'!AV29),\"\",'1-12-1.キャッシュフロー表 現状'!AV29)","v":""},{"$f":"IF(ISBLANK('1-12-1.キャッシュフロー表 現状'!AW29),\"\",'1-12-1.キャッシュフロー表 現状'!AW29)","v":""},{"$f":"IF(ISBLANK('1-12-1.キャッシュフロー表 現状'!AX29),\"\",'1-12-1.キャッシュフロー表 現状'!AX29)","v":""},{"$f":"IF(ISBLANK('1-12-1.キャッシュフロー表 現状'!AY29),\"\",'1-12-1.キャッシュフロー表 現状'!AY29)","v":""},{"$f":"IF(ISBLANK('1-12-1.キャッシュフロー表 現状'!AZ29),\"\",'1-12-1.キャッシュフロー表 現状'!AZ29)","v":""},{"$f":"IF(ISBLANK('1-12-1.キャッシュフロー表 現状'!BA29),\"\",'1-12-1.キャッシュフロー表 現状'!BA29)","v":""},{"$f":"IF(ISBLANK('1-12-1.キャッシュフロー表 現状'!BB29),\"\",'1-12-1.キャッシュフロー表 現状'!BB29)","v":""},{"$f":"IF(ISBLANK('1-12-1.キャッシュフロー表 現状'!BC29),\"\",'1-12-1.キャッシュフロー表 現状'!BC29)","v":""},{"$f":"IF(ISBLANK('1-12-1.キャッシュフロー表 現状'!BD29),\"\",'1-12-1.キャッシュフロー表 現状'!BD29)","v":""},{"$f":"IF(ISBLANK('1-12-1.キャッシュフロー表 現状'!BE29),\"\",'1-12-1.キャッシュフロー表 現状'!BE29)","v":""},{"$f":"IF(ISBLANK('1-12-1.キャッシュフロー表 現状'!BF29),\"\",'1-12-1.キャッシュフロー表 現状'!BF29)","v":""},{"$f":"IF(ISBLANK('1-12-1.キャッシュフロー表 現状'!BG29),\"\",'1-12-1.キャッシュフロー表 現状'!BG29)","v":""},{"$f":"IF(ISBLANK('1-12-1.キャッシュフロー表 現状'!BH29),\"\",'1-12-1.キャッシュフロー表 現状'!BH29)","v":""},{"$f":"IF(ISBLANK('1-12-1.キャッシュフロー表 現状'!BI29),\"\",'1-12-1.キャッシュフロー表 現状'!BI29)","v":""},{"$f":"IF(ISBLANK('1-12-1.キャッシュフロー表 現状'!BJ29),\"\",'1-12-1.キャッシュフロー表 現状'!BJ29)","v":""},{"$f":"IF(ISBLANK('1-12-1.キャッシュフロー表 現状'!BK29),\"\",'1-12-1.キャッシュフロー表 現状'!BK29)","v":""},{"$f":"IF(ISBLANK('1-12-1.キャッシュフロー表 現状'!BL29),\"\",'1-12-1.キャッシュフロー表 現状'!BL29)","v":""},{"$f":"IF(ISBLANK('1-12-1.キャッシュフロー表 現状'!BM29),\"\",'1-12-1.キャッシュフロー表 現状'!BM29)","v":""},{"$f":"IF(ISBLANK('1-12-1.キャッシュフロー表 現状'!BN29),\"\",'1-12-1.キャッシュフロー表 現状'!BN29)","v":""},{"$f":"IF(ISBLANK('1-12-1.キャッシュフロー表 現状'!BO29),\"\",'1-12-1.キャッシュフロー表 現状'!BO29)","v":""},{"$f":"IF(ISBLANK('1-12-1.キャッシュフロー表 現状'!BP29),\"\",'1-12-1.キャッシュフロー表 現状'!BP29)","v":""},{"$f":"IF(ISBLANK('1-12-1.キャッシュフロー表 現状'!BQ29),\"\",'1-12-1.キャッシュフロー表 現状'!BQ29)","v":""},{"$f":"IF(ISBLANK('1-12-1.キャッシュフロー表 現状'!BR29),\"\",'1-12-1.キャッシュフロー表 現状'!BR29)","v":""},{"$f":"IF(ISBLANK('1-12-1.キャッシュフロー表 現状'!BS29),\"\",'1-12-1.キャッシュフロー表 現状'!BS29)","v":""},{"$f":"IF(ISBLANK('1-12-1.キャッシュフロー表 現状'!BT29),\"\",'1-12-1.キャッシュフロー表 現状'!BT29)","v":""},{"$f":"IF(ISBLANK('1-12-1.キャッシュフロー表 現状'!BU29),\"\",'1-12-1.キャッシュフロー表 現状'!BU29)","v":""},{"$f":"IF(ISBLANK('1-12-1.キャッシュフロー表 現状'!BV29),\"\",'1-12-1.キャッシュフロー表 現状'!BV29)","v":""},{"$f":"IF(ISBLANK('1-12-1.キャッシュフロー表 現状'!BW29),\"\",'1-12-1.キャッシュフロー表 現状'!BW29)","v":""},{"$f":"IF(ISBLANK('1-12-1.キャッシュフロー表 現状'!BX29),\"\",'1-12-1.キャッシュフロー表 現状'!BX29)","v":""},{"$f":"IF(ISBLANK('1-12-1.キャッシュフロー表 現状'!BY29),\"\",'1-12-1.キャッシュフロー表 現状'!BY29)","v":""},{"$f":"IF(ISBLANK('1-12-1.キャッシュフロー表 現状'!BZ29),\"\",'1-12-1.キャッシュフロー表 現状'!BZ29)","v":""}]
[null,null,null,"収入合計",null,null,null,null,{"$f":"IF(ISBLANK('1-12-1.キャッシュフロー表 現状'!H30),\"\",'1-12-1.キャッシュフロー表 現状'!H30)","v":0},{"$f":"IF(ISBLANK('1-12-1.キャッシュフロー表 現状'!I30),\"\",'1-12-1.キャッシュフロー表 現状'!I30)","v":0},{"$f":"IF(ISBLANK('1-12-1.キャッシュフロー表 現状'!J30),\"\",'1-12-1.キャッシュフロー表 現状'!J30)","v":0},{"$f":"IF(ISBLANK('1-12-1.キャッシュフロー表 現状'!K30),\"\",'1-12-1.キャッシュフロー表 現状'!K30)","v":0},{"$f":"IF(ISBLANK('1-12-1.キャッシュフロー表 現状'!L30),\"\",'1-12-1.キャッシュフロー表 現状'!L30)","v":0},{"$f":"IF(ISBLANK('1-12-1.キャッシュフロー表 現状'!M30),\"\",'1-12-1.キャッシュフロー表 現状'!M30)","v":0},{"$f":"IF(ISBLANK('1-12-1.キャッシュフロー表 現状'!N30),\"\",'1-12-1.キャッシュフロー表 現状'!N30)","v":0},{"$f":"IF(ISBLANK('1-12-1.キャッシュフロー表 現状'!O30),\"\",'1-12-1.キャッシュフロー表 現状'!O30)","v":0},{"$f":"IF(ISBLANK('1-12-1.キャッシュフロー表 現状'!P30),\"\",'1-12-1.キャッシュフロー表 現状'!P30)","v":0},{"$f":"IF(ISBLANK('1-12-1.キャッシュフロー表 現状'!Q30),\"\",'1-12-1.キャッシュフロー表 現状'!Q30)","v":0},{"$f":"IF(ISBLANK('1-12-1.キャッシュフロー表 現状'!R30),\"\",'1-12-1.キャッシュフロー表 現状'!R30)","v":0},{"$f":"IF(ISBLANK('1-12-1.キャッシュフロー表 現状'!S30),\"\",'1-12-1.キャッシュフロー表 現状'!S30)","v":0},{"$f":"IF(ISBLANK('1-12-1.キャッシュフロー表 現状'!T30),\"\",'1-12-1.キャッシュフロー表 現状'!T30)","v":0},{"$f":"IF(ISBLANK('1-12-1.キャッシュフロー表 現状'!U30),\"\",'1-12-1.キャッシュフロー表 現状'!U30)","v":0},{"$f":"IF(ISBLANK('1-12-1.キャッシュフロー表 現状'!V30),\"\",'1-12-1.キャッシュフロー表 現状'!V30)","v":0},{"$f":"IF(ISBLANK('1-12-1.キャッシュフロー表 現状'!W30),\"\",'1-12-1.キャッシュフロー表 現状'!W30)","v":0},{"$f":"IF(ISBLANK('1-12-1.キャッシュフロー表 現状'!X30),\"\",'1-12-1.キャッシュフロー表 現状'!X30)","v":0},{"$f":"IF(ISBLANK('1-12-1.キャッシュフロー表 現状'!Y30),\"\",'1-12-1.キャッシュフロー表 現状'!Y30)","v":0},{"$f":"IF(ISBLANK('1-12-1.キャッシュフロー表 現状'!Z30),\"\",'1-12-1.キャッシュフロー表 現状'!Z30)","v":0},{"$f":"IF(ISBLANK('1-12-1.キャッシュフロー表 現状'!AA30),\"\",'1-12-1.キャッシュフロー表 現状'!AA30)","v":0},{"$f":"IF(ISBLANK('1-12-1.キャッシュフロー表 現状'!AB30),\"\",'1-12-1.キャッシュフロー表 現状'!AB30)","v":0},{"$f":"IF(ISBLANK('1-12-1.キャッシュフロー表 現状'!AC30),\"\",'1-12-1.キャッシュフロー表 現状'!AC30)","v":0},{"$f":"IF(ISBLANK('1-12-1.キャッシュフロー表 現状'!AD30),\"\",'1-12-1.キャッシュフロー表 現状'!AD30)","v":0},{"$f":"IF(ISBLANK('1-12-1.キャッシュフロー表 現状'!AE30),\"\",'1-12-1.キャッシュフロー表 現状'!AE30)","v":0},{"$f":"IF(ISBLANK('1-12-1.キャッシュフロー表 現状'!AF30),\"\",'1-12-1.キャッシュフロー表 現状'!AF30)","v":0},{"$f":"IF(ISBLANK('1-12-1.キャッシュフロー表 現状'!AG30),\"\",'1-12-1.キャッシュフロー表 現状'!AG30)","v":0},{"$f":"IF(ISBLANK('1-12-1.キャッシュフロー表 現状'!AH30),\"\",'1-12-1.キャッシュフロー表 現状'!AH30)","v":0},{"$f":"IF(ISBLANK('1-12-1.キャッシュフロー表 現状'!AI30),\"\",'1-12-1.キャッシュフロー表 現状'!AI30)","v":0},{"$f":"IF(ISBLANK('1-12-1.キャッシュフロー表 現状'!AJ30),\"\",'1-12-1.キャッシュフロー表 現状'!AJ30)","v":0},{"$f":"IF(ISBLANK('1-12-1.キャッシュフロー表 現状'!AK30),\"\",'1-12-1.キャッシュフロー表 現状'!AK30)","v":0},{"$f":"IF(ISBLANK('1-12-1.キャッシュフロー表 現状'!AL30),\"\",'1-12-1.キャッシュフロー表 現状'!AL30)","v":0},null,null,null,null,"収入合計",null,null,null,null,{"$f":"IF(ISBLANK('1-12-1.キャッシュフロー表 現状'!AM30),\"\",'1-12-1.キャッシュフロー表 現状'!AM30)","v":0},{"$f":"IF(ISBLANK('1-12-1.キャッシュフロー表 現状'!AN30),\"\",'1-12-1.キャッシュフロー表 現状'!AN30)","v":0},{"$f":"IF(ISBLANK('1-12-1.キャッシュフロー表 現状'!AO30),\"\",'1-12-1.キャッシュフロー表 現状'!AO30)","v":0},{"$f":"IF(ISBLANK('1-12-1.キャッシュフロー表 現状'!AP30),\"\",'1-12-1.キャッシュフロー表 現状'!AP30)","v":0},{"$f":"IF(ISBLANK('1-12-1.キャッシュフロー表 現状'!AQ30),\"\",'1-12-1.キャッシュフロー表 現状'!AQ30)","v":0},{"$f":"IF(ISBLANK('1-12-1.キャッシュフロー表 現状'!AR30),\"\",'1-12-1.キャッシュフロー表 現状'!AR30)","v":0},{"$f":"IF(ISBLANK('1-12-1.キャッシュフロー表 現状'!AS30),\"\",'1-12-1.キャッシュフロー表 現状'!AS30)","v":0},{"$f":"IF(ISBLANK('1-12-1.キャッシュフロー表 現状'!AT30),\"\",'1-12-1.キャッシュフロー表 現状'!AT30)","v":0},{"$f":"IF(ISBLANK('1-12-1.キャッシュフロー表 現状'!AU30),\"\",'1-12-1.キャッシュフロー表 現状'!AU30)","v":0},{"$f":"IF(ISBLANK('1-12-1.キャッシュフロー表 現状'!AV30),\"\",'1-12-1.キャッシュフロー表 現状'!AV30)","v":0},{"$f":"IF(ISBLANK('1-12-1.キャッシュフロー表 現状'!AW30),\"\",'1-12-1.キャッシュフロー表 現状'!AW30)","v":0},{"$f":"IF(ISBLANK('1-12-1.キャッシュフロー表 現状'!AX30),\"\",'1-12-1.キャッシュフロー表 現状'!AX30)","v":0},{"$f":"IF(ISBLANK('1-12-1.キャッシュフロー表 現状'!AY30),\"\",'1-12-1.キャッシュフロー表 現状'!AY30)","v":0},{"$f":"IF(ISBLANK('1-12-1.キャッシュフロー表 現状'!AZ30),\"\",'1-12-1.キャッシュフロー表 現状'!AZ30)","v":0},{"$f":"IF(ISBLANK('1-12-1.キャッシュフロー表 現状'!BA30),\"\",'1-12-1.キャッシュフロー表 現状'!BA30)","v":0},{"$f":"IF(ISBLANK('1-12-1.キャッシュフロー表 現状'!BB30),\"\",'1-12-1.キャッシュフロー表 現状'!BB30)","v":0},{"$f":"IF(ISBLANK('1-12-1.キャッシュフロー表 現状'!BC30),\"\",'1-12-1.キャッシュフロー表 現状'!BC30)","v":0},{"$f":"IF(ISBLANK('1-12-1.キャッシュフロー表 現状'!BD30),\"\",'1-12-1.キャッシュフロー表 現状'!BD30)","v":0},{"$f":"IF(ISBLANK('1-12-1.キャッシュフロー表 現状'!BE30),\"\",'1-12-1.キャッシュフロー表 現状'!BE30)","v":0},{"$f":"IF(ISBLANK('1-12-1.キャッシュフロー表 現状'!BF30),\"\",'1-12-1.キャッシュフロー表 現状'!BF30)","v":0},{"$f":"IF(ISBLANK('1-12-1.キャッシュフロー表 現状'!BG30),\"\",'1-12-1.キャッシュフロー表 現状'!BG30)","v":0},{"$f":"IF(ISBLANK('1-12-1.キャッシュフロー表 現状'!BH30),\"\",'1-12-1.キャッシュフロー表 現状'!BH30)","v":0},{"$f":"IF(ISBLANK('1-12-1.キャッシュフロー表 現状'!BI30),\"\",'1-12-1.キャッシュフロー表 現状'!BI30)","v":0},{"$f":"IF(ISBLANK('1-12-1.キャッシュフロー表 現状'!BJ30),\"\",'1-12-1.キャッシュフロー表 現状'!BJ30)","v":0},{"$f":"IF(ISBLANK('1-12-1.キャッシュフロー表 現状'!BK30),\"\",'1-12-1.キャッシュフロー表 現状'!BK30)","v":0},{"$f":"IF(ISBLANK('1-12-1.キャッシュフロー表 現状'!BL30),\"\",'1-12-1.キャッシュフロー表 現状'!BL30)","v":0},{"$f":"IF(ISBLANK('1-12-1.キャッシュフロー表 現状'!BM30),\"\",'1-12-1.キャッシュフロー表 現状'!BM30)","v":0},{"$f":"IF(ISBLANK('1-12-1.キャッシュフロー表 現状'!BN30),\"\",'1-12-1.キャッシュフロー表 現状'!BN30)","v":0},{"$f":"IF(ISBLANK('1-12-1.キャッシュフロー表 現状'!BO30),\"\",'1-12-1.キャッシュフロー表 現状'!BO30)","v":0},{"$f":"IF(ISBLANK('1-12-1.キャッシュフロー表 現状'!BP30),\"\",'1-12-1.キャッシュフロー表 現状'!BP30)","v":0},{"$f":"IF(ISBLANK('1-12-1.キャッシュフロー表 現状'!BQ30),\"\",'1-12-1.キャッシュフロー表 現状'!BQ30)","v":0},{"$f":"IF(ISBLANK('1-12-1.キャッシュフロー表 現状'!BR30),\"\",'1-12-1.キャッシュフロー表 現状'!BR30)","v":0},{"$f":"IF(ISBLANK('1-12-1.キャッシュフロー表 現状'!BS30),\"\",'1-12-1.キャッシュフロー表 現状'!BS30)","v":0},{"$f":"IF(ISBLANK('1-12-1.キャッシュフロー表 現状'!BT30),\"\",'1-12-1.キャッシュフロー表 現状'!BT30)","v":0},{"$f":"IF(ISBLANK('1-12-1.キャッシュフロー表 現状'!BU30),\"\",'1-12-1.キャッシュフロー表 現状'!BU30)","v":0},{"$f":"IF(ISBLANK('1-12-1.キャッシュフロー表 現状'!BV30),\"\",'1-12-1.キャッシュフロー表 現状'!BV30)","v":0},{"$f":"IF(ISBLANK('1-12-1.キャッシュフロー表 現状'!BW30),\"\",'1-12-1.キャッシュフロー表 現状'!BW30)","v":0},{"$f":"IF(ISBLANK('1-12-1.キャッシュフロー表 現状'!BX30),\"\",'1-12-1.キャッシュフロー表 現状'!BX30)","v":0},{"$f":"IF(ISBLANK('1-12-1.キャッシュフロー表 現状'!BY30),\"\",'1-12-1.キャッシュフロー表 現状'!BY30)","v":0},{"$f":"IF(ISBLANK('1-12-1.キャッシュフロー表 現状'!BZ30),\"\",'1-12-1.キャッシュフロー表 現状'!BZ30)","v":0}]
[null,null,"支　出",{"$f":"IF(ISBLANK('1-12-1.キャッシュフロー表 現状'!D31),\"\",'1-12-1.キャッシュフロー表 現状'!D31)","v":""},{"$f":"IF(ISBLANK('1-12-1.キャッシュフロー表 現状'!E31),\"\",'1-12-1.キャッシュフロー表 現状'!E31)","v":0},{"$f":"IF(ISBLANK('1-12-1.キャッシュフロー表 現状'!F31),\"\",'1-12-1.キャッシュフロー表 現状'!F31&\"年後\")","v":""},null,{"$f":"IF(ISBLANK('1-12-1.キャッシュフロー表 現状'!G31),\"\",'1-12-1.キャッシュフロー表 現状'!G31)","v":0},{"$f":"IF(ISBLANK('1-12-1.キャッシュフロー表 現状'!H31),\"\",'1-12-1.キャッシュフロー表 現状'!H31)","v":""},{"$f":"IF(ISBLANK('1-12-1.キャッシュフロー表 現状'!I31),\"\",'1-12-1.キャッシュフロー表 現状'!I31)","v":0},{"$f":"IF(ISBLANK('1-12-1.キャッシュフロー表 現状'!J31),\"\",'1-12-1.キャッシュフロー表 現状'!J31)","v":0},{"$f":"IF(ISBLANK('1-12-1.キャッシュフロー表 現状'!K31),\"\",'1-12-1.キャッシュフロー表 現状'!K31)","v":0},{"$f":"IF(ISBLANK('1-12-1.キャッシュフロー表 現状'!L31),\"\",'1-12-1.キャッシュフロー表 現状'!L31)","v":0},{"$f":"IF(ISBLANK('1-12-1.キャッシュフロー表 現状'!M31),\"\",'1-12-1.キャッシュフロー表 現状'!M31)","v":0},{"$f":"IF(ISBLANK('1-12-1.キャッシュフロー表 現状'!N31),\"\",'1-12-1.キャッシュフロー表 現状'!N31)","v":0},{"$f":"IF(ISBLANK('1-12-1.キャッシュフロー表 現状'!O31),\"\",'1-12-1.キャッシュフロー表 現状'!O31)","v":0},{"$f":"IF(ISBLANK('1-12-1.キャッシュフロー表 現状'!P31),\"\",'1-12-1.キャッシュフロー表 現状'!P31)","v":0},{"$f":"IF(ISBLANK('1-12-1.キャッシュフロー表 現状'!Q31),\"\",'1-12-1.キャッシュフロー表 現状'!Q31)","v":0},{"$f":"IF(ISBLANK('1-12-1.キャッシュフロー表 現状'!R31),\"\",'1-12-1.キャッシュフロー表 現状'!R31)","v":0},{"$f":"IF(ISBLANK('1-12-1.キャッシュフロー表 現状'!S31),\"\",'1-12-1.キャッシュフロー表 現状'!S31)","v":0},{"$f":"IF(ISBLANK('1-12-1.キャッシュフロー表 現状'!T31),\"\",'1-12-1.キャッシュフロー表 現状'!T31)","v":0},{"$f":"IF(ISBLANK('1-12-1.キャッシュフロー表 現状'!U31),\"\",'1-12-1.キャッシュフロー表 現状'!U31)","v":0},{"$f":"IF(ISBLANK('1-12-1.キャッシュフロー表 現状'!V31),\"\",'1-12-1.キャッシュフロー表 現状'!V31)","v":0},{"$f":"IF(ISBLANK('1-12-1.キャッシュフロー表 現状'!W31),\"\",'1-12-1.キャッシュフロー表 現状'!W31)","v":0},{"$f":"IF(ISBLANK('1-12-1.キャッシュフロー表 現状'!X31),\"\",'1-12-1.キャッシュフロー表 現状'!X31)","v":0},{"$f":"IF(ISBLANK('1-12-1.キャッシュフロー表 現状'!Y31),\"\",'1-12-1.キャッシュフロー表 現状'!Y31)","v":0},{"$f":"IF(ISBLANK('1-12-1.キャッシュフロー表 現状'!Z31),\"\",'1-12-1.キャッシュフロー表 現状'!Z31)","v":0},{"$f":"IF(ISBLANK('1-12-1.キャッシュフロー表 現状'!AA31),\"\",'1-12-1.キャッシュフロー表 現状'!AA31)","v":0},{"$f":"IF(ISBLANK('1-12-1.キャッシュフロー表 現状'!AB31),\"\",'1-12-1.キャッシュフロー表 現状'!AB31)","v":0},{"$f":"IF(ISBLANK('1-12-1.キャッシュフロー表 現状'!AC31),\"\",'1-12-1.キャッシュフロー表 現状'!AC31)","v":0},{"$f":"IF(ISBLANK('1-12-1.キャッシュフロー表 現状'!AD31),\"\",'1-12-1.キャッシュフロー表 現状'!AD31)","v":0},{"$f":"IF(ISBLANK('1-12-1.キャッシュフロー表 現状'!AE31),\"\",'1-12-1.キャッシュフロー表 現状'!AE31)","v":0},{"$f":"IF(ISBLANK('1-12-1.キャッシュフロー表 現状'!AF31),\"\",'1-12-1.キャッシュフロー表 現状'!AF31)","v":0},{"$f":"IF(ISBLANK('1-12-1.キャッシュフロー表 現状'!AG31),\"\",'1-12-1.キャッシュフロー表 現状'!AG31)","v":0},{"$f":"IF(ISBLANK('1-12-1.キャッシュフロー表 現状'!AH31),\"\",'1-12-1.キャッシュフロー表 現状'!AH31)","v":0},{"$f":"IF(ISBLANK('1-12-1.キャッシュフロー表 現状'!AI31),\"\",'1-12-1.キャッシュフロー表 現状'!AI31)","v":0},{"$f":"IF(ISBLANK('1-12-1.キャッシュフロー表 現状'!AJ31),\"\",'1-12-1.キャッシュフロー表 現状'!AJ31)","v":0},{"$f":"IF(ISBLANK('1-12-1.キャッシュフロー表 現状'!AK31),\"\",'1-12-1.キャッシュフロー表 現状'!AK31)","v":0},{"$f":"IF(ISBLANK('1-12-1.キャッシュフロー表 現状'!AL31),\"\",'1-12-1.キャッシュフロー表 現状'!AL31)","v":0},null,null,null,"支　出",{"$f":"IF(ISBLANK('1-12-1.キャッシュフロー表 現状'!D31),\"\",'1-12-1.キャッシュフロー表 現状'!D31)","v":""},{"$f":"IF(ISBLANK('1-12-1.キャッシュフロー表 現状'!E31),\"\",'1-12-1.キャッシュフロー表 現状'!E31)","v":0},{"$f":"IF(ISBLANK('1-12-1.キャッシュフロー表 現状'!F31),\"\",'1-12-1.キャッシュフロー表 現状'!F31&\"年後\")","v":""},null,{"$f":"IF(ISBLANK('1-12-1.キャッシュフロー表 現状'!G31),\"\",'1-12-1.キャッシュフロー表 現状'!G31)","v":0},{"$f":"IF(ISBLANK('1-12-1.キャッシュフロー表 現状'!AM31),\"\",'1-12-1.キャッシュフロー表 現状'!AM31)","v":0},{"$f":"IF(ISBLANK('1-12-1.キャッシュフロー表 現状'!AN31),\"\",'1-12-1.キャッシュフロー表 現状'!AN31)","v":0},{"$f":"IF(ISBLANK('1-12-1.キャッシュフロー表 現状'!AO31),\"\",'1-12-1.キャッシュフロー表 現状'!AO31)","v":0},{"$f":"IF(ISBLANK('1-12-1.キャッシュフロー表 現状'!AP31),\"\",'1-12-1.キャッシュフロー表 現状'!AP31)","v":0},{"$f":"IF(ISBLANK('1-12-1.キャッシュフロー表 現状'!AQ31),\"\",'1-12-1.キャッシュフロー表 現状'!AQ31)","v":0},{"$f":"IF(ISBLANK('1-12-1.キャッシュフロー表 現状'!AR31),\"\",'1-12-1.キャッシュフロー表 現状'!AR31)","v":0},{"$f":"IF(ISBLANK('1-12-1.キャッシュフロー表 現状'!AS31),\"\",'1-12-1.キャッシュフロー表 現状'!AS31)","v":0},{"$f":"IF(ISBLANK('1-12-1.キャッシュフロー表 現状'!AT31),\"\",'1-12-1.キャッシュフロー表 現状'!AT31)","v":0},{"$f":"IF(ISBLANK('1-12-1.キャッシュフロー表 現状'!AU31),\"\",'1-12-1.キャッシュフロー表 現状'!AU31)","v":0},{"$f":"IF(ISBLANK('1-12-1.キャッシュフロー表 現状'!AV31),\"\",'1-12-1.キャッシュフロー表 現状'!AV31)","v":0},{"$f":"IF(ISBLANK('1-12-1.キャッシュフロー表 現状'!AW31),\"\",'1-12-1.キャッシュフロー表 現状'!AW31)","v":0},{"$f":"IF(ISBLANK('1-12-1.キャッシュフロー表 現状'!AX31),\"\",'1-12-1.キャッシュフロー表 現状'!AX31)","v":0},{"$f":"IF(ISBLANK('1-12-1.キャッシュフロー表 現状'!AY31),\"\",'1-12-1.キャッシュフロー表 現状'!AY31)","v":0},{"$f":"IF(ISBLANK('1-12-1.キャッシュフロー表 現状'!AZ31),\"\",'1-12-1.キャッシュフロー表 現状'!AZ31)","v":0},{"$f":"IF(ISBLANK('1-12-1.キャッシュフロー表 現状'!BA31),\"\",'1-12-1.キャッシュフロー表 現状'!BA31)","v":0},{"$f":"IF(ISBLANK('1-12-1.キャッシュフロー表 現状'!BB31),\"\",'1-12-1.キャッシュフロー表 現状'!BB31)","v":0},{"$f":"IF(ISBLANK('1-12-1.キャッシュフロー表 現状'!BC31),\"\",'1-12-1.キャッシュフロー表 現状'!BC31)","v":0},{"$f":"IF(ISBLANK('1-12-1.キャッシュフロー表 現状'!BD31),\"\",'1-12-1.キャッシュフロー表 現状'!BD31)","v":0},{"$f":"IF(ISBLANK('1-12-1.キャッシュフロー表 現状'!BE31),\"\",'1-12-1.キャッシュフロー表 現状'!BE31)","v":0},{"$f":"IF(ISBLANK('1-12-1.キャッシュフロー表 現状'!BF31),\"\",'1-12-1.キャッシュフロー表 現状'!BF31)","v":0},{"$f":"IF(ISBLANK('1-12-1.キャッシュフロー表 現状'!BG31),\"\",'1-12-1.キャッシュフロー表 現状'!BG31)","v":0},{"$f":"IF(ISBLANK('1-12-1.キャッシュフロー表 現状'!BH31),\"\",'1-12-1.キャッシュフロー表 現状'!BH31)","v":0},{"$f":"IF(ISBLANK('1-12-1.キャッシュフロー表 現状'!BI31),\"\",'1-12-1.キャッシュフロー表 現状'!BI31)","v":0},{"$f":"IF(ISBLANK('1-12-1.キャッシュフロー表 現状'!BJ31),\"\",'1-12-1.キャッシュフロー表 現状'!BJ31)","v":0},{"$f":"IF(ISBLANK('1-12-1.キャッシュフロー表 現状'!BK31),\"\",'1-12-1.キャッシュフロー表 現状'!BK31)","v":0},{"$f":"IF(ISBLANK('1-12-1.キャッシュフロー表 現状'!BL31),\"\",'1-12-1.キャッシュフロー表 現状'!BL31)","v":0},{"$f":"IF(ISBLANK('1-12-1.キャッシュフロー表 現状'!BM31),\"\",'1-12-1.キャッシュフロー表 現状'!BM31)","v":0},{"$f":"IF(ISBLANK('1-12-1.キャッシュフロー表 現状'!BN31),\"\",'1-12-1.キャッシュフロー表 現状'!BN31)","v":0},{"$f":"IF(ISBLANK('1-12-1.キャッシュフロー表 現状'!BO31),\"\",'1-12-1.キャッシュフロー表 現状'!BO31)","v":0},{"$f":"IF(ISBLANK('1-12-1.キャッシュフロー表 現状'!BP31),\"\",'1-12-1.キャッシュフロー表 現状'!BP31)","v":0},{"$f":"IF(ISBLANK('1-12-1.キャッシュフロー表 現状'!BQ31),\"\",'1-12-1.キャッシュフロー表 現状'!BQ31)","v":0},{"$f":"IF(ISBLANK('1-12-1.キャッシュフロー表 現状'!BR31),\"\",'1-12-1.キャッシュフロー表 現状'!BR31)","v":0},{"$f":"IF(ISBLANK('1-12-1.キャッシュフロー表 現状'!BS31),\"\",'1-12-1.キャッシュフロー表 現状'!BS31)","v":0},{"$f":"IF(ISBLANK('1-12-1.キャッシュフロー表 現状'!BT31),\"\",'1-12-1.キャッシュフロー表 現状'!BT31)","v":0},{"$f":"IF(ISBLANK('1-12-1.キャッシュフロー表 現状'!BU31),\"\",'1-12-1.キャッシュフロー表 現状'!BU31)","v":0},{"$f":"IF(ISBLANK('1-12-1.キャッシュフロー表 現状'!BV31),\"\",'1-12-1.キャッシュフロー表 現状'!BV31)","v":0},{"$f":"IF(ISBLANK('1-12-1.キャッシュフロー表 現状'!BW31),\"\",'1-12-1.キャッシュフロー表 現状'!BW31)","v":0},{"$f":"IF(ISBLANK('1-12-1.キャッシュフロー表 現状'!BX31),\"\",'1-12-1.キャッシュフロー表 現状'!BX31)","v":0},{"$f":"IF(ISBLANK('1-12-1.キャッシュフロー表 現状'!BY31),\"\",'1-12-1.キャッシュフロー表 現状'!BY31)","v":0},{"$f":"IF(ISBLANK('1-12-1.キャッシュフロー表 現状'!BZ31),\"\",'1-12-1.キャッシュフロー表 現状'!BZ31)","v":0}]
[null,null,null,{"$f":"IF(ISBLANK('1-12-1.キャッシュフロー表 現状'!D32),\"\",'1-12-1.キャッシュフロー表 現状'!D32)","v":""},{"$f":"IF(ISBLANK('1-12-1.キャッシュフロー表 現状'!E32),\"\",'1-12-1.キャッシュフロー表 現状'!E32)","v":0},{"$f":"IF(ISBLANK('1-12-1.キャッシュフロー表 現状'!F32),\"\",'1-12-1.キャッシュフロー表 現状'!F32&\"年後\")","v":""},null,{"$f":"IF(ISBLANK('1-12-1.キャッシュフロー表 現状'!G32),\"\",'1-12-1.キャッシュフロー表 現状'!G32)","v":0},{"$f":"IF(ISBLANK('1-12-1.キャッシュフロー表 現状'!H32),\"\",'1-12-1.キャッシュフロー表 現状'!H32)","v":""},{"$f":"IF(ISBLANK('1-12-1.キャッシュフロー表 現状'!I32),\"\",'1-12-1.キャッシュフロー表 現状'!I32)","v":0},{"$f":"IF(ISBLANK('1-12-1.キャッシュフロー表 現状'!J32),\"\",'1-12-1.キャッシュフロー表 現状'!J32)","v":0},{"$f":"IF(ISBLANK('1-12-1.キャッシュフロー表 現状'!K32),\"\",'1-12-1.キャッシュフロー表 現状'!K32)","v":0},{"$f":"IF(ISBLANK('1-12-1.キャッシュフロー表 現状'!L32),\"\",'1-12-1.キャッシュフロー表 現状'!L32)","v":0},{"$f":"IF(ISBLANK('1-12-1.キャッシュフロー表 現状'!M32),\"\",'1-12-1.キャッシュフロー表 現状'!M32)","v":0},{"$f":"IF(ISBLANK('1-12-1.キャッシュフロー表 現状'!N32),\"\",'1-12-1.キャッシュフロー表 現状'!N32)","v":0},{"$f":"IF(ISBLANK('1-12-1.キャッシュフロー表 現状'!O32),\"\",'1-12-1.キャッシュフロー表 現状'!O32)","v":0},{"$f":"IF(ISBLANK('1-12-1.キャッシュフロー表 現状'!P32),\"\",'1-12-1.キャッシュフロー表 現状'!P32)","v":0},{"$f":"IF(ISBLANK('1-12-1.キャッシュフロー表 現状'!Q32),\"\",'1-12-1.キャッシュフロー表 現状'!Q32)","v":0},{"$f":"IF(ISBLANK('1-12-1.キャッシュフロー表 現状'!R32),\"\",'1-12-1.キャッシュフロー表 現状'!R32)","v":0},{"$f":"IF(ISBLANK('1-12-1.キャッシュフロー表 現状'!S32),\"\",'1-12-1.キャッシュフロー表 現状'!S32)","v":0},{"$f":"IF(ISBLANK('1-12-1.キャッシュフロー表 現状'!T32),\"\",'1-12-1.キャッシュフロー表 現状'!T32)","v":0},{"$f":"IF(ISBLANK('1-12-1.キャッシュフロー表 現状'!U32),\"\",'1-12-1.キャッシュフロー表 現状'!U32)","v":0},{"$f":"IF(ISBLANK('1-12-1.キャッシュフロー表 現状'!V32),\"\",'1-12-1.キャッシュフロー表 現状'!V32)","v":0},{"$f":"IF(ISBLANK('1-12-1.キャッシュフロー表 現状'!W32),\"\",'1-12-1.キャッシュフロー表 現状'!W32)","v":0},{"$f":"IF(ISBLANK('1-12-1.キャッシュフロー表 現状'!X32),\"\",'1-12-1.キャッシュフロー表 現状'!X32)","v":0},{"$f":"IF(ISBLANK('1-12-1.キャッシュフロー表 現状'!Y32),\"\",'1-12-1.キャッシュフロー表 現状'!Y32)","v":0},{"$f":"IF(ISBLANK('1-12-1.キャッシュフロー表 現状'!Z32),\"\",'1-12-1.キャッシュフロー表 現状'!Z32)","v":0},{"$f":"IF(ISBLANK('1-12-1.キャッシュフロー表 現状'!AA32),\"\",'1-12-1.キャッシュフロー表 現状'!AA32)","v":0},{"$f":"IF(ISBLANK('1-12-1.キャッシュフロー表 現状'!AB32),\"\",'1-12-1.キャッシュフロー表 現状'!AB32)","v":0},{"$f":"IF(ISBLANK('1-12-1.キャッシュフロー表 現状'!AC32),\"\",'1-12-1.キャッシュフロー表 現状'!AC32)","v":0},{"$f":"IF(ISBLANK('1-12-1.キャッシュフロー表 現状'!AD32),\"\",'1-12-1.キャッシュフロー表 現状'!AD32)","v":0},{"$f":"IF(ISBLANK('1-12-1.キャッシュフロー表 現状'!AE32),\"\",'1-12-1.キャッシュフロー表 現状'!AE32)","v":0},{"$f":"IF(ISBLANK('1-12-1.キャッシュフロー表 現状'!AF32),\"\",'1-12-1.キャッシュフロー表 現状'!AF32)","v":0},{"$f":"IF(ISBLANK('1-12-1.キャッシュフロー表 現状'!AG32),\"\",'1-12-1.キャッシュフロー表 現状'!AG32)","v":0},{"$f":"IF(ISBLANK('1-12-1.キャッシュフロー表 現状'!AH32),\"\",'1-12-1.キャッシュフロー表 現状'!AH32)","v":0},{"$f":"IF(ISBLANK('1-12-1.キャッシュフロー表 現状'!AI32),\"\",'1-12-1.キャッシュフロー表 現状'!AI32)","v":0},{"$f":"IF(ISBLANK('1-12-1.キャッシュフロー表 現状'!AJ32),\"\",'1-12-1.キャッシュフロー表 現状'!AJ32)","v":0},{"$f":"IF(ISBLANK('1-12-1.キャッシュフロー表 現状'!AK32),\"\",'1-12-1.キャッシュフロー表 現状'!AK32)","v":0},{"$f":"IF(ISBLANK('1-12-1.キャッシュフロー表 現状'!AL32),\"\",'1-12-1.キャッシュフロー表 現状'!AL32)","v":0},null,null,null,null,{"$f":"IF(ISBLANK('1-12-1.キャッシュフロー表 現状'!D32),\"\",'1-12-1.キャッシュフロー表 現状'!D32)","v":""},{"$f":"IF(ISBLANK('1-12-1.キャッシュフロー表 現状'!E32),\"\",'1-12-1.キャッシュフロー表 現状'!E32)","v":0},{"$f":"IF(ISBLANK('1-12-1.キャッシュフロー表 現状'!F32),\"\",'1-12-1.キャッシュフロー表 現状'!F32&\"年後\")","v":""},null,{"$f":"IF(ISBLANK('1-12-1.キャッシュフロー表 現状'!G32),\"\",'1-12-1.キャッシュフロー表 現状'!G32)","v":0},{"$f":"IF(ISBLANK('1-12-1.キャッシュフロー表 現状'!AM32),\"\",'1-12-1.キャッシュフロー表 現状'!AM32)","v":0},{"$f":"IF(ISBLANK('1-12-1.キャッシュフロー表 現状'!AN32),\"\",'1-12-1.キャッシュフロー表 現状'!AN32)","v":0},{"$f":"IF(ISBLANK('1-12-1.キャッシュフロー表 現状'!AO32),\"\",'1-12-1.キャッシュフロー表 現状'!AO32)","v":0},{"$f":"IF(ISBLANK('1-12-1.キャッシュフロー表 現状'!AP32),\"\",'1-12-1.キャッシュフロー表 現状'!AP32)","v":0},{"$f":"IF(ISBLANK('1-12-1.キャッシュフロー表 現状'!AQ32),\"\",'1-12-1.キャッシュフロー表 現状'!AQ32)","v":0},{"$f":"IF(ISBLANK('1-12-1.キャッシュフロー表 現状'!AR32),\"\",'1-12-1.キャッシュフロー表 現状'!AR32)","v":0},{"$f":"IF(ISBLANK('1-12-1.キャッシュフロー表 現状'!AS32),\"\",'1-12-1.キャッシュフロー表 現状'!AS32)","v":0},{"$f":"IF(ISBLANK('1-12-1.キャッシュフロー表 現状'!AT32),\"\",'1-12-1.キャッシュフロー表 現状'!AT32)","v":0},{"$f":"IF(ISBLANK('1-12-1.キャッシュフロー表 現状'!AU32),\"\",'1-12-1.キャッシュフロー表 現状'!AU32)","v":0},{"$f":"IF(ISBLANK('1-12-1.キャッシュフロー表 現状'!AV32),\"\",'1-12-1.キャッシュフロー表 現状'!AV32)","v":0},{"$f":"IF(ISBLANK('1-12-1.キャッシュフロー表 現状'!AW32),\"\",'1-12-1.キャッシュフロー表 現状'!AW32)","v":0},{"$f":"IF(ISBLANK('1-12-1.キャッシュフロー表 現状'!AX32),\"\",'1-12-1.キャッシュフロー表 現状'!AX32)","v":0},{"$f":"IF(ISBLANK('1-12-1.キャッシュフロー表 現状'!AY32),\"\",'1-12-1.キャッシュフロー表 現状'!AY32)","v":0},{"$f":"IF(ISBLANK('1-12-1.キャッシュフロー表 現状'!AZ32),\"\",'1-12-1.キャッシュフロー表 現状'!AZ32)","v":0},{"$f":"IF(ISBLANK('1-12-1.キャッシュフロー表 現状'!BA32),\"\",'1-12-1.キャッシュフロー表 現状'!BA32)","v":0},{"$f":"IF(ISBLANK('1-12-1.キャッシュフロー表 現状'!BB32),\"\",'1-12-1.キャッシュフロー表 現状'!BB32)","v":0},{"$f":"IF(ISBLANK('1-12-1.キャッシュフロー表 現状'!BC32),\"\",'1-12-1.キャッシュフロー表 現状'!BC32)","v":0},{"$f":"IF(ISBLANK('1-12-1.キャッシュフロー表 現状'!BD32),\"\",'1-12-1.キャッシュフロー表 現状'!BD32)","v":0},{"$f":"IF(ISBLANK('1-12-1.キャッシュフロー表 現状'!BE32),\"\",'1-12-1.キャッシュフロー表 現状'!BE32)","v":0},{"$f":"IF(ISBLANK('1-12-1.キャッシュフロー表 現状'!BF32),\"\",'1-12-1.キャッシュフロー表 現状'!BF32)","v":0},{"$f":"IF(ISBLANK('1-12-1.キャッシュフロー表 現状'!BG32),\"\",'1-12-1.キャッシュフロー表 現状'!BG32)","v":0},{"$f":"IF(ISBLANK('1-12-1.キャッシュフロー表 現状'!BH32),\"\",'1-12-1.キャッシュフロー表 現状'!BH32)","v":0},{"$f":"IF(ISBLANK('1-12-1.キャッシュフロー表 現状'!BI32),\"\",'1-12-1.キャッシュフロー表 現状'!BI32)","v":0},{"$f":"IF(ISBLANK('1-12-1.キャッシュフロー表 現状'!BJ32),\"\",'1-12-1.キャッシュフロー表 現状'!BJ32)","v":0},{"$f":"IF(ISBLANK('1-12-1.キャッシュフロー表 現状'!BK32),\"\",'1-12-1.キャッシュフロー表 現状'!BK32)","v":0},{"$f":"IF(ISBLANK('1-12-1.キャッシュフロー表 現状'!BL32),\"\",'1-12-1.キャッシュフロー表 現状'!BL32)","v":0},{"$f":"IF(ISBLANK('1-12-1.キャッシュフロー表 現状'!BM32),\"\",'1-12-1.キャッシュフロー表 現状'!BM32)","v":0},{"$f":"IF(ISBLANK('1-12-1.キャッシュフロー表 現状'!BN32),\"\",'1-12-1.キャッシュフロー表 現状'!BN32)","v":0},{"$f":"IF(ISBLANK('1-12-1.キャッシュフロー表 現状'!BO32),\"\",'1-12-1.キャッシュフロー表 現状'!BO32)","v":0},{"$f":"IF(ISBLANK('1-12-1.キャッシュフロー表 現状'!BP32),\"\",'1-12-1.キャッシュフロー表 現状'!BP32)","v":0},{"$f":"IF(ISBLANK('1-12-1.キャッシュフロー表 現状'!BQ32),\"\",'1-12-1.キャッシュフロー表 現状'!BQ32)","v":0},{"$f":"IF(ISBLANK('1-12-1.キャッシュフロー表 現状'!BR32),\"\",'1-12-1.キャッシュフロー表 現状'!BR32)","v":0},{"$f":"IF(ISBLANK('1-12-1.キャッシュフロー表 現状'!BS32),\"\",'1-12-1.キャッシュフロー表 現状'!BS32)","v":0},{"$f":"IF(ISBLANK('1-12-1.キャッシュフロー表 現状'!BT32),\"\",'1-12-1.キャッシュフロー表 現状'!BT32)","v":0},{"$f":"IF(ISBLANK('1-12-1.キャッシュフロー表 現状'!BU32),\"\",'1-12-1.キャッシュフロー表 現状'!BU32)","v":0},{"$f":"IF(ISBLANK('1-12-1.キャッシュフロー表 現状'!BV32),\"\",'1-12-1.キャッシュフロー表 現状'!BV32)","v":0},{"$f":"IF(ISBLANK('1-12-1.キャッシュフロー表 現状'!BW32),\"\",'1-12-1.キャッシュフロー表 現状'!BW32)","v":0},{"$f":"IF(ISBLANK('1-12-1.キャッシュフロー表 現状'!BX32),\"\",'1-12-1.キャッシュフロー表 現状'!BX32)","v":0},{"$f":"IF(ISBLANK('1-12-1.キャッシュフロー表 現状'!BY32),\"\",'1-12-1.キャッシュフロー表 現状'!BY32)","v":0},{"$f":"IF(ISBLANK('1-12-1.キャッシュフロー表 現状'!BZ32),\"\",'1-12-1.キャッシュフロー表 現状'!BZ32)","v":0}]
[null,null,null,{"$f":"IF(ISBLANK('1-12-1.キャッシュフロー表 現状'!D33),\"\",'1-12-1.キャッシュフロー表 現状'!D33)","v":""},{"$f":"IF(ISBLANK('1-12-1.キャッシュフロー表 現状'!E33),\"\",'1-12-1.キャッシュフロー表 現状'!E33)","v":0},{"$f":"IF(ISBLANK('1-12-1.キャッシュフロー表 現状'!F33),\"\",'1-12-1.キャッシュフロー表 現状'!F33&\"年後\")","v":""},null,{"$f":"IF(ISBLANK('1-12-1.キャッシュフロー表 現状'!G33),\"\",'1-12-1.キャッシュフロー表 現状'!G33)","v":0},{"$f":"IF(ISBLANK('1-12-1.キャッシュフロー表 現状'!H33),\"\",'1-12-1.キャッシュフロー表 現状'!H33)","v":""},{"$f":"IF(ISBLANK('1-12-1.キャッシュフロー表 現状'!I33),\"\",'1-12-1.キャッシュフロー表 現状'!I33)","v":0},{"$f":"IF(ISBLANK('1-12-1.キャッシュフロー表 現状'!J33),\"\",'1-12-1.キャッシュフロー表 現状'!J33)","v":0},{"$f":"IF(ISBLANK('1-12-1.キャッシュフロー表 現状'!K33),\"\",'1-12-1.キャッシュフロー表 現状'!K33)","v":0},{"$f":"IF(ISBLANK('1-12-1.キャッシュフロー表 現状'!L33),\"\",'1-12-1.キャッシュフロー表 現状'!L33)","v":0},{"$f":"IF(ISBLANK('1-12-1.キャッシュフロー表 現状'!M33),\"\",'1-12-1.キャッシュフロー表 現状'!M33)","v":0},{"$f":"IF(ISBLANK('1-12-1.キャッシュフロー表 現状'!N33),\"\",'1-12-1.キャッシュフロー表 現状'!N33)","v":0},{"$f":"IF(ISBLANK('1-12-1.キャッシュフロー表 現状'!O33),\"\",'1-12-1.キャッシュフロー表 現状'!O33)","v":0},{"$f":"IF(ISBLANK('1-12-1.キャッシュフロー表 現状'!P33),\"\",'1-12-1.キャッシュフロー表 現状'!P33)","v":0},{"$f":"IF(ISBLANK('1-12-1.キャッシュフロー表 現状'!Q33),\"\",'1-12-1.キャッシュフロー表 現状'!Q33)","v":0},{"$f":"IF(ISBLANK('1-12-1.キャッシュフロー表 現状'!R33),\"\",'1-12-1.キャッシュフロー表 現状'!R33)","v":0},{"$f":"IF(ISBLANK('1-12-1.キャッシュフロー表 現状'!S33),\"\",'1-12-1.キャッシュフロー表 現状'!S33)","v":0},{"$f":"IF(ISBLANK('1-12-1.キャッシュフロー表 現状'!T33),\"\",'1-12-1.キャッシュフロー表 現状'!T33)","v":0},{"$f":"IF(ISBLANK('1-12-1.キャッシュフロー表 現状'!U33),\"\",'1-12-1.キャッシュフロー表 現状'!U33)","v":0},{"$f":"IF(ISBLANK('1-12-1.キャッシュフロー表 現状'!V33),\"\",'1-12-1.キャッシュフロー表 現状'!V33)","v":0},{"$f":"IF(ISBLANK('1-12-1.キャッシュフロー表 現状'!W33),\"\",'1-12-1.キャッシュフロー表 現状'!W33)","v":0},{"$f":"IF(ISBLANK('1-12-1.キャッシュフロー表 現状'!X33),\"\",'1-12-1.キャッシュフロー表 現状'!X33)","v":0},{"$f":"IF(ISBLANK('1-12-1.キャッシュフロー表 現状'!Y33),\"\",'1-12-1.キャッシュフロー表 現状'!Y33)","v":0},{"$f":"IF(ISBLANK('1-12-1.キャッシュフロー表 現状'!Z33),\"\",'1-12-1.キャッシュフロー表 現状'!Z33)","v":0},{"$f":"IF(ISBLANK('1-12-1.キャッシュフロー表 現状'!AA33),\"\",'1-12-1.キャッシュフロー表 現状'!AA33)","v":0},{"$f":"IF(ISBLANK('1-12-1.キャッシュフロー表 現状'!AB33),\"\",'1-12-1.キャッシュフロー表 現状'!AB33)","v":0},{"$f":"IF(ISBLANK('1-12-1.キャッシュフロー表 現状'!AC33),\"\",'1-12-1.キャッシュフロー表 現状'!AC33)","v":0},{"$f":"IF(ISBLANK('1-12-1.キャッシュフロー表 現状'!AD33),\"\",'1-12-1.キャッシュフロー表 現状'!AD33)","v":0},{"$f":"IF(ISBLANK('1-12-1.キャッシュフロー表 現状'!AE33),\"\",'1-12-1.キャッシュフロー表 現状'!AE33)","v":0},{"$f":"IF(ISBLANK('1-12-1.キャッシュフロー表 現状'!AF33),\"\",'1-12-1.キャッシュフロー表 現状'!AF33)","v":0},{"$f":"IF(ISBLANK('1-12-1.キャッシュフロー表 現状'!AG33),\"\",'1-12-1.キャッシュフロー表 現状'!AG33)","v":0},{"$f":"IF(ISBLANK('1-12-1.キャッシュフロー表 現状'!AH33),\"\",'1-12-1.キャッシュフロー表 現状'!AH33)","v":0},{"$f":"IF(ISBLANK('1-12-1.キャッシュフロー表 現状'!AI33),\"\",'1-12-1.キャッシュフロー表 現状'!AI33)","v":0},{"$f":"IF(ISBLANK('1-12-1.キャッシュフロー表 現状'!AJ33),\"\",'1-12-1.キャッシュフロー表 現状'!AJ33)","v":0},{"$f":"IF(ISBLANK('1-12-1.キャッシュフロー表 現状'!AK33),\"\",'1-12-1.キャッシュフロー表 現状'!AK33)","v":0},{"$f":"IF(ISBLANK('1-12-1.キャッシュフロー表 現状'!AL33),\"\",'1-12-1.キャッシュフロー表 現状'!AL33)","v":0},null,null,null,null,{"$f":"IF(ISBLANK('1-12-1.キャッシュフロー表 現状'!D33),\"\",'1-12-1.キャッシュフロー表 現状'!D33)","v":""},{"$f":"IF(ISBLANK('1-12-1.キャッシュフロー表 現状'!E33),\"\",'1-12-1.キャッシュフロー表 現状'!E33)","v":0},{"$f":"IF(ISBLANK('1-12-1.キャッシュフロー表 現状'!F33),\"\",'1-12-1.キャッシュフロー表 現状'!F33&\"年後\")","v":""},null,{"$f":"IF(ISBLANK('1-12-1.キャッシュフロー表 現状'!G33),\"\",'1-12-1.キャッシュフロー表 現状'!G33)","v":0},{"$f":"IF(ISBLANK('1-12-1.キャッシュフロー表 現状'!AM33),\"\",'1-12-1.キャッシュフロー表 現状'!AM33)","v":0},{"$f":"IF(ISBLANK('1-12-1.キャッシュフロー表 現状'!AN33),\"\",'1-12-1.キャッシュフロー表 現状'!AN33)","v":0},{"$f":"IF(ISBLANK('1-12-1.キャッシュフロー表 現状'!AO33),\"\",'1-12-1.キャッシュフロー表 現状'!AO33)","v":0},{"$f":"IF(ISBLANK('1-12-1.キャッシュフロー表 現状'!AP33),\"\",'1-12-1.キャッシュフロー表 現状'!AP33)","v":0},{"$f":"IF(ISBLANK('1-12-1.キャッシュフロー表 現状'!AQ33),\"\",'1-12-1.キャッシュフロー表 現状'!AQ33)","v":0},{"$f":"IF(ISBLANK('1-12-1.キャッシュフロー表 現状'!AR33),\"\",'1-12-1.キャッシュフロー表 現状'!AR33)","v":0},{"$f":"IF(ISBLANK('1-12-1.キャッシュフロー表 現状'!AS33),\"\",'1-12-1.キャッシュフロー表 現状'!AS33)","v":0},{"$f":"IF(ISBLANK('1-12-1.キャッシュフロー表 現状'!AT33),\"\",'1-12-1.キャッシュフロー表 現状'!AT33)","v":0},{"$f":"IF(ISBLANK('1-12-1.キャッシュフロー表 現状'!AU33),\"\",'1-12-1.キャッシュフロー表 現状'!AU33)","v":0},{"$f":"IF(ISBLANK('1-12-1.キャッシュフロー表 現状'!AV33),\"\",'1-12-1.キャッシュフロー表 現状'!AV33)","v":0},{"$f":"IF(ISBLANK('1-12-1.キャッシュフロー表 現状'!AW33),\"\",'1-12-1.キャッシュフロー表 現状'!AW33)","v":0},{"$f":"IF(ISBLANK('1-12-1.キャッシュフロー表 現状'!AX33),\"\",'1-12-1.キャッシュフロー表 現状'!AX33)","v":0},{"$f":"IF(ISBLANK('1-12-1.キャッシュフロー表 現状'!AY33),\"\",'1-12-1.キャッシュフロー表 現状'!AY33)","v":0},{"$f":"IF(ISBLANK('1-12-1.キャッシュフロー表 現状'!AZ33),\"\",'1-12-1.キャッシュフロー表 現状'!AZ33)","v":0},{"$f":"IF(ISBLANK('1-12-1.キャッシュフロー表 現状'!BA33),\"\",'1-12-1.キャッシュフロー表 現状'!BA33)","v":0},{"$f":"IF(ISBLANK('1-12-1.キャッシュフロー表 現状'!BB33),\"\",'1-12-1.キャッシュフロー表 現状'!BB33)","v":0},{"$f":"IF(ISBLANK('1-12-1.キャッシュフロー表 現状'!BC33),\"\",'1-12-1.キャッシュフロー表 現状'!BC33)","v":0},{"$f":"IF(ISBLANK('1-12-1.キャッシュフロー表 現状'!BD33),\"\",'1-12-1.キャッシュフロー表 現状'!BD33)","v":0},{"$f":"IF(ISBLANK('1-12-1.キャッシュフロー表 現状'!BE33),\"\",'1-12-1.キャッシュフロー表 現状'!BE33)","v":0},{"$f":"IF(ISBLANK('1-12-1.キャッシュフロー表 現状'!BF33),\"\",'1-12-1.キャッシュフロー表 現状'!BF33)","v":0},{"$f":"IF(ISBLANK('1-12-1.キャッシュフロー表 現状'!BG33),\"\",'1-12-1.キャッシュフロー表 現状'!BG33)","v":0},{"$f":"IF(ISBLANK('1-12-1.キャッシュフロー表 現状'!BH33),\"\",'1-12-1.キャッシュフロー表 現状'!BH33)","v":0},{"$f":"IF(ISBLANK('1-12-1.キャッシュフロー表 現状'!BI33),\"\",'1-12-1.キャッシュフロー表 現状'!BI33)","v":0},{"$f":"IF(ISBLANK('1-12-1.キャッシュフロー表 現状'!BJ33),\"\",'1-12-1.キャッシュフロー表 現状'!BJ33)","v":0},{"$f":"IF(ISBLANK('1-12-1.キャッシュフロー表 現状'!BK33),\"\",'1-12-1.キャッシュフロー表 現状'!BK33)","v":0},{"$f":"IF(ISBLANK('1-12-1.キャッシュフロー表 現状'!BL33),\"\",'1-12-1.キャッシュフロー表 現状'!BL33)","v":0},{"$f":"IF(ISBLANK('1-12-1.キャッシュフロー表 現状'!BM33),\"\",'1-12-1.キャッシュフロー表 現状'!BM33)","v":0},{"$f":"IF(ISBLANK('1-12-1.キャッシュフロー表 現状'!BN33),\"\",'1-12-1.キャッシュフロー表 現状'!BN33)","v":0},{"$f":"IF(ISBLANK('1-12-1.キャッシュフロー表 現状'!BO33),\"\",'1-12-1.キャッシュフロー表 現状'!BO33)","v":0},{"$f":"IF(ISBLANK('1-12-1.キャッシュフロー表 現状'!BP33),\"\",'1-12-1.キャッシュフロー表 現状'!BP33)","v":0},{"$f":"IF(ISBLANK('1-12-1.キャッシュフロー表 現状'!BQ33),\"\",'1-12-1.キャッシュフロー表 現状'!BQ33)","v":0},{"$f":"IF(ISBLANK('1-12-1.キャッシュフロー表 現状'!BR33),\"\",'1-12-1.キャッシュフロー表 現状'!BR33)","v":0},{"$f":"IF(ISBLANK('1-12-1.キャッシュフロー表 現状'!BS33),\"\",'1-12-1.キャッシュフロー表 現状'!BS33)","v":0},{"$f":"IF(ISBLANK('1-12-1.キャッシュフロー表 現状'!BT33),\"\",'1-12-1.キャッシュフロー表 現状'!BT33)","v":0},{"$f":"IF(ISBLANK('1-12-1.キャッシュフロー表 現状'!BU33),\"\",'1-12-1.キャッシュフロー表 現状'!BU33)","v":0},{"$f":"IF(ISBLANK('1-12-1.キャッシュフロー表 現状'!BV33),\"\",'1-12-1.キャッシュフロー表 現状'!BV33)","v":0},{"$f":"IF(ISBLANK('1-12-1.キャッシュフロー表 現状'!BW33),\"\",'1-12-1.キャッシュフロー表 現状'!BW33)","v":0},{"$f":"IF(ISBLANK('1-12-1.キャッシュフロー表 現状'!BX33),\"\",'1-12-1.キャッシュフロー表 現状'!BX33)","v":0},{"$f":"IF(ISBLANK('1-12-1.キャッシュフロー表 現状'!BY33),\"\",'1-12-1.キャッシュフロー表 現状'!BY33)","v":0},{"$f":"IF(ISBLANK('1-12-1.キャッシュフロー表 現状'!BZ33),\"\",'1-12-1.キャッシュフロー表 現状'!BZ33)","v":0}]
[null,null,null,{"$f":"IF(ISBLANK('1-12-1.キャッシュフロー表 現状'!D34),\"\",'1-12-1.キャッシュフロー表 現状'!D34)","v":""},{"$f":"IF(ISBLANK('1-12-1.キャッシュフロー表 現状'!E34),\"\",'1-12-1.キャッシュフロー表 現状'!E34)","v":0},{"$f":"IF(ISBLANK('1-12-1.キャッシュフロー表 現状'!F34),\"\",'1-12-1.キャッシュフロー表 現状'!F34&\"年後\")","v":""},null,{"$f":"IF(ISBLANK('1-12-1.キャッシュフロー表 現状'!G34),\"\",'1-12-1.キャッシュフロー表 現状'!G34)","v":0},{"$f":"IF(ISBLANK('1-12-1.キャッシュフロー表 現状'!H34),\"\",'1-12-1.キャッシュフロー表 現状'!H34)","v":""},{"$f":"IF(ISBLANK('1-12-1.キャッシュフロー表 現状'!I34),\"\",'1-12-1.キャッシュフロー表 現状'!I34)","v":0},{"$f":"IF(ISBLANK('1-12-1.キャッシュフロー表 現状'!J34),\"\",'1-12-1.キャッシュフロー表 現状'!J34)","v":0},{"$f":"IF(ISBLANK('1-12-1.キャッシュフロー表 現状'!K34),\"\",'1-12-1.キャッシュフロー表 現状'!K34)","v":0},{"$f":"IF(ISBLANK('1-12-1.キャッシュフロー表 現状'!L34),\"\",'1-12-1.キャッシュフロー表 現状'!L34)","v":0},{"$f":"IF(ISBLANK('1-12-1.キャッシュフロー表 現状'!M34),\"\",'1-12-1.キャッシュフロー表 現状'!M34)","v":0},{"$f":"IF(ISBLANK('1-12-1.キャッシュフロー表 現状'!N34),\"\",'1-12-1.キャッシュフロー表 現状'!N34)","v":0},{"$f":"IF(ISBLANK('1-12-1.キャッシュフロー表 現状'!O34),\"\",'1-12-1.キャッシュフロー表 現状'!O34)","v":0},{"$f":"IF(ISBLANK('1-12-1.キャッシュフロー表 現状'!P34),\"\",'1-12-1.キャッシュフロー表 現状'!P34)","v":0},{"$f":"IF(ISBLANK('1-12-1.キャッシュフロー表 現状'!Q34),\"\",'1-12-1.キャッシュフロー表 現状'!Q34)","v":0},{"$f":"IF(ISBLANK('1-12-1.キャッシュフロー表 現状'!R34),\"\",'1-12-1.キャッシュフロー表 現状'!R34)","v":0},{"$f":"IF(ISBLANK('1-12-1.キャッシュフロー表 現状'!S34),\"\",'1-12-1.キャッシュフロー表 現状'!S34)","v":0},{"$f":"IF(ISBLANK('1-12-1.キャッシュフロー表 現状'!T34),\"\",'1-12-1.キャッシュフロー表 現状'!T34)","v":0},{"$f":"IF(ISBLANK('1-12-1.キャッシュフロー表 現状'!U34),\"\",'1-12-1.キャッシュフロー表 現状'!U34)","v":0},{"$f":"IF(ISBLANK('1-12-1.キャッシュフロー表 現状'!V34),\"\",'1-12-1.キャッシュフロー表 現状'!V34)","v":0},{"$f":"IF(ISBLANK('1-12-1.キャッシュフロー表 現状'!W34),\"\",'1-12-1.キャッシュフロー表 現状'!W34)","v":0},{"$f":"IF(ISBLANK('1-12-1.キャッシュフロー表 現状'!X34),\"\",'1-12-1.キャッシュフロー表 現状'!X34)","v":0},{"$f":"IF(ISBLANK('1-12-1.キャッシュフロー表 現状'!Y34),\"\",'1-12-1.キャッシュフロー表 現状'!Y34)","v":0},{"$f":"IF(ISBLANK('1-12-1.キャッシュフロー表 現状'!Z34),\"\",'1-12-1.キャッシュフロー表 現状'!Z34)","v":0},{"$f":"IF(ISBLANK('1-12-1.キャッシュフロー表 現状'!AA34),\"\",'1-12-1.キャッシュフロー表 現状'!AA34)","v":0},{"$f":"IF(ISBLANK('1-12-1.キャッシュフロー表 現状'!AB34),\"\",'1-12-1.キャッシュフロー表 現状'!AB34)","v":0},{"$f":"IF(ISBLANK('1-12-1.キャッシュフロー表 現状'!AC34),\"\",'1-12-1.キャッシュフロー表 現状'!AC34)","v":0},{"$f":"IF(ISBLANK('1-12-1.キャッシュフロー表 現状'!AD34),\"\",'1-12-1.キャッシュフロー表 現状'!AD34)","v":0},{"$f":"IF(ISBLANK('1-12-1.キャッシュフロー表 現状'!AE34),\"\",'1-12-1.キャッシュフロー表 現状'!AE34)","v":0},{"$f":"IF(ISBLANK('1-12-1.キャッシュフロー表 現状'!AF34),\"\",'1-12-1.キャッシュフロー表 現状'!AF34)","v":0},{"$f":"IF(ISBLANK('1-12-1.キャッシュフロー表 現状'!AG34),\"\",'1-12-1.キャッシュフロー表 現状'!AG34)","v":0},{"$f":"IF(ISBLANK('1-12-1.キャッシュフロー表 現状'!AH34),\"\",'1-12-1.キャッシュフロー表 現状'!AH34)","v":0},{"$f":"IF(ISBLANK('1-12-1.キャッシュフロー表 現状'!AI34),\"\",'1-12-1.キャッシュフロー表 現状'!AI34)","v":0},{"$f":"IF(ISBLANK('1-12-1.キャッシュフロー表 現状'!AJ34),\"\",'1-12-1.キャッシュフロー表 現状'!AJ34)","v":0},{"$f":"IF(ISBLANK('1-12-1.キャッシュフロー表 現状'!AK34),\"\",'1-12-1.キャッシュフロー表 現状'!AK34)","v":0},{"$f":"IF(ISBLANK('1-12-1.キャッシュフロー表 現状'!AL34),\"\",'1-12-1.キャッシュフロー表 現状'!AL34)","v":0},null,null,null,null,{"$f":"IF(ISBLANK('1-12-1.キャッシュフロー表 現状'!D34),\"\",'1-12-1.キャッシュフロー表 現状'!D34)","v":""},{"$f":"IF(ISBLANK('1-12-1.キャッシュフロー表 現状'!E34),\"\",'1-12-1.キャッシュフロー表 現状'!E34)","v":0},{"$f":"IF(ISBLANK('1-12-1.キャッシュフロー表 現状'!F34),\"\",'1-12-1.キャッシュフロー表 現状'!F34&\"年後\")","v":""},null,{"$f":"IF(ISBLANK('1-12-1.キャッシュフロー表 現状'!G34),\"\",'1-12-1.キャッシュフロー表 現状'!G34)","v":0},{"$f":"IF(ISBLANK('1-12-1.キャッシュフロー表 現状'!AM34),\"\",'1-12-1.キャッシュフロー表 現状'!AM34)","v":0},{"$f":"IF(ISBLANK('1-12-1.キャッシュフロー表 現状'!AN34),\"\",'1-12-1.キャッシュフロー表 現状'!AN34)","v":0},{"$f":"IF(ISBLANK('1-12-1.キャッシュフロー表 現状'!AO34),\"\",'1-12-1.キャッシュフロー表 現状'!AO34)","v":0},{"$f":"IF(ISBLANK('1-12-1.キャッシュフロー表 現状'!AP34),\"\",'1-12-1.キャッシュフロー表 現状'!AP34)","v":0},{"$f":"IF(ISBLANK('1-12-1.キャッシュフロー表 現状'!AQ34),\"\",'1-12-1.キャッシュフロー表 現状'!AQ34)","v":0},{"$f":"IF(ISBLANK('1-12-1.キャッシュフロー表 現状'!AR34),\"\",'1-12-1.キャッシュフロー表 現状'!AR34)","v":0},{"$f":"IF(ISBLANK('1-12-1.キャッシュフロー表 現状'!AS34),\"\",'1-12-1.キャッシュフロー表 現状'!AS34)","v":0},{"$f":"IF(ISBLANK('1-12-1.キャッシュフロー表 現状'!AT34),\"\",'1-12-1.キャッシュフロー表 現状'!AT34)","v":0},{"$f":"IF(ISBLANK('1-12-1.キャッシュフロー表 現状'!AU34),\"\",'1-12-1.キャッシュフロー表 現状'!AU34)","v":0},{"$f":"IF(ISBLANK('1-12-1.キャッシュフロー表 現状'!AV34),\"\",'1-12-1.キャッシュフロー表 現状'!AV34)","v":0},{"$f":"IF(ISBLANK('1-12-1.キャッシュフロー表 現状'!AW34),\"\",'1-12-1.キャッシュフロー表 現状'!AW34)","v":0},{"$f":"IF(ISBLANK('1-12-1.キャッシュフロー表 現状'!AX34),\"\",'1-12-1.キャッシュフロー表 現状'!AX34)","v":0},{"$f":"IF(ISBLANK('1-12-1.キャッシュフロー表 現状'!AY34),\"\",'1-12-1.キャッシュフロー表 現状'!AY34)","v":0},{"$f":"IF(ISBLANK('1-12-1.キャッシュフロー表 現状'!AZ34),\"\",'1-12-1.キャッシュフロー表 現状'!AZ34)","v":0},{"$f":"IF(ISBLANK('1-12-1.キャッシュフロー表 現状'!BA34),\"\",'1-12-1.キャッシュフロー表 現状'!BA34)","v":0},{"$f":"IF(ISBLANK('1-12-1.キャッシュフロー表 現状'!BB34),\"\",'1-12-1.キャッシュフロー表 現状'!BB34)","v":0},{"$f":"IF(ISBLANK('1-12-1.キャッシュフロー表 現状'!BC34),\"\",'1-12-1.キャッシュフロー表 現状'!BC34)","v":0},{"$f":"IF(ISBLANK('1-12-1.キャッシュフロー表 現状'!BD34),\"\",'1-12-1.キャッシュフロー表 現状'!BD34)","v":0},{"$f":"IF(ISBLANK('1-12-1.キャッシュフロー表 現状'!BE34),\"\",'1-12-1.キャッシュフロー表 現状'!BE34)","v":0},{"$f":"IF(ISBLANK('1-12-1.キャッシュフロー表 現状'!BF34),\"\",'1-12-1.キャッシュフロー表 現状'!BF34)","v":0},{"$f":"IF(ISBLANK('1-12-1.キャッシュフロー表 現状'!BG34),\"\",'1-12-1.キャッシュフロー表 現状'!BG34)","v":0},{"$f":"IF(ISBLANK('1-12-1.キャッシュフロー表 現状'!BH34),\"\",'1-12-1.キャッシュフロー表 現状'!BH34)","v":0},{"$f":"IF(ISBLANK('1-12-1.キャッシュフロー表 現状'!BI34),\"\",'1-12-1.キャッシュフロー表 現状'!BI34)","v":0},{"$f":"IF(ISBLANK('1-12-1.キャッシュフロー表 現状'!BJ34),\"\",'1-12-1.キャッシュフロー表 現状'!BJ34)","v":0},{"$f":"IF(ISBLANK('1-12-1.キャッシュフロー表 現状'!BK34),\"\",'1-12-1.キャッシュフロー表 現状'!BK34)","v":0},{"$f":"IF(ISBLANK('1-12-1.キャッシュフロー表 現状'!BL34),\"\",'1-12-1.キャッシュフロー表 現状'!BL34)","v":0},{"$f":"IF(ISBLANK('1-12-1.キャッシュフロー表 現状'!BM34),\"\",'1-12-1.キャッシュフロー表 現状'!BM34)","v":0},{"$f":"IF(ISBLANK('1-12-1.キャッシュフロー表 現状'!BN34),\"\",'1-12-1.キャッシュフロー表 現状'!BN34)","v":0},{"$f":"IF(ISBLANK('1-12-1.キャッシュフロー表 現状'!BO34),\"\",'1-12-1.キャッシュフロー表 現状'!BO34)","v":0},{"$f":"IF(ISBLANK('1-12-1.キャッシュフロー表 現状'!BP34),\"\",'1-12-1.キャッシュフロー表 現状'!BP34)","v":0},{"$f":"IF(ISBLANK('1-12-1.キャッシュフロー表 現状'!BQ34),\"\",'1-12-1.キャッシュフロー表 現状'!BQ34)","v":0},{"$f":"IF(ISBLANK('1-12-1.キャッシュフロー表 現状'!BR34),\"\",'1-12-1.キャッシュフロー表 現状'!BR34)","v":0},{"$f":"IF(ISBLANK('1-12-1.キャッシュフロー表 現状'!BS34),\"\",'1-12-1.キャッシュフロー表 現状'!BS34)","v":0},{"$f":"IF(ISBLANK('1-12-1.キャッシュフロー表 現状'!BT34),\"\",'1-12-1.キャッシュフロー表 現状'!BT34)","v":0},{"$f":"IF(ISBLANK('1-12-1.キャッシュフロー表 現状'!BU34),\"\",'1-12-1.キャッシュフロー表 現状'!BU34)","v":0},{"$f":"IF(ISBLANK('1-12-1.キャッシュフロー表 現状'!BV34),\"\",'1-12-1.キャッシュフロー表 現状'!BV34)","v":0},{"$f":"IF(ISBLANK('1-12-1.キャッシュフロー表 現状'!BW34),\"\",'1-12-1.キャッシュフロー表 現状'!BW34)","v":0},{"$f":"IF(ISBLANK('1-12-1.キャッシュフロー表 現状'!BX34),\"\",'1-12-1.キャッシュフロー表 現状'!BX34)","v":0},{"$f":"IF(ISBLANK('1-12-1.キャッシュフロー表 現状'!BY34),\"\",'1-12-1.キャッシュフロー表 現状'!BY34)","v":0},{"$f":"IF(ISBLANK('1-12-1.キャッシュフロー表 現状'!BZ34),\"\",'1-12-1.キャッシュフロー表 現状'!BZ34)","v":0}]
[null,null,null,{"$f":"IF(ISBLANK('1-12-1.キャッシュフロー表 現状'!D35),\"\",'1-12-1.キャッシュフロー表 現状'!D35)","v":""},{"$f":"IF(ISBLANK('1-12-1.キャッシュフロー表 現状'!E35),\"\",'1-12-1.キャッシュフロー表 現状'!E35)","v":0},{"$f":"IF(ISBLANK('1-12-1.キャッシュフロー表 現状'!F35),\"\",'1-12-1.キャッシュフロー表 現状'!F35&\"年後\")","v":""},null,{"$f":"IF(ISBLANK('1-12-1.キャッシュフロー表 現状'!G35),\"\",'1-12-1.キャッシュフロー表 現状'!G35)","v":0},{"$f":"IF(ISBLANK('1-12-1.キャッシュフロー表 現状'!H35),\"\",'1-12-1.キャッシュフロー表 現状'!H35)","v":""},{"$f":"IF(ISBLANK('1-12-1.キャッシュフロー表 現状'!I35),\"\",'1-12-1.キャッシュフロー表 現状'!I35)","v":0},{"$f":"IF(ISBLANK('1-12-1.キャッシュフロー表 現状'!J35),\"\",'1-12-1.キャッシュフロー表 現状'!J35)","v":0},{"$f":"IF(ISBLANK('1-12-1.キャッシュフロー表 現状'!K35),\"\",'1-12-1.キャッシュフロー表 現状'!K35)","v":0},{"$f":"IF(ISBLANK('1-12-1.キャッシュフロー表 現状'!L35),\"\",'1-12-1.キャッシュフロー表 現状'!L35)","v":0},{"$f":"IF(ISBLANK('1-12-1.キャッシュフロー表 現状'!M35),\"\",'1-12-1.キャッシュフロー表 現状'!M35)","v":0},{"$f":"IF(ISBLANK('1-12-1.キャッシュフロー表 現状'!N35),\"\",'1-12-1.キャッシュフロー表 現状'!N35)","v":0},{"$f":"IF(ISBLANK('1-12-1.キャッシュフロー表 現状'!O35),\"\",'1-12-1.キャッシュフロー表 現状'!O35)","v":0},{"$f":"IF(ISBLANK('1-12-1.キャッシュフロー表 現状'!P35),\"\",'1-12-1.キャッシュフロー表 現状'!P35)","v":0},{"$f":"IF(ISBLANK('1-12-1.キャッシュフロー表 現状'!Q35),\"\",'1-12-1.キャッシュフロー表 現状'!Q35)","v":0},{"$f":"IF(ISBLANK('1-12-1.キャッシュフロー表 現状'!R35),\"\",'1-12-1.キャッシュフロー表 現状'!R35)","v":0},{"$f":"IF(ISBLANK('1-12-1.キャッシュフロー表 現状'!S35),\"\",'1-12-1.キャッシュフロー表 現状'!S35)","v":0},{"$f":"IF(ISBLANK('1-12-1.キャッシュフロー表 現状'!T35),\"\",'1-12-1.キャッシュフロー表 現状'!T35)","v":0},{"$f":"IF(ISBLANK('1-12-1.キャッシュフロー表 現状'!U35),\"\",'1-12-1.キャッシュフロー表 現状'!U35)","v":0},{"$f":"IF(ISBLANK('1-12-1.キャッシュフロー表 現状'!V35),\"\",'1-12-1.キャッシュフロー表 現状'!V35)","v":0},{"$f":"IF(ISBLANK('1-12-1.キャッシュフロー表 現状'!W35),\"\",'1-12-1.キャッシュフロー表 現状'!W35)","v":0},{"$f":"IF(ISBLANK('1-12-1.キャッシュフロー表 現状'!X35),\"\",'1-12-1.キャッシュフロー表 現状'!X35)","v":0},{"$f":"IF(ISBLANK('1-12-1.キャッシュフロー表 現状'!Y35),\"\",'1-12-1.キャッシュフロー表 現状'!Y35)","v":0},{"$f":"IF(ISBLANK('1-12-1.キャッシュフロー表 現状'!Z35),\"\",'1-12-1.キャッシュフロー表 現状'!Z35)","v":0},{"$f":"IF(ISBLANK('1-12-1.キャッシュフロー表 現状'!AA35),\"\",'1-12-1.キャッシュフロー表 現状'!AA35)","v":0},{"$f":"IF(ISBLANK('1-12-1.キャッシュフロー表 現状'!AB35),\"\",'1-12-1.キャッシュフロー表 現状'!AB35)","v":0},{"$f":"IF(ISBLANK('1-12-1.キャッシュフロー表 現状'!AC35),\"\",'1-12-1.キャッシュフロー表 現状'!AC35)","v":0},{"$f":"IF(ISBLANK('1-12-1.キャッシュフロー表 現状'!AD35),\"\",'1-12-1.キャッシュフロー表 現状'!AD35)","v":0},{"$f":"IF(ISBLANK('1-12-1.キャッシュフロー表 現状'!AE35),\"\",'1-12-1.キャッシュフロー表 現状'!AE35)","v":0},{"$f":"IF(ISBLANK('1-12-1.キャッシュフロー表 現状'!AF35),\"\",'1-12-1.キャッシュフロー表 現状'!AF35)","v":0},{"$f":"IF(ISBLANK('1-12-1.キャッシュフロー表 現状'!AG35),\"\",'1-12-1.キャッシュフロー表 現状'!AG35)","v":0},{"$f":"IF(ISBLANK('1-12-1.キャッシュフロー表 現状'!AH35),\"\",'1-12-1.キャッシュフロー表 現状'!AH35)","v":0},{"$f":"IF(ISBLANK('1-12-1.キャッシュフロー表 現状'!AI35),\"\",'1-12-1.キャッシュフロー表 現状'!AI35)","v":0},{"$f":"IF(ISBLANK('1-12-1.キャッシュフロー表 現状'!AJ35),\"\",'1-12-1.キャッシュフロー表 現状'!AJ35)","v":0},{"$f":"IF(ISBLANK('1-12-1.キャッシュフロー表 現状'!AK35),\"\",'1-12-1.キャッシュフロー表 現状'!AK35)","v":0},{"$f":"IF(ISBLANK('1-12-1.キャッシュフロー表 現状'!AL35),\"\",'1-12-1.キャッシュフロー表 現状'!AL35)","v":0},null,null,null,null,{"$f":"IF(ISBLANK('1-12-1.キャッシュフロー表 現状'!D35),\"\",'1-12-1.キャッシュフロー表 現状'!D35)","v":""},{"$f":"IF(ISBLANK('1-12-1.キャッシュフロー表 現状'!E35),\"\",'1-12-1.キャッシュフロー表 現状'!E35)","v":0},{"$f":"IF(ISBLANK('1-12-1.キャッシュフロー表 現状'!F35),\"\",'1-12-1.キャッシュフロー表 現状'!F35&\"年後\")","v":""},null,{"$f":"IF(ISBLANK('1-12-1.キャッシュフロー表 現状'!G35),\"\",'1-12-1.キャッシュフロー表 現状'!G35)","v":0},{"$f":"IF(ISBLANK('1-12-1.キャッシュフロー表 現状'!AM35),\"\",'1-12-1.キャッシュフロー表 現状'!AM35)","v":0},{"$f":"IF(ISBLANK('1-12-1.キャッシュフロー表 現状'!AN35),\"\",'1-12-1.キャッシュフロー表 現状'!AN35)","v":0},{"$f":"IF(ISBLANK('1-12-1.キャッシュフロー表 現状'!AO35),\"\",'1-12-1.キャッシュフロー表 現状'!AO35)","v":0},{"$f":"IF(ISBLANK('1-12-1.キャッシュフロー表 現状'!AP35),\"\",'1-12-1.キャッシュフロー表 現状'!AP35)","v":0},{"$f":"IF(ISBLANK('1-12-1.キャッシュフロー表 現状'!AQ35),\"\",'1-12-1.キャッシュフロー表 現状'!AQ35)","v":0},{"$f":"IF(ISBLANK('1-12-1.キャッシュフロー表 現状'!AR35),\"\",'1-12-1.キャッシュフロー表 現状'!AR35)","v":0},{"$f":"IF(ISBLANK('1-12-1.キャッシュフロー表 現状'!AS35),\"\",'1-12-1.キャッシュフロー表 現状'!AS35)","v":0},{"$f":"IF(ISBLANK('1-12-1.キャッシュフロー表 現状'!AT35),\"\",'1-12-1.キャッシュフロー表 現状'!AT35)","v":0},{"$f":"IF(ISBLANK('1-12-1.キャッシュフロー表 現状'!AU35),\"\",'1-12-1.キャッシュフロー表 現状'!AU35)","v":0},{"$f":"IF(ISBLANK('1-12-1.キャッシュフロー表 現状'!AV35),\"\",'1-12-1.キャッシュフロー表 現状'!AV35)","v":0},{"$f":"IF(ISBLANK('1-12-1.キャッシュフロー表 現状'!AW35),\"\",'1-12-1.キャッシュフロー表 現状'!AW35)","v":0},{"$f":"IF(ISBLANK('1-12-1.キャッシュフロー表 現状'!AX35),\"\",'1-12-1.キャッシュフロー表 現状'!AX35)","v":0},{"$f":"IF(ISBLANK('1-12-1.キャッシュフロー表 現状'!AY35),\"\",'1-12-1.キャッシュフロー表 現状'!AY35)","v":0},{"$f":"IF(ISBLANK('1-12-1.キャッシュフロー表 現状'!AZ35),\"\",'1-12-1.キャッシュフロー表 現状'!AZ35)","v":0},{"$f":"IF(ISBLANK('1-12-1.キャッシュフロー表 現状'!BA35),\"\",'1-12-1.キャッシュフロー表 現状'!BA35)","v":0},{"$f":"IF(ISBLANK('1-12-1.キャッシュフロー表 現状'!BB35),\"\",'1-12-1.キャッシュフロー表 現状'!BB35)","v":0},{"$f":"IF(ISBLANK('1-12-1.キャッシュフロー表 現状'!BC35),\"\",'1-12-1.キャッシュフロー表 現状'!BC35)","v":0},{"$f":"IF(ISBLANK('1-12-1.キャッシュフロー表 現状'!BD35),\"\",'1-12-1.キャッシュフロー表 現状'!BD35)","v":0},{"$f":"IF(ISBLANK('1-12-1.キャッシュフロー表 現状'!BE35),\"\",'1-12-1.キャッシュフロー表 現状'!BE35)","v":0},{"$f":"IF(ISBLANK('1-12-1.キャッシュフロー表 現状'!BF35),\"\",'1-12-1.キャッシュフロー表 現状'!BF35)","v":0},{"$f":"IF(ISBLANK('1-12-1.キャッシュフロー表 現状'!BG35),\"\",'1-12-1.キャッシュフロー表 現状'!BG35)","v":0},{"$f":"IF(ISBLANK('1-12-1.キャッシュフロー表 現状'!BH35),\"\",'1-12-1.キャッシュフロー表 現状'!BH35)","v":0},{"$f":"IF(ISBLANK('1-12-1.キャッシュフロー表 現状'!BI35),\"\",'1-12-1.キャッシュフロー表 現状'!BI35)","v":0},{"$f":"IF(ISBLANK('1-12-1.キャッシュフロー表 現状'!BJ35),\"\",'1-12-1.キャッシュフロー表 現状'!BJ35)","v":0},{"$f":"IF(ISBLANK('1-12-1.キャッシュフロー表 現状'!BK35),\"\",'1-12-1.キャッシュフロー表 現状'!BK35)","v":0},{"$f":"IF(ISBLANK('1-12-1.キャッシュフロー表 現状'!BL35),\"\",'1-12-1.キャッシュフロー表 現状'!BL35)","v":0},{"$f":"IF(ISBLANK('1-12-1.キャッシュフロー表 現状'!BM35),\"\",'1-12-1.キャッシュフロー表 現状'!BM35)","v":0},{"$f":"IF(ISBLANK('1-12-1.キャッシュフロー表 現状'!BN35),\"\",'1-12-1.キャッシュフロー表 現状'!BN35)","v":0},{"$f":"IF(ISBLANK('1-12-1.キャッシュフロー表 現状'!BO35),\"\",'1-12-1.キャッシュフロー表 現状'!BO35)","v":0},{"$f":"IF(ISBLANK('1-12-1.キャッシュフロー表 現状'!BP35),\"\",'1-12-1.キャッシュフロー表 現状'!BP35)","v":0},{"$f":"IF(ISBLANK('1-12-1.キャッシュフロー表 現状'!BQ35),\"\",'1-12-1.キャッシュフロー表 現状'!BQ35)","v":0},{"$f":"IF(ISBLANK('1-12-1.キャッシュフロー表 現状'!BR35),\"\",'1-12-1.キャッシュフロー表 現状'!BR35)","v":0},{"$f":"IF(ISBLANK('1-12-1.キャッシュフロー表 現状'!BS35),\"\",'1-12-1.キャッシュフロー表 現状'!BS35)","v":0},{"$f":"IF(ISBLANK('1-12-1.キャッシュフロー表 現状'!BT35),\"\",'1-12-1.キャッシュフロー表 現状'!BT35)","v":0},{"$f":"IF(ISBLANK('1-12-1.キャッシュフロー表 現状'!BU35),\"\",'1-12-1.キャッシュフロー表 現状'!BU35)","v":0},{"$f":"IF(ISBLANK('1-12-1.キャッシュフロー表 現状'!BV35),\"\",'1-12-1.キャッシュフロー表 現状'!BV35)","v":0},{"$f":"IF(ISBLANK('1-12-1.キャッシュフロー表 現状'!BW35),\"\",'1-12-1.キャッシュフロー表 現状'!BW35)","v":0},{"$f":"IF(ISBLANK('1-12-1.キャッシュフロー表 現状'!BX35),\"\",'1-12-1.キャッシュフロー表 現状'!BX35)","v":0},{"$f":"IF(ISBLANK('1-12-1.キャッシュフロー表 現状'!BY35),\"\",'1-12-1.キャッシュフロー表 現状'!BY35)","v":0},{"$f":"IF(ISBLANK('1-12-1.キャッシュフロー表 現状'!BZ35),\"\",'1-12-1.キャッシュフロー表 現状'!BZ35)","v":0}]
[null,null,null,{"$f":"IF(ISBLANK('1-12-1.キャッシュフロー表 現状'!D36),\"\",'1-12-1.キャッシュフロー表 現状'!D36)","v":""},{"$f":"IF(ISBLANK('1-12-1.キャッシュフロー表 現状'!E36),\"\",'1-12-1.キャッシュフロー表 現状'!E36)","v":0},{"$f":"IF(ISBLANK('1-12-1.キャッシュフロー表 現状'!F36),\"\",'1-12-1.キャッシュフロー表 現状'!F36&\"年後\")","v":""},null,{"$f":"IF(ISBLANK('1-12-1.キャッシュフロー表 現状'!G36),\"\",'1-12-1.キャッシュフロー表 現状'!G36)","v":0},{"$f":"IF(ISBLANK('1-12-1.キャッシュフロー表 現状'!H36),\"\",'1-12-1.キャッシュフロー表 現状'!H36)","v":""},{"$f":"IF(ISBLANK('1-12-1.キャッシュフロー表 現状'!I36),\"\",'1-12-1.キャッシュフロー表 現状'!I36)","v":0},{"$f":"IF(ISBLANK('1-12-1.キャッシュフロー表 現状'!J36),\"\",'1-12-1.キャッシュフロー表 現状'!J36)","v":0},{"$f":"IF(ISBLANK('1-12-1.キャッシュフロー表 現状'!K36),\"\",'1-12-1.キャッシュフロー表 現状'!K36)","v":0},{"$f":"IF(ISBLANK('1-12-1.キャッシュフロー表 現状'!L36),\"\",'1-12-1.キャッシュフロー表 現状'!L36)","v":0},{"$f":"IF(ISBLANK('1-12-1.キャッシュフロー表 現状'!M36),\"\",'1-12-1.キャッシュフロー表 現状'!M36)","v":0},{"$f":"IF(ISBLANK('1-12-1.キャッシュフロー表 現状'!N36),\"\",'1-12-1.キャッシュフロー表 現状'!N36)","v":0},{"$f":"IF(ISBLANK('1-12-1.キャッシュフロー表 現状'!O36),\"\",'1-12-1.キャッシュフロー表 現状'!O36)","v":0},{"$f":"IF(ISBLANK('1-12-1.キャッシュフロー表 現状'!P36),\"\",'1-12-1.キャッシュフロー表 現状'!P36)","v":0},{"$f":"IF(ISBLANK('1-12-1.キャッシュフロー表 現状'!Q36),\"\",'1-12-1.キャッシュフロー表 現状'!Q36)","v":0},{"$f":"IF(ISBLANK('1-12-1.キャッシュフロー表 現状'!R36),\"\",'1-12-1.キャッシュフロー表 現状'!R36)","v":0},{"$f":"IF(ISBLANK('1-12-1.キャッシュフロー表 現状'!S36),\"\",'1-12-1.キャッシュフロー表 現状'!S36)","v":0},{"$f":"IF(ISBLANK('1-12-1.キャッシュフロー表 現状'!T36),\"\",'1-12-1.キャッシュフロー表 現状'!T36)","v":0},{"$f":"IF(ISBLANK('1-12-1.キャッシュフロー表 現状'!U36),\"\",'1-12-1.キャッシュフロー表 現状'!U36)","v":0},{"$f":"IF(ISBLANK('1-12-1.キャッシュフロー表 現状'!V36),\"\",'1-12-1.キャッシュフロー表 現状'!V36)","v":0},{"$f":"IF(ISBLANK('1-12-1.キャッシュフロー表 現状'!W36),\"\",'1-12-1.キャッシュフロー表 現状'!W36)","v":0},{"$f":"IF(ISBLANK('1-12-1.キャッシュフロー表 現状'!X36),\"\",'1-12-1.キャッシュフロー表 現状'!X36)","v":0},{"$f":"IF(ISBLANK('1-12-1.キャッシュフロー表 現状'!Y36),\"\",'1-12-1.キャッシュフロー表 現状'!Y36)","v":0},{"$f":"IF(ISBLANK('1-12-1.キャッシュフロー表 現状'!Z36),\"\",'1-12-1.キャッシュフロー表 現状'!Z36)","v":0},{"$f":"IF(ISBLANK('1-12-1.キャッシュフロー表 現状'!AA36),\"\",'1-12-1.キャッシュフロー表 現状'!AA36)","v":0},{"$f":"IF(ISBLANK('1-12-1.キャッシュフロー表 現状'!AB36),\"\",'1-12-1.キャッシュフロー表 現状'!AB36)","v":0},{"$f":"IF(ISBLANK('1-12-1.キャッシュフロー表 現状'!AC36),\"\",'1-12-1.キャッシュフロー表 現状'!AC36)","v":0},{"$f":"IF(ISBLANK('1-12-1.キャッシュフロー表 現状'!AD36),\"\",'1-12-1.キャッシュフロー表 現状'!AD36)","v":0},{"$f":"IF(ISBLANK('1-12-1.キャッシュフロー表 現状'!AE36),\"\",'1-12-1.キャッシュフロー表 現状'!AE36)","v":0},{"$f":"IF(ISBLANK('1-12-1.キャッシュフロー表 現状'!AF36),\"\",'1-12-1.キャッシュフロー表 現状'!AF36)","v":0},{"$f":"IF(ISBLANK('1-12-1.キャッシュフロー表 現状'!AG36),\"\",'1-12-1.キャッシュフロー表 現状'!AG36)","v":0},{"$f":"IF(ISBLANK('1-12-1.キャッシュフロー表 現状'!AH36),\"\",'1-12-1.キャッシュフロー表 現状'!AH36)","v":0},{"$f":"IF(ISBLANK('1-12-1.キャッシュフロー表 現状'!AI36),\"\",'1-12-1.キャッシュフロー表 現状'!AI36)","v":0},{"$f":"IF(ISBLANK('1-12-1.キャッシュフロー表 現状'!AJ36),\"\",'1-12-1.キャッシュフロー表 現状'!AJ36)","v":0},{"$f":"IF(ISBLANK('1-12-1.キャッシュフロー表 現状'!AK36),\"\",'1-12-1.キャッシュフロー表 現状'!AK36)","v":0},{"$f":"IF(ISBLANK('1-12-1.キャッシュフロー表 現状'!AL36),\"\",'1-12-1.キャッシュフロー表 現状'!AL36)","v":0},null,null,null,null,{"$f":"IF(ISBLANK('1-12-1.キャッシュフロー表 現状'!D36),\"\",'1-12-1.キャッシュフロー表 現状'!D36)","v":""},{"$f":"IF(ISBLANK('1-12-1.キャッシュフロー表 現状'!E36),\"\",'1-12-1.キャッシュフロー表 現状'!E36)","v":0},{"$f":"IF(ISBLANK('1-12-1.キャッシュフロー表 現状'!F36),\"\",'1-12-1.キャッシュフロー表 現状'!F36&\"年後\")","v":""},null,{"$f":"IF(ISBLANK('1-12-1.キャッシュフロー表 現状'!G36),\"\",'1-12-1.キャッシュフロー表 現状'!G36)","v":0},{"$f":"IF(ISBLANK('1-12-1.キャッシュフロー表 現状'!AM36),\"\",'1-12-1.キャッシュフロー表 現状'!AM36)","v":0},{"$f":"IF(ISBLANK('1-12-1.キャッシュフロー表 現状'!AN36),\"\",'1-12-1.キャッシュフロー表 現状'!AN36)","v":0},{"$f":"IF(ISBLANK('1-12-1.キャッシュフロー表 現状'!AO36),\"\",'1-12-1.キャッシュフロー表 現状'!AO36)","v":0},{"$f":"IF(ISBLANK('1-12-1.キャッシュフロー表 現状'!AP36),\"\",'1-12-1.キャッシュフロー表 現状'!AP36)","v":0},{"$f":"IF(ISBLANK('1-12-1.キャッシュフロー表 現状'!AQ36),\"\",'1-12-1.キャッシュフロー表 現状'!AQ36)","v":0},{"$f":"IF(ISBLANK('1-12-1.キャッシュフロー表 現状'!AR36),\"\",'1-12-1.キャッシュフロー表 現状'!AR36)","v":0},{"$f":"IF(ISBLANK('1-12-1.キャッシュフロー表 現状'!AS36),\"\",'1-12-1.キャッシュフロー表 現状'!AS36)","v":0},{"$f":"IF(ISBLANK('1-12-1.キャッシュフロー表 現状'!AT36),\"\",'1-12-1.キャッシュフロー表 現状'!AT36)","v":0},{"$f":"IF(ISBLANK('1-12-1.キャッシュフロー表 現状'!AU36),\"\",'1-12-1.キャッシュフロー表 現状'!AU36)","v":0},{"$f":"IF(ISBLANK('1-12-1.キャッシュフロー表 現状'!AV36),\"\",'1-12-1.キャッシュフロー表 現状'!AV36)","v":0},{"$f":"IF(ISBLANK('1-12-1.キャッシュフロー表 現状'!AW36),\"\",'1-12-1.キャッシュフロー表 現状'!AW36)","v":0},{"$f":"IF(ISBLANK('1-12-1.キャッシュフロー表 現状'!AX36),\"\",'1-12-1.キャッシュフロー表 現状'!AX36)","v":0},{"$f":"IF(ISBLANK('1-12-1.キャッシュフロー表 現状'!AY36),\"\",'1-12-1.キャッシュフロー表 現状'!AY36)","v":0},{"$f":"IF(ISBLANK('1-12-1.キャッシュフロー表 現状'!AZ36),\"\",'1-12-1.キャッシュフロー表 現状'!AZ36)","v":0},{"$f":"IF(ISBLANK('1-12-1.キャッシュフロー表 現状'!BA36),\"\",'1-12-1.キャッシュフロー表 現状'!BA36)","v":0},{"$f":"IF(ISBLANK('1-12-1.キャッシュフロー表 現状'!BB36),\"\",'1-12-1.キャッシュフロー表 現状'!BB36)","v":0},{"$f":"IF(ISBLANK('1-12-1.キャッシュフロー表 現状'!BC36),\"\",'1-12-1.キャッシュフロー表 現状'!BC36)","v":0},{"$f":"IF(ISBLANK('1-12-1.キャッシュフロー表 現状'!BD36),\"\",'1-12-1.キャッシュフロー表 現状'!BD36)","v":0},{"$f":"IF(ISBLANK('1-12-1.キャッシュフロー表 現状'!BE36),\"\",'1-12-1.キャッシュフロー表 現状'!BE36)","v":0},{"$f":"IF(ISBLANK('1-12-1.キャッシュフロー表 現状'!BF36),\"\",'1-12-1.キャッシュフロー表 現状'!BF36)","v":0},{"$f":"IF(ISBLANK('1-12-1.キャッシュフロー表 現状'!BG36),\"\",'1-12-1.キャッシュフロー表 現状'!BG36)","v":0},{"$f":"IF(ISBLANK('1-12-1.キャッシュフロー表 現状'!BH36),\"\",'1-12-1.キャッシュフロー表 現状'!BH36)","v":0},{"$f":"IF(ISBLANK('1-12-1.キャッシュフロー表 現状'!BI36),\"\",'1-12-1.キャッシュフロー表 現状'!BI36)","v":0},{"$f":"IF(ISBLANK('1-12-1.キャッシュフロー表 現状'!BJ36),\"\",'1-12-1.キャッシュフロー表 現状'!BJ36)","v":0},{"$f":"IF(ISBLANK('1-12-1.キャッシュフロー表 現状'!BK36),\"\",'1-12-1.キャッシュフロー表 現状'!BK36)","v":0},{"$f":"IF(ISBLANK('1-12-1.キャッシュフロー表 現状'!BL36),\"\",'1-12-1.キャッシュフロー表 現状'!BL36)","v":0},{"$f":"IF(ISBLANK('1-12-1.キャッシュフロー表 現状'!BM36),\"\",'1-12-1.キャッシュフロー表 現状'!BM36)","v":0},{"$f":"IF(ISBLANK('1-12-1.キャッシュフロー表 現状'!BN36),\"\",'1-12-1.キャッシュフロー表 現状'!BN36)","v":0},{"$f":"IF(ISBLANK('1-12-1.キャッシュフロー表 現状'!BO36),\"\",'1-12-1.キャッシュフロー表 現状'!BO36)","v":0},{"$f":"IF(ISBLANK('1-12-1.キャッシュフロー表 現状'!BP36),\"\",'1-12-1.キャッシュフロー表 現状'!BP36)","v":0},{"$f":"IF(ISBLANK('1-12-1.キャッシュフロー表 現状'!BQ36),\"\",'1-12-1.キャッシュフロー表 現状'!BQ36)","v":0},{"$f":"IF(ISBLANK('1-12-1.キャッシュフロー表 現状'!BR36),\"\",'1-12-1.キャッシュフロー表 現状'!BR36)","v":0},{"$f":"IF(ISBLANK('1-12-1.キャッシュフロー表 現状'!BS36),\"\",'1-12-1.キャッシュフロー表 現状'!BS36)","v":0},{"$f":"IF(ISBLANK('1-12-1.キャッシュフロー表 現状'!BT36),\"\",'1-12-1.キャッシュフロー表 現状'!BT36)","v":0},{"$f":"IF(ISBLANK('1-12-1.キャッシュフロー表 現状'!BU36),\"\",'1-12-1.キャッシュフロー表 現状'!BU36)","v":0},{"$f":"IF(ISBLANK('1-12-1.キャッシュフロー表 現状'!BV36),\"\",'1-12-1.キャッシュフロー表 現状'!BV36)","v":0},{"$f":"IF(ISBLANK('1-12-1.キャッシュフロー表 現状'!BW36),\"\",'1-12-1.キャッシュフロー表 現状'!BW36)","v":0},{"$f":"IF(ISBLANK('1-12-1.キャッシュフロー表 現状'!BX36),\"\",'1-12-1.キャッシュフロー表 現状'!BX36)","v":0},{"$f":"IF(ISBLANK('1-12-1.キャッシュフロー表 現状'!BY36),\"\",'1-12-1.キャッシュフロー表 現状'!BY36)","v":0},{"$f":"IF(ISBLANK('1-12-1.キャッシュフロー表 現状'!BZ36),\"\",'1-12-1.キャッシュフロー表 現状'!BZ36)","v":0}]
[null,null,null,{"$f":"IF(ISBLANK('1-12-1.キャッシュフロー表 現状'!D37),\"\",'1-12-1.キャッシュフロー表 現状'!D37)","v":""},{"$f":"IF(ISBLANK('1-12-1.キャッシュフロー表 現状'!E37),\"\",'1-12-1.キャッシュフロー表 現状'!E37)","v":0},{"$f":"IF(ISBLANK('1-12-1.キャッシュフロー表 現状'!F37),\"\",'1-12-1.キャッシュフロー表 現状'!F37&\"年後\")","v":""},null,{"$f":"IF(ISBLANK('1-12-1.キャッシュフロー表 現状'!G37),\"\",'1-12-1.キャッシュフロー表 現状'!G37)","v":0},{"$f":"IF(ISBLANK('1-12-1.キャッシュフロー表 現状'!H37),\"\",'1-12-1.キャッシュフロー表 現状'!H37)","v":""},{"$f":"IF(ISBLANK('1-12-1.キャッシュフロー表 現状'!I37),\"\",'1-12-1.キャッシュフロー表 現状'!I37)","v":0},{"$f":"IF(ISBLANK('1-12-1.キャッシュフロー表 現状'!J37),\"\",'1-12-1.キャッシュフロー表 現状'!J37)","v":0},{"$f":"IF(ISBLANK('1-12-1.キャッシュフロー表 現状'!K37),\"\",'1-12-1.キャッシュフロー表 現状'!K37)","v":0},{"$f":"IF(ISBLANK('1-12-1.キャッシュフロー表 現状'!L37),\"\",'1-12-1.キャッシュフロー表 現状'!L37)","v":0},{"$f":"IF(ISBLANK('1-12-1.キャッシュフロー表 現状'!M37),\"\",'1-12-1.キャッシュフロー表 現状'!M37)","v":0},{"$f":"IF(ISBLANK('1-12-1.キャッシュフロー表 現状'!N37),\"\",'1-12-1.キャッシュフロー表 現状'!N37)","v":0},{"$f":"IF(ISBLANK('1-12-1.キャッシュフロー表 現状'!O37),\"\",'1-12-1.キャッシュフロー表 現状'!O37)","v":0},{"$f":"IF(ISBLANK('1-12-1.キャッシュフロー表 現状'!P37),\"\",'1-12-1.キャッシュフロー表 現状'!P37)","v":0},{"$f":"IF(ISBLANK('1-12-1.キャッシュフロー表 現状'!Q37),\"\",'1-12-1.キャッシュフロー表 現状'!Q37)","v":0},{"$f":"IF(ISBLANK('1-12-1.キャッシュフロー表 現状'!R37),\"\",'1-12-1.キャッシュフロー表 現状'!R37)","v":0},{"$f":"IF(ISBLANK('1-12-1.キャッシュフロー表 現状'!S37),\"\",'1-12-1.キャッシュフロー表 現状'!S37)","v":0},{"$f":"IF(ISBLANK('1-12-1.キャッシュフロー表 現状'!T37),\"\",'1-12-1.キャッシュフロー表 現状'!T37)","v":0},{"$f":"IF(ISBLANK('1-12-1.キャッシュフロー表 現状'!U37),\"\",'1-12-1.キャッシュフロー表 現状'!U37)","v":0},{"$f":"IF(ISBLANK('1-12-1.キャッシュフロー表 現状'!V37),\"\",'1-12-1.キャッシュフロー表 現状'!V37)","v":0},{"$f":"IF(ISBLANK('1-12-1.キャッシュフロー表 現状'!W37),\"\",'1-12-1.キャッシュフロー表 現状'!W37)","v":0},{"$f":"IF(ISBLANK('1-12-1.キャッシュフロー表 現状'!X37),\"\",'1-12-1.キャッシュフロー表 現状'!X37)","v":0},{"$f":"IF(ISBLANK('1-12-1.キャッシュフロー表 現状'!Y37),\"\",'1-12-1.キャッシュフロー表 現状'!Y37)","v":0},{"$f":"IF(ISBLANK('1-12-1.キャッシュフロー表 現状'!Z37),\"\",'1-12-1.キャッシュフロー表 現状'!Z37)","v":0},{"$f":"IF(ISBLANK('1-12-1.キャッシュフロー表 現状'!AA37),\"\",'1-12-1.キャッシュフロー表 現状'!AA37)","v":0},{"$f":"IF(ISBLANK('1-12-1.キャッシュフロー表 現状'!AB37),\"\",'1-12-1.キャッシュフロー表 現状'!AB37)","v":0},{"$f":"IF(ISBLANK('1-12-1.キャッシュフロー表 現状'!AC37),\"\",'1-12-1.キャッシュフロー表 現状'!AC37)","v":0},{"$f":"IF(ISBLANK('1-12-1.キャッシュフロー表 現状'!AD37),\"\",'1-12-1.キャッシュフロー表 現状'!AD37)","v":0},{"$f":"IF(ISBLANK('1-12-1.キャッシュフロー表 現状'!AE37),\"\",'1-12-1.キャッシュフロー表 現状'!AE37)","v":0},{"$f":"IF(ISBLANK('1-12-1.キャッシュフロー表 現状'!AF37),\"\",'1-12-1.キャッシュフロー表 現状'!AF37)","v":0},{"$f":"IF(ISBLANK('1-12-1.キャッシュフロー表 現状'!AG37),\"\",'1-12-1.キャッシュフロー表 現状'!AG37)","v":0},{"$f":"IF(ISBLANK('1-12-1.キャッシュフロー表 現状'!AH37),\"\",'1-12-1.キャッシュフロー表 現状'!AH37)","v":0},{"$f":"IF(ISBLANK('1-12-1.キャッシュフロー表 現状'!AI37),\"\",'1-12-1.キャッシュフロー表 現状'!AI37)","v":0},{"$f":"IF(ISBLANK('1-12-1.キャッシュフロー表 現状'!AJ37),\"\",'1-12-1.キャッシュフロー表 現状'!AJ37)","v":0},{"$f":"IF(ISBLANK('1-12-1.キャッシュフロー表 現状'!AK37),\"\",'1-12-1.キャッシュフロー表 現状'!AK37)","v":0},{"$f":"IF(ISBLANK('1-12-1.キャッシュフロー表 現状'!AL37),\"\",'1-12-1.キャッシュフロー表 現状'!AL37)","v":0},null,null,null,null,{"$f":"IF(ISBLANK('1-12-1.キャッシュフロー表 現状'!D37),\"\",'1-12-1.キャッシュフロー表 現状'!D37)","v":""},{"$f":"IF(ISBLANK('1-12-1.キャッシュフロー表 現状'!E37),\"\",'1-12-1.キャッシュフロー表 現状'!E37)","v":0},{"$f":"IF(ISBLANK('1-12-1.キャッシュフロー表 現状'!F37),\"\",'1-12-1.キャッシュフロー表 現状'!F37&\"年後\")","v":""},null,{"$f":"IF(ISBLANK('1-12-1.キャッシュフロー表 現状'!G37),\"\",'1-12-1.キャッシュフロー表 現状'!G37)","v":0},{"$f":"IF(ISBLANK('1-12-1.キャッシュフロー表 現状'!AM37),\"\",'1-12-1.キャッシュフロー表 現状'!AM37)","v":0},{"$f":"IF(ISBLANK('1-12-1.キャッシュフロー表 現状'!AN37),\"\",'1-12-1.キャッシュフロー表 現状'!AN37)","v":0},{"$f":"IF(ISBLANK('1-12-1.キャッシュフロー表 現状'!AO37),\"\",'1-12-1.キャッシュフロー表 現状'!AO37)","v":0},{"$f":"IF(ISBLANK('1-12-1.キャッシュフロー表 現状'!AP37),\"\",'1-12-1.キャッシュフロー表 現状'!AP37)","v":0},{"$f":"IF(ISBLANK('1-12-1.キャッシュフロー表 現状'!AQ37),\"\",'1-12-1.キャッシュフロー表 現状'!AQ37)","v":0},{"$f":"IF(ISBLANK('1-12-1.キャッシュフロー表 現状'!AR37),\"\",'1-12-1.キャッシュフロー表 現状'!AR37)","v":0},{"$f":"IF(ISBLANK('1-12-1.キャッシュフロー表 現状'!AS37),\"\",'1-12-1.キャッシュフロー表 現状'!AS37)","v":0},{"$f":"IF(ISBLANK('1-12-1.キャッシュフロー表 現状'!AT37),\"\",'1-12-1.キャッシュフロー表 現状'!AT37)","v":0},{"$f":"IF(ISBLANK('1-12-1.キャッシュフロー表 現状'!AU37),\"\",'1-12-1.キャッシュフロー表 現状'!AU37)","v":0},{"$f":"IF(ISBLANK('1-12-1.キャッシュフロー表 現状'!AV37),\"\",'1-12-1.キャッシュフロー表 現状'!AV37)","v":0},{"$f":"IF(ISBLANK('1-12-1.キャッシュフロー表 現状'!AW37),\"\",'1-12-1.キャッシュフロー表 現状'!AW37)","v":0},{"$f":"IF(ISBLANK('1-12-1.キャッシュフロー表 現状'!AX37),\"\",'1-12-1.キャッシュフロー表 現状'!AX37)","v":0},{"$f":"IF(ISBLANK('1-12-1.キャッシュフロー表 現状'!AY37),\"\",'1-12-1.キャッシュフロー表 現状'!AY37)","v":0},{"$f":"IF(ISBLANK('1-12-1.キャッシュフロー表 現状'!AZ37),\"\",'1-12-1.キャッシュフロー表 現状'!AZ37)","v":0},{"$f":"IF(ISBLANK('1-12-1.キャッシュフロー表 現状'!BA37),\"\",'1-12-1.キャッシュフロー表 現状'!BA37)","v":0},{"$f":"IF(ISBLANK('1-12-1.キャッシュフロー表 現状'!BB37),\"\",'1-12-1.キャッシュフロー表 現状'!BB37)","v":0},{"$f":"IF(ISBLANK('1-12-1.キャッシュフロー表 現状'!BC37),\"\",'1-12-1.キャッシュフロー表 現状'!BC37)","v":0},{"$f":"IF(ISBLANK('1-12-1.キャッシュフロー表 現状'!BD37),\"\",'1-12-1.キャッシュフロー表 現状'!BD37)","v":0},{"$f":"IF(ISBLANK('1-12-1.キャッシュフロー表 現状'!BE37),\"\",'1-12-1.キャッシュフロー表 現状'!BE37)","v":0},{"$f":"IF(ISBLANK('1-12-1.キャッシュフロー表 現状'!BF37),\"\",'1-12-1.キャッシュフロー表 現状'!BF37)","v":0},{"$f":"IF(ISBLANK('1-12-1.キャッシュフロー表 現状'!BG37),\"\",'1-12-1.キャッシュフロー表 現状'!BG37)","v":0},{"$f":"IF(ISBLANK('1-12-1.キャッシュフロー表 現状'!BH37),\"\",'1-12-1.キャッシュフロー表 現状'!BH37)","v":0},{"$f":"IF(ISBLANK('1-12-1.キャッシュフロー表 現状'!BI37),\"\",'1-12-1.キャッシュフロー表 現状'!BI37)","v":0},{"$f":"IF(ISBLANK('1-12-1.キャッシュフロー表 現状'!BJ37),\"\",'1-12-1.キャッシュフロー表 現状'!BJ37)","v":0},{"$f":"IF(ISBLANK('1-12-1.キャッシュフロー表 現状'!BK37),\"\",'1-12-1.キャッシュフロー表 現状'!BK37)","v":0},{"$f":"IF(ISBLANK('1-12-1.キャッシュフロー表 現状'!BL37),\"\",'1-12-1.キャッシュフロー表 現状'!BL37)","v":0},{"$f":"IF(ISBLANK('1-12-1.キャッシュフロー表 現状'!BM37),\"\",'1-12-1.キャッシュフロー表 現状'!BM37)","v":0},{"$f":"IF(ISBLANK('1-12-1.キャッシュフロー表 現状'!BN37),\"\",'1-12-1.キャッシュフロー表 現状'!BN37)","v":0},{"$f":"IF(ISBLANK('1-12-1.キャッシュフロー表 現状'!BO37),\"\",'1-12-1.キャッシュフロー表 現状'!BO37)","v":0},{"$f":"IF(ISBLANK('1-12-1.キャッシュフロー表 現状'!BP37),\"\",'1-12-1.キャッシュフロー表 現状'!BP37)","v":0},{"$f":"IF(ISBLANK('1-12-1.キャッシュフロー表 現状'!BQ37),\"\",'1-12-1.キャッシュフロー表 現状'!BQ37)","v":0},{"$f":"IF(ISBLANK('1-12-1.キャッシュフロー表 現状'!BR37),\"\",'1-12-1.キャッシュフロー表 現状'!BR37)","v":0},{"$f":"IF(ISBLANK('1-12-1.キャッシュフロー表 現状'!BS37),\"\",'1-12-1.キャッシュフロー表 現状'!BS37)","v":0},{"$f":"IF(ISBLANK('1-12-1.キャッシュフロー表 現状'!BT37),\"\",'1-12-1.キャッシュフロー表 現状'!BT37)","v":0},{"$f":"IF(ISBLANK('1-12-1.キャッシュフロー表 現状'!BU37),\"\",'1-12-1.キャッシュフロー表 現状'!BU37)","v":0},{"$f":"IF(ISBLANK('1-12-1.キャッシュフロー表 現状'!BV37),\"\",'1-12-1.キャッシュフロー表 現状'!BV37)","v":0},{"$f":"IF(ISBLANK('1-12-1.キャッシュフロー表 現状'!BW37),\"\",'1-12-1.キャッシュフロー表 現状'!BW37)","v":0},{"$f":"IF(ISBLANK('1-12-1.キャッシュフロー表 現状'!BX37),\"\",'1-12-1.キャッシュフロー表 現状'!BX37)","v":0},{"$f":"IF(ISBLANK('1-12-1.キャッシュフロー表 現状'!BY37),\"\",'1-12-1.キャッシュフロー表 現状'!BY37)","v":0},{"$f":"IF(ISBLANK('1-12-1.キャッシュフロー表 現状'!BZ37),\"\",'1-12-1.キャッシュフロー表 現状'!BZ37)","v":0}]
[null,null,null,{"$f":"IF(ISBLANK('1-12-1.キャッシュフロー表 現状'!D38),\"\",'1-12-1.キャッシュフロー表 現状'!D38)","v":""},{"$f":"IF(ISBLANK('1-12-1.キャッシュフロー表 現状'!E38),\"\",'1-12-1.キャッシュフロー表 現状'!E38)","v":0},{"$f":"IF(ISBLANK('1-12-1.キャッシュフロー表 現状'!F38),\"\",'1-12-1.キャッシュフロー表 現状'!F38&\"年後\")","v":""},null,{"$f":"IF(ISBLANK('1-12-1.キャッシュフロー表 現状'!G38),\"\",'1-12-1.キャッシュフロー表 現状'!G38)","v":0},{"$f":"IF(ISBLANK('1-12-1.キャッシュフロー表 現状'!H38),\"\",'1-12-1.キャッシュフロー表 現状'!H38)","v":""},{"$f":"IF(ISBLANK('1-12-1.キャッシュフロー表 現状'!I38),\"\",'1-12-1.キャッシュフロー表 現状'!I38)","v":0},{"$f":"IF(ISBLANK('1-12-1.キャッシュフロー表 現状'!J38),\"\",'1-12-1.キャッシュフロー表 現状'!J38)","v":0},{"$f":"IF(ISBLANK('1-12-1.キャッシュフロー表 現状'!K38),\"\",'1-12-1.キャッシュフロー表 現状'!K38)","v":0},{"$f":"IF(ISBLANK('1-12-1.キャッシュフロー表 現状'!L38),\"\",'1-12-1.キャッシュフロー表 現状'!L38)","v":0},{"$f":"IF(ISBLANK('1-12-1.キャッシュフロー表 現状'!M38),\"\",'1-12-1.キャッシュフロー表 現状'!M38)","v":0},{"$f":"IF(ISBLANK('1-12-1.キャッシュフロー表 現状'!N38),\"\",'1-12-1.キャッシュフロー表 現状'!N38)","v":0},{"$f":"IF(ISBLANK('1-12-1.キャッシュフロー表 現状'!O38),\"\",'1-12-1.キャッシュフロー表 現状'!O38)","v":0},{"$f":"IF(ISBLANK('1-12-1.キャッシュフロー表 現状'!P38),\"\",'1-12-1.キャッシュフロー表 現状'!P38)","v":0},{"$f":"IF(ISBLANK('1-12-1.キャッシュフロー表 現状'!Q38),\"\",'1-12-1.キャッシュフロー表 現状'!Q38)","v":0},{"$f":"IF(ISBLANK('1-12-1.キャッシュフロー表 現状'!R38),\"\",'1-12-1.キャッシュフロー表 現状'!R38)","v":0},{"$f":"IF(ISBLANK('1-12-1.キャッシュフロー表 現状'!S38),\"\",'1-12-1.キャッシュフロー表 現状'!S38)","v":0},{"$f":"IF(ISBLANK('1-12-1.キャッシュフロー表 現状'!T38),\"\",'1-12-1.キャッシュフロー表 現状'!T38)","v":0},{"$f":"IF(ISBLANK('1-12-1.キャッシュフロー表 現状'!U38),\"\",'1-12-1.キャッシュフロー表 現状'!U38)","v":0},{"$f":"IF(ISBLANK('1-12-1.キャッシュフロー表 現状'!V38),\"\",'1-12-1.キャッシュフロー表 現状'!V38)","v":0},{"$f":"IF(ISBLANK('1-12-1.キャッシュフロー表 現状'!W38),\"\",'1-12-1.キャッシュフロー表 現状'!W38)","v":0},{"$f":"IF(ISBLANK('1-12-1.キャッシュフロー表 現状'!X38),\"\",'1-12-1.キャッシュフロー表 現状'!X38)","v":0},{"$f":"IF(ISBLANK('1-12-1.キャッシュフロー表 現状'!Y38),\"\",'1-12-1.キャッシュフロー表 現状'!Y38)","v":0},{"$f":"IF(ISBLANK('1-12-1.キャッシュフロー表 現状'!Z38),\"\",'1-12-1.キャッシュフロー表 現状'!Z38)","v":0},{"$f":"IF(ISBLANK('1-12-1.キャッシュフロー表 現状'!AA38),\"\",'1-12-1.キャッシュフロー表 現状'!AA38)","v":0},{"$f":"IF(ISBLANK('1-12-1.キャッシュフロー表 現状'!AB38),\"\",'1-12-1.キャッシュフロー表 現状'!AB38)","v":0},{"$f":"IF(ISBLANK('1-12-1.キャッシュフロー表 現状'!AC38),\"\",'1-12-1.キャッシュフロー表 現状'!AC38)","v":0},{"$f":"IF(ISBLANK('1-12-1.キャッシュフロー表 現状'!AD38),\"\",'1-12-1.キャッシュフロー表 現状'!AD38)","v":0},{"$f":"IF(ISBLANK('1-12-1.キャッシュフロー表 現状'!AE38),\"\",'1-12-1.キャッシュフロー表 現状'!AE38)","v":0},{"$f":"IF(ISBLANK('1-12-1.キャッシュフロー表 現状'!AF38),\"\",'1-12-1.キャッシュフロー表 現状'!AF38)","v":0},{"$f":"IF(ISBLANK('1-12-1.キャッシュフロー表 現状'!AG38),\"\",'1-12-1.キャッシュフロー表 現状'!AG38)","v":0},{"$f":"IF(ISBLANK('1-12-1.キャッシュフロー表 現状'!AH38),\"\",'1-12-1.キャッシュフロー表 現状'!AH38)","v":0},{"$f":"IF(ISBLANK('1-12-1.キャッシュフロー表 現状'!AI38),\"\",'1-12-1.キャッシュフロー表 現状'!AI38)","v":0},{"$f":"IF(ISBLANK('1-12-1.キャッシュフロー表 現状'!AJ38),\"\",'1-12-1.キャッシュフロー表 現状'!AJ38)","v":0},{"$f":"IF(ISBLANK('1-12-1.キャッシュフロー表 現状'!AK38),\"\",'1-12-1.キャッシュフロー表 現状'!AK38)","v":0},{"$f":"IF(ISBLANK('1-12-1.キャッシュフロー表 現状'!AL38),\"\",'1-12-1.キャッシュフロー表 現状'!AL38)","v":0},null,null,null,null,{"$f":"IF(ISBLANK('1-12-1.キャッシュフロー表 現状'!D38),\"\",'1-12-1.キャッシュフロー表 現状'!D38)","v":""},{"$f":"IF(ISBLANK('1-12-1.キャッシュフロー表 現状'!E38),\"\",'1-12-1.キャッシュフロー表 現状'!E38)","v":0},{"$f":"IF(ISBLANK('1-12-1.キャッシュフロー表 現状'!F38),\"\",'1-12-1.キャッシュフロー表 現状'!F38&\"年後\")","v":""},null,{"$f":"IF(ISBLANK('1-12-1.キャッシュフロー表 現状'!G38),\"\",'1-12-1.キャッシュフロー表 現状'!G38)","v":0},{"$f":"IF(ISBLANK('1-12-1.キャッシュフロー表 現状'!AM38),\"\",'1-12-1.キャッシュフロー表 現状'!AM38)","v":0},{"$f":"IF(ISBLANK('1-12-1.キャッシュフロー表 現状'!AN38),\"\",'1-12-1.キャッシュフロー表 現状'!AN38)","v":0},{"$f":"IF(ISBLANK('1-12-1.キャッシュフロー表 現状'!AO38),\"\",'1-12-1.キャッシュフロー表 現状'!AO38)","v":0},{"$f":"IF(ISBLANK('1-12-1.キャッシュフロー表 現状'!AP38),\"\",'1-12-1.キャッシュフロー表 現状'!AP38)","v":0},{"$f":"IF(ISBLANK('1-12-1.キャッシュフロー表 現状'!AQ38),\"\",'1-12-1.キャッシュフロー表 現状'!AQ38)","v":0},{"$f":"IF(ISBLANK('1-12-1.キャッシュフロー表 現状'!AR38),\"\",'1-12-1.キャッシュフロー表 現状'!AR38)","v":0},{"$f":"IF(ISBLANK('1-12-1.キャッシュフロー表 現状'!AS38),\"\",'1-12-1.キャッシュフロー表 現状'!AS38)","v":0},{"$f":"IF(ISBLANK('1-12-1.キャッシュフロー表 現状'!AT38),\"\",'1-12-1.キャッシュフロー表 現状'!AT38)","v":0},{"$f":"IF(ISBLANK('1-12-1.キャッシュフロー表 現状'!AU38),\"\",'1-12-1.キャッシュフロー表 現状'!AU38)","v":0},{"$f":"IF(ISBLANK('1-12-1.キャッシュフロー表 現状'!AV38),\"\",'1-12-1.キャッシュフロー表 現状'!AV38)","v":0},{"$f":"IF(ISBLANK('1-12-1.キャッシュフロー表 現状'!AW38),\"\",'1-12-1.キャッシュフロー表 現状'!AW38)","v":0},{"$f":"IF(ISBLANK('1-12-1.キャッシュフロー表 現状'!AX38),\"\",'1-12-1.キャッシュフロー表 現状'!AX38)","v":0},{"$f":"IF(ISBLANK('1-12-1.キャッシュフロー表 現状'!AY38),\"\",'1-12-1.キャッシュフロー表 現状'!AY38)","v":0},{"$f":"IF(ISBLANK('1-12-1.キャッシュフロー表 現状'!AZ38),\"\",'1-12-1.キャッシュフロー表 現状'!AZ38)","v":0},{"$f":"IF(ISBLANK('1-12-1.キャッシュフロー表 現状'!BA38),\"\",'1-12-1.キャッシュフロー表 現状'!BA38)","v":0},{"$f":"IF(ISBLANK('1-12-1.キャッシュフロー表 現状'!BB38),\"\",'1-12-1.キャッシュフロー表 現状'!BB38)","v":0},{"$f":"IF(ISBLANK('1-12-1.キャッシュフロー表 現状'!BC38),\"\",'1-12-1.キャッシュフロー表 現状'!BC38)","v":0},{"$f":"IF(ISBLANK('1-12-1.キャッシュフロー表 現状'!BD38),\"\",'1-12-1.キャッシュフロー表 現状'!BD38)","v":0},{"$f":"IF(ISBLANK('1-12-1.キャッシュフロー表 現状'!BE38),\"\",'1-12-1.キャッシュフロー表 現状'!BE38)","v":0},{"$f":"IF(ISBLANK('1-12-1.キャッシュフロー表 現状'!BF38),\"\",'1-12-1.キャッシュフロー表 現状'!BF38)","v":0},{"$f":"IF(ISBLANK('1-12-1.キャッシュフロー表 現状'!BG38),\"\",'1-12-1.キャッシュフロー表 現状'!BG38)","v":0},{"$f":"IF(ISBLANK('1-12-1.キャッシュフロー表 現状'!BH38),\"\",'1-12-1.キャッシュフロー表 現状'!BH38)","v":0},{"$f":"IF(ISBLANK('1-12-1.キャッシュフロー表 現状'!BI38),\"\",'1-12-1.キャッシュフロー表 現状'!BI38)","v":0},{"$f":"IF(ISBLANK('1-12-1.キャッシュフロー表 現状'!BJ38),\"\",'1-12-1.キャッシュフロー表 現状'!BJ38)","v":0},{"$f":"IF(ISBLANK('1-12-1.キャッシュフロー表 現状'!BK38),\"\",'1-12-1.キャッシュフロー表 現状'!BK38)","v":0},{"$f":"IF(ISBLANK('1-12-1.キャッシュフロー表 現状'!BL38),\"\",'1-12-1.キャッシュフロー表 現状'!BL38)","v":0},{"$f":"IF(ISBLANK('1-12-1.キャッシュフロー表 現状'!BM38),\"\",'1-12-1.キャッシュフロー表 現状'!BM38)","v":0},{"$f":"IF(ISBLANK('1-12-1.キャッシュフロー表 現状'!BN38),\"\",'1-12-1.キャッシュフロー表 現状'!BN38)","v":0},{"$f":"IF(ISBLANK('1-12-1.キャッシュフロー表 現状'!BO38),\"\",'1-12-1.キャッシュフロー表 現状'!BO38)","v":0},{"$f":"IF(ISBLANK('1-12-1.キャッシュフロー表 現状'!BP38),\"\",'1-12-1.キャッシュフロー表 現状'!BP38)","v":0},{"$f":"IF(ISBLANK('1-12-1.キャッシュフロー表 現状'!BQ38),\"\",'1-12-1.キャッシュフロー表 現状'!BQ38)","v":0},{"$f":"IF(ISBLANK('1-12-1.キャッシュフロー表 現状'!BR38),\"\",'1-12-1.キャッシュフロー表 現状'!BR38)","v":0},{"$f":"IF(ISBLANK('1-12-1.キャッシュフロー表 現状'!BS38),\"\",'1-12-1.キャッシュフロー表 現状'!BS38)","v":0},{"$f":"IF(ISBLANK('1-12-1.キャッシュフロー表 現状'!BT38),\"\",'1-12-1.キャッシュフロー表 現状'!BT38)","v":0},{"$f":"IF(ISBLANK('1-12-1.キャッシュフロー表 現状'!BU38),\"\",'1-12-1.キャッシュフロー表 現状'!BU38)","v":0},{"$f":"IF(ISBLANK('1-12-1.キャッシュフロー表 現状'!BV38),\"\",'1-12-1.キャッシュフロー表 現状'!BV38)","v":0},{"$f":"IF(ISBLANK('1-12-1.キャッシュフロー表 現状'!BW38),\"\",'1-12-1.キャッシュフロー表 現状'!BW38)","v":0},{"$f":"IF(ISBLANK('1-12-1.キャッシュフロー表 現状'!BX38),\"\",'1-12-1.キャッシュフロー表 現状'!BX38)","v":0},{"$f":"IF(ISBLANK('1-12-1.キャッシュフロー表 現状'!BY38),\"\",'1-12-1.キャッシュフロー表 現状'!BY38)","v":0},{"$f":"IF(ISBLANK('1-12-1.キャッシュフロー表 現状'!BZ38),\"\",'1-12-1.キャッシュフロー表 現状'!BZ38)","v":0}]
[null,null,null,"その他一時的支出",null,null,null,null,{"$f":"IF(ISBLANK('1-12-1.キャッシュフロー表 現状'!H39),\"\",'1-12-1.キャッシュフロー表 現状'!H39)","v":""},{"$f":"IF(ISBLANK('1-12-1.キャッシュフロー表 現状'!I39),\"\",'1-12-1.キャッシュフロー表 現状'!I39)","v":""},{"$f":"IF(ISBLANK('1-12-1.キャッシュフロー表 現状'!J39),\"\",'1-12-1.キャッシュフロー表 現状'!J39)","v":""},{"$f":"IF(ISBLANK('1-12-1.キャッシュフロー表 現状'!K39),\"\",'1-12-1.キャッシュフロー表 現状'!K39)","v":""},{"$f":"IF(ISBLANK('1-12-1.キャッシュフロー表 現状'!L39),\"\",'1-12-1.キャッシュフロー表 現状'!L39)","v":""},{"$f":"IF(ISBLANK('1-12-1.キャッシュフロー表 現状'!M39),\"\",'1-12-1.キャッシュフロー表 現状'!M39)","v":""},{"$f":"IF(ISBLANK('1-12-1.キャッシュフロー表 現状'!N39),\"\",'1-12-1.キャッシュフロー表 現状'!N39)","v":""},{"$f":"IF(ISBLANK('1-12-1.キャッシュフロー表 現状'!O39),\"\",'1-12-1.キャッシュフロー表 現状'!O39)","v":""},{"$f":"IF(ISBLANK('1-12-1.キャッシュフロー表 現状'!P39),\"\",'1-12-1.キャッシュフロー表 現状'!P39)","v":""},{"$f":"IF(ISBLANK('1-12-1.キャッシュフロー表 現状'!Q39),\"\",'1-12-1.キャッシュフロー表 現状'!Q39)","v":""},{"$f":"IF(ISBLANK('1-12-1.キャッシュフロー表 現状'!R39),\"\",'1-12-1.キャッシュフロー表 現状'!R39)","v":""},{"$f":"IF(ISBLANK('1-12-1.キャッシュフロー表 現状'!S39),\"\",'1-12-1.キャッシュフロー表 現状'!S39)","v":""},{"$f":"IF(ISBLANK('1-12-1.キャッシュフロー表 現状'!T39),\"\",'1-12-1.キャッシュフロー表 現状'!T39)","v":""},{"$f":"IF(ISBLANK('1-12-1.キャッシュフロー表 現状'!U39),\"\",'1-12-1.キャッシュフロー表 現状'!U39)","v":""},{"$f":"IF(ISBLANK('1-12-1.キャッシュフロー表 現状'!V39),\"\",'1-12-1.キャッシュフロー表 現状'!V39)","v":""},{"$f":"IF(ISBLANK('1-12-1.キャッシュフロー表 現状'!W39),\"\",'1-12-1.キャッシュフロー表 現状'!W39)","v":""},{"$f":"IF(ISBLANK('1-12-1.キャッシュフロー表 現状'!X39),\"\",'1-12-1.キャッシュフロー表 現状'!X39)","v":""},{"$f":"IF(ISBLANK('1-12-1.キャッシュフロー表 現状'!Y39),\"\",'1-12-1.キャッシュフロー表 現状'!Y39)","v":""},{"$f":"IF(ISBLANK('1-12-1.キャッシュフロー表 現状'!Z39),\"\",'1-12-1.キャッシュフロー表 現状'!Z39)","v":""},{"$f":"IF(ISBLANK('1-12-1.キャッシュフロー表 現状'!AA39),\"\",'1-12-1.キャッシュフロー表 現状'!AA39)","v":""},{"$f":"IF(ISBLANK('1-12-1.キャッシュフロー表 現状'!AB39),\"\",'1-12-1.キャッシュフロー表 現状'!AB39)","v":""},{"$f":"IF(ISBLANK('1-12-1.キャッシュフロー表 現状'!AC39),\"\",'1-12-1.キャッシュフロー表 現状'!AC39)","v":""},{"$f":"IF(ISBLANK('1-12-1.キャッシュフロー表 現状'!AD39),\"\",'1-12-1.キャッシュフロー表 現状'!AD39)","v":""},{"$f":"IF(ISBLANK('1-12-1.キャッシュフロー表 現状'!AE39),\"\",'1-12-1.キャッシュフロー表 現状'!AE39)","v":""},{"$f":"IF(ISBLANK('1-12-1.キャッシュフロー表 現状'!AF39),\"\",'1-12-1.キャッシュフロー表 現状'!AF39)","v":""},{"$f":"IF(ISBLANK('1-12-1.キャッシュフロー表 現状'!AG39),\"\",'1-12-1.キャッシュフロー表 現状'!AG39)","v":""},{"$f":"IF(ISBLANK('1-12-1.キャッシュフロー表 現状'!AH39),\"\",'1-12-1.キャッシュフロー表 現状'!AH39)","v":""},{"$f":"IF(ISBLANK('1-12-1.キャッシュフロー表 現状'!AI39),\"\",'1-12-1.キャッシュフロー表 現状'!AI39)","v":""},{"$f":"IF(ISBLANK('1-12-1.キャッシュフロー表 現状'!AJ39),\"\",'1-12-1.キャッシュフロー表 現状'!AJ39)","v":""},{"$f":"IF(ISBLANK('1-12-1.キャッシュフロー表 現状'!AK39),\"\",'1-12-1.キャッシュフロー表 現状'!AK39)","v":""},{"$f":"IF(ISBLANK('1-12-1.キャッシュフロー表 現状'!AL39),\"\",'1-12-1.キャッシュフロー表 現状'!AL39)","v":""},null,null,null,null,{"$f":"IF(ISBLANK('1-12-1.キャッシュフロー表 現状'!D39),\"\",'1-12-1.キャッシュフロー表 現状'!D39)","v":"その他一時的支出"},{"$f":"IF(ISBLANK('1-12-1.キャッシュフロー表 現状'!E39),\"\",'1-12-1.キャッシュフロー表 現状'!E39)","v":""},{"$f":"IF(ISBLANK('1-12-1.キャッシュフロー表 現状'!F39),\"\",'1-12-1.キャッシュフロー表 現状'!F39&\"年後\")","v":""},null,{"$f":"IF(ISBLANK('1-12-1.キャッシュフロー表 現状'!G39),\"\",'1-12-1.キャッシュフロー表 現状'!G39)","v":""},{"$f":"IF(ISBLANK('1-12-1.キャッシュフロー表 現状'!AM39),\"\",'1-12-1.キャッシュフロー表 現状'!AM39)","v":""},{"$f":"IF(ISBLANK('1-12-1.キャッシュフロー表 現状'!AN39),\"\",'1-12-1.キャッシュフロー表 現状'!AN39)","v":""},{"$f":"IF(ISBLANK('1-12-1.キャッシュフロー表 現状'!AO39),\"\",'1-12-1.キャッシュフロー表 現状'!AO39)","v":""},{"$f":"IF(ISBLANK('1-12-1.キャッシュフロー表 現状'!AP39),\"\",'1-12-1.キャッシュフロー表 現状'!AP39)","v":""},{"$f":"IF(ISBLANK('1-12-1.キャッシュフロー表 現状'!AQ39),\"\",'1-12-1.キャッシュフロー表 現状'!AQ39)","v":""},{"$f":"IF(ISBLANK('1-12-1.キャッシュフロー表 現状'!AR39),\"\",'1-12-1.キャッシュフロー表 現状'!AR39)","v":""},{"$f":"IF(ISBLANK('1-12-1.キャッシュフロー表 現状'!AS39),\"\",'1-12-1.キャッシュフロー表 現状'!AS39)","v":""},{"$f":"IF(ISBLANK('1-12-1.キャッシュフロー表 現状'!AT39),\"\",'1-12-1.キャッシュフロー表 現状'!AT39)","v":""},{"$f":"IF(ISBLANK('1-12-1.キャッシュフロー表 現状'!AU39),\"\",'1-12-1.キャッシュフロー表 現状'!AU39)","v":""},{"$f":"IF(ISBLANK('1-12-1.キャッシュフロー表 現状'!AV39),\"\",'1-12-1.キャッシュフロー表 現状'!AV39)","v":""},{"$f":"IF(ISBLANK('1-12-1.キャッシュフロー表 現状'!AW39),\"\",'1-12-1.キャッシュフロー表 現状'!AW39)","v":""},{"$f":"IF(ISBLANK('1-12-1.キャッシュフロー表 現状'!AX39),\"\",'1-12-1.キャッシュフロー表 現状'!AX39)","v":""},{"$f":"IF(ISBLANK('1-12-1.キャッシュフロー表 現状'!AY39),\"\",'1-12-1.キャッシュフロー表 現状'!AY39)","v":""},{"$f":"IF(ISBLANK('1-12-1.キャッシュフロー表 現状'!AZ39),\"\",'1-12-1.キャッシュフロー表 現状'!AZ39)","v":""},{"$f":"IF(ISBLANK('1-12-1.キャッシュフロー表 現状'!BA39),\"\",'1-12-1.キャッシュフロー表 現状'!BA39)","v":""},{"$f":"IF(ISBLANK('1-12-1.キャッシュフロー表 現状'!BB39),\"\",'1-12-1.キャッシュフロー表 現状'!BB39)","v":""},{"$f":"IF(ISBLANK('1-12-1.キャッシュフロー表 現状'!BC39),\"\",'1-12-1.キャッシュフロー表 現状'!BC39)","v":""},{"$f":"IF(ISBLANK('1-12-1.キャッシュフロー表 現状'!BD39),\"\",'1-12-1.キャッシュフロー表 現状'!BD39)","v":""},{"$f":"IF(ISBLANK('1-12-1.キャッシュフロー表 現状'!BE39),\"\",'1-12-1.キャッシュフロー表 現状'!BE39)","v":""},{"$f":"IF(ISBLANK('1-12-1.キャッシュフロー表 現状'!BF39),\"\",'1-12-1.キャッシュフロー表 現状'!BF39)","v":""},{"$f":"IF(ISBLANK('1-12-1.キャッシュフロー表 現状'!BG39),\"\",'1-12-1.キャッシュフロー表 現状'!BG39)","v":""},{"$f":"IF(ISBLANK('1-12-1.キャッシュフロー表 現状'!BH39),\"\",'1-12-1.キャッシュフロー表 現状'!BH39)","v":""},{"$f":"IF(ISBLANK('1-12-1.キャッシュフロー表 現状'!BI39),\"\",'1-12-1.キャッシュフロー表 現状'!BI39)","v":""},{"$f":"IF(ISBLANK('1-12-1.キャッシュフロー表 現状'!BJ39),\"\",'1-12-1.キャッシュフロー表 現状'!BJ39)","v":""},{"$f":"IF(ISBLANK('1-12-1.キャッシュフロー表 現状'!BK39),\"\",'1-12-1.キャッシュフロー表 現状'!BK39)","v":""},{"$f":"IF(ISBLANK('1-12-1.キャッシュフロー表 現状'!BL39),\"\",'1-12-1.キャッシュフロー表 現状'!BL39)","v":""},{"$f":"IF(ISBLANK('1-12-1.キャッシュフロー表 現状'!BM39),\"\",'1-12-1.キャッシュフロー表 現状'!BM39)","v":""},{"$f":"IF(ISBLANK('1-12-1.キャッシュフロー表 現状'!BN39),\"\",'1-12-1.キャッシュフロー表 現状'!BN39)","v":""},{"$f":"IF(ISBLANK('1-12-1.キャッシュフロー表 現状'!BO39),\"\",'1-12-1.キャッシュフロー表 現状'!BO39)","v":""},{"$f":"IF(ISBLANK('1-12-1.キャッシュフロー表 現状'!BP39),\"\",'1-12-1.キャッシュフロー表 現状'!BP39)","v":""},{"$f":"IF(ISBLANK('1-12-1.キャッシュフロー表 現状'!BQ39),\"\",'1-12-1.キャッシュフロー表 現状'!BQ39)","v":""},{"$f":"IF(ISBLANK('1-12-1.キャッシュフロー表 現状'!BR39),\"\",'1-12-1.キャッシュフロー表 現状'!BR39)","v":""},{"$f":"IF(ISBLANK('1-12-1.キャッシュフロー表 現状'!BS39),\"\",'1-12-1.キャッシュフロー表 現状'!BS39)","v":""},{"$f":"IF(ISBLANK('1-12-1.キャッシュフロー表 現状'!BT39),\"\",'1-12-1.キャッシュフロー表 現状'!BT39)","v":""},{"$f":"IF(ISBLANK('1-12-1.キャッシュフロー表 現状'!BU39),\"\",'1-12-1.キャッシュフロー表 現状'!BU39)","v":""},{"$f":"IF(ISBLANK('1-12-1.キャッシュフロー表 現状'!BV39),\"\",'1-12-1.キャッシュフロー表 現状'!BV39)","v":""},{"$f":"IF(ISBLANK('1-12-1.キャッシュフロー表 現状'!BW39),\"\",'1-12-1.キャッシュフロー表 現状'!BW39)","v":""},{"$f":"IF(ISBLANK('1-12-1.キャッシュフロー表 現状'!BX39),\"\",'1-12-1.キャッシュフロー表 現状'!BX39)","v":""},{"$f":"IF(ISBLANK('1-12-1.キャッシュフロー表 現状'!BY39),\"\",'1-12-1.キャッシュフロー表 現状'!BY39)","v":""},{"$f":"IF(ISBLANK('1-12-1.キャッシュフロー表 現状'!BZ39),\"\",'1-12-1.キャッシュフロー表 現状'!BZ39)","v":""}]
[null,null,null,"支出合計",null,null,null,null,{"$f":"IF(ISBLANK('1-12-1.キャッシュフロー表 現状'!H40),\"\",'1-12-1.キャッシュフロー表 現状'!H40)","v":0},{"$f":"IF(ISBLANK('1-12-1.キャッシュフロー表 現状'!I40),\"\",'1-12-1.キャッシュフロー表 現状'!I40)","v":0},{"$f":"IF(ISBLANK('1-12-1.キャッシュフロー表 現状'!J40),\"\",'1-12-1.キャッシュフロー表 現状'!J40)","v":0},{"$f":"IF(ISBLANK('1-12-1.キャッシュフロー表 現状'!K40),\"\",'1-12-1.キャッシュフロー表 現状'!K40)","v":0},{"$f":"IF(ISBLANK('1-12-1.キャッシュフロー表 現状'!L40),\"\",'1-12-1.キャッシュフロー表 現状'!L40)","v":0},{"$f":"IF(ISBLANK('1-12-1.キャッシュフロー表 現状'!M40),\"\",'1-12-1.キャッシュフロー表 現状'!M40)","v":0},{"$f":"IF(ISBLANK('1-12-1.キャッシュフロー表 現状'!N40),\"\",'1-12-1.キャッシュフロー表 現状'!N40)","v":0},{"$f":"IF(ISBLANK('1-12-1.キャッシュフロー表 現状'!O40),\"\",'1-12-1.キャッシュフロー表 現状'!O40)","v":0},{"$f":"IF(ISBLANK('1-12-1.キャッシュフロー表 現状'!P40),\"\",'1-12-1.キャッシュフロー表 現状'!P40)","v":0},{"$f":"IF(ISBLANK('1-12-1.キャッシュフロー表 現状'!Q40),\"\",'1-12-1.キャッシュフロー表 現状'!Q40)","v":0},{"$f":"IF(ISBLANK('1-12-1.キャッシュフロー表 現状'!R40),\"\",'1-12-1.キャッシュフロー表 現状'!R40)","v":0},{"$f":"IF(ISBLANK('1-12-1.キャッシュフロー表 現状'!S40),\"\",'1-12-1.キャッシュフロー表 現状'!S40)","v":0},{"$f":"IF(ISBLANK('1-12-1.キャッシュフロー表 現状'!T40),\"\",'1-12-1.キャッシュフロー表 現状'!T40)","v":0},{"$f":"IF(ISBLANK('1-12-1.キャッシュフロー表 現状'!U40),\"\",'1-12-1.キャッシュフロー表 現状'!U40)","v":0},{"$f":"IF(ISBLANK('1-12-1.キャッシュフロー表 現状'!V40),\"\",'1-12-1.キャッシュフロー表 現状'!V40)","v":0},{"$f":"IF(ISBLANK('1-12-1.キャッシュフロー表 現状'!W40),\"\",'1-12-1.キャッシュフロー表 現状'!W40)","v":0},{"$f":"IF(ISBLANK('1-12-1.キャッシュフロー表 現状'!X40),\"\",'1-12-1.キャッシュフロー表 現状'!X40)","v":0},{"$f":"IF(ISBLANK('1-12-1.キャッシュフロー表 現状'!Y40),\"\",'1-12-1.キャッシュフロー表 現状'!Y40)","v":0},{"$f":"IF(ISBLANK('1-12-1.キャッシュフロー表 現状'!Z40),\"\",'1-12-1.キャッシュフロー表 現状'!Z40)","v":0},{"$f":"IF(ISBLANK('1-12-1.キャッシュフロー表 現状'!AA40),\"\",'1-12-1.キャッシュフロー表 現状'!AA40)","v":0},{"$f":"IF(ISBLANK('1-12-1.キャッシュフロー表 現状'!AB40),\"\",'1-12-1.キャッシュフロー表 現状'!AB40)","v":0},{"$f":"IF(ISBLANK('1-12-1.キャッシュフロー表 現状'!AC40),\"\",'1-12-1.キャッシュフロー表 現状'!AC40)","v":0},{"$f":"IF(ISBLANK('1-12-1.キャッシュフロー表 現状'!AD40),\"\",'1-12-1.キャッシュフロー表 現状'!AD40)","v":0},{"$f":"IF(ISBLANK('1-12-1.キャッシュフロー表 現状'!AE40),\"\",'1-12-1.キャッシュフロー表 現状'!AE40)","v":0},{"$f":"IF(ISBLANK('1-12-1.キャッシュフロー表 現状'!AF40),\"\",'1-12-1.キャッシュフロー表 現状'!AF40)","v":0},{"$f":"IF(ISBLANK('1-12-1.キャッシュフロー表 現状'!AG40),\"\",'1-12-1.キャッシュフロー表 現状'!AG40)","v":0},{"$f":"IF(ISBLANK('1-12-1.キャッシュフロー表 現状'!AH40),\"\",'1-12-1.キャッシュフロー表 現状'!AH40)","v":0},{"$f":"IF(ISBLANK('1-12-1.キャッシュフロー表 現状'!AI40),\"\",'1-12-1.キャッシュフロー表 現状'!AI40)","v":0},{"$f":"IF(ISBLANK('1-12-1.キャッシュフロー表 現状'!AJ40),\"\",'1-12-1.キャッシュフロー表 現状'!AJ40)","v":0},{"$f":"IF(ISBLANK('1-12-1.キャッシュフロー表 現状'!AK40),\"\",'1-12-1.キャッシュフロー表 現状'!AK40)","v":0},{"$f":"IF(ISBLANK('1-12-1.キャッシュフロー表 現状'!AL40),\"\",'1-12-1.キャッシュフロー表 現状'!AL40)","v":0},null,null,null,null,"支出合計",null,null,null,null,{"$f":"IF(ISBLANK('1-12-1.キャッシュフロー表 現状'!AM40),\"\",'1-12-1.キャッシュフロー表 現状'!AM40)","v":0},{"$f":"IF(ISBLANK('1-12-1.キャッシュフロー表 現状'!AN40),\"\",'1-12-1.キャッシュフロー表 現状'!AN40)","v":0},{"$f":"IF(ISBLANK('1-12-1.キャッシュフロー表 現状'!AO40),\"\",'1-12-1.キャッシュフロー表 現状'!AO40)","v":0},{"$f":"IF(ISBLANK('1-12-1.キャッシュフロー表 現状'!AP40),\"\",'1-12-1.キャッシュフロー表 現状'!AP40)","v":0},{"$f":"IF(ISBLANK('1-12-1.キャッシュフロー表 現状'!AQ40),\"\",'1-12-1.キャッシュフロー表 現状'!AQ40)","v":0},{"$f":"IF(ISBLANK('1-12-1.キャッシュフロー表 現状'!AR40),\"\",'1-12-1.キャッシュフロー表 現状'!AR40)","v":0},{"$f":"IF(ISBLANK('1-12-1.キャッシュフロー表 現状'!AS40),\"\",'1-12-1.キャッシュフロー表 現状'!AS40)","v":0},{"$f":"IF(ISBLANK('1-12-1.キャッシュフロー表 現状'!AT40),\"\",'1-12-1.キャッシュフロー表 現状'!AT40)","v":0},{"$f":"IF(ISBLANK('1-12-1.キャッシュフロー表 現状'!AU40),\"\",'1-12-1.キャッシュフロー表 現状'!AU40)","v":0},{"$f":"IF(ISBLANK('1-12-1.キャッシュフロー表 現状'!AV40),\"\",'1-12-1.キャッシュフロー表 現状'!AV40)","v":0},{"$f":"IF(ISBLANK('1-12-1.キャッシュフロー表 現状'!AW40),\"\",'1-12-1.キャッシュフロー表 現状'!AW40)","v":0},{"$f":"IF(ISBLANK('1-12-1.キャッシュフロー表 現状'!AX40),\"\",'1-12-1.キャッシュフロー表 現状'!AX40)","v":0},{"$f":"IF(ISBLANK('1-12-1.キャッシュフロー表 現状'!AY40),\"\",'1-12-1.キャッシュフロー表 現状'!AY40)","v":0},{"$f":"IF(ISBLANK('1-12-1.キャッシュフロー表 現状'!AZ40),\"\",'1-12-1.キャッシュフロー表 現状'!AZ40)","v":0},{"$f":"IF(ISBLANK('1-12-1.キャッシュフロー表 現状'!BA40),\"\",'1-12-1.キャッシュフロー表 現状'!BA40)","v":0},{"$f":"IF(ISBLANK('1-12-1.キャッシュフロー表 現状'!BB40),\"\",'1-12-1.キャッシュフロー表 現状'!BB40)","v":0},{"$f":"IF(ISBLANK('1-12-1.キャッシュフロー表 現状'!BC40),\"\",'1-12-1.キャッシュフロー表 現状'!BC40)","v":0},{"$f":"IF(ISBLANK('1-12-1.キャッシュフロー表 現状'!BD40),\"\",'1-12-1.キャッシュフロー表 現状'!BD40)","v":0},{"$f":"IF(ISBLANK('1-12-1.キャッシュフロー表 現状'!BE40),\"\",'1-12-1.キャッシュフロー表 現状'!BE40)","v":0},{"$f":"IF(ISBLANK('1-12-1.キャッシュフロー表 現状'!BF40),\"\",'1-12-1.キャッシュフロー表 現状'!BF40)","v":0},{"$f":"IF(ISBLANK('1-12-1.キャッシュフロー表 現状'!BG40),\"\",'1-12-1.キャッシュフロー表 現状'!BG40)","v":0},{"$f":"IF(ISBLANK('1-12-1.キャッシュフロー表 現状'!BH40),\"\",'1-12-1.キャッシュフロー表 現状'!BH40)","v":0},{"$f":"IF(ISBLANK('1-12-1.キャッシュフロー表 現状'!BI40),\"\",'1-12-1.キャッシュフロー表 現状'!BI40)","v":0},{"$f":"IF(ISBLANK('1-12-1.キャッシュフロー表 現状'!BJ40),\"\",'1-12-1.キャッシュフロー表 現状'!BJ40)","v":0},{"$f":"IF(ISBLANK('1-12-1.キャッシュフロー表 現状'!BK40),\"\",'1-12-1.キャッシュフロー表 現状'!BK40)","v":0},{"$f":"IF(ISBLANK('1-12-1.キャッシュフロー表 現状'!BL40),\"\",'1-12-1.キャッシュフロー表 現状'!BL40)","v":0},{"$f":"IF(ISBLANK('1-12-1.キャッシュフロー表 現状'!BM40),\"\",'1-12-1.キャッシュフロー表 現状'!BM40)","v":0},{"$f":"IF(ISBLANK('1-12-1.キャッシュフロー表 現状'!BN40),\"\",'1-12-1.キャッシュフロー表 現状'!BN40)","v":0},{"$f":"IF(ISBLANK('1-12-1.キャッシュフロー表 現状'!BO40),\"\",'1-12-1.キャッシュフロー表 現状'!BO40)","v":0},{"$f":"IF(ISBLANK('1-12-1.キャッシュフロー表 現状'!BP40),\"\",'1-12-1.キャッシュフロー表 現状'!BP40)","v":0},{"$f":"IF(ISBLANK('1-12-1.キャッシュフロー表 現状'!BQ40),\"\",'1-12-1.キャッシュフロー表 現状'!BQ40)","v":0},{"$f":"IF(ISBLANK('1-12-1.キャッシュフロー表 現状'!BR40),\"\",'1-12-1.キャッシュフロー表 現状'!BR40)","v":0},{"$f":"IF(ISBLANK('1-12-1.キャッシュフロー表 現状'!BS40),\"\",'1-12-1.キャッシュフロー表 現状'!BS40)","v":0},{"$f":"IF(ISBLANK('1-12-1.キャッシュフロー表 現状'!BT40),\"\",'1-12-1.キャッシュフロー表 現状'!BT40)","v":0},{"$f":"IF(ISBLANK('1-12-1.キャッシュフロー表 現状'!BU40),\"\",'1-12-1.キャッシュフロー表 現状'!BU40)","v":0},{"$f":"IF(ISBLANK('1-12-1.キャッシュフロー表 現状'!BV40),\"\",'1-12-1.キャッシュフロー表 現状'!BV40)","v":0},{"$f":"IF(ISBLANK('1-12-1.キャッシュフロー表 現状'!BW40),\"\",'1-12-1.キャッシュフロー表 現状'!BW40)","v":0},{"$f":"IF(ISBLANK('1-12-1.キャッシュフロー表 現状'!BX40),\"\",'1-12-1.キャッシュフロー表 現状'!BX40)","v":0},{"$f":"IF(ISBLANK('1-12-1.キャッシュフロー表 現状'!BY40),\"\",'1-12-1.キャッシュフロー表 現状'!BY40)","v":0},{"$f":"IF(ISBLANK('1-12-1.キャッシュフロー表 現状'!BZ40),\"\",'1-12-1.キャッシュフロー表 現状'!BZ40)","v":0}]
[null,null,"　 年間収支",null,null,null,null,null,{"$f":"IF(ISBLANK('1-12-1.キャッシュフロー表 現状'!H41),\"\",'1-12-1.キャッシュフロー表 現状'!H41)","v":0},{"$f":"IF(ISBLANK('1-12-1.キャッシュフロー表 現状'!I41),\"\",'1-12-1.キャッシュフロー表 現状'!I41)","v":0},{"$f":"IF(ISBLANK('1-12-1.キャッシュフロー表 現状'!J41),\"\",'1-12-1.キャッシュフロー表 現状'!J41)","v":0},{"$f":"IF(ISBLANK('1-12-1.キャッシュフロー表 現状'!K41),\"\",'1-12-1.キャッシュフロー表 現状'!K41)","v":0},{"$f":"IF(ISBLANK('1-12-1.キャッシュフロー表 現状'!L41),\"\",'1-12-1.キャッシュフロー表 現状'!L41)","v":0},{"$f":"IF(ISBLANK('1-12-1.キャッシュフロー表 現状'!M41),\"\",'1-12-1.キャッシュフロー表 現状'!M41)","v":0},{"$f":"IF(ISBLANK('1-12-1.キャッシュフロー表 現状'!N41),\"\",'1-12-1.キャッシュフロー表 現状'!N41)","v":0},{"$f":"IF(ISBLANK('1-12-1.キャッシュフロー表 現状'!O41),\"\",'1-12-1.キャッシュフロー表 現状'!O41)","v":0},{"$f":"IF(ISBLANK('1-12-1.キャッシュフロー表 現状'!P41),\"\",'1-12-1.キャッシュフロー表 現状'!P41)","v":0},{"$f":"IF(ISBLANK('1-12-1.キャッシュフロー表 現状'!Q41),\"\",'1-12-1.キャッシュフロー表 現状'!Q41)","v":0},{"$f":"IF(ISBLANK('1-12-1.キャッシュフロー表 現状'!R41),\"\",'1-12-1.キャッシュフロー表 現状'!R41)","v":0},{"$f":"IF(ISBLANK('1-12-1.キャッシュフロー表 現状'!S41),\"\",'1-12-1.キャッシュフロー表 現状'!S41)","v":0},{"$f":"IF(ISBLANK('1-12-1.キャッシュフロー表 現状'!T41),\"\",'1-12-1.キャッシュフロー表 現状'!T41)","v":0},{"$f":"IF(ISBLANK('1-12-1.キャッシュフロー表 現状'!U41),\"\",'1-12-1.キャッシュフロー表 現状'!U41)","v":0},{"$f":"IF(ISBLANK('1-12-1.キャッシュフロー表 現状'!V41),\"\",'1-12-1.キャッシュフロー表 現状'!V41)","v":0},{"$f":"IF(ISBLANK('1-12-1.キャッシュフロー表 現状'!W41),\"\",'1-12-1.キャッシュフロー表 現状'!W41)","v":0},{"$f":"IF(ISBLANK('1-12-1.キャッシュフロー表 現状'!X41),\"\",'1-12-1.キャッシュフロー表 現状'!X41)","v":0},{"$f":"IF(ISBLANK('1-12-1.キャッシュフロー表 現状'!Y41),\"\",'1-12-1.キャッシュフロー表 現状'!Y41)","v":0},{"$f":"IF(ISBLANK('1-12-1.キャッシュフロー表 現状'!Z41),\"\",'1-12-1.キャッシュフロー表 現状'!Z41)","v":0},{"$f":"IF(ISBLANK('1-12-1.キャッシュフロー表 現状'!AA41),\"\",'1-12-1.キャッシュフロー表 現状'!AA41)","v":0},{"$f":"IF(ISBLANK('1-12-1.キャッシュフロー表 現状'!AB41),\"\",'1-12-1.キャッシュフロー表 現状'!AB41)","v":0},{"$f":"IF(ISBLANK('1-12-1.キャッシュフロー表 現状'!AC41),\"\",'1-12-1.キャッシュフロー表 現状'!AC41)","v":0},{"$f":"IF(ISBLANK('1-12-1.キャッシュフロー表 現状'!AD41),\"\",'1-12-1.キャッシュフロー表 現状'!AD41)","v":0},{"$f":"IF(ISBLANK('1-12-1.キャッシュフロー表 現状'!AE41),\"\",'1-12-1.キャッシュフロー表 現状'!AE41)","v":0},{"$f":"IF(ISBLANK('1-12-1.キャッシュフロー表 現状'!AF41),\"\",'1-12-1.キャッシュフロー表 現状'!AF41)","v":0},{"$f":"IF(ISBLANK('1-12-1.キャッシュフロー表 現状'!AG41),\"\",'1-12-1.キャッシュフロー表 現状'!AG41)","v":0},{"$f":"IF(ISBLANK('1-12-1.キャッシュフロー表 現状'!AH41),\"\",'1-12-1.キャッシュフロー表 現状'!AH41)","v":0},{"$f":"IF(ISBLANK('1-12-1.キャッシュフロー表 現状'!AI41),\"\",'1-12-1.キャッシュフロー表 現状'!AI41)","v":0},{"$f":"IF(ISBLANK('1-12-1.キャッシュフロー表 現状'!AJ41),\"\",'1-12-1.キャッシュフロー表 現状'!AJ41)","v":0},{"$f":"IF(ISBLANK('1-12-1.キャッシュフロー表 現状'!AK41),\"\",'1-12-1.キャッシュフロー表 現状'!AK41)","v":0},{"$f":"IF(ISBLANK('1-12-1.キャッシュフロー表 現状'!AL41),\"\",'1-12-1.キャッシュフロー表 現状'!AL41)","v":0},null,null,null,"　 年間収支",null,null,null,null,null,{"$f":"IF(ISBLANK('1-12-1.キャッシュフロー表 現状'!AM41),\"\",'1-12-1.キャッシュフロー表 現状'!AM41)","v":0},{"$f":"IF(ISBLANK('1-12-1.キャッシュフロー表 現状'!AN41),\"\",'1-12-1.キャッシュフロー表 現状'!AN41)","v":0},{"$f":"IF(ISBLANK('1-12-1.キャッシュフロー表 現状'!AO41),\"\",'1-12-1.キャッシュフロー表 現状'!AO41)","v":0},{"$f":"IF(ISBLANK('1-12-1.キャッシュフロー表 現状'!AP41),\"\",'1-12-1.キャッシュフロー表 現状'!AP41)","v":0},{"$f":"IF(ISBLANK('1-12-1.キャッシュフロー表 現状'!AQ41),\"\",'1-12-1.キャッシュフロー表 現状'!AQ41)","v":0},{"$f":"IF(ISBLANK('1-12-1.キャッシュフロー表 現状'!AR41),\"\",'1-12-1.キャッシュフロー表 現状'!AR41)","v":0},{"$f":"IF(ISBLANK('1-12-1.キャッシュフロー表 現状'!AS41),\"\",'1-12-1.キャッシュフロー表 現状'!AS41)","v":0},{"$f":"IF(ISBLANK('1-12-1.キャッシュフロー表 現状'!AT41),\"\",'1-12-1.キャッシュフロー表 現状'!AT41)","v":0},{"$f":"IF(ISBLANK('1-12-1.キャッシュフロー表 現状'!AU41),\"\",'1-12-1.キャッシュフロー表 現状'!AU41)","v":0},{"$f":"IF(ISBLANK('1-12-1.キャッシュフロー表 現状'!AV41),\"\",'1-12-1.キャッシュフロー表 現状'!AV41)","v":0},{"$f":"IF(ISBLANK('1-12-1.キャッシュフロー表 現状'!AW41),\"\",'1-12-1.キャッシュフロー表 現状'!AW41)","v":0},{"$f":"IF(ISBLANK('1-12-1.キャッシュフロー表 現状'!AX41),\"\",'1-12-1.キャッシュフロー表 現状'!AX41)","v":0},{"$f":"IF(ISBLANK('1-12-1.キャッシュフロー表 現状'!AY41),\"\",'1-12-1.キャッシュフロー表 現状'!AY41)","v":0},{"$f":"IF(ISBLANK('1-12-1.キャッシュフロー表 現状'!AZ41),\"\",'1-12-1.キャッシュフロー表 現状'!AZ41)","v":0},{"$f":"IF(ISBLANK('1-12-1.キャッシュフロー表 現状'!BA41),\"\",'1-12-1.キャッシュフロー表 現状'!BA41)","v":0},{"$f":"IF(ISBLANK('1-12-1.キャッシュフロー表 現状'!BB41),\"\",'1-12-1.キャッシュフロー表 現状'!BB41)","v":0},{"$f":"IF(ISBLANK('1-12-1.キャッシュフロー表 現状'!BC41),\"\",'1-12-1.キャッシュフロー表 現状'!BC41)","v":0},{"$f":"IF(ISBLANK('1-12-1.キャッシュフロー表 現状'!BD41),\"\",'1-12-1.キャッシュフロー表 現状'!BD41)","v":0},{"$f":"IF(ISBLANK('1-12-1.キャッシュフロー表 現状'!BE41),\"\",'1-12-1.キャッシュフロー表 現状'!BE41)","v":0},{"$f":"IF(ISBLANK('1-12-1.キャッシュフロー表 現状'!BF41),\"\",'1-12-1.キャッシュフロー表 現状'!BF41)","v":0},{"$f":"IF(ISBLANK('1-12-1.キャッシュフロー表 現状'!BG41),\"\",'1-12-1.キャッシュフロー表 現状'!BG41)","v":0},{"$f":"IF(ISBLANK('1-12-1.キャッシュフロー表 現状'!BH41),\"\",'1-12-1.キャッシュフロー表 現状'!BH41)","v":0},{"$f":"IF(ISBLANK('1-12-1.キャッシュフロー表 現状'!BI41),\"\",'1-12-1.キャッシュフロー表 現状'!BI41)","v":0},{"$f":"IF(ISBLANK('1-12-1.キャッシュフロー表 現状'!BJ41),\"\",'1-12-1.キャッシュフロー表 現状'!BJ41)","v":0},{"$f":"IF(ISBLANK('1-12-1.キャッシュフロー表 現状'!BK41),\"\",'1-12-1.キャッシュフロー表 現状'!BK41)","v":0},{"$f":"IF(ISBLANK('1-12-1.キャッシュフロー表 現状'!BL41),\"\",'1-12-1.キャッシュフロー表 現状'!BL41)","v":0},{"$f":"IF(ISBLANK('1-12-1.キャッシュフロー表 現状'!BM41),\"\",'1-12-1.キャッシュフロー表 現状'!BM41)","v":0},{"$f":"IF(ISBLANK('1-12-1.キャッシュフロー表 現状'!BN41),\"\",'1-12-1.キャッシュフロー表 現状'!BN41)","v":0},{"$f":"IF(ISBLANK('1-12-1.キャッシュフロー表 現状'!BO41),\"\",'1-12-1.キャッシュフロー表 現状'!BO41)","v":0},{"$f":"IF(ISBLANK('1-12-1.キャッシュフロー表 現状'!BP41),\"\",'1-12-1.キャッシュフロー表 現状'!BP41)","v":0},{"$f":"IF(ISBLANK('1-12-1.キャッシュフロー表 現状'!BQ41),\"\",'1-12-1.キャッシュフロー表 現状'!BQ41)","v":0},{"$f":"IF(ISBLANK('1-12-1.キャッシュフロー表 現状'!BR41),\"\",'1-12-1.キャッシュフロー表 現状'!BR41)","v":0},{"$f":"IF(ISBLANK('1-12-1.キャッシュフロー表 現状'!BS41),\"\",'1-12-1.キャッシュフロー表 現状'!BS41)","v":0},{"$f":"IF(ISBLANK('1-12-1.キャッシュフロー表 現状'!BT41),\"\",'1-12-1.キャッシュフロー表 現状'!BT41)","v":0},{"$f":"IF(ISBLANK('1-12-1.キャッシュフロー表 現状'!BU41),\"\",'1-12-1.キャッシュフロー表 現状'!BU41)","v":0},{"$f":"IF(ISBLANK('1-12-1.キャッシュフロー表 現状'!BV41),\"\",'1-12-1.キャッシュフロー表 現状'!BV41)","v":0},{"$f":"IF(ISBLANK('1-12-1.キャッシュフロー表 現状'!BW41),\"\",'1-12-1.キャッシュフロー表 現状'!BW41)","v":0},{"$f":"IF(ISBLANK('1-12-1.キャッシュフロー表 現状'!BX41),\"\",'1-12-1.キャッシュフロー表 現状'!BX41)","v":0},{"$f":"IF(ISBLANK('1-12-1.キャッシュフロー表 現状'!BY41),\"\",'1-12-1.キャッシュフロー表 現状'!BY41)","v":0},{"$f":"IF(ISBLANK('1-12-1.キャッシュフロー表 現状'!BZ41),\"\",'1-12-1.キャッシュフロー表 現状'!BZ41)","v":0}]
[null,null,"　　　　 貯蓄残高",null,null,null,null,{"$f":"IF(ISBLANK('1-12-1.キャッシュフロー表 現状'!E42),\"\",'1-12-1.キャッシュフロー表 現状'!E42)","v":0},{"$f":"IF(ISBLANK('1-12-1.キャッシュフロー表 現状'!H42),\"\",'1-12-1.キャッシュフロー表 現状'!H42)","v":0},{"$f":"IF(ISBLANK('1-12-1.キャッシュフロー表 現状'!I42),\"\",'1-12-1.キャッシュフロー表 現状'!I42)","v":0},{"$f":"IF(ISBLANK('1-12-1.キャッシュフロー表 現状'!J42),\"\",'1-12-1.キャッシュフロー表 現状'!J42)","v":0},{"$f":"IF(ISBLANK('1-12-1.キャッシュフロー表 現状'!K42),\"\",'1-12-1.キャッシュフロー表 現状'!K42)","v":0},{"$f":"IF(ISBLANK('1-12-1.キャッシュフロー表 現状'!L42),\"\",'1-12-1.キャッシュフロー表 現状'!L42)","v":0},{"$f":"IF(ISBLANK('1-12-1.キャッシュフロー表 現状'!M42),\"\",'1-12-1.キャッシュフロー表 現状'!M42)","v":0},{"$f":"IF(ISBLANK('1-12-1.キャッシュフロー表 現状'!N42),\"\",'1-12-1.キャッシュフロー表 現状'!N42)","v":0},{"$f":"IF(ISBLANK('1-12-1.キャッシュフロー表 現状'!O42),\"\",'1-12-1.キャッシュフロー表 現状'!O42)","v":0},{"$f":"IF(ISBLANK('1-12-1.キャッシュフロー表 現状'!P42),\"\",'1-12-1.キャッシュフロー表 現状'!P42)","v":0},{"$f":"IF(ISBLANK('1-12-1.キャッシュフロー表 現状'!Q42),\"\",'1-12-1.キャッシュフロー表 現状'!Q42)","v":0},{"$f":"IF(ISBLANK('1-12-1.キャッシュフロー表 現状'!R42),\"\",'1-12-1.キャッシュフロー表 現状'!R42)","v":0},{"$f":"IF(ISBLANK('1-12-1.キャッシュフロー表 現状'!S42),\"\",'1-12-1.キャッシュフロー表 現状'!S42)","v":0},{"$f":"IF(ISBLANK('1-12-1.キャッシュフロー表 現状'!T42),\"\",'1-12-1.キャッシュフロー表 現状'!T42)","v":0},{"$f":"IF(ISBLANK('1-12-1.キャッシュフロー表 現状'!U42),\"\",'1-12-1.キャッシュフロー表 現状'!U42)","v":0},{"$f":"IF(ISBLANK('1-12-1.キャッシュフロー表 現状'!V42),\"\",'1-12-1.キャッシュフロー表 現状'!V42)","v":0},{"$f":"IF(ISBLANK('1-12-1.キャッシュフロー表 現状'!W42),\"\",'1-12-1.キャッシュフロー表 現状'!W42)","v":0},{"$f":"IF(ISBLANK('1-12-1.キャッシュフロー表 現状'!X42),\"\",'1-12-1.キャッシュフロー表 現状'!X42)","v":0},{"$f":"IF(ISBLANK('1-12-1.キャッシュフロー表 現状'!Y42),\"\",'1-12-1.キャッシュフロー表 現状'!Y42)","v":0},{"$f":"IF(ISBLANK('1-12-1.キャッシュフロー表 現状'!Z42),\"\",'1-12-1.キャッシュフロー表 現状'!Z42)","v":0},{"$f":"IF(ISBLANK('1-12-1.キャッシュフロー表 現状'!AA42),\"\",'1-12-1.キャッシュフロー表 現状'!AA42)","v":0},{"$f":"IF(ISBLANK('1-12-1.キャッシュフロー表 現状'!AB42),\"\",'1-12-1.キャッシュフロー表 現状'!AB42)","v":0},{"$f":"IF(ISBLANK('1-12-1.キャッシュフロー表 現状'!AC42),\"\",'1-12-1.キャッシュフロー表 現状'!AC42)","v":0},{"$f":"IF(ISBLANK('1-12-1.キャッシュフロー表 現状'!AD42),\"\",'1-12-1.キャッシュフロー表 現状'!AD42)","v":0},{"$f":"IF(ISBLANK('1-12-1.キャッシュフロー表 現状'!AE42),\"\",'1-12-1.キャッシュフロー表 現状'!AE42)","v":0},{"$f":"IF(ISBLANK('1-12-1.キャッシュフロー表 現状'!AF42),\"\",'1-12-1.キャッシュフロー表 現状'!AF42)","v":0},{"$f":"IF(ISBLANK('1-12-1.キャッシュフロー表 現状'!AG42),\"\",'1-12-1.キャッシュフロー表 現状'!AG42)","v":0},{"$f":"IF(ISBLANK('1-12-1.キャッシュフロー表 現状'!AH42),\"\",'1-12-1.キャッシュフロー表 現状'!AH42)","v":0},{"$f":"IF(ISBLANK('1-12-1.キャッシュフロー表 現状'!AI42),\"\",'1-12-1.キャッシュフロー表 現状'!AI42)","v":0},{"$f":"IF(ISBLANK('1-12-1.キャッシュフロー表 現状'!AJ42),\"\",'1-12-1.キャッシュフロー表 現状'!AJ42)","v":0},{"$f":"IF(ISBLANK('1-12-1.キャッシュフロー表 現状'!AK42),\"\",'1-12-1.キャッシュフロー表 現状'!AK42)","v":0},{"$f":"IF(ISBLANK('1-12-1.キャッシュフロー表 現状'!AL42),\"\",'1-12-1.キャッシュフロー表 現状'!AL42)","v":0},null,null,null,"　　　　 貯蓄残高",null,null,null,null,{"$f":"IF(ISBLANK('1-12-1.キャッシュフロー表 現状'!E42),\"\",'1-12-1.キャッシュフロー表 現状'!E42)","v":0},{"$f":"IF(ISBLANK('1-12-1.キャッシュフロー表 現状'!AM42),\"\",'1-12-1.キャッシュフロー表 現状'!AM42)","v":0},{"$f":"IF(ISBLANK('1-12-1.キャッシュフロー表 現状'!AN42),\"\",'1-12-1.キャッシュフロー表 現状'!AN42)","v":0},{"$f":"IF(ISBLANK('1-12-1.キャッシュフロー表 現状'!AO42),\"\",'1-12-1.キャッシュフロー表 現状'!AO42)","v":0},{"$f":"IF(ISBLANK('1-12-1.キャッシュフロー表 現状'!AP42),\"\",'1-12-1.キャッシュフロー表 現状'!AP42)","v":0},{"$f":"IF(ISBLANK('1-12-1.キャッシュフロー表 現状'!AQ42),\"\",'1-12-1.キャッシュフロー表 現状'!AQ42)","v":0},{"$f":"IF(ISBLANK('1-12-1.キャッシュフロー表 現状'!AR42),\"\",'1-12-1.キャッシュフロー表 現状'!AR42)","v":0},{"$f":"IF(ISBLANK('1-12-1.キャッシュフロー表 現状'!AS42),\"\",'1-12-1.キャッシュフロー表 現状'!AS42)","v":0},{"$f":"IF(ISBLANK('1-12-1.キャッシュフロー表 現状'!AT42),\"\",'1-12-1.キャッシュフロー表 現状'!AT42)","v":0},{"$f":"IF(ISBLANK('1-12-1.キャッシュフロー表 現状'!AU42),\"\",'1-12-1.キャッシュフロー表 現状'!AU42)","v":0},{"$f":"IF(ISBLANK('1-12-1.キャッシュフロー表 現状'!AV42),\"\",'1-12-1.キャッシュフロー表 現状'!AV42)","v":0},{"$f":"IF(ISBLANK('1-12-1.キャッシュフロー表 現状'!AW42),\"\",'1-12-1.キャッシュフロー表 現状'!AW42)","v":0},{"$f":"IF(ISBLANK('1-12-1.キャッシュフロー表 現状'!AX42),\"\",'1-12-1.キャッシュフロー表 現状'!AX42)","v":0},{"$f":"IF(ISBLANK('1-12-1.キャッシュフロー表 現状'!AY42),\"\",'1-12-1.キャッシュフロー表 現状'!AY42)","v":0},{"$f":"IF(ISBLANK('1-12-1.キャッシュフロー表 現状'!AZ42),\"\",'1-12-1.キャッシュフロー表 現状'!AZ42)","v":0},{"$f":"IF(ISBLANK('1-12-1.キャッシュフロー表 現状'!BA42),\"\",'1-12-1.キャッシュフロー表 現状'!BA42)","v":0},{"$f":"IF(ISBLANK('1-12-1.キャッシュフロー表 現状'!BB42),\"\",'1-12-1.キャッシュフロー表 現状'!BB42)","v":0},{"$f":"IF(ISBLANK('1-12-1.キャッシュフロー表 現状'!BC42),\"\",'1-12-1.キャッシュフロー表 現状'!BC42)","v":0},{"$f":"IF(ISBLANK('1-12-1.キャッシュフロー表 現状'!BD42),\"\",'1-12-1.キャッシュフロー表 現状'!BD42)","v":0},{"$f":"IF(ISBLANK('1-12-1.キャッシュフロー表 現状'!BE42),\"\",'1-12-1.キャッシュフロー表 現状'!BE42)","v":0},{"$f":"IF(ISBLANK('1-12-1.キャッシュフロー表 現状'!BF42),\"\",'1-12-1.キャッシュフロー表 現状'!BF42)","v":0},{"$f":"IF(ISBLANK('1-12-1.キャッシュフロー表 現状'!BG42),\"\",'1-12-1.キャッシュフロー表 現状'!BG42)","v":0},{"$f":"IF(ISBLANK('1-12-1.キャッシュフロー表 現状'!BH42),\"\",'1-12-1.キャッシュフロー表 現状'!BH42)","v":0},{"$f":"IF(ISBLANK('1-12-1.キャッシュフロー表 現状'!BI42),\"\",'1-12-1.キャッシュフロー表 現状'!BI42)","v":0},{"$f":"IF(ISBLANK('1-12-1.キャッシュフロー表 現状'!BJ42),\"\",'1-12-1.キャッシュフロー表 現状'!BJ42)","v":0},{"$f":"IF(ISBLANK('1-12-1.キャッシュフロー表 現状'!BK42),\"\",'1-12-1.キャッシュフロー表 現状'!BK42)","v":0},{"$f":"IF(ISBLANK('1-12-1.キャッシュフロー表 現状'!BL42),\"\",'1-12-1.キャッシュフロー表 現状'!BL42)","v":0},{"$f":"IF(ISBLANK('1-12-1.キャッシュフロー表 現状'!BM42),\"\",'1-12-1.キャッシュフロー表 現状'!BM42)","v":0},{"$f":"IF(ISBLANK('1-12-1.キャッシュフロー表 現状'!BN42),\"\",'1-12-1.キャッシュフロー表 現状'!BN42)","v":0},{"$f":"IF(ISBLANK('1-12-1.キャッシュフロー表 現状'!BO42),\"\",'1-12-1.キャッシュフロー表 現状'!BO42)","v":0},{"$f":"IF(ISBLANK('1-12-1.キャッシュフロー表 現状'!BP42),\"\",'1-12-1.キャッシュフロー表 現状'!BP42)","v":0},{"$f":"IF(ISBLANK('1-12-1.キャッシュフロー表 現状'!BQ42),\"\",'1-12-1.キャッシュフロー表 現状'!BQ42)","v":0},{"$f":"IF(ISBLANK('1-12-1.キャッシュフロー表 現状'!BR42),\"\",'1-12-1.キャッシュフロー表 現状'!BR42)","v":0},{"$f":"IF(ISBLANK('1-12-1.キャッシュフロー表 現状'!BS42),\"\",'1-12-1.キャッシュフロー表 現状'!BS42)","v":0},{"$f":"IF(ISBLANK('1-12-1.キャッシュフロー表 現状'!BT42),\"\",'1-12-1.キャッシュフロー表 現状'!BT42)","v":0},{"$f":"IF(ISBLANK('1-12-1.キャッシュフロー表 現状'!BU42),\"\",'1-12-1.キャッシュフロー表 現状'!BU42)","v":0},{"$f":"IF(ISBLANK('1-12-1.キャッシュフロー表 現状'!BV42),\"\",'1-12-1.キャッシュフロー表 現状'!BV42)","v":0},{"$f":"IF(ISBLANK('1-12-1.キャッシュフロー表 現状'!BW42),\"\",'1-12-1.キャッシュフロー表 現状'!BW42)","v":0},{"$f":"IF(ISBLANK('1-12-1.キャッシュフロー表 現状'!BX42),\"\",'1-12-1.キャッシュフロー表 現状'!BX42)","v":0},{"$f":"IF(ISBLANK('1-12-1.キャッシュフロー表 現状'!BY42),\"\",'1-12-1.キャッシュフロー表 現状'!BY42)","v":0},{"$f":"IF(ISBLANK('1-12-1.キャッシュフロー表 現状'!BZ42),\"\",'1-12-1.キャッシュフロー表 現状'!BZ42)","v":0}]

{"sheet":"2-10.現在の年間収支と貯蓄残高の推移","index":22,"n_rows":28,"n_cols":114,"rows_kept":28,"cut":false,"hidden":false,"merged":[[5,3,19,37],[25,3,39,37]]}
[]
[]
[null,null,"現在の年間収支と貯蓄残高の推移"]
[]
[null,null,null,null,null,null,null,null,null,null,null,null,null,null,null,null,null,null,null,null,null,null,null,null,null,null,null,null,null,null,null,null,null,null,null,null,null,null,null,null,null,null,null,"[貯蓄残高]"]
[null,null,null,"グラフの出力中です",null,null,null,null,null,null,null,null,null,null,null,null,null,null,null,null,null,null,null,null,null,null,null,null,null,null,null,null,null,null,null,null,null,null,null,null,null,null,"西暦",{"$f":"IF(ISBLANK('1-12-1.キャッシュフロー表 現状'!$H$11),\"\",'1-12-1.キャッシュフロー表 現状'!$H$11)","v":""},{"$f":"IF(ISBLANK('1-12-1.キャッシュフロー表 現状'!$I$11),\"\",'1-12-1.キャッシュフロー表 現状'!$I$11)","v":""},{"$f":"IF(ISBLANK('1-12-1.キャッシュフロー表 現状'!$J$11),\"\",'1-12-1.キャッシュフロー表 現状'!$J$11)","v":""},{"$f":"IF(ISBLANK('1-12-1.キャッシュフロー表 現状'!$K$11),\"\",'1-12-1.キャッシュフロー表 現状'!$K$11)","v":""},{"$f":"IF(ISBLANK('1-12-1.キャッシュフロー表 現状'!$L$11),\"\",'1-12-1.キャッシュフロー表 現状'!$L$11)","v":""},{"$f":"IF(ISBLANK('1-12-1.キャッシュフロー表 現状'!$M$11),\"\",'1-12-1.キャッシュフロー表 現状'!$M$11)","v":""},{"$f":"IF(ISBLANK('1-12-1.キャッシュフロー表 現状'!$N$11),\"\",'1-12-1.キャッシュフロー表 現状'!$N$11)","v":""},{"$f":"IF(ISBLANK('1-12-1.キャッシュフロー表 現状'!$O$11),\"\",'1-12-1.キャッシュフロー表 現状'!$O$11)","v":""},{"$f":"IF(ISBLANK('1-12-1.キャッシュフロー表 現状'!$P$11),\"\",'1-12-1.キャッシュフロー表 現状'!$P$11)","v":""},{"$f":"IF(ISBLANK('1-12-1.キャッシュフロー表 現状'!$Q$11),\"\",'1-12-1.キャッシュフロー表 現状'!$Q$11)","v":""},{"$f":"IF(ISBLANK('1-12-1.キャッシュフロー表 現状'!$R$11),\"\",'1-12-1.キャッシュフロー表 現状'!$R$11)","v":""},{"$f":"IF(ISBLANK('1-12-1.キャッシュフロー表 現状'!$S$11),\"\",'1-12-1.キャッシュフロー表 現状'!$S$11)","v":""},{"$f":"IF(ISBLANK('1-12-1.キャッシュフロー表 現状'!$T$11),\"\",'1-12-1.キャッシュフロー表 現状'!$T$11)","v":""},{"$f":"IF(ISBLANK('1-12-1.キャッシュフロー表 現状'!$U$11),\"\",'1-12-1.キャッシュフロー表 現状'!$U$11)","v":""},{"$f":"IF(ISBLANK('1-12-1.キャッシュフロー表 現状'!$V$11),\"\",'1-12-1.キャッシュフロー表 現状'!$V$11)","v":""},{"$f":"IF(ISBLANK('1-12-1.キャッシュフロー表 現状'!$W$11),\"\",'1-12-1.キャッシュフロー表 現状'!$W$11)","v":""},{"$f":"IF(ISBLANK('1-12-1.キャッシュフロー表 現状'!$X$11),\"\",'1-12-1.キャッシュフロー表 現状'!$X$11)","v":""},{"$f":"IF(ISBLANK('1-12-1.キャッシュフロー表 現状'!$Y$11),\"\",'1-12-1.キャッシュフロー表 現状'!$Y$11)","v":""},{"$f":"IF(ISBLANK('1-12-1.キャッシュフロー表 現状'!$Z$11),\"\",'1-12-1.キャッシュフロー表 現状'!$Z$11)","v":""},{"$f":"IF(ISBLANK('1-12-1.キャッシュフロー表 現状'!$AA$11),\"\",'1-12-1.キャッシュフロー表 現状'!$AA$11)","v":""},{"$f":"IF(ISBLANK('1-12-1.キャッシュフロー表 現状'!$AB$11),\"\",'1-12-1.キャッシュフロー表 現状'!$AB$11)","v":""},{"$f":"IF(ISBLANK('1-12-1.キャッシュフロー表 現状'!$AC$11),\"\",'1-12-1.キャッシュフロー表 現状'!$AC$11)","v":""},{"$f":"IF(ISBLANK('1-12-1.キャッシュフロー表 現状'!$AD$11),\"\",'1-12-1.キャッシュフロー表 現状'!$AD$11)","v":""},{"$f":"IF(ISBLANK('1-12-1.キャッシュフロー表 現状'!$AE$11),\"\",'1-12-1.キャッシュフロー表 現状'!$AE$11)","v":""},{"$f":"IF(ISBLANK('1-12-1.キャッシュフロー表 現状'!$AF$11),\"\",'1-12-1.キャッシュフロー表 現状'!$AF$11)","v":""},{"$f":"IF(ISBLANK('1-12-1.キャッシュフロー表 現状'!$AG$11),\"\",'1-12-1.キャッシュフロー表 現状'!$AG$11)","v":""},{"$f":"IF(ISBLANK('1-12-1.キャッシュフロー表 現状'!$AH$11),\"\",'1-12-1.キャッシュフロー表 現状'!$AH$11)","v":""},{"$f":"IF(ISBLANK('1-12-1.キャッシュフロー表 現状'!$AI$11),\"\",'1-12-1.キャッシュフロー表 現状'!$AI$11)","v":""},{"$f":"IF(ISBLANK('1-12-1.キャッシュフロー表 現状'!$AJ$11),\"\",'1-12-1.キャッシュフロー表 現状'!$AJ$11)","v":""},{"$f":"IF(ISBLANK('1-12-1.キャッシュフロー表 現状'!$AK$11),\"\",'1-12-1.キャッシュフロー表 現状'!$AK$11)","v":""},{"$f":"IF(ISBLANK('1-12-1.キャッシュフロー表 現状'!$AL$11),\"\",'1-12-1.キャッシュフロー表 現状'!$AL$11)","v":""},{"$f":"IF(ISBLANK('1-12-1.キャッシュフロー表 現状'!$AM$11),\"\",'1-12-1.キャッシュフロー表 現状'!$AM$11)","v":""},{"$f":"IF(ISBLANK('1-12-1.キャッシュフロー表 現状'!$AN$11),\"\",'1-12-1.キャッシュフロー表 現状'!$AN$11)","v":""},{"$f":"IF(ISBLANK('1-12-1.キャッシュフロー表 現状'!$AO$11),\"\",'1-12-1.キャッシュフロー表 現状'!$AO$11)","v":""},{"$f":"IF(ISBLANK('1-12-1.キャッシュフロー表 現状'!$AP$11),\"\",'1-12-1.キャッシュフロー表 現状'!$AP$11)","v":""},{"$f":"IF(ISBLANK('1-12-1.キャッシュフロー表 現状'!$AQ$11),\"\",'1-12-1.キャッシュフロー表 現状'!$AQ$11)","v":""},{"$f":"IF(ISBLANK('1-12-1.キャッシュフロー表 現状'!$AR$11),\"\",'1-12-1.キャッシュフロー表 現状'!$AR$11)","v":""},{"$f":"IF(ISBLANK('1-12-1.キャッシュフロー表 現状'!$AS$11),\"\",'1-12-1.キャッシュフロー表 現状'!$AS$11)","v":""},{"$f":"IF(ISBLANK('1-12-1.キャッシュフロー表 現状'!$AT$11),\"\",'1-12-1.キャッシュフロー表 現状'!$AT$11)","v":""},{"$f":"IF(ISBLANK('1-12-1.キャッシュフロー表 現状'!$AU$11),\"\",'1-12-1.キャッシュフロー表 現状'!$AU$11)","v":""},{"$f":"IF(ISBLANK('1-12-1.キャッシュフロー表 現状'!$AV$11),\"\",'1-12-1.キャッシュフロー表 現状'!$AV$11)","v":""},{"$f":"IF(ISBLANK('1-12-1.キャッシュフロー表 現状'!$AW$11),\"\",'1-12-1.キャッシュフロー表 現状'!$AW$11)","v":""},{"$f":"IF(ISBLANK('1-12-1.キャッシュフロー表 現状'!$AX$11),\"\",'1-12-1.キャッシュフロー表 現状'!$AX$11)","v":""},{"$f":"IF(ISBLANK('1-12-1.キャッシュフロー表 現状'!$AY$11),\"\",'1-12-1.キャッシュフロー表 現状'!$AY$11)","v":""},{"$f":"IF(ISBLANK('1-12-1.キャッシュフロー表 現状'!$AZ$11),\"\",'1-12-1.キャッシュフロー表 現状'!$AZ$11)","v":""},{"$f":"IF(ISBLANK('1-12-1.キャッシュフロー表 現状'!$BA$11),\"\",'1-12-1.キャッシュフロー表 現状'!$BA$11)","v":""},{"$f":"IF(ISBLANK('1-12-1.キャッシュフロー表 現状'!$BB$11),\"\",'1-12-1.キャッシュフロー表 現状'!$BB$11)","v":""},{"$f":"IF(ISBLANK('1-12-1.キャッシュフロー表 現状'!$BC$11),\"\",'1-12-1.キャッシュフロー表 現状'!$BC$11)","v":""},{"$f":"IF(ISBLANK('1-12-1.キャッシュフロー表 現状'!$BD$11),\"\",'1-12-1.キャッシュフロー表 現状'!$BD$11)","v":""},{"$f":"IF(ISBLANK('1-12-1.キャッシュフロー表 現状'!$BE$11),\"\",'1-12-1.キャッシュフロー表 現状'!$BE$11)","v":""},{"$f":"IF(ISBLANK('1-12-1.キャッシュフロー表 現状'!$BF$11),\"\",'1-12-1.キャッシュフロー表 現状'!$BF$11)","v":""},{"$f":"IF(ISBLANK('1-12-1.キャッシュフロー表 現状'!$BG$11),\"\",'1-12-1.キャッシュフロー表 現状'!$BG$11)","v":""},{"$f":"IF(ISBLANK('1-12-1.キャッシュフロー表 現状'!$BH$11),\"\",'1-12-1.キャッシュフロー表 現状'!$BH$11)","v":""},{"$f":"IF(ISBLANK('1-12-1.キャッシュフロー表 現状'!$BI$11),\"\",'1-12-1.キャッシュフロー表 現状'!$BI$11)","v":""},{"$f":"IF(ISBLANK('1-12-1.キャッシュフロー表 現状'!$BJ$11),\"\",'1-12-1.キャッシュフロー表 現状'!$BJ$11)","v":""},{"$f":"IF(ISBLANK('1-12-1.キャッシュフロー表 現状'!$BK$11),\"\",'1-12-1.キャッシュフロー表 現状'!$BK$11)","v":""},{"$f":"IF(ISBLANK('1-12-1.キャッシュフロー表 現状'!$BL$11),\"\",'1-12-1.キャッシュフロー表 現状'!$BL$11)","v":""},{"$f":"IF(ISBLANK('1-12-1.キャッシュフロー表 現状'!$BM$11),\"\",'1-12-1.キャッシュフロー表 現状'!$BM$11)","v":""},{"$f":"IF(ISBLANK('1-12-1.キャッシュフロー表 現状'!$BN$11),\"\",'1-12-1.キャッシュフロー表 現状'!$BN$11)","v":""},{"$f":"IF(ISBLANK('1-12-1.キャッシュフロー表 現状'!$BO$11),\"\",'1-12-1.キャッシュフロー表 現状'!$BO$11)","v":""},{"$f":"IF(ISBLANK('1-12-1.キャッシュフロー表 現状'!$BP$11),\"\",'1-12-1.キャッシュフロー表 現状'!$BP$11)","v":""},{"$f":"IF(ISBLANK('1-12-1.キャッシュフロー表 現状'!$BQ$11),\"\",'1-12-1.キャッシュフロー表 現状'!$BQ$11)","v":""},{"$f":"IF(ISBLANK('1-12-1.キャッシュフロー表 現状'!$BR$11),\"\",'1-12-1.キャッシュフロー表 現状'!$BR$11)","v":""},{"$f":"IF(ISBLANK('1-12-1.キャッシュフロー表 現状'!$BS$11),\"\",'1-12-1.キャッシュフロー表 現状'!$BS$11)","v":""},{"$f":"IF(ISBLANK('1-12-1.キャッシュフロー表 現状'!$BT$11),\"\",'1-12-1.キャッシュフロー表 現状'!$BT$11)","v":""},{"$f":"IF(ISBLANK('1-12-1.キャッシュフロー表 現状'!$BU$11),\"\",'1-12-1.キャッシュフロー表 現状'!$BU$11)","v":""},{"$f":"IF(ISBLANK('1-12-1.キャッシュフロー表 現状'!$BV$11),\"\",'1-12-1.キャッシュフロー表 現状'!$BV$11)","v":""},{"$f":"IF(ISBLANK('1-12-1.キャッシュフロー表 現状'!$BW$11),\"\",'1-12-1.キャッシュフロー表 現状'!$BW$11)","v":""},{"$f":"IF(ISBLANK('1-12-1.キャッシュフロー表 現状'!$BX$11),\"\",'1-12-1.キャッシュフロー表 現状'!$BX$11)","v":""},{"$f":"IF(ISBLANK('1-12-1.キャッシュフロー表 現状'!$BY$11),\"\",'1-12-1.キャッシュフロー表 現状'!$BY$11)","v":""},{"$f":"IF(ISBLANK('1-12-1.キャッシュフロー表 現状'!$BZ$11),\"\",'1-12-1.キャッシュフロー表 現状'!$BZ$11)","v":""}]
[null,null,null,null,null,null,null,null,null,null,null,null,null,null,null,null,null,null,null,null,null,null,null,null,null,null,null,null,null,null,null,null,null,null,null,null,null,null,null,null,null,null,"西暦（下2桁）",{"$f":"IF(TRIM(AR6)=\"\",\"\",\"'\"&RIGHT(AR6,2))","v":""},"","","","","","","","","","","","","","","","","","","","","","","","","","","","","","",{"$f":"IF(TRIM(BW6)=\"\",\"\",\"'\"&RIGHT(BW6,2))","v":""},"","","","","","","","","","","","","","","","","","","","","","","","","","","","","",{"$f":"IF(TRIM(DA6)=\"\",\"\",\"'\"&RIGHT(DA6,2))","v":""},"","","","",{"$f":"IF(TRIM(DF6)=\"\",\"\",\"'\"&RIGHT(DF6,2))","v":""},"","","",""]
[null,null,null,null,null,null,null,null,null,null,null,null,null,null,null,null,null,null,null,null,null,null,null,null,null,null,null,null,null,null,null,null,null,null,null,null,null,null,null,null,null,null,"貯蓄残高",{"$f":"IF(ISBLANK('1-12-1.キャッシュフロー表 現状'!$H$42),0,'1-12-1.キャッシュフロー表 現状'!$H$42)","v":0},{"$f":"IF(ISBLANK('1-12-1.キャッシュフロー表 現状'!$I$42),0,'1-12-1.キャッシュフロー表 現状'!$I$42)","v":0},{"$f":"IF(ISBLANK('1-12-1.キャッシュフロー表 現状'!$J$42),0,'1-12-1.キャッシュフロー表 現状'!$J$42)","v":0},{"$f":"IF(ISBLANK('1-12-1.キャッシュフロー表 現状'!$K$42),0,'1-12-1.キャッシュフロー表 現状'!$K$42)","v":0},{"$f":"IF(ISBLANK('1-12-1.キャッシュフロー表 現状'!$L$42),0,'1-12-1.キャッシュフロー表 現状'!$L$42)","v":0},{"$f":"IF(ISBLANK('1-12-1.キャッシュフロー表 現状'!$M$42),0,'1-12-1.キャッシュフロー表 現状'!$M$42)","v":0},{"$f":"IF(ISBLANK('1-12-1.キャッシュフロー表 現状'!$N$42),0,'1-12-1.キャッシュフロー表 現状'!$N$42)","v":0},{"$f":"IF(ISBLANK('1-12-1.キャッシュフロー表 現状'!$O$42),0,'1-12-1.キャッシュフロー表 現状'!$O$42)","v":0},{"$f":"IF(ISBLANK('1-12-1.キャッシュフロー表 現状'!$P$42),0,'1-12-1.キャッシュフロー表 現状'!$P$42)","v":0},{"$f":"IF(ISBLANK('1-12-1.キャッシュフロー表 現状'!$Q$42),0,'1-12-1.キャッシュフロー表 現状'!$Q$42)","v":0},{"$f":"IF(ISBLANK('1-12-1.キャッシュフロー表 現状'!$R$42),0,'1-12-1.キャッシュフロー表 現状'!$R$42)","v":0},{"$f":"IF(ISBLANK('1-12-1.キャッシュフロー表 現状'!$S$42),0,'1-12-1.キャッシュフロー表 現状'!$S$42)","v":0},{"$f":"IF(ISBLANK('1-12-1.キャッシュフロー表 現状'!$T$42),0,'1-12-1.キャッシュフロー表 現状'!$T$42)","v":0},{"$f":"IF(ISBLANK('1-12-1.キャッシュフロー表 現状'!$U$42),0,'1-12-1.キャッシュフロー表 現状'!$U$42)","v":0},{"$f":"IF(ISBLANK('1-12-1.キャッシュフロー表 現状'!$V$42),0,'1-12-1.キャッシュフロー表 現状'!$V$42)","v":0},{"$f":"IF(ISBLANK('1-12-1.キャッシュフロー表 現状'!$W$42),0,'1-12-1.キャッシュフロー表 現状'!$W$42)","v":0},{"$f":"IF(ISBLANK('1-12-1.キャッシュフロー表 現状'!$X$42),0,'1-12-1.キャッシュフロー表 現状'!$X$42)","v":0},{"$f":"IF(ISBLANK('1-12-1.キャッシュフロー表 現状'!$Y$42),0,'1-12-1.キャッシュフロー表 現状'!$Y$42)","v":0},{"$f":"IF(ISBLANK('1-12-1.キャッシュフロー表 現状'!$Z$42),0,'1-12-1.キャッシュフロー表 現状'!$Z$42)","v":0},{"$f":"IF(ISBLANK('1-12-1.キャッシュフロー表 現状'!$AA$42),0,'1-12-1.キャッシュフロー表 現状'!$AA$42)","v":0},{"$f":"IF(ISBLANK('1-12-1.キャッシュフロー表 現状'!$AB$42),0,'1-12-1.キャッシュフロー表 現状'!$AB$42)","v":0},{"$f":"IF(ISBLANK('1-12-1.キャッシュフロー表 現状'!$AC$42),0,'1-12-1.キャッシュフロー表 現状'!$AC$42)","v":0},{"$f":"IF(ISBLANK('1-12-1.キャッシュフロー表 現状'!$AD$42),0,'1-12-1.キャッシュフロー表 現状'!$AD$42)","v":0},{"$f":"IF(ISBLANK('1-12-1.キャッシュフロー表 現状'!$AE$42),0,'1-12-1.キャッシュフロー表 現状'!$AE$42)","v":0},{"$f":"IF(ISBLANK('1-12-1.キャッシュフロー表 現状'!$AF$42),0,'1-12-1.キャッシュフロー表 現状'!$AF$42)","v":0},{"$f":"IF(ISBLANK('1-12-1.キャッシュフロー表 現状'!$AG$42),0,'1-12-1.キャッシュフロー表 現状'!$AG$42)","v":0},{"$f":"IF(ISBLANK('1-12-1.キャッシュフロー表 現状'!$AH$42),0,'1-12-1.キャッシュフロー表 現状'!$AH$42)","v":0},{"$f":"IF(ISBLANK('1-12-1.キャッシュフロー表 現状'!$AI$42),0,'1-12-1.キャッシュフロー表 現状'!$AI$42)","v":0},{"$f":"IF(ISBLANK('1-12-1.キャッシュフロー表 現状'!$AJ$42),0,'1-12-1.キャッシュフロー表 現状'!$AJ$42)","v":0},{"$f":"IF(ISBLANK('1-12-1.キャッシュフロー表 現状'!$AK$42),0,'1-12-1.キャッシュフロー表 現状'!$AK$42)","v":0},{"$f":"IF(ISBLANK('1-12-1.キャッシュフロー表 現状'!$AL$42),0,'1-12-1.キャッシュフロー表 現状'!$AL$42)","v":0},{"$f":"IF(ISBLANK('1-12-1.キャッシュフロー表 現状'!$AM$42),0,'1-12-1.キャッシュフロー表 現状'!$AM$42)","v":0},{"$f":"IF(ISBLANK('1-12-1.キャッシュフロー表 現状'!$AN$42),0,'1-12-1.キャッシュフロー表 現状'!$AN$42)","v":0},{"$f":"IF(ISBLANK('1-12-1.キャッシュフロー表 現状'!$AO$42),0,'1-12-1.キャッシュフロー表 現状'!$AO$42)","v":0},{"$f":"IF(ISBLANK('1-12-1.キャッシュフロー表 現状'!$AP$42),0,'1-12-1.キャッシュフロー表 現状'!$AP$42)","v":0},{"$f":"IF(ISBLANK('1-12-1.キャッシュフロー表 現状'!$AQ$42),0,'1-12-1.キャッシュフロー表 現状'!$AQ$42)","v":0},{"$f":"IF(ISBLANK('1-12-1.キャッシュフロー表 現状'!$AR$42),0,'1-12-1.キャッシュフロー表 現状'!$AR$42)","v":0},{"$f":"IF(ISBLANK('1-12-1.キャッシュフロー表 現状'!$AS$42),0,'1-12-1.キャッシュフロー表 現状'!$AS$42)","v":0},{"$f":"IF(ISBLANK('1-12-1.キャッシュフロー表 現状'!$AT$42),0,'1-12-1.キャッシュフロー表 現状'!$AT$42)","v":0},{"$f":"IF(ISBLANK('1-12-1.キャッシュフロー表 現状'!$AU$42),0,'1-12-1.キャッシュフロー表 現状'!$AU$42)","v":0},{"$f":"IF(ISBLANK('1-12-1.キャッシュフロー表 現状'!$AV$42),0,'1-12-1.キャッシュフロー表 現状'!$AV$42)","v":0},{"$f":"IF(ISBLANK('1-12-1.キャッシュフロー表 現状'!$AW$42),0,'1-12-1.キャッシュフロー表 現状'!$AW$42)","v":0},{"$f":"IF(ISBLANK('1-12-1.キャッシュフロー表 現状'!$AX$42),0,'1-12-1.キャッシュフロー表 現状'!$AX$42)","v":0},{"$f":"IF(ISBLANK('1-12-1.キャッシュフロー表 現状'!$AY$42),0,'1-12-1.キャッシュフロー表 現状'!$AY$42)","v":0},{"$f":"IF(ISBLANK('1-12-1.キャッシュフロー表 現状'!$AZ$42),0,'1-12-1.キャッシュフロー表 現状'!$AZ$42)","v":0},{"$f":"IF(ISBLANK('1-12-1.キャッシュフロー表 現状'!$BA$42),0,'1-12-1.キャッシュフロー表 現状'!$BA$42)","v":0},{"$f":"IF(ISBLANK('1-12-1.キャッシュフロー表 現状'!$BB$42),0,'1-12-1.キャッシュフロー表 現状'!$BB$42)","v":0},{"$f":"IF(ISBLANK('1-12-1.キャッシュフロー表 現状'!$BC$42),0,'1-12-1.キャッシュフロー表 現状'!$BC$42)","v":0},{"$f":"IF(ISBLANK('1-12-1.キャッシュフロー表 現状'!$BD$42),0,'1-12-1.キャッシュフロー表 現状'!$BD$42)","v":0},{"$f":"IF(ISBLANK('1-12-1.キャッシュフロー表 現状'!$BE$42),0,'1-12-1.キャッシュフロー表 現状'!$BE$42)","v":0},{"$f":"IF(ISBLANK('1-12-1.キャッシュフロー表 現状'!$BF$42),0,'1-12-1.キャッシュフロー表 現状'!$BF$42)","v":0},{"$f":"IF(ISBLANK('1-12-1.キャッシュフロー表 現状'!$BG$42),0,'1-12-1.キャッシュフロー表 現状'!$BG$42)","v":0},{"$f":"IF(ISBLANK('1-12-1.キャッシュフロー表 現状'!$BH$42),0,'1-12-1.キャッシュフロー表 現状'!$BH$42)","v":0},{"$f":"IF(ISBLANK('1-12-1.キャッシュフロー表 現状'!$BI$42),0,'1-12-1.キャッシュフロー表 現状'!$BI$42)","v":0},{"$f":"IF(ISBLANK('1-12-1.キャッシュフロー表 現状'!$BJ$42),0,'1-12-1.キャッシュフロー表 現状'!$BJ$42)","v":0},{"$f":"IF(ISBLANK('1-12-1.キャッシュフロー表 現状'!$BK$42),0,'1-12-1.キャッシュフロー表 現状'!$BK$42)","v":0},{"$f":"IF(ISBLANK('1-12-1.キャッシュフロー表 現状'!$BL$42),0,'1-12-1.キャッシュフロー表 現状'!$BL$42)","v":0},{"$f":"IF(ISBLANK('1-12-1.キャッシュフロー表 現状'!$BM$42),0,'1-12-1.キャッシュフロー表 現状'!$BM$42)","v":0},{"$f":"IF(ISBLANK('1-12-1.キャッシュフロー表 現状'!$BN$42),0,'1-12-1.キャッシュフロー表 現状'!$BN$42)","v":0},{"$f":"IF(ISBLANK('1-12-1.キャッシュフロー表 現状'!$BO$42),0,'1-12-1.キャッシュフロー表 現状'!$BO$42)","v":0},{"$f":"IF(ISBLANK('1-12-1.キャッシュフロー表 現状'!$BP$42),0,'1-12-1.キャッシュフロー表 現状'!$BP$42)","v":0},{"$f":"IF(ISBLANK('1-12-1.キャッシュフロー表 現状'!$BQ$42),0,'1-12-1.キャッシュフロー表 現状'!$BQ$42)","v":0},{"$f":"IF(ISBLANK('1-12-1.キャッシュフロー表 現状'!$BR$42),0,'1-12-1.キャッシュフロー表 現状'!$BR$42)","v":0},{"$f":"IF(ISBLANK('1-12-1.キャッシュフロー表 現状'!$BS$42),0,'1-12-1.キャッシュフロー表 現状'!$BS$42)","v":0},{"$f":"IF(ISBLANK('1-12-1.キャッシュフロー表 現状'!$BT$42),0,'1-12-1.キャッシュフロー表 現状'!$BT$42)","v":0},{"$f":"IF(ISBLANK('1-12-1.キャッシュフロー表 現状'!$BU$42),0,'1-12-1.キャッシュフロー表 現状'!$BU$42)","v":0},{"$f":"IF(ISBLANK('1-12-1.キャッシュフロー表 現状'!$BV$42),0,'1-12-1.キャッシュフロー表 現状'!$BV$42)","v":0},{"$f":"IF(ISBLANK('1-12-1.キャッシュフロー表 現状'!$BW$42),0,'1-12-1.キャッシュフロー表 現状'!$BW$42)","v":0},{"$f":"IF(ISBLANK('1-12-1.キャッシュフロー表 現状'!$BX$42),0,'1-12-1.キャッシュフロー表 現状'!$BX$42)","v":0},{"$f":"IF(ISBLANK('1-12-1.キャッシュフロー表 現状'!$BY$42),0,'1-12-1.キャッシュフロー表 現状'!$BY$42)","v":0},{"$f":"IF(ISBLANK('1-12-1.キャッシュフロー表 現状'!$BZ$42),0,'1-12-1.キャッシュフロー表 現状'!$BZ$42)","v":0}]
[]
[]
[]
[]
[]
[]
[]
[]
[]
[]
[]
[]
[]
[]
[]
[]
[null,null,null,null,null,null,null,null,null,null,null,null,null,null,null,null,null,null,null,null,null,null,null,null,null,null,null,null,null,null,null,null,null,null,null,null,null,null,null,null,null,null,null,"[単年ごとの収入と支出]"]
[null,null,null,"グラフの出力中です",null,null,null,null,null,null,null,null,null,null,null,null,null,null,null,null,null,null,null,null,null,null,null,null,null,null,null,null,null,null,null,null,null,null,null,null,null,null,"西暦（下2桁）",{"$f":"AR7","v":""},"","","","","","","","","","","","","","","","","","","","","","","","","","","","","","",{"$f":"BW7","v":""},"","","","","","","","","","","","","","","","","","","","","","","","","","","","","",{"$f":"DA7","v":""},"","","","",{"$f":"DF7","v":""},"","","",""]
[null,null,null,null,null,null,null,null,null,null,null,null,null,null,null,null,null,null,null,null,null,null,null,null,null,null,null,null,null,null,null,null,null,null,null,null,null,null,null,null,null,null,"収入合計",{"$f":"IF(ISBLANK('1-12-1.キャッシュフロー表 現状'!$H$30),0,'1-12-1.キャッシュフロー表 現状'!$H$30)","v":0},{"$f":"IF(ISBLANK('1-12-1.キャッシュフロー表 現状'!$I$30),0,'1-12-1.キャッシュフロー表 現状'!$I$30)","v":0},{"$f":"IF(ISBLANK('1-12-1.キャッシュフロー表 現状'!$J$30),0,'1-12-1.キャッシュフロー表 現状'!$J$30)","v":0},{"$f":"IF(ISBLANK('1-12-1.キャッシュフロー表 現状'!$K$30),0,'1-12-1.キャッシュフロー表 現状'!$K$30)","v":0},{"$f":"IF(ISBLANK('1-12-1.キャッシュフロー表 現状'!$L$30),0,'1-12-1.キャッシュフロー表 現状'!$L$30)","v":0},{"$f":"IF(ISBLANK('1-12-1.キャッシュフロー表 現状'!$M$30),0,'1-12-1.キャッシュフロー表 現状'!$M$30)","v":0},{"$f":"IF(ISBLANK('1-12-1.キャッシュフロー表 現状'!$N$30),0,'1-12-1.キャッシュフロー表 現状'!$N$30)","v":0},{"$f":"IF(ISBLANK('1-12-1.キャッシュフロー表 現状'!$O$30),0,'1-12-1.キャッシュフロー表 現状'!$O$30)","v":0},{"$f":"IF(ISBLANK('1-12-1.キャッシュフロー表 現状'!$P$30),0,'1-12-1.キャッシュフロー表 現状'!$P$30)","v":0},{"$f":"IF(ISBLANK('1-12-1.キャッシュフロー表 現状'!$Q$30),0,'1-12-1.キャッシュフロー表 現状'!$Q$30)","v":0},{"$f":"IF(ISBLANK('1-12-1.キャッシュフロー表 現状'!$R$30),0,'1-12-1.キャッシュフロー表 現状'!$R$30)","v":0},{"$f":"IF(ISBLANK('1-12-1.キャッシュフロー表 現状'!$S$30),0,'1-12-1.キャッシュフロー表 現状'!$S$30)","v":0},{"$f":"IF(ISBLANK('1-12-1.キャッシュフロー表 現状'!$T$30),0,'1-12-1.キャッシュフロー表 現状'!$T$30)","v":0},{"$f":"IF(ISBLANK('1-12-1.キャッシュフロー表 現状'!$U$30),0,'1-12-1.キャッシュフロー表 現状'!$U$30)","v":0},{"$f":"IF(ISBLANK('1-12-1.キャッシュフロー表 現状'!$V$30),0,'1-12-1.キャッシュフロー表 現状'!$V$30)","v":0},{"$f":"IF(ISBLANK('1-12-1.キャッシュフロー表 現状'!$W$30),0,'1-12-1.キャッシュフロー表 現状'!$W$30)","v":0},{"$f":"IF(ISBLANK('1-12-1.キャッシュフロー表 現状'!$X$30),0,'1-12-1.キャッシュフロー表 現状'!$X$30)","v":0},{"$f":"IF(ISBLANK('1-12-1.キャッシュフロー表 現状'!$Y$30),0,'1-12-1.キャッシュフロー表 現状'!$Y$30)","v":0},{"$f":"IF(ISBLANK('1-12-1.キャッシュフロー表 現状'!$Z$30),0,'1-12-1.キャッシュフロー表 現状'!$Z$30)","v":0},{"$f":"IF(ISBLANK('1-12-1.キャッシュフロー表 現状'!$AA$30),0,'1-12-1.キャッシュフロー表 現状'!$AA$30)","v":0},{"$f":"IF(ISBLANK('1-12-1.キャッシュフロー表 現状'!$AB$30),0,'1-12-1.キャッシュフロー表 現状'!$AB$30)","v":0},{"$f":"IF(ISBLANK('1-12-1.キャッシュフロー表 現状'!$AC$30),0,'1-12-1.キャッシュフロー表 現状'!$AC$30)","v":0},{"$f":"IF(ISBLANK('1-12-1.キャッシュフロー表 現状'!$AD$30),0,'1-12-1.キャッシュフロー表 現状'!$AD$30)","v":0},{"$f":"IF(ISBLANK('1-12-1.キャッシュフロー表 現状'!$AE$30),0,'1-12-1.キャッシュフロー表 現状'!$AE$30)","v":0},{"$f":"IF(ISBLANK('1-12-1.キャッシュフロー表 現状'!$AF$30),0,'1-12-1.キャッシュフロー表 現状'!$AF$30)","v":0},{"$f":"IF(ISBLANK('1-12-1.キャッシュフロー表 現状'!$AG$30),0,'1-12-1.キャッシュフロー表 現状'!$AG$30)","v":0},{"$f":"IF(ISBLANK('1-12-1.キャッシュフロー表 現状'!$AH$30),0,'1-12-1.キャッシュフロー表 現状'!$AH$30)","v":0},{"$f":"IF(ISBLANK('1-12-1.キャッシュフロー表 現状'!$AI$30),0,'1-12-1.キャッシュフロー表 現状'!$AI$30)","v":0},{"$f":"IF(ISBLANK('1-12-1.キャッシュフロー表 現状'!$AJ$30),0,'1-12-1.キャッシュフロー表 現状'!$AJ$30)","v":0},{"$f":"IF(ISBLANK('1-12-1.キャッシュフロー表 現状'!$AK$30),0,'1-12-1.キャッシュフロー表 現状'!$AK$30)","v":0},{"$f":"IF(ISBLANK('1-12-1.キャッシュフロー表 現状'!$AL$30),0,'1-12-1.キャッシュフロー表 現状'!$AL$30)","v":0},{"$f":"IF(ISBLANK('1-12-1.キャッシュフロー表 現状'!$AM$30),0,'1-12-1.キャッシュフロー表 現状'!$AM$30)","v":0},{"$f":"IF(ISBLANK('1-12-1.キャッシュフロー表 現状'!$AN$30),0,'1-12-1.キャッシュフロー表 現状'!$AN$30)","v":0},{"$f":"IF(ISBLANK('1-12-1.キャッシュフロー表 現状'!$AO$30),0,'1-12-1.キャッシュフロー表 現状'!$AO$30)","v":0},{"$f":"IF(ISBLANK('1-12-1.キャッシュフロー表 現状'!$AP$30),0,'1-12-1.キャッシュフロー表 現状'!$AP$30)","v":0},{"$f":"IF(ISBLANK('1-12-1.キャッシュフロー表 現状'!$AQ$30),0,'1-12-1.キャッシュフロー表 現状'!$AQ$30)","v":0},{"$f":"IF(ISBLANK('1-12-1.キャッシュフロー表 現状'!$AR$30),0,'1-12-1.キャッシュフロー表 現状'!$AR$30)","v":0},{"$f":"IF(ISBLANK('1-12-1.キャッシュフロー表 現状'!$AS$30),0,'1-12-1.キャッシュフロー表 現状'!$AS$30)","v":0},{"$f":"IF(ISBLANK('1-12-1.キャッシュフロー表 現状'!$AT$30),0,'1-12-1.キャッシュフロー表 現状'!$AT$30)","v":0},{"$f":"IF(ISBLANK('1-12-1.キャッシュフロー表 現状'!$AU$30),0,'1-12-1.キャッシュフロー表 現状'!$AU$30)","v":0},{"$f":"IF(ISBLANK('1-12-1.キャッシュフロー表 現状'!$AV$30),0,'1-12-1.キャッシュフロー表 現状'!$AV$30)","v":0},{"$f":"IF(ISBLANK('1-12-1.キャッシュフロー表 現状'!$AW$30),0,'1-12-1.キャッシュフロー表 現状'!$AW$30)","v":0},{"$f":"IF(ISBLANK('1-12-1.キャッシュフロー表 現状'!$AX$30),0,'1-12-1.キャッシュフロー表 現状'!$AX$30)","v":0},{"$f":"IF(ISBLANK('1-12-1.キャッシュフロー表 現状'!$AY$30),0,'1-12-1.キャッシュフロー表 現状'!$AY$30)","v":0},{"$f":"IF(ISBLANK('1-12-1.キャッシュフロー表 現状'!$AZ$30),0,'1-12-1.キャッシュフロー表 現状'!$AZ$30)","v":0},{"$f":"IF(ISBLANK('1-12-1.キャッシュフロー表 現状'!$BA$30),0,'1-12-1.キャッシュフロー表 現状'!$BA$30)","v":0},{"$f":"IF(ISBLANK('1-12-1.キャッシュフロー表 現状'!$BB$30),0,'1-12-1.キャッシュフロー表 現状'!$BB$30)","v":0},{"$f":"IF(ISBLANK('1-12-1.キャッシュフロー表 現状'!$BC$30),0,'1-12-1.キャッシュフロー表 現状'!$BC$30)","v":0},{"$f":"IF(ISBLANK('1-12-1.キャッシュフロー表 現状'!$BD$30),0,'1-12-1.キャッシュフロー表 現状'!$BD$30)","v":0},{"$f":"IF(ISBLANK('1-12-1.キャッシュフロー表 現状'!$BE$30),0,'1-12-1.キャッシュフロー表 現状'!$BE$30)","v":0},{"$f":"IF(ISBLANK('1-12-1.キャッシュフロー表 現状'!$BF$30),0,'1-12-1.キャッシュフロー表 現状'!$BF$30)","v":0},{"$f":"IF(ISBLANK('1-12-1.キャッシュフロー表 現状'!$BG$30),0,'1-12-1.キャッシュフロー表 現状'!$BG$30)","v":0},{"$f":"IF(ISBLANK('1-12-1.キャッシュフロー表 現状'!$BH$30),0,'1-12-1.キャッシュフロー表 現状'!$BH$30)","v":0},{"$f":"IF(ISBLANK('1-12-1.キャッシュフロー表 現状'!$BI$30),0,'1-12-1.キャッシュフロー表 現状'!$BI$30)","v":0},{"$f":"IF(ISBLANK('1-12-1.キャッシュフロー表 現状'!$BJ$30),0,'1-12-1.キャッシュフロー表 現状'!$BJ$30)","v":0},{"$f":"IF(ISBLANK('1-12-1.キャッシュフロー表 現状'!$BK$30),0,'1-12-1.キャッシュフロー表 現状'!$BK$30)","v":0},{"$f":"IF(ISBLANK('1-12-1.キャッシュフロー表 現状'!$BL$30),0,'1-12-1.キャッシュフロー表 現状'!$BL$30)","v":0},{"$f":"IF(ISBLANK('1-12-1.キャッシュフロー表 現状'!$BM$30),0,'1-12-1.キャッシュフロー表 現状'!$BM$30)","v":0},{"$f":"IF(ISBLANK('1-12-1.キャッシュフロー表 現状'!$BN$30),0,'1-12-1.キャッシュフロー表 現状'!$BN$30)","v":0},{"$f":"IF(ISBLANK('1-12-1.キャッシュフロー表 現状'!$BO$30),0,'1-12-1.キャッシュフロー表 現状'!$BO$30)","v":0},{"$f":"IF(ISBLANK('1-12-1.キャッシュフロー表 現状'!$BP$30),0,'1-12-1.キャッシュフロー表 現状'!$BP$30)","v":0},{"$f":"IF(ISBLANK('1-12-1.キャッシュフロー表 現状'!$BQ$30),0,'1-12-1.キャッシュフロー表 現状'!$BQ$30)","v":0},{"$f":"IF(ISBLANK('1-12-1.キャッシュフロー表 現状'!$BR$30),0,'1-12-1.キャッシュフロー表 現状'!$BR$30)","v":0},{"$f":"IF(ISBLANK('1-12-1.キャッシュフロー表 現状'!$BS$30),0,'1-12-1.キャッシュフロー表 現状'!$BS$30)","v":0},{"$f":"IF(ISBLANK('1-12-1.キャッシュフロー表 現状'!$BT$30),0,'1-12-1.キャッシュフロー表 現状'!$BT$30)","v":0},{"$f":"IF(ISBLANK('1-12-1.キャッシュフロー表 現状'!$BU$30),0,'1-12-1.キャッシュフロー表 現状'!$BU$30)","v":0},{"$f":"IF(ISBLANK('1-12-1.キャッシュフロー表 現状'!$BV$30),0,'1-12-1.キャッシュフロー表 現状'!$BV$30)","v":0},{"$f":"IF(ISBLANK('1-12-1.キャッシュフロー表 現状'!$BW$30),0,'1-12-1.キャッシュフロー表 現状'!$BW$30)","v":0},{"$f":"IF(ISBLANK('1-12-1.キャッシュフロー表 現状'!$BX$30),0,'1-12-1.キャッシュフロー表 現状'!$BX$30)","v":0},{"$f":"IF(ISBLANK('1-12-1.キャッシュフロー表 現状'!$BY$30),0,'1-12-1.キャッシュフロー表 現状'!$BY$30)","v":0},{"$f":"IF(ISBLANK('1-12-1.キャッシュフロー表 現状'!$BZ$30),0,'1-12-1.キャッシュフロー表 現状'!$BZ$30)","v":0}]
[null,null,null,null,null,null,null,null,null,null,null,null,null,null,null,null,null,null,null,null,null,null,null,null,null,null,null,null,null,null,null,null,null,null,null,null,null,null,null,null,null,null,"支出合計",{"$f":"IF(ISBLANK('1-12-1.キャッシュフロー表 現状'!$H$40),0,'1-12-1.キャッシュフロー表 現状'!$H$40)","v":0},{"$f":"IF(ISBLANK('1-12-1.キャッシュフロー表 現状'!$I$40),0,'1-12-1.キャッシュフロー表 現状'!$I$40)","v":0},{"$f":"IF(ISBLANK('1-12-1.キャッシュフロー表 現状'!$J$40),0,'1-12-1.キャッシュフロー表 現状'!$J$40)","v":0},{"$f":"IF(ISBLANK('1-12-1.キャッシュフロー表 現状'!$K$40),0,'1-12-1.キャッシュフロー表 現状'!$K$40)","v":0},{"$f":"IF(ISBLANK('1-12-1.キャッシュフロー表 現状'!$L$40),0,'1-12-1.キャッシュフロー表 現状'!$L$40)","v":0},{"$f":"IF(ISBLANK('1-12-1.キャッシュフロー表 現状'!$M$40),0,'1-12-1.キャッシュフロー表 現状'!$M$40)","v":0},{"$f":"IF(ISBLANK('1-12-1.キャッシュフロー表 現状'!$N$40),0,'1-12-1.キャッシュフロー表 現状'!$N$40)","v":0},{"$f":"IF(ISBLANK('1-12-1.キャッシュフロー表 現状'!$O$40),0,'1-12-1.キャッシュフロー表 現状'!$O$40)","v":0},{"$f":"IF(ISBLANK('1-12-1.キャッシュフロー表 現状'!$P$40),0,'1-12-1.キャッシュフロー表 現状'!$P$40)","v":0},{"$f":"IF(ISBLANK('1-12-1.キャッシュフロー表 現状'!$Q$40),0,'1-12-1.キャッシュフロー表 現状'!$Q$40)","v":0},{"$f":"IF(ISBLANK('1-12-1.キャッシュフロー表 現状'!$R$40),0,'1-12-1.キャッシュフロー表 現状'!$R$40)","v":0},{"$f":"IF(ISBLANK('1-12-1.キャッシュフロー表 現状'!$S$40),0,'1-12-1.キャッシュフロー表 現状'!$S$40)","v":0},{"$f":"IF(ISBLANK('1-12-1.キャッシュフロー表 現状'!$T$40),0,'1-12-1.キャッシュフロー表 現状'!$T$40)","v":0},{"$f":"IF(ISBLANK('1-12-1.キャッシュフロー表 現状'!$U$40),0,'1-12-1.キャッシュフロー表 現状'!$U$40)","v":0},{"$f":"IF(ISBLANK('1-12-1.キャッシュフロー表 現状'!$V$40),0,'1-12-1.キャッシュフロー表 現状'!$V$40)","v":0},{"$f":"IF(ISBLANK('1-12-1.キャッシュフロー表 現状'!$W$40),0,'1-12-1.キャッシュフロー表 現状'!$W$40)","v":0},{"$f":"IF(ISBLANK('1-12-1.キャッシュフロー表 現状'!$X$40),0,'1-12-1.キャッシュフロー表 現状'!$X$40)","v":0},{"$f":"IF(ISBLANK('1-12-1.キャッシュフロー表 現状'!$Y$40),0,'1-12-1.キャッシュフロー表 現状'!$Y$40)","v":0},{"$f":"IF(ISBLANK('1-12-1.キャッシュフロー表 現状'!$Z$40),0,'1-12-1.キャッシュフロー表 現状'!$Z$40)","v":0},{"$f":"IF(ISBLANK('1-12-1.キャッシュフロー表 現状'!$AA$40),0,'1-12-1.キャッシュフロー表 現状'!$AA$40)","v":0},{"$f":"IF(ISBLANK('1-12-1.キャッシュフロー表 現状'!$AB$40),0,'1-12-1.キャッシュフロー表 現状'!$AB$40)","v":0},{"$f":"IF(ISBLANK('1-12-1.キャッシュフロー表 現状'!$AC$40),0,'1-12-1.キャッシュフロー表 現状'!$AC$40)","v":0},{"$f":"IF(ISBLANK('1-12-1.キャッシュフロー表 現状'!$AD$40),0,'1-12-1.キャッシュフロー表 現状'!$AD$40)","v":0},{"$f":"IF(ISBLANK('1-12-1.キャッシュフロー表 現状'!$AE$40),0,'1-12-1.キャッシュフロー表 現状'!$AE$40)","v":0},{"$f":"IF(ISBLANK('1-12-1.キャッシュフロー表 現状'!$AF$40),0,'1-12-1.キャッシュフロー表 現状'!$AF$40)","v":0},{"$f":"IF(ISBLANK('1-12-1.キャッシュフロー表 現状'!$AG$40),0,'1-12-1.キャッシュフロー表 現状'!$AG$40)","v":0},{"$f":"IF(ISBLANK('1-12-1.キャッシュフロー表 現状'!$AH$40),0,'1-12-1.キャッシュフロー表 現状'!$AH$40)","v":0},{"$f":"IF(ISBLANK('1-12-1.キャッシュフロー表 現状'!$AI$40),0,'1-12-1.キャッシュフロー表 現状'!$AI$40)","v":0},{"$f":"IF(ISBLANK('1-12-1.キャッシュフロー表 現状'!$AJ$40),0,'1-12-1.キャッシュフロー表 現状'!$AJ$40)","v":0},{"$f":"IF(ISBLANK('1-12-1.キャッシュフロー表 現状'!$AK$40),0,'1-12-1.キャッシュフロー表 現状'!$AK$40)","v":0},{"$f":"IF(ISBLANK('1-12-1.キャッシュフロー表 現状'!$AL$40),0,'1-12-1.キャッシュフロー表 現状'!$AL$40)","v":0},{"$f":"IF(ISBLANK('1-12-1.キャッシュフロー表 現状'!$AM$40),0,'1-12-1.キャッシュフロー表 現状'!$AM$40)","v":0},{"$f":"IF(ISBLANK('1-12-1.キャッシュフロー表 現状'!$AN$40),0,'1-12-1.キャッシュフロー表 現状'!$AN$40)","v":0},{"$f":"IF(ISBLANK('1-12-1.キャッシュフロー表 現状'!$AO$40),0,'1-12-1.キャッシュフロー表 現状'!$AO$40)","v":0},{"$f":"IF(ISBLANK('1-12-1.キャッシュフロー表 現状'!$AP$40),0,'1-12-1.キャッシュフロー表 現状'!$AP$40)","v":0},{"$f":"IF(ISBLANK('1-12-1.キャッシュフロー表 現状'!$AQ$40),0,'1-12-1.キャッシュフロー表 現状'!$AQ$40)","v":0},{"$f":"IF(ISBLANK('1-12-1.キャッシュフロー表 現状'!$AR$40),0,'1-12-1.キャッシュフロー表 現状'!$AR$40)","v":0},{"$f":"IF(ISBLANK('1-12-1.キャッシュフロー表 現状'!$AS$40),0,'1-12-1.キャッシュフロー表 現状'!$AS$40)","v":0},{"$f":"IF(ISBLANK('1-12-1.キャッシュフロー表 現状'!$AT$40),0,'1-12-1.キャッシュフロー表 現状'!$AT$40)","v":0},{"$f":"IF(ISBLANK('1-12-1.キャッシュフロー表 現状'!$AU$40),0,'1-12-1.キャッシュフロー表 現状'!$AU$40)","v":0},{"$f":"IF(ISBLANK('1-12-1.キャッシュフロー表 現状'!$AV$40),0,'1-12-1.キャッシュフロー表 現状'!$AV$40)","v":0},{"$f":"IF(ISBLANK('1-12-1.キャッシュフロー表 現状'!$AW$40),0,'1-12-1.キャッシュフロー表 現状'!$AW$40)","v":0},{"$f":"IF(ISBLANK('1-12-1.キャッシュフロー表 現状'!$AX$40),0,'1-12-1.キャッシュフロー表 現状'!$AX$40)","v":0},{"$f":"IF(ISBLANK('1-12-1.キャッシュフロー表 現状'!$AY$40),0,'1-12-1.キャッシュフロー表 現状'!$AY$40)","v":0},{"$f":"IF(ISBLANK('1-12-1.キャッシュフロー表 現状'!$AZ$40),0,'1-12-1.キャッシュフロー表 現状'!$AZ$40)","v":0},{"$f":"IF(ISBLANK('1-12-1.キャッシュフロー表 現状'!$BA$40),0,'1-12-1.キャッシュフロー表 現状'!$BA$40)","v":0},{"$f":"IF(ISBLANK('1-12-1.キャッシュフロー表 現状'!$BB$40),0,'1-12-1.キャッシュフロー表 現状'!$BB$40)","v":0},{"$f":"IF(ISBLANK('1-12-1.キャッシュフロー表 現状'!$BC$40),0,'1-12-1.キャッシュフロー表 現状'!$BC$40)","v":0},{"$f":"IF(ISBLANK('1-12-1.キャッシュフロー表 現状'!$BD$40),0,'1-12-1.キャッシュフロー表 現状'!$BD$40)","v":0},{"$f":"IF(ISBLANK('1-12-1.キャッシュフロー表 現状'!$BE$40),0,'1-12-1.キャッシュフロー表 現状'!$BE$40)","v":0},{"$f":"IF(ISBLANK('1-12-1.キャッシュフロー表 現状'!$BF$40),0,'1-12-1.キャッシュフロー表 現状'!$BF$40)","v":0},{"$f":"IF(ISBLANK('1-12-1.キャッシュフロー表 現状'!$BG$40),0,'1-12-1.キャッシュフロー表 現状'!$BG$40)","v":0},{"$f":"IF(ISBLANK('1-12-1.キャッシュフロー表 現状'!$BH$40),0,'1-12-1.キャッシュフロー表 現状'!$BH$40)","v":0},{"$f":"IF(ISBLANK('1-12-1.キャッシュフロー表 現状'!$BI$40),0,'1-12-1.キャッシュフロー表 現状'!$BI$40)","v":0},{"$f":"IF(ISBLANK('1-12-1.キャッシュフロー表 現状'!$BJ$40),0,'1-12-1.キャッシュフロー表 現状'!$BJ$40)","v":0},{"$f":"IF(ISBLANK('1-12-1.キャッシュフロー表 現状'!$BK$40),0,'1-12-1.キャッシュフロー表 現状'!$BK$40)","v":0},{"$f":"IF(ISBLANK('1-12-1.キャッシュフロー表 現状'!$BL$40),0,'1-12-1.キャッシュフロー表 現状'!$BL$40)","v":0},{"$f":"IF(ISBLANK('1-12-1.キャッシュフロー表 現状'!$BM$40),0,'1-12-1.キャッシュフロー表 現状'!$BM$40)","v":0},{"$f":"IF(ISBLANK('1-12-1.キャッシュフロー表 現状'!$BN$40),0,'1-12-1.キャッシュフロー表 現状'!$BN$40)","v":0},{"$f":"IF(ISBLANK('1-12-1.キャッシュフロー表 現状'!$BO$40),0,'1-12-1.キャッシュフロー表 現状'!$BO$40)","v":0},{"$f":"IF(ISBLANK('1-12-1.キャッシュフロー表 現状'!$BP$40),0,'1-12-1.キャッシュフロー表 現状'!$BP$40)","v":0},{"$f":"IF(ISBLANK('1-12-1.キャッシュフロー表 現状'!$BQ$40),0,'1-12-1.キャッシュフロー表 現状'!$BQ$40)","v":0},{"$f":"IF(ISBLANK('1-12-1.キャッシュフロー表 現状'!$BR$40),0,'1-12-1.キャッシュフロー表 現状'!$BR$40)","v":0},{"$f":"IF(ISBLANK('1-12-1.キャッシュフロー表 現状'!$BS$40),0,'1-12-1.キャッシュフロー表 現状'!$BS$40)","v":0},{"$f":"IF(ISBLANK('1-12-1.キャッシュフロー表 現状'!$BT$40),0,'1-12-1.キャッシュフロー表 現状'!$BT$40)","v":0},{"$f":"IF(ISBLANK('1-12-1.キャッシュフロー表 現状'!$BU$40),0,'1-12-1.キャッシュフロー表 現状'!$BU$40)","v":0},{"$f":"IF(ISBLANK('1-12-1.キャッシュフロー表 現状'!$BV$40),0,'1-12-1.キャッシュフロー表 現状'!$BV$40)","v":0},{"$f":"IF(ISBLANK('1-12-1.キャッシュフロー表 現状'!$BW$40),0,'1-12-1.キャッシュフロー表 現状'!$BW$40)","v":0},{"$f":"IF(ISBLANK('1-12-1.キャッシュフロー表 現状'!$BX$40),0,'1-12-1.キャッシュフロー表 現状'!$BX$40)","v":0},{"$f":"IF(ISBLANK('1-12-1.キャッシュフロー表 現状'!$BY$40),0,'1-12-1.キャッシュフロー表 現状'!$BY$40)","v":0},{"$f":"IF(ISBLANK('1-12-1.キャッシュフロー表 現状'!$BZ$40),0,'1-12-1.キャッシュフロー表 現状'!$BZ$40)","v":0}]

{"sheet":"1-14.現状の問題点","index":23,"n_rows":8,"n_cols":3,"rows_kept":8,"cut":false,"hidden":false,"merged":[]}
[]
[]
[]
[]
[]
[]
[]
[null,null,"Ⅴ．現状の問題点"]

{"sheet":"1-15.解決策の提示","index":24,"n_rows":8,"n_cols":3,"rows_kept":8,"cut":false,"hidden":false,"merged":[]}
[]
[]
[]
[]
[]
[]
[]
[null,null,"Ⅵ．問題点に対する解決策"]

{"sheet":"1-16.解決策導入の効果","index":25,"n_rows":8,"n_cols":3,"rows_kept":8,"cut":false,"hidden":false,"merged":[]}
[]
[]
[]
[]
[]
[]
[]
[null,null,"Ⅶ．解決策導入の効果"]

{"sheet":"1-12-2.キャッシュフロー表 解決策導入後","index":26,"n_rows":42,"n_cols":78,"rows_kept":42,"cut":false,"hidden":false,"merged":[[9,2,9,6],[10,2,10,6],[11,2,18,2],[19,2,19,3],[19,5,19,6],[11,3,11,5],[12,3,12,5],[13,3,13,5],[14,3,14,5],[15,3,15,5],[16,3,16,5],[17,3,17,5],[18,3,18,5],[19,7,19,37],[20,2,29,2],[30,2,39,2],[40,2,40,3],[41,2,41,3]]}
[]
[]
[]
[]
[]
[]
[]
[null,null,"Ⅷ．解決策導入後のキャッシュフロー表"]
[null,null,null,null,null,null,null,null,null,null,null,null,null,null,null,null,null,null,null,null,null,null,null,null,null,null,null,null,null,null,null,null,null,null,null,"（金額の単位：万円）",null,null,null,null,null,null,null,null,null,"",null,null,null,null,null,null,null,null,null,"",null,null,null,null,null,null,null,null,null,"",null,null,null,null,null,null,null,null,null,null,null,""]
[null,null,"経過年数",null,null,null,null,"現在",1,2,3,4,5,6,7,8,9,10,11,12,13,14,15,16,17,18,19,20,21,22,23,24,25,26,27,28,29,30,31,32,33,34,35,36,37,38,39,40,41,42,43,44,45,46,47,48,49,50,51,52,53,54,55,56,57,58,59,60,61,62,63,64,65,66,67,68,69,70]
[null,null,"西暦",null,null,null,null,null,{"$f":"IF(TRIM(H11)=\"\",\"\",H11+1)","v":""},"","","","","","","","","","","","","","","",{"$f":"IF(TRIM(X11)=\"\",\"\",X11+1)","v":""},"","","","","","","","","","","","","",{"$f":"IF(TRIM(AL11)=\"\",\"\",AL11+1)","v":""},{"$f":"IF(TRIM(AM11)=\"\",\"\",AM11+1)","v":""},{"$f":"IF(TRIM(AN11)=\"\",\"\",AN11+1)","v":""},{"$f":"IF(TRIM(AO11)=\"\",\"\",AO11+1)","v":""},{"$f":"IF(TRIM(AP11)=\"\",\"\",AP11+1)","v":""},{"$f":"IF(TRIM(AQ11)=\"\",\"\",AQ11+1)","v":""},{"$f":"IF(TRIM(AR11)=\"\",\"\",AR11+1)","v":""},{"$f":"IF(TRIM(AS11)=\"\",\"\",AS11+1)","v":""},{"$f":"IF(TRIM(AT11)=\"\",\"\",AT11+1)","v":""},{"$f":"IF(TRIM(AU11)=\"\",\"\",AU11+1)","v":""},{"$f":"IF(TRIM(AV11)=\"\",\"\",AV11+1)","v":""},{"$f":"IF(TRIM(AW11)=\"\",\"\",AW11+1)","v":""},{"$f":"IF(TRIM(AX11)=\"\",\"\",AX11+1)","v":""},{"$f":"IF(TRIM(AY11)=\"\",\"\",AY11+1)","v":""},{"$f":"IF(TRIM(AZ11)=\"\",\"\",AZ11+1)","v":""},{"$f":"IF(TRIM(BA11)=\"\",\"\",BA11+1)","v":""},{"$f":"IF(TRIM(BB11)=\"\",\"\",BB11+1)","v":""},{"$f":"IF(TRIM(BC11)=\"\",\"\",BC11+1)","v":""},{"$f":"IF(TRIM(BD11)=\"\",\"\",BD11+1)","v":""},{"$f":"IF(TRIM(BE11)=\"\",\"\",BE11+1)","v":""},{"$f":"IF(TRIM(BF11)=\"\",\"\",BF11+1)","v":""},{"$f":"IF(TRIM(BG11)=\"\",\"\",BG11+1)","v":""},{"$f":"IF(TRIM(BH11)=\"\",\"\",BH11+1)","v":""},{"$f":"IF(TRIM(BI11)=\"\",\"\",BI11+1)","v":""},{"$f":"IF(TRIM(BJ11)=\"\",\"\",BJ11+1)","v":""},{"$f":"IF(TRIM(BK11)=\"\",\"\",BK11+1)","v":""},{"$f":"IF(TRIM(BL11)=\"\",\"\",BL11+1)","v":""},{"$f":"IF(TRIM(BM11)=\"\",\"\",BM11+1)","v":""},{"$f":"IF(TRIM(BN11)=\"\",\"\",BN11+1)","v":""},{"$f":"IF(TRIM(BO11)=\"\",\"\",BO11+1)","v":""},{"$f":"IF(TRIM(BP11)=\"\",\"\",BP11+1)","v":""},{"$f":"IF(TRIM(BQ11)=\"\",\"\",BQ11+1)","v":""},{"$f":"IF(TRIM(BR11)=\"\",\"\",BR11+1)","v":""},{"$f":"IF(TRIM(BS11)=\"\",\"\",BS11+1)","v":""},{"$f":"IF(TRIM(BT11)=\"\",\"\",BT11+1)","v":""},{"$f":"IF(TRIM(BU11)=\"\",\"\",BU11+1)","v":""},{"$f":"IF(TRIM(BV11)=\"\",\"\",BV11+1)","v":""},{"$f":"IF(TRIM(BW11)=\"\",\"\",BW11+1)","v":""},{"$f":"IF(TRIM(BX11)=\"\",\"\",BX11+1)","v":""},{"$f":"IF(TRIM(BY11)=\"\",\"\",BY11+1)","v":""}]
[null,null,"家族構成と年齢","",null,null,"","","","","","","","","","","","","","","","","","","","","","","","","","","","","","","","","","","","","","","","","","","","","","","","","","","","","","","","","","","","","","","","","","","","","","","",""]
[null,null,null,"",null,null,"","","","","","","","","","","","","","","","","","","","","","","","","","","","","","","","","","","","","","","","","","","","","","","","","","","","","","","","","","","","","","","","","","","","","","","",""]
[null,null,null,"",null,null,"","","","","","","","","","","","","","","","","","","","","","","","","","","","","","","","","","","","","","","","","","","","","","","","","","","","","","","","","","","","","","","","","","","","","","","",""]
[null,null,null,"",null,null,"","","","","","","","","","","","","","","","","","","","","","","","","","","","","","","","","","","","","","","","","","","","","","","","","","","","","","","","","","","","","","","","","","","","","","","",""]
[null,null,null,"",null,null,"","","","","","","","","","","","","","","","","","","","","","","","","","","","","","","","","","","","","","","","","","","","","","","","","","","","","","","","","","","","","","","","","","","","","","","",""]
[null,null,null,"",null,null,"","","","","","","","","","","","","","","","","","","","","","","","","","","","","","","","","","","","","","","","","","","","","","","","","","","","","","","","","","","","","","","","","","","","","","","",""]
[null,null,null,"",null,null,"","","","","","","","","","","","","","","","","","","","","","","","","","","","","","","","","","","","","","","","","","","","","","","","","","","","","","","","","","","","","","","","","","","","","","","",""]
[null,null,null,"",null,null,"","","","","","","","","","","","","","","","","","","","","","","","","","","","","","","","","","","","","","","","","","","","","","","","","","","","","","","","","","","","","","","","","","","","","","","",""]
[null,null,"収入支出項目",null,"変動率","変動率○年後～"]
[null,null,"収　入",null,0,null,0,null,{"$f":"IF(TRIM(H21)=\"\",0,IF(I10<IF(OR($F21=\"\",$F21=0),99,$F21),H21*(1+$E21),H21*(1+$G21)))","v":0},0,0,0,0,0,0,0,0,0,0,0,0,0,0,0,0,0,0,0,0,0,0,0,0,0,0,0,0,0,0,0,{"$f":"IF(TRIM(AN21)=\"\",0,IF(AO10<IF(OR($F21=\"\",$F21=0),99,$F21),AN21*(1+$E21),AN21*(1+$G21)))","v":0},0,0,0,0,0,0,0,0,0,0,0,0,0,0,0,0,0,0,0,0,0,0,0,0,0,0,0,0,0,0,0,{"$f":"IF(TRIM(BT21)=\"\",0,IF(BU10<IF(OR($F21=\"\",$F21=0),99,$F21),BT21*(1+$E21),BT21*(1+$G21)))","v":0},0,0,0,0,0]
[null,null,null,null,0,null,0,null,{"$f":"IF(TRIM(H22)=\"\",0,IF(I10<IF(OR($F22=\"\",$F22=0),99,$F22),H22*(1+$E22),H22*(1+$G22)))","v":0},0,0,0,0,0,0,0,0,0,0,0,0,0,0,0,0,0,0,0,0,0,0,0,0,0,0,0,0,0,0,0,{"$f":"IF(TRIM(AN22)=\"\",0,IF(AO10<IF(OR($F22=\"\",$F22=0),99,$F22),AN22*(1+$E22),AN22*(1+$G22)))","v":0},0,0,0,0,0,0,0,0,0,0,0,0,0,0,0,0,0,0,0,0,0,0,0,0,0,0,0,0,0,0,0,{"$f":"IF(TRIM(BT22)=\"\",0,IF(BU10<IF(OR($F22=\"\",$F22=0),99,$F22),BT22*(1+$E22),BT22*(1+$G22)))","v":0},0,0,0,0,0]
[null,null,null,null,0,null,0,null,{"$f":"IF(TRIM(H23)=\"\",0,IF(I10<IF(OR($F23=\"\",$F23=0),99,$F23),H23*(1+$E23),H23*(1+$G23)))","v":0},0,0,0,0,0,0,0,0,0,0,0,0,0,0,0,0,0,0,0,0,0,0,0,0,0,0,0,0,0,0,0,{"$f":"IF(TRIM(AN23)=\"\",0,IF(AO10<IF(OR($F23=\"\",$F23=0),99,$F23),AN23*(1+$E23),AN23*(1+$G23)))","v":0},0,0,0,0,0,0,0,0,0,0,0,0,0,0,0,0,0,0,0,0,0,0,0,0,0,0,0,0,0,0,0,{"$f":"IF(TRIM(BT23)=\"\",0,IF(BU10<IF(OR($F23=\"\",$F23=0),99,$F23),BT23*(1+$E23),BT23*(1+$G23)))","v":0},0,0,0,0,0]
[null,null,null,null,0,null,0,null,{"$f":"IF(TRIM(H24)=\"\",0,IF(I10<IF(OR($F24=\"\",$F24=0),99,$F24),H24*(1+$E24),H24*(1+$G24)))","v":0},0,0,0,0,0,0,0,0,0,0,0,0,0,0,0,0,0,0,0,0,0,0,0,0,0,0,0,0,0,0,0,{"$f":"IF(TRIM(AN24)=\"\",0,IF(AO10<IF(OR($F24=\"\",$F24=0),99,$F24),AN24*(1+$E24),AN24*(1+$G24)))","v":0},0,0,0,0,0,0,0,0,0,0,0,0,0,0,0,0,0,0,0,0,0,0,0,0,0,0,0,0,0,0,0,{"$f":"IF(TRIM(BT24)=\"\",0,IF(BU10<IF(OR($F24=\"\",$F24=0),99,$F24),BT24*(1+$E24),BT24*(1+$G24)))","v":0},0,0,0,0,0]
[null,null,null,null,0,null,0,null,{"$f":"IF(TRIM(H25)=\"\",0,IF(I10<IF(OR($F25=\"\",$F25=0),99,$F25),H25*(1+$E25),H25*(1+$G25)))","v":0},0,0,0,0,0,0,0,0,0,0,0,0,0,0,0,0,0,0,0,0,0,0,0,0,0,0,0,0,0,0,0,{"$f":"IF(TRIM(AN25)=\"\",0,IF(AO10<IF(OR($F25=\"\",$F25=0),99,$F25),AN25*(1+$E25),AN25*(1+$G25)))","v":0},0,0,0,0,0,0,0,0,0,0,0,0,0,0,0,0,0,0,0,0,0,0,0,0,0,0,0,0,0,0,0,{"$f":"IF(TRIM(BT25)=\"\",0,IF(BU10<IF(OR($F25=\"\",$F25=0),99,$F25),BT25*(1+$E25),BT25*(1+$G25)))","v":0},0,0,0,0,0]
[null,null,null,null,0,null,0,null,{"$f":"IF(TRIM(H26)=\"\",0,IF(I10<IF(OR($F26=\"\",$F26=0),99,$F26),H26*(1+$E26),H26*(1+$G26)))","v":0},0,0,0,0,0,0,0,0,0,0,0,0,0,0,0,0,0,0,0,0,0,0,0,0,0,0,0,0,0,0,0,{"$f":"IF(TRIM(AN26)=\"\",0,IF(AO10<IF(OR($F26=\"\",$F26=0),99,$F26),AN26*(1+$E26),AN26*(1+$G26)))","v":0},0,0,0,0,0,0,0,0,0,0,0,0,0,0,0,0,0,0,0,0,0,0,0,0,0,0,0,0,0,0,0,{"$f":"IF(TRIM(BT26)=\"\",0,IF(BU10<IF(OR($F26=\"\",$F26=0),99,$F26),BT26*(1+$E26),BT26*(1+$G26)))","v":0},0,0,0,0,0]
[null,null,null,null,0,null,0,null,{"$f":"IF(TRIM(H27)=\"\",0,IF(I10<IF(OR($F27=\"\",$F27=0),99,$F27),H27*(1+$E27),H27*(1+$G27)))","v":0},0,0,0,0,0,0,0,0,0,0,0,0,0,0,0,0,0,0,0,0,0,0,0,0,0,0,0,0,0,0,0,{"$f":"IF(TRIM(AN27)=\"\",0,IF(AO10<IF(OR($F27=\"\",$F27=0),99,$F27),AN27*(1+$E27),AN27*(1+$G27)))","v":0},0,0,0,0,0,0,0,0,0,0,0,0,0,0,0,0,0,0,0,0,0,0,0,0,0,0,0,0,0,0,0,{"$f":"IF(TRIM(BT27)=\"\",0,IF(BU10<IF(OR($F27=\"\",$F27=0),99,$F27),BT27*(1+$E27),BT27*(1+$G27)))","v":0},0,0,0,0,0]
[null,null,null,null,0,null,0,null,{"$f":"IF(TRIM(H28)=\"\",0,IF(I10<IF(OR(F28=\"\",F28=0),99,F28),H28*(1+$E28),H28*(1+$G28)))","v":0},{"$f":"IF(TRIM(I28)=\"\",0,IF(J10<IF(OR(F28=\"\",F28=0),99,F28),I28*(1+$E28),I28*(1+$G28)))","v":0},{"$f":"IF(TRIM(J28)=\"\",0,IF(K10<IF(OR(F28=\"\",F28=0),99,F28),J28*(1+$E28),J28*(1+$G28)))","v":0},{"$f":"IF(TRIM(K28)=\"\",0,IF(L10<IF(OR(F28=\"\",F28=0),99,F28),K28*(1+$E28),K28*(1+$G28)))","v":0},{"$f":"IF(TRIM(L28)=\"\",0,IF(M10<IF(OR(F28=\"\",F28=0),99,F28),L28*(1+$E28),L28*(1+$G28)))","v":0},{"$f":"IF(TRIM(M28)=\"\",0,IF(N10<IF(OR(F28=\"\",F28=0),99,F28),M28*(1+$E28),M28*(1+$G28)))","v":0},{"$f":"IF(TRIM(N28)=\"\",0,IF(O10<IF(OR(F28=\"\",F28=0),99,F28),N28*(1+$E28),N28*(1+$G28)))","v":0},{"$f":"IF(TRIM(O28)=\"\",0,IF(P10<IF(OR(F28=\"\",F28=0),99,F28),O28*(1+$E28),O28*(1+$G28)))","v":0},{"$f":"IF(TRIM(P28)=\"\",0,IF(Q10<IF(OR(F28=\"\",F28=0),99,F28),P28*(1+$E28),P28*(1+$G28)))","v":0},{"$f":"IF(TRIM(Q28)=\"\",0,IF(R10<IF(OR(F28=\"\",F28=0),99,F28),Q28*(1+$E28),Q28*(1+$G28)))","v":0},{"$f":"IF(TRIM(R28)=\"\",0,IF(S10<IF(OR(F28=\"\",F28=0),99,F28),R28*(1+$E28),R28*(1+$G28)))","v":0},{"$f":"IF(TRIM(S28)=\"\",0,IF(T10<IF(OR(F28=\"\",F28=0),99,F28),S28*(1+$E28),S28*(1+$G28)))","v":0},{"$f":"IF(TRIM(T28)=\"\",0,IF(U10<IF(OR(F28=\"\",F28=0),99,F28),T28*(1+$E28),T28*(1+$G28)))","v":0},{"$f":"IF(TRIM(U28)=\"\",0,IF(V10<IF(OR(F28=\"\",F28=0),99,F28),U28*(1+$E28),U28*(1+$G28)))","v":0},{"$f":"IF(TRIM(V28)=\"\",0,IF(W10<IF(OR(F28=\"\",F28=0),99,F28),V28*(1+$E28),V28*(1+$G28)))","v":0},{"$f":"IF(TRIM(W28)=\"\",0,IF(X10<IF(OR(F28=\"\",F28=0),99,F28),W28*(1+$E28),W28*(1+$G28)))","v":0},{"$f":"IF(TRIM(X28)=\"\",0,IF(Y10<IF(OR(F28=\"\",F28=0),99,F28),X28*(1+$E28),X28*(1+$G28)))","v":0},{"$f":"IF(TRIM(Y28)=\"\",0,IF(Z10<IF(OR(F28=\"\",F28=0),99,F28),Y28*(1+$E28),Y28*(1+$G28)))","v":0},{"$f":"IF(TRIM(Z28)=\"\",0,IF(AA10<IF(OR(F28=\"\",F28=0),99,F28),Z28*(1+$E28),Z28*(1+$G28)))","v":0},{"$f":"IF(TRIM(AA28)=\"\",0,IF(AB10<IF(OR(F28=\"\",F28=0),99,F28),AA28*(1+$E28),AA28*(1+$G28)))","v":0},{"$f":"IF(TRIM(AB28)=\"\",0,IF(AC10<IF(OR(F28=\"\",F28=0),99,F28),AB28*(1+$E28),AB28*(1+$G28)))","v":0},{"$f":"IF(TRIM(AC28)=\"\",0,IF(AD10<IF(OR(F28=\"\",F28=0),99,F28),AC28*(1+$E28),AC28*(1+$G28)))","v":0},{"$f":"IF(TRIM(AD28)=\"\",0,IF(AE10<IF(OR(F28=\"\",F28=0),99,F28),AD28*(1+$E28),AD28*(1+$G28)))","v":0},{"$f":"IF(TRIM(AE28)=\"\",0,IF(AF10<IF(OR(F28=\"\",F28=0),99,F28),AE28*(1+$E28),AE28*(1+$G28)))","v":0},{"$f":"IF(TRIM(AF28)=\"\",0,IF(AG10<IF(OR(F28=\"\",F28=0),99,F28),AF28*(1+$E28),AF28*(1+$G28)))","v":0},{"$f":"IF(TRIM(AG28)=\"\",0,IF(AH10<IF(OR(F28=\"\",F28=0),99,F28),AG28*(1+$E28),AG28*(1+$G28)))","v":0},{"$f":"IF(TRIM(AH28)=\"\",0,IF(AI10<IF(OR(F28=\"\",F28=0),99,F28),AH28*(1+$E28),AH28*(1+$G28)))","v":0},{"$f":"IF(TRIM(AI28)=\"\",0,IF(AJ10<IF(OR(F28=\"\",F28=0),99,F28),AI28*(1+$E28),AI28*(1+$G28)))","v":0},{"$f":"IF(TRIM(AJ28)=\"\",0,IF(AK10<IF(OR(F28=\"\",F28=0),99,F28),AJ28*(1+$E28),AJ28*(1+$G28)))","v":0},{"$f":"IF(TRIM(AK28)=\"\",0,IF(AL10<IF(OR(F28=\"\",F28=0),99,F28),AK28*(1+$E28),AK28*(1+$G28)))","v":0},{"$f":"IF(TRIM(AL28)=\"\",0,IF(AM10<IF(OR(P28=\"\",P28=0),99,P28),AL28*(1+$E28),AL28*(1+$G28)))","v":0},{"$f":"IF(TRIM(AM28)=\"\",0,IF(AN10<IF(OR(P28=\"\",P28=0),99,P28),AM28*(1+$E28),AM28*(1+$G28)))","v":0},{"$f":"IF(TRIM(AN28)=\"\",0,IF(AO10<IF(OR(P28=\"\",P28=0),99,P28),AN28*(1+$E28),AN28*(1+$G28)))","v":0},{"$f":"IF(TRIM(AO28)=\"\",0,IF(AP10<IF(OR(P28=\"\",P28=0),99,P28),AO28*(1+$E28),AO28*(1+$G28)))","v":0},{"$f":"IF(TRIM(AP28)=\"\",0,IF(AQ10<IF(OR(P28=\"\",P28=0),99,P28),AP28*(1+$E28),AP28*(1+$G28)))","v":0},{"$f":"IF(TRIM(AQ28)=\"\",0,IF(AR10<IF(OR(P28=\"\",P28=0),99,P28),AQ28*(1+$E28),AQ28*(1+$G28)))","v":0},{"$f":"IF(TRIM(AR28)=\"\",0,IF(AS10<IF(OR(P28=\"\",P28=0),99,P28),AR28*(1+$E28),AR28*(1+$G28)))","v":0},{"$f":"IF(TRIM(AS28)=\"\",0,IF(AT10<IF(OR(P28=\"\",P28=0),99,P28),AS28*(1+$E28),AS28*(1+$G28)))","v":0},{"$f":"IF(TRIM(AT28)=\"\",0,IF(AU10<IF(OR(P28=\"\",P28=0),99,P28),AT28*(1+$E28),AT28*(1+$G28)))","v":0},{"$f":"IF(TRIM(AU28)=\"\",0,IF(AV10<IF(OR(P28=\"\",P28=0),99,P28),AU28*(1+$E28),AU28*(1+$G28)))","v":0},{"$f":"IF(TRIM(AV28)=\"\",0,IF(AW10<IF(OR(Z28=\"\",Z28=0),99,Z28),AV28*(1+$E28),AV28*(1+$G28)))","v":0},{"$f":"IF(TRIM(AW28)=\"\",0,IF(AX10<IF(OR(Z28=\"\",Z28=0),99,Z28),AW28*(1+$E28),AW28*(1+$G28)))","v":0},{"$f":"IF(TRIM(AX28)=\"\",0,IF(AY10<IF(OR(Z28=\"\",Z28=0),99,Z28),AX28*(1+$E28),AX28*(1+$G28)))","v":0},{"$f":"IF(TRIM(AY28)=\"\",0,IF(AZ10<IF(OR(Z28=\"\",Z28=0),99,Z28),AY28*(1+$E28),AY28*(1+$G28)))","v":0},{"$f":"IF(TRIM(AZ28)=\"\",0,IF(BA10<IF(OR(Z28=\"\",Z28=0),99,Z28),AZ28*(1+$E28),AZ28*(1+$G28)))","v":0},{"$f":"IF(TRIM(BA28)=\"\",0,IF(BB10<IF(OR(Z28=\"\",Z28=0),99,Z28),BA28*(1+$E28),BA28*(1+$G28)))","v":0},{"$f":"IF(TRIM(BB28)=\"\",0,IF(BC10<IF(OR(Z28=\"\",Z28=0),99,Z28),BB28*(1+$E28),BB28*(1+$G28)))","v":0},{"$f":"IF(TRIM(BC28)=\"\",0,IF(BD10<IF(OR(Z28=\"\",Z28=0),99,Z28),BC28*(1+$E28),BC28*(1+$G28)))","v":0},{"$f":"IF(TRIM(BD28)=\"\",0,IF(BE10<IF(OR(Z28=\"\",Z28=0),99,Z28),BD28*(1+$E28),BD28*(1+$G28)))","v":0},{"$f":"IF(TRIM(BE28)=\"\",0,IF(BF10<IF(OR(Z28=\"\",Z28=0),99,Z28),BE28*(1+$E28),BE28*(1+$G28)))","v":0},{"$f":"IF(TRIM(BF28)=\"\",0,IF(BG10<IF(OR(AJ28=\"\",AJ28=0),99,AJ28),BF28*(1+$E28),BF28*(1+$G28)))","v":0},{"$f":"IF(TRIM(BG28)=\"\",0,IF(BH10<IF(OR(AJ28=\"\",AJ28=0),99,AJ28),BG28*(1+$E28),BG28*(1+$G28)))","v":0},{"$f":"IF(TRIM(BH28)=\"\",0,IF(BI10<IF(OR(AJ28=\"\",AJ28=0),99,AJ28),BH28*(1+$E28),BH28*(1+$G28)))","v":0},{"$f":"IF(TRIM(BI28)=\"\",0,IF(BJ10<IF(OR(AJ28=\"\",AJ28=0),99,AJ28),BI28*(1+$E28),BI28*(1+$G28)))","v":0},{"$f":"IF(TRIM(BJ28)=\"\",0,IF(BK10<IF(OR(AJ28=\"\",AJ28=0),99,AJ28),BJ28*(1+$E28),BJ28*(1+$G28)))","v":0},{"$f":"IF(TRIM(BK28)=\"\",0,IF(BL10<IF(OR(AJ28=\"\",AJ28=0),99,AJ28),BK28*(1+$E28),BK28*(1+$G28)))","v":0},{"$f":"IF(TRIM(BL28)=\"\",0,IF(BM10<IF(OR(AJ28=\"\",AJ28=0),99,AJ28),BL28*(1+$E28),BL28*(1+$G28)))","v":0},{"$f":"IF(TRIM(BM28)=\"\",0,IF(BN10<IF(OR(AJ28=\"\",AJ28=0),99,AJ28),BM28*(1+$E28),BM28*(1+$G28)))","v":0},{"$f":"IF(TRIM(BN28)=\"\",0,IF(BO10<IF(OR(AJ28=\"\",AJ28=0),99,AJ28),BN28*(1+$E28),BN28*(1+$G28)))","v":0},{"$f":"IF(TRIM(BO28)=\"\",0,IF(BP10<IF(OR(AJ28=\"\",AJ28=0),99,AJ28),BO28*(1+$E28),BO28*(1+$G28)))","v":0},{"$f":"IF(TRIM(BP28)=\"\",0,IF(BQ10<IF(OR(AT28=\"\",AT28=0),99,AT28),BP28*(1+$E28),BP28*(1+$G28)))","v":0},{"$f":"IF(TRIM(BQ28)=\"\",0,IF(BR10<IF(OR(AT28=\"\",AT28=0),99,AT28),BQ28*(1+$E28),BQ28*(1+$G28)))","v":0},{"$f":"IF(TRIM(BR28)=\"\",0,IF(BS10<IF(OR(AT28=\"\",AT28=0),99,AT28),BR28*(1+$E28),BR28*(1+$G28)))","v":0},{"$f":"IF(TRIM(BS28)=\"\",0,IF(BT10<IF(OR(AT28=\"\",AT28=0),99,AT28),BS28*(1+$E28),BS28*(1+$G28)))","v":0},{"$f":"IF(TRIM(BT28)=\"\",0,IF(BU10<IF(OR(AT28=\"\",AT28=0),99,AT28),BT28*(1+$E28),BT28*(1+$G28)))","v":0},{"$f":"IF(TRIM(BU28)=\"\",0,IF(BV10<IF(OR(AT28=\"\",AT28=0),99,AT28),BU28*(1+$E28),BU28*(1+$G28)))","v":0},{"$f":"IF(TRIM(BV28)=\"\",0,IF(BW10<IF(OR(AT28=\"\",AT28=0),99,AT28),BV28*(1+$E28),BV28*(1+$G28)))","v":0},{"$f":"IF(TRIM(BW28)=\"\",0,IF(BX10<IF(OR(AT28=\"\",AT28=0),99,AT28),BW28*(1+$E28),BW28*(1+$G28)))","v":0},{"$f":"IF(TRIM(BX28)=\"\",0,IF(BY10<IF(OR(AT28=\"\",AT28=0),99,AT28),BX28*(1+$E28),BX28*(1+$G28)))","v":0},{"$f":"IF(TRIM(BY28)=\"\",0,IF(BZ10<IF(OR(AT28=\"\",AT28=0),99,AT28),BY28*(1+$E28),BY28*(1+$G28)))","v":0}]
[null,null,null,"その他一時的収入"]
[null,null,null,"収入合計",null,null,null,{"$f":"SUM(H21:H29)","v":0},{"$f":"SUM(I21:I29)","v":0},0,0,0,0,0,0,0,0,0,0,0,0,0,0,0,0,0,0,0,0,0,0,0,0,0,0,0,0,{"$f":"SUM(AL21:AL29)","v":0},{"$f":"SUM(AM21:AM29)","v":0},0,0,0,0,0,0,0,0,0,0,0,0,0,0,0,0,0,0,{"$f":"SUM(BF21:BF29)","v":0},{"$f":"SUM(BG21:BG29)","v":0},0,0,0,0,0,0,0,0,0,0,0,0,0,0,0,0,0,0,{"$f":"SUM(BZ21:BZ29)","v":0}]
[null,null,"支　出",null,0,null,0,null,{"$f":"IF(TRIM(H31)=\"\",0,IF(I10<IF(OR($F31=\"\",$F31=0),99,$F31),H31*(1+$E31),H31*(1+$G31)))","v":0},0,0,0,0,0,0,0,0,0,0,0,0,0,0,0,0,0,0,0,0,0,0,0,0,0,0,0,0,0,0,0,{"$f":"IF(TRIM(AN31)=\"\",0,IF(AO10<IF(OR($F31=\"\",$F31=0),99,$F31),AN31*(1+$E31),AN31*(1+$G31)))","v":0},0,0,0,0,0,0,0,0,0,0,0,0,0,0,0,0,0,0,0,0,0,0,0,0,0,0,0,0,0,0,0,{"$f":"IF(TRIM(BT31)=\"\",0,IF(BU10<IF(OR($F31=\"\",$F31=0),99,$F31),BT31*(1+$E31),BT31*(1+$G31)))","v":0},0,0,0,0,0]
[null,null,null,null,0,null,0,null,{"$f":"IF(TRIM(H32)=\"\",0,IF(I10<IF(OR($F32=\"\",$F32=0),99,$F32),H32*(1+$E32),H32*(1+$G32)))","v":0},0,0,0,0,0,0,0,0,0,0,0,0,0,0,0,0,0,0,0,0,0,0,0,0,0,0,0,0,0,0,0,{"$f":"IF(TRIM(AN32)=\"\",0,IF(AO10<IF(OR($F32=\"\",$F32=0),99,$F32),AN32*(1+$E32),AN32*(1+$G32)))","v":0},0,0,0,0,0,0,0,0,0,0,0,0,0,0,0,0,0,0,0,0,0,0,0,0,0,0,0,0,0,0,0,{"$f":"IF(TRIM(BT32)=\"\",0,IF(BU10<IF(OR($F32=\"\",$F32=0),99,$F32),BT32*(1+$E32),BT32*(1+$G32)))","v":0},0,0,0,0,0]
[null,null,null,null,0,null,0,null,{"$f":"IF(TRIM(H33)=\"\",0,IF(I10<IF(OR($F33=\"\",$F33=0),99,$F33),H33*(1+$E33),H33*(1+$G33)))","v":0},0,0,0,0,0,0,0,0,0,0,0,0,0,0,0,0,0,0,0,0,0,0,0,0,0,0,0,0,0,0,0,{"$f":"IF(TRIM(AN33)=\"\",0,IF(AO10<IF(OR($F33=\"\",$F33=0),99,$F33),AN33*(1+$E33),AN33*(1+$G33)))","v":0},0,0,0,0,0,0,0,0,0,0,0,0,0,0,0,0,0,0,0,0,0,0,0,0,0,0,0,0,0,0,0,{"$f":"IF(TRIM(BT33)=\"\",0,IF(BU10<IF(OR($F33=\"\",$F33=0),99,$F33),BT33*(1+$E33),BT33*(1+$G33)))","v":0},0,0,0,0,0]
[null,null,null,null,0,null,0,null,{"$f":"IF(TRIM(H34)=\"\",0,IF(I10<IF(OR($F34=\"\",$F34=0),99,$F34),H34*(1+$E34),H34*(1+$G34)))","v":0},0,0,0,0,0,0,0,0,0,0,0,0,0,0,0,0,0,0,0,0,0,0,0,0,0,0,0,0,0,0,0,{"$f":"IF(TRIM(AN34)=\"\",0,IF(AO10<IF(OR($F34=\"\",$F34=0),99,$F34),AN34*(1+$E34),AN34*(1+$G34)))","v":0},0,0,0,0,0,0,0,0,0,0,0,0,0,0,0,0,0,0,0,0,0,0,0,0,0,0,0,0,0,0,0,{"$f":"IF(TRIM(BT34)=\"\",0,IF(BU10<IF(OR($F34=\"\",$F34=0),99,$F34),BT34*(1+$E34),BT34*(1+$G34)))","v":0},0,0,0,0,0]
[null,null,null,null,0,null,0,null,{"$f":"IF(TRIM(H35)=\"\",0,IF(I10<IF(OR($F35=\"\",$F35=0),99,$F35),H35*(1+$E35),H35*(1+$G35)))","v":0},0,0,0,0,0,0,0,0,0,0,0,0,0,0,0,0,0,0,0,0,0,0,0,0,0,0,0,0,0,0,0,{"$f":"IF(TRIM(AN35)=\"\",0,IF(AO10<IF(OR($F35=\"\",$F35=0),99,$F35),AN35*(1+$E35),AN35*(1+$G35)))","v":0},0,0,0,0,0,0,0,0,0,0,0,0,0,0,0,0,0,0,0,0,0,0,0,0,0,0,0,0,0,0,0,{"$f":"IF(TRIM(BT35)=\"\",0,IF(BU10<IF(OR($F35=\"\",$F35=0),99,$F35),BT35*(1+$E35),BT35*(1+$G35)))","v":0},0,0,0,0,0]
[null,null,null,null,0,null,0,null,{"$f":"IF(TRIM(H36)=\"\",0,IF(I10<IF(OR($F36=\"\",$F36=0),99,$F36),H36*(1+$E36),H36*(1+$G36)))","v":0},0,0,0,0,0,0,0,0,0,0,0,0,0,0,0,0,0,0,0,0,0,0,0,0,0,0,0,0,0,0,0,{"$f":"IF(TRIM(AN36)=\"\",0,IF(AO10<IF(OR($F36=\"\",$F36=0),99,$F36),AN36*(1+$E36),AN36*(1+$G36)))","v":0},0,0,0,0,0,0,0,0,0,0,0,0,0,0,0,0,0,0,0,0,0,0,0,0,0,0,0,0,0,0,0,{"$f":"IF(TRIM(BT36)=\"\",0,IF(BU10<IF(OR($F36=\"\",$F36=0),99,$F36),BT36*(1+$E36),BT36*(1+$G36)))","v":0},0,0,0,0,0]
[null,null,null,null,0,null,0,null,{"$f":"IF(TRIM(H37)=\"\",0,IF(I10<IF(OR($F37=\"\",$F37=0),99,$F37),H37*(1+$E37),H37*(1+$G37)))","v":0},0,0,0,0,0,0,0,0,0,0,0,0,0,0,0,0,0,0,0,0,0,0,0,0,0,0,0,0,0,0,0,{"$f":"IF(TRIM(AN37)=\"\",0,IF(AO10<IF(OR($F37=\"\",$F37=0),99,$F37),AN37*(1+$E37),AN37*(1+$G37)))","v":0},0,0,0,0,0,0,0,0,0,0,0,0,0,0,0,0,0,0,0,0,0,0,0,0,0,0,0,0,0,0,0,{"$f":"IF(TRIM(BT37)=\"\",0,IF(BU10<IF(OR($F37=\"\",$F37=0),99,$F37),BT37*(1+$E37),BT37*(1+$G37)))","v":0},0,0,0,0,0]
[null,null,null,null,0,null,0,null,{"$f":"IF(TRIM(H38)=\"\",0,IF(I10<IF(OR($F38=\"\",$F38=0),99,$F38),H38*(1+$E38),H38*(1+$G38)))","v":0},0,0,0,0,0,0,0,0,0,0,0,0,0,0,0,0,0,0,0,0,0,0,0,0,0,0,0,0,0,0,0,{"$f":"IF(TRIM(AN38)=\"\",0,IF(AO10<IF(OR($F38=\"\",$F38=0),99,$F38),AN38*(1+$E38),AN38*(1+$G38)))","v":0},0,0,0,0,0,0,0,0,0,0,0,0,0,0,0,0,0,0,0,0,0,0,0,0,0,0,0,0,0,0,0,{"$f":"IF(TRIM(BT38)=\"\",0,IF(BU10<IF(OR($F38=\"\",$F38=0),99,$F38),BT38*(1+$E38),BT38*(1+$G38)))","v":0},0,0,0,0,0]
[null,null,null,"その他一時的支出"]
[null,null,null,"支出合計",null,null,null,{"$f":"SUM(H31:H39)","v":0},{"$f":"SUM(I31:I39)","v":0},0,0,0,0,0,0,0,0,0,0,0,0,0,0,0,0,0,0,0,0,0,0,0,0,0,0,0,0,{"$f":"SUM(AL31:AL39)","v":0},{"$f":"SUM(AM31:AM39)","v":0},0,0,0,0,0,0,0,0,0,0,0,0,0,0,0,0,0,0,{"$f":"SUM(BF31:BF39)","v":0},{"$f":"SUM(BG31:BG39)","v":0},0,0,0,0,0,0,0,0,0,0,0,0,0,0,0,0,0,0,{"$f":"SUM(BZ31:BZ39)","v":0}]
[null,null,"年間収支",null,null,null,null,{"$f":"H30-H40","v":0},{"$f":"I30-I40","v":0},0,0,0,0,0,0,0,0,0,0,0,0,0,0,0,0,0,0,0,0,0,0,0,0,0,0,0,0,{"$f":"AL30-AL40","v":0},{"$f":"AM30-AM40","v":0},0,0,0,0,0,0,0,0,0,0,0,0,0,0,0,0,0,0,{"$f":"BF30-BF40","v":0},{"$f":"BG30-BG40","v":0},0,0,0,0,0,0,0,0,0,0,0,0,0,0,0,0,0,0,{"$f":"BZ30-BZ40","v":0}]
[null,null,"貯蓄残高",null,0,null,null,{"$f":"IF(ISBLANK('1-8-2.保有している金融商品、不動産 解決策導入後'!$E$27),0,'1-8-2.保有している金融商品、不動産 解決策導入後'!$E$27)+H41","v":0},{"$f":"IF(H42<0,H42+I41,H42*(1+$E42)+I41)","v":0},{"$f":"IF(I42<0,I42+J41,I42*(1+$E42)+J41)","v":0},0,0,0,0,0,0,0,0,0,0,0,0,0,0,0,0,0,0,0,0,0,0,0,0,0,0,0,{"$f":"IF(AK42<0,AK42+AL41,AK42*(1+$E42)+AL41)","v":0},{"$f":"IF(AL42<0,AL42+AM41,AL42*(1+$E42)+AM41)","v":0},{"$f":"IF(AM42<0,AM42+AN41,AM42*(1+$E42)+AN41)","v":0},{"$f":"IF(AN42<0,AN42+AO41,AN42*(1+$E42)+AO41)","v":0},{"$f":"IF(AO42<0,AO42+AP41,AO42*(1+$E42)+AP41)","v":0},{"$f":"IF(AP42<0,AP42+AQ41,AP42*(1+$E42)+AQ41)","v":0},{"$f":"IF(AQ42<0,AQ42+AR41,AQ42*(1+$E42)+AR41)","v":0},{"$f":"IF(AR42<0,AR42+AS41,AR42*(1+$E42)+AS41)","v":0},{"$f":"IF(AS42<0,AS42+AT41,AS42*(1+$E42)+AT41)","v":0},{"$f":"IF(AT42<0,AT42+AU41,AT42*(1+$E42)+AU41)","v":0},{"$f":"IF(AU42<0,AU42+AV41,AU42*(1+$E42)+AV41)","v":0},{"$f":"IF(AV42<0,AV42+AW41,AV42*(1+$E42)+AW41)","v":0},{"$f":"IF(AW42<0,AW42+AX41,AW42*(1+$E42)+AX41)","v":0},{"$f":"IF(AX42<0,AX42+AY41,AX42*(1+$E42)+AY41)","v":0},{"$f":"IF(AY42<0,AY42+AZ41,AY42*(1+$E42)+AZ41)","v":0},{"$f":"IF(AZ42<0,AZ42+BA41,AZ42*(1+$E42)+BA41)","v":0},{"$f":"IF(BA42<0,BA42+BB41,BA42*(1+$E42)+BB41)","v":0},{"$f":"IF(BB42<0,BB42+BC41,BB42*(1+$E42)+BC41)","v":0},{"$f":"IF(BC42<0,BC42+BD41,BC42*(1+$E42)+BD41)","v":0},{"$f":"IF(BD42<0,BD42+BE41,BD42*(1+$E42)+BE41)","v":0},{"$f":"IF(BE42<0,BE42+BF41,BE42*(1+$E42)+BF41)","v":0},{"$f":"IF(BF42<0,BF42+BG41,BF42*(1+$E42)+BG41)","v":0},{"$f":"IF(BG42<0,BG42+BH41,BG42*(1+$E42)+BH41)","v":0},{"$f":"IF(BH42<0,BH42+BI41,BH42*(1+$E42)+BI41)","v":0},{"$f":"IF(BI42<0,BI42+BJ41,BI42*(1+$E42)+BJ41)","v":0},{"$f":"IF(BJ42<0,BJ42+BK41,BJ42*(1+$E42)+BK41)","v":0},{"$f":"IF(BK42<0,BK42+BL41,BK42*(1+$E42)+BL41)","v":0},{"$f":"IF(BL42<0,BL42+BM41,BL42*(1+$E42)+BM41)","v":0},{"$f":"IF(BM42<0,BM42+BN41,BM42*(1+$E42)+BN41)","v":0},{"$f":"IF(BN42<0,BN42+BO41,BN42*(1+$E42)+BO41)","v":0},{"$f":"IF(BO42<0,BO42+BP41,BO42*(1+$E42)+BP41)","v":0},{"$f":"IF(BP42<0,BP42+BQ41,BP42*(1+$E42)+BQ41)","v":0},{"$f":"IF(BQ42<0,BQ42+BR41,BQ42*(1+$E42)+BR41)","v":0},{"$f":"IF(BR42<0,BR42+BS41,BR42*(1+$E42)+BS41)","v":0},{"$f":"IF(BS42<0,BS42+BT41,BS42*(1+$E42)+BT41)","v":0},{"$f":"IF(BT42<0,BT42+BU41,BT42*(1+$E42)+BU41)","v":0},{"$f":"IF(BU42<0,BU42+BV41,BU42*(1+$E42)+BV41)","v":0},{"$f":"IF(BV42<0,BV42+BW41,BV42*(1+$E42)+BW41)","v":0},{"$f":"IF(BW42<0,BW42+BX41,BW42*(1+$E42)+BX41)","v":0},{"$f":"IF(BX42<0,BX42+BY41,BX42*(1+$E42)+BY41)","v":0},{"$f":"IF(BY42<0,BY42+BZ41,BY42*(1+$E42)+BZ41)","v":0}]

{"sheet":"2-15.キャッシュフロー表 解決策導入後","index":27,"n_rows":37,"n_cols":88,"rows_kept":37,"cut":false,"hidden":false,"merged":[[14,58,14,87],[14,8,14,38],[4,2,4,7],[5,2,5,7],[6,2,13,2],[6,3,6,6],[7,3,7,6],[8,3,8,6],[9,3,9,6],[10,3,10,6],[11,3,11,6],[12,3,12,6],[13,3,13,6],[14,2,14,3],[14,5,14,7],[4,42,4,47],[15,2,24,2],[15,5,15,6],[16,5,16,6],[17,5,17,6],[18,5,18,6],[19,5,19,6],[20,5,20,6],[21,5,21,6],[22,5,22,6],[23,5,23,6],[24,3,24,7],[33,5,33,6],[34,3,34,7],[35,2,35,7],[36,2,36,6],[25,2,34,2],[25,5,25,6],[26,5,26,6],[27,5,27,6],[28,5,28,6],[29,5,29,6],[32,5,32,6],[30,5,30,6],[31,5,31,6],[5,42,5,47],[6,42,13,42],[6,43,6,46],[7,43,7,46],[8,43,8,46],[9,43,9,46],[10,43,10,46],[11,43,11,46],[12,43,12,46],[13,43,13,46],[14,42,14,43],[14,45,14,47],[15,42,24,42],[15,45,15,46],[16,45,16,46],[17,45,17,46],[18,45,18,46],[19,45,19,46],[20,45,20,46],[21,45,21,46],[22,45,22,46],[23,45,23,46],[24,43,24,47],[35,42,35,47],[36,42,36,46],[25,42,34,42],[25,45,25,46],[26,45,26,46],[27,45,27,46],[28,45,28,46],[29,45,29,46],[30,45,30,46],[31,45,31,46],[32,45,32,46],[33,45,33,46],[34,43,34,47]]}
[]
[]
[null,null,{"$f":"'1-12-2.キャッシュフロー表 解決策導入後'!C8","v":"Ⅷ．解決策導入後のキャッシュフロー表"},null,null,null,null,null,null,null,null,null,null,null,null,null,null,null,null,null,null,null,null,null,null,null,null,null,null,null,null,null,null,null,null,null,null,null,null,null,null,null,{"$f":"'1-12-1.キャッシュフロー表 現状'!AP8","v":0}]
[null,null,null,null,null,null,null,null,null,null,null,null,null,null,null,null,null,null,null,null,null,null,null,null,null,null,null,null,null,null,null,null,null,null,null,null,null,null,"（金額の単位：万円）",null,null,null,null,null,null,null,null,null,null,null,null,null,null,null,null,null,null,{"$f":"IF('1-12-2.キャッシュフロー表 解決策導入後'!AT9<>\"\",\"（金額の単位：万円）\",\"\")","v":""},null,null,null,null,null,null,null,null,null,{"$f":"IF('1-12-2.キャッシュフロー表 解決策導入後'!BD9<>\"\",\"（金額の単位：万円）\",\"\")","v":""},null,null,null,null,null,null,null,null,null,{"$f":"IF('1-12-2.キャッシュフロー表 解決策導入後'!BN9<>\"\",\"（金額の単位：万円）\",\"\")","v":""},null,null,null,null,null,null,null,null,null,{"$f":"IF('1-12-2.キャッシュフロー表 解決策導入後'!BZ9<>\"\",\"（金額の単位：万円）\",\"\")","v":""}]
[null,null,"経過年数",null,null,null,null,null,"現在",1,2,3,4,5,6,7,8,9,10,11,12,13,14,15,16,17,18,19,20,21,22,23,24,25,26,27,28,29,30,null,null,null,"経過年数",null,null,null,null,null,31,32,33,34,35,36,37,38,39,40,41,42,43,44,45,46,47,48,49,50,51,52,53,54,55,56,57,58,59,60,61,62,63,64,65,66,67,68,69,70]
[null,null,"西暦",null,null,null,null,null,{"$f":"IF(ISBLANK('1-12-2.キャッシュフロー表 解決策導入後'!H11),\"\",'1-12-2.キャッシュフロー表 解決策導入後'!H11)","v":""},{"$f":"IF(ISBLANK('1-12-2.キャッシュフロー表 解決策導入後'!I11),\"\",'1-12-2.キャッシュフロー表 解決策導入後'!I11)","v":""},{"$f":"IF(ISBLANK('1-12-2.キャッシュフロー表 解決策導入後'!J11),\"\",'1-12-2.キャッシュフロー表 解決策導入後'!J11)","v":""},{"$f":"IF(ISBLANK('1-12-2.キャッシュフロー表 解決策導入後'!K11),\"\",'1-12-2.キャッシュフロー表 解決策導入後'!K11)","v":""},{"$f":"IF(ISBLANK('1-12-2.キャッシュフロー表 解決策導入後'!L11),\"\",'1-12-2.キャッシュフロー表 解決策導入後'!L11)","v":""},{"$f":"IF(ISBLANK('1-12-2.キャッシュフロー表 解決策導入後'!M11),\"\",'1-12-2.キャッシュフロー表 解決策導入後'!M11)","v":""},{"$f":"IF(ISBLANK('1-12-2.キャッシュフロー表 解決策導入後'!N11),\"\",'1-12-2.キャッシュフロー表 解決策導入後'!N11)","v":""},{"$f":"IF(ISBLANK('1-12-2.キャッシュフロー表 解決策導入後'!O11),\"\",'1-12-2.キャッシュフロー表 解決策導入後'!O11)","v":""},{"$f":"IF(ISBLANK('1-12-2.キャッシュフロー表 解決策導入後'!P11),\"\",'1-12-2.キャッシュフロー表 解決策導入後'!P11)","v":""},{"$f":"IF(ISBLANK('1-12-2.キャッシュフロー表 解決策導入後'!Q11),\"\",'1-12-2.キャッシュフロー表 解決策導入後'!Q11)","v":""},{"$f":"IF(ISBLANK('1-12-2.キャッシュフロー表 解決策導入後'!R11),\"\",'1-12-2.キャッシュフロー表 解決策導入後'!R11)","v":""},{"$f":"IF(ISBLANK('1-12-2.キャッシュフロー表 解決策導入後'!S11),\"\",'1-12-2.キャッシュフロー表 解決策導入後'!S11)","v":""},{"$f":"IF(ISBLANK('1-12-2.キャッシュフロー表 解決策導入後'!T11),\"\",'1-12-2.キャッシュフロー表 解決策導入後'!T11)","v":""},{"$f":"IF(ISBLANK('1-12-2.キャッシュフロー表 解決策導入後'!U11),\"\",'1-12-2.キャッシュフロー表 解決策導入後'!U11)","v":""},{"$f":"IF(ISBLANK('1-12-2.キャッシュフロー表 解決策導入後'!V11),\"\",'1-12-2.キャッシュフロー表 解決策導入後'!V11)","v":""},{"$f":"IF(ISBLANK('1-12-2.キャッシュフロー表 解決策導入後'!W11),\"\",'1-12-2.キャッシュフロー表 解決策導入後'!W11)","v":""},{"$f":"IF(ISBLANK('1-12-2.キャッシュフロー表 解決策導入後'!X11),\"\",'1-12-2.キャッシュフロー表 解決策導入後'!X11)","v":""},{"$f":"IF(ISBLANK('1-12-2.キャッシュフロー表 解決策導入後'!Y11),\"\",'1-12-2.キャッシュフロー表 解決策導入後'!Y11)","v":""},{"$f":"IF(ISBLANK('1-12-2.キャッシュフロー表 解決策導入後'!Z11),\"\",'1-12-2.キャッシュフロー表 解決策導入後'!Z11)","v":""},{"$f":"IF(ISBLANK('1-12-2.キャッシュフロー表 解決策導入後'!AA11),\"\",'1-12-2.キャッシュフロー表 解決策導入後'!AA11)","v":""},{"$f":"IF(ISBLANK('1-12-2.キャッシュフロー表 解決策導入後'!AB11),\"\",'1-12-2.キャッシュフロー表 解決策導入後'!AB11)","v":""},{"$f":"IF(ISBLANK('1-12-2.キャッシュフロー表 解決策導入後'!AC11),\"\",'1-12-2.キャッシュフロー表 解決策導入後'!AC11)","v":""},{"$f":"IF(ISBLANK('1-12-2.キャッシュフロー表 解決策導入後'!AD11),\"\",'1-12-2.キャッシュフロー表 解決策導入後'!AD11)","v":""},{"$f":"IF(ISBLANK('1-12-2.キャッシュフロー表 解決策導入後'!AE11),\"\",'1-12-2.キャッシュフロー表 解決策導入後'!AE11)","v":""},{"$f":"IF(ISBLANK('1-12-2.キャッシュフロー表 解決策導入後'!AF11),\"\",'1-12-2.キャッシュフロー表 解決策導入後'!AF11)","v":""},{"$f":"IF(ISBLANK('1-12-2.キャッシュフロー表 解決策導入後'!AG11),\"\",'1-12-2.キャッシュフロー表 解決策導入後'!AG11)","v":""},{"$f":"IF(ISBLANK('1-12-2.キャッシュフロー表 解決策導入後'!AH11),\"\",'1-12-2.キャッシュフロー表 解決策導入後'!AH11)","v":""},{"$f":"IF(ISBLANK('1-12-2.キャッシュフロー表 解決策導入後'!AI11),\"\",'1-12-2.キャッシュフロー表 解決策導入後'!AI11)","v":""},{"$f":"IF(ISBLANK('1-12-2.キャッシュフロー表 解決策導入後'!AJ11),\"\",'1-12-2.キャッシュフロー表 解決策導入後'!AJ11)","v":""},{"$f":"IF(ISBLANK('1-12-2.キャッシュフロー表 解決策導入後'!AK11),\"\",'1-12-2.キャッシュフロー表 解決策導入後'!AK11)","v":""},{"$f":"IF(ISBLANK('1-12-2.キャッシュフロー表 解決策導入後'!AL11),\"\",'1-12-2.キャッシュフロー表 解決策導入後'!AL11)","v":""},null,null,null,"西暦",null,null,null,null,null,{"$f":"IF(ISBLANK('1-12-1.キャッシュフロー表 現状'!AM11),\"\",'1-12-1.キャッシュフロー表 現状'!AM11)","v":""},{"$f":"IF(ISBLANK('1-12-1.キャッシュフロー表 現状'!AN11),\"\",'1-12-1.キャッシュフロー表 現状'!AN11)","v":""},{"$f":"IF(ISBLANK('1-12-1.キャッシュフロー表 現状'!AO11),\"\",'1-12-1.キャッシュフロー表 現状'!AO11)","v":""},{"$f":"IF(ISBLANK('1-12-1.キャッシュフロー表 現状'!AP11),\"\",'1-12-1.キャッシュフロー表 現状'!AP11)","v":""},{"$f":"IF(ISBLANK('1-12-1.キャッシュフロー表 現状'!AQ11),\"\",'1-12-1.キャッシュフロー表 現状'!AQ11)","v":""},{"$f":"IF(ISBLANK('1-12-1.キャッシュフロー表 現状'!AR11),\"\",'1-12-1.キャッシュフロー表 現状'!AR11)","v":""},{"$f":"IF(ISBLANK('1-12-1.キャッシュフロー表 現状'!AS11),\"\",'1-12-1.キャッシュフロー表 現状'!AS11)","v":""},{"$f":"IF(ISBLANK('1-12-1.キャッシュフロー表 現状'!AT11),\"\",'1-12-1.キャッシュフロー表 現状'!AT11)","v":""},{"$f":"IF(ISBLANK('1-12-1.キャッシュフロー表 現状'!AU11),\"\",'1-12-1.キャッシュフロー表 現状'!AU11)","v":""},{"$f":"IF(ISBLANK('1-12-1.キャッシュフロー表 現状'!AV11),\"\",'1-12-1.キャッシュフロー表 現状'!AV11)","v":""},{"$f":"IF(ISBLANK('1-12-1.キャッシュフロー表 現状'!AW11),\"\",'1-12-1.キャッシュフロー表 現状'!AW11)","v":""},{"$f":"IF(ISBLANK('1-12-1.キャッシュフロー表 現状'!AX11),\"\",'1-12-1.キャッシュフロー表 現状'!AX11)","v":""},{"$f":"IF(ISBLANK('1-12-1.キャッシュフロー表 現状'!AY11),\"\",'1-12-1.キャッシュフロー表 現状'!AY11)","v":""},{"$f":"IF(ISBLANK('1-12-1.キャッシュフロー表 現状'!AZ11),\"\",'1-12-1.キャッシュフロー表 現状'!AZ11)","v":""},{"$f":"IF(ISBLANK('1-12-1.キャッシュフロー表 現状'!BA11),\"\",'1-12-1.キャッシュフロー表 現状'!BA11)","v":""},{"$f":"IF(ISBLANK('1-12-1.キャッシュフロー表 現状'!BB11),\"\",'1-12-1.キャッシュフロー表 現状'!BB11)","v":""},{"$f":"IF(ISBLANK('1-12-1.キャッシュフロー表 現状'!BC11),\"\",'1-12-1.キャッシュフロー表 現状'!BC11)","v":""},{"$f":"IF(ISBLANK('1-12-1.キャッシュフロー表 現状'!BD11),\"\",'1-12-1.キャッシュフロー表 現状'!BD11)","v":""},{"$f":"IF(ISBLANK('1-12-1.キャッシュフロー表 現状'!BE11),\"\",'1-12-1.キャッシュフロー表 現状'!BE11)","v":""},{"$f":"IF(ISBLANK('1-12-1.キャッシュフロー表 現状'!BF11),\"\",'1-12-1.キャッシュフロー表 現状'!BF11)","v":""},{"$f":"IF(ISBLANK('1-12-1.キャッシュフロー表 現状'!BG11),\"\",'1-12-1.キャッシュフロー表 現状'!BG11)","v":""},{"$f":"IF(ISBLANK('1-12-1.キャッシュフロー表 現状'!BH11),\"\",'1-12-1.キャッシュフロー表 現状'!BH11)","v":""},{"$f":"IF(ISBLANK('1-12-1.キャッシュフロー表 現状'!BI11),\"\",'1-12-1.キャッシュフロー表 現状'!BI11)","v":""},{"$f":"IF(ISBLANK('1-12-1.キャッシュフロー表 現状'!BJ11),\"\",'1-12-1.キャッシュフロー表 現状'!BJ11)","v":""},{"$f":"IF(ISBLANK('1-12-1.キャッシュフロー表 現状'!BK11),\"\",'1-12-1.キャッシュフロー表 現状'!BK11)","v":""},{"$f":"IF(ISBLANK('1-12-1.キャッシュフロー表 現状'!BL11),\"\",'1-12-1.キャッシュフロー表 現状'!BL11)","v":""},{"$f":"IF(ISBLANK('1-12-1.キャッシュフロー表 現状'!BM11),\"\",'1-12-1.キャッシュフロー表 現状'!BM11)","v":""},{"$f":"IF(ISBLANK('1-12-1.キャッシュフロー表 現状'!BN11),\"\",'1-12-1.キャッシュフロー表 現状'!BN11)","v":""},{"$f":"IF(ISBLANK('1-12-1.キャッシュフロー表 現状'!BO11),\"\",'1-12-1.キャッシュフロー表 現状'!BO11)","v":""},{"$f":"IF(ISBLANK('1-12-1.キャッシュフロー表 現状'!BP11),\"\",'1-12-1.キャッシュフロー表 現状'!BP11)","v":""},{"$f":"IF(ISBLANK('1-12-1.キャッシュフロー表 現状'!BQ11),\"\",'1-12-1.キャッシュフロー表 現状'!BQ11)","v":""},{"$f":"IF(ISBLANK('1-12-1.キャッシュフロー表 現状'!BR11),\"\",'1-12-1.キャッシュフロー表 現状'!BR11)","v":""},{"$f":"IF(ISBLANK('1-12-1.キャッシュフロー表 現状'!BS11),\"\",'1-12-1.キャッシュフロー表 現状'!BS11)","v":""},{"$f":"IF(ISBLANK('1-12-1.キャッシュフロー表 現状'!BT11),\"\",'1-12-1.キャッシュフロー表 現状'!BT11)","v":""},{"$f":"IF(ISBLANK('1-12-1.キャッシュフロー表 現状'!BU11),\"\",'1-12-1.キャッシュフロー表 現状'!BU11)","v":""},{"$f":"IF(ISBLANK('1-12-1.キャッシュフロー表 現状'!BV11),\"\",'1-12-1.キャッシュフロー表 現状'!BV11)","v":""},{"$f":"IF(ISBLANK('1-12-1.キャッシュフロー表 現状'!BW11),\"\",'1-12-1.キャッシュフロー表 現状'!BW11)","v":""},{"$f":"IF(ISBLANK('1-12-1.キャッシュフロー表 現状'!BX11),\"\",'1-12-1.キャッシュフロー表 現状'!BX11)","v":""},{"$f":"IF(ISBLANK('1-12-1.キャッシュフロー表 現状'!BY11),\"\",'1-12-1.キャッシュフロー表 現状'!BY11)","v":""},{"$f":"IF(ISBLANK('1-12-1.キャッシュフロー表 現状'!BZ11),\"\",'1-12-1.キャッシュフロー表 現状'!BZ11)","v":""}]
[null,null,"家族構成と年齢",{"$f":"IF(ISBLANK('1-12-2.キャッシュフロー表 解決策導入後'!D12),\"\",'1-12-2.キャッシュフロー表 解決策導入後'!D12)","v":""},null,null,null,{"$f":"IF(ISBLANK('1-12-2.キャッシュフロー表 解決策導入後'!G12),\"\",'1-12-2.キャッシュフロー表 解決策導入後'!G12)","v":""},{"$f":"IF(ISBLANK('1-12-2.キャッシュフロー表 解決策導入後'!H12),\"\",'1-12-2.キャッシュフロー表 解決策導入後'!H12)","v":""},{"$f":"IF(ISBLANK('1-12-2.キャッシュフロー表 解決策導入後'!I12),\"\",'1-12-2.キャッシュフロー表 解決策導入後'!I12)","v":""},{"$f":"IF(ISBLANK('1-12-2.キャッシュフロー表 解決策導入後'!J12),\"\",'1-12-2.キャッシュフロー表 解決策導入後'!J12)","v":""},{"$f":"IF(ISBLANK('1-12-2.キャッシュフロー表 解決策導入後'!K12),\"\",'1-12-2.キャッシュフロー表 解決策導入後'!K12)","v":""},{"$f":"IF(ISBLANK('1-12-2.キャッシュフロー表 解決策導入後'!L12),\"\",'1-12-2.キャッシュフロー表 解決策導入後'!L12)","v":""},{"$f":"IF(ISBLANK('1-12-2.キャッシュフロー表 解決策導入後'!M12),\"\",'1-12-2.キャッシュフロー表 解決策導入後'!M12)","v":""},{"$f":"IF(ISBLANK('1-12-2.キャッシュフロー表 解決策導入後'!N12),\"\",'1-12-2.キャッシュフロー表 解決策導入後'!N12)","v":""},{"$f":"IF(ISBLANK('1-12-2.キャッシュフロー表 解決策導入後'!O12),\"\",'1-12-2.キャッシュフロー表 解決策導入後'!O12)","v":""},{"$f":"IF(ISBLANK('1-12-2.キャッシュフロー表 解決策導入後'!P12),\"\",'1-12-2.キャッシュフロー表 解決策導入後'!P12)","v":""},{"$f":"IF(ISBLANK('1-12-2.キャッシュフロー表 解決策導入後'!Q12),\"\",'1-12-2.キャッシュフロー表 解決策導入後'!Q12)","v":""},{"$f":"IF(ISBLANK('1-12-2.キャッシュフロー表 解決策導入後'!R12),\"\",'1-12-2.キャッシュフロー表 解決策導入後'!R12)","v":""},{"$f":"IF(ISBLANK('1-12-2.キャッシュフロー表 解決策導入後'!S12),\"\",'1-12-2.キャッシュフロー表 解決策導入後'!S12)","v":""},{"$f":"IF(ISBLANK('1-12-2.キャッシュフロー表 解決策導入後'!T12),\"\",'1-12-2.キャッシュフロー表 解決策導入後'!T12)","v":""},{"$f":"IF(ISBLANK('1-12-2.キャッシュフロー表 解決策導入後'!U12),\"\",'1-12-2.キャッシュフロー表 解決策導入後'!U12)","v":""},{"$f":"IF(ISBLANK('1-12-2.キャッシュフロー表 解決策導入後'!V12),\"\",'1-12-2.キャッシュフロー表 解決策導入後'!V12)","v":""},{"$f":"IF(ISBLANK('1-12-2.キャッシュフロー表 解決策導入後'!W12),\"\",'1-12-2.キャッシュフロー表 解決策導入後'!W12)","v":""},{"$f":"IF(ISBLANK('1-12-2.キャッシュフロー表 解決策導入後'!X12),\"\",'1-12-2.キャッシュフロー表 解決策導入後'!X12)","v":""},{"$f":"IF(ISBLANK('1-12-2.キャッシュフロー表 解決策導入後'!Y12),\"\",'1-12-2.キャッシュフロー表 解決策導入後'!Y12)","v":""},{"$f":"IF(ISBLANK('1-12-2.キャッシュフロー表 解決策導入後'!Z12),\"\",'1-12-2.キャッシュフロー表 解決策導入後'!Z12)","v":""},{"$f":"IF(ISBLANK('1-12-2.キャッシュフロー表 解決策導入後'!AA12),\"\",'1-12-2.キャッシュフロー表 解決策導入後'!AA12)","v":""},{"$f":"IF(ISBLANK('1-12-2.キャッシュフロー表 解決策導入後'!AB12),\"\",'1-12-2.キャッシュフロー表 解決策導入後'!AB12)","v":""},{"$f":"IF(ISBLANK('1-12-2.キャッシュフロー表 解決策導入後'!AC12),\"\",'1-12-2.キャッシュフロー表 解決策導入後'!AC12)","v":""},{"$f":"IF(ISBLANK('1-12-2.キャッシュフロー表 解決策導入後'!AD12),\"\",'1-12-2.キャッシュフロー表 解決策導入後'!AD12)","v":""},{"$f":"IF(ISBLANK('1-12-2.キャッシュフロー表 解決策導入後'!AE12),\"\",'1-12-2.キャッシュフロー表 解決策導入後'!AE12)","v":""},{"$f":"IF(ISBLANK('1-12-2.キャッシュフロー表 解決策導入後'!AF12),\"\",'1-12-2.キャッシュフロー表 解決策導入後'!AF12)","v":""},{"$f":"IF(ISBLANK('1-12-2.キャッシュフロー表 解決策導入後'!AG12),\"\",'1-12-2.キャッシュフロー表 解決策導入後'!AG12)","v":""},{"$f":"IF(ISBLANK('1-12-2.キャッシュフロー表 解決策導入後'!AH12),\"\",'1-12-2.キャッシュフロー表 解決策導入後'!AH12)","v":""},{"$f":"IF(ISBLANK('1-12-2.キャッシュフロー表 解決策導入後'!AI12),\"\",'1-12-2.キャッシュフロー表 解決策導入後'!AI12)","v":""},{"$f":"IF(ISBLANK('1-12-2.キャッシュフロー表 解決策導入後'!AJ12),\"\",'1-12-2.キャッシュフロー表 解決策導入後'!AJ12)","v":""},{"$f":"IF(ISBLANK('1-12-2.キャッシュフロー表 解決策導入後'!AK12),\"\",'1-12-2.キャッシュフロー表 解決策導入後'!AK12)","v":""},{"$f":"IF(ISBLANK('1-12-2.キャッシュフロー表 解決策導入後'!AL12),\"\",'1-12-2.キャッシュフロー表 解決策導入後'!AL12)","v":""},null,null,null,"家族構成と年齢",{"$f":"IF(ISBLANK('1-12-2.キャッシュフロー表 解決策導入後'!D12),\"\",'1-12-2.キャッシュフロー表 解決策導入後'!D12)","v":""},null,null,null,{"$f":"IF(ISBLANK('1-12-2.キャッシュフロー表 解決策導入後'!G12),\"\",'1-12-2.キャッシュフロー表 解決策導入後'!G12)","v":""},{"$f":"IF(ISBLANK('1-12-2.キャッシュフロー表 解決策導入後'!AM12),\"\",'1-12-2.キャッシュフロー表 解決策導入後'!AM12)","v":""},{"$f":"IF(ISBLANK('1-12-2.キャッシュフロー表 解決策導入後'!AN12),\"\",'1-12-2.キャッシュフロー表 解決策導入後'!AN12)","v":""},{"$f":"IF(ISBLANK('1-12-2.キャッシュフロー表 解決策導入後'!AO12),\"\",'1-12-2.キャッシュフロー表 解決策導入後'!AO12)","v":""},{"$f":"IF(ISBLANK('1-12-2.キャッシュフロー表 解決策導入後'!AP12),\"\",'1-12-2.キャッシュフロー表 解決策導入後'!AP12)","v":""},{"$f":"IF(ISBLANK('1-12-2.キャッシュフロー表 解決策導入後'!AQ12),\"\",'1-12-2.キャッシュフロー表 解決策導入後'!AQ12)","v":""},{"$f":"IF(ISBLANK('1-12-2.キャッシュフロー表 解決策導入後'!AR12),\"\",'1-12-2.キャッシュフロー表 解決策導入後'!AR12)","v":""},{"$f":"IF(ISBLANK('1-12-2.キャッシュフロー表 解決策導入後'!AS12),\"\",'1-12-2.キャッシュフロー表 解決策導入後'!AS12)","v":""},{"$f":"IF(ISBLANK('1-12-2.キャッシュフロー表 解決策導入後'!AT12),\"\",'1-12-2.キャッシュフロー表 解決策導入後'!AT12)","v":""},{"$f":"IF(ISBLANK('1-12-2.キャッシュフロー表 解決策導入後'!AU12),\"\",'1-12-2.キャッシュフロー表 解決策導入後'!AU12)","v":""},{"$f":"IF(ISBLANK('1-12-2.キャッシュフロー表 解決策導入後'!AV12),\"\",'1-12-2.キャッシュフロー表 解決策導入後'!AV12)","v":""},{"$f":"IF(ISBLANK('1-12-2.キャッシュフロー表 解決策導入後'!AW12),\"\",'1-12-2.キャッシュフロー表 解決策導入後'!AW12)","v":""},{"$f":"IF(ISBLANK('1-12-2.キャッシュフロー表 解決策導入後'!AX12),\"\",'1-12-2.キャッシュフロー表 解決策導入後'!AX12)","v":""},{"$f":"IF(ISBLANK('1-12-2.キャッシュフロー表 解決策導入後'!AY12),\"\",'1-12-2.キャッシュフロー表 解決策導入後'!AY12)","v":""},{"$f":"IF(ISBLANK('1-12-2.キャッシュフロー表 解決策導入後'!AZ12),\"\",'1-12-2.キャッシュフロー表 解決策導入後'!AZ12)","v":""},{"$f":"IF(ISBLANK('1-12-2.キャッシュフロー表 解決策導入後'!BA12),\"\",'1-12-2.キャッシュフロー表 解決策導入後'!BA12)","v":""},{"$f":"IF(ISBLANK('1-12-2.キャッシュフロー表 解決策導入後'!BB12),\"\",'1-12-2.キャッシュフロー表 解決策導入後'!BB12)","v":""},{"$f":"IF(ISBLANK('1-12-2.キャッシュフロー表 解決策導入後'!BC12),\"\",'1-12-2.キャッシュフロー表 解決策導入後'!BC12)","v":""},{"$f":"IF(ISBLANK('1-12-2.キャッシュフロー表 解決策導入後'!BD12),\"\",'1-12-2.キャッシュフロー表 解決策導入後'!BD12)","v":""},{"$f":"IF(ISBLANK('1-12-2.キャッシュフロー表 解決策導入後'!BE12),\"\",'1-12-2.キャッシュフロー表 解決策導入後'!BE12)","v":""},{"$f":"IF(ISBLANK('1-12-2.キャッシュフロー表 解決策導入後'!BF12),\"\",'1-12-2.キャッシュフロー表 解決策導入後'!BF12)","v":""},{"$f":"IF(ISBLANK('1-12-2.キャッシュフロー表 解決策導入後'!BG12),\"\",'1-12-2.キャッシュフロー表 解決策導入後'!BG12)","v":""},{"$f":"IF(ISBLANK('1-12-2.キャッシュフロー表 解決策導入後'!BH12),\"\",'1-12-2.キャッシュフロー表 解決策導入後'!BH12)","v":""},{"$f":"IF(ISBLANK('1-12-2.キャッシュフロー表 解決策導入後'!BI12),\"\",'1-12-2.キャッシュフロー表 解決策導入後'!BI12)","v":""},{"$f":"IF(ISBLANK('1-12-2.キャッシュフロー表 解決策導入後'!BJ12),\"\",'1-12-2.キャッシュフロー表 解決策導入後'!BJ12)","v":""},{"$f":"IF(ISBLANK('1-12-2.キャッシュフロー表 解決策導入後'!BK12),\"\",'1-12-2.キャッシュフロー表 解決策導入後'!BK12)","v":""},{"$f":"IF(ISBLANK('1-12-2.キャッシュフロー表 解決策導入後'!BL12),\"\",'1-12-2.キャッシュフロー表 解決策導入後'!BL12)","v":""},{"$f":"IF(ISBLANK('1-12-2.キャッシュフロー表 解決策導入後'!BM12),\"\",'1-12-2.キャッシュフロー表 解決策導入後'!BM12)","v":""},{"$f":"IF(ISBLANK('1-12-2.キャッシュフロー表 解決策導入後'!BN12),\"\",'1-12-2.キャッシュフロー表 解決策導入後'!BN12)","v":""},{"$f":"IF(ISBLANK('1-12-2.キャッシュフロー表 解決策導入後'!BO12),\"\",'1-12-2.キャッシュフロー表 解決策導入後'!BO12)","v":""},{"$f":"IF(ISBLANK('1-12-2.キャッシュフロー表 解決策導入後'!BP12),\"\",'1-12-2.キャッシュフロー表 解決策導入後'!BP12)","v":""},{"$f":"IF(ISBLANK('1-12-2.キャッシュフロー表 解決策導入後'!BQ12),\"\",'1-12-2.キャッシュフロー表 解決策導入後'!BQ12)","v":""},{"$f":"IF(ISBLANK('1-12-2.キャッシュフロー表 解決策導入後'!BR12),\"\",'1-12-2.キャッシュフロー表 解決策導入後'!BR12)","v":""},{"$f":"IF(ISBLANK('1-12-2.キャッシュフロー表 解決策導入後'!BS12),\"\",'1-12-2.キャッシュフロー表 解決策導入後'!BS12)","v":""},{"$f":"IF(ISBLANK('1-12-2.キャッシュフロー表 解決策導入後'!BT12),\"\",'1-12-2.キャッシュフロー表 解決策導入後'!BT12)","v":""},{"$f":"IF(ISBLANK('1-12-2.キャッシュフロー表 解決策導入後'!BU12),\"\",'1-12-2.キャッシュフロー表 解決策導入後'!BU12)","v":""},{"$f":"IF(ISBLANK('1-12-2.キャッシュフロー表 解決策導入後'!BV12),\"\",'1-12-2.キャッシュフロー表 解決策導入後'!BV12)","v":""},{"$f":"IF(ISBLANK('1-12-2.キャッシュフロー表 解決策導入後'!BW12),\"\",'1-12-2.キャッシュフロー表 解決策導入後'!BW12)","v":""},{"$f":"IF(ISBLANK('1-12-2.キャッシュフロー表 解決策導入後'!BX12),\"\",'1-12-2.キャッシュフロー表 解決策導入後'!BX12)","v":""},{"$f":"IF(ISBLANK('1-12-2.キャッシュフロー表 解決策導入後'!BY12),\"\",'1-12-2.キャッシュフロー表 解決策導入後'!BY12)","v":""},{"$f":"IF(ISBLANK('1-12-2.キャッシュフロー表 解決策導入後'!BZ12),\"\",'1-12-2.キャッシュフロー表 解決策導入後'!BZ12)","v":""}]
[null,null,null,{"$f":"IF(ISBLANK('1-12-2.キャッシュフロー表 解決策導入後'!D13),\"\",'1-12-2.キャッシュフロー表 解決策導入後'!D13)","v":""},null,null,null,{"$f":"IF(ISBLANK('1-12-2.キャッシュフロー表 解決策導入後'!G13),\"\",'1-12-2.キャッシュフロー表 解決策導入後'!G13)","v":""},{"$f":"IF(ISBLANK('1-12-2.キャッシュフロー表 解決策導入後'!H13),\"\",'1-12-2.キャッシュフロー表 解決策導入後'!H13)","v":""},{"$f":"IF(ISBLANK('1-12-2.キャッシュフロー表 解決策導入後'!I13),\"\",'1-12-2.キャッシュフロー表 解決策導入後'!I13)","v":""},{"$f":"IF(ISBLANK('1-12-2.キャッシュフロー表 解決策導入後'!J13),\"\",'1-12-2.キャッシュフロー表 解決策導入後'!J13)","v":""},{"$f":"IF(ISBLANK('1-12-2.キャッシュフロー表 解決策導入後'!K13),\"\",'1-12-2.キャッシュフロー表 解決策導入後'!K13)","v":""},{"$f":"IF(ISBLANK('1-12-2.キャッシュフロー表 解決策導入後'!L13),\"\",'1-12-2.キャッシュフロー表 解決策導入後'!L13)","v":""},{"$f":"IF(ISBLANK('1-12-2.キャッシュフロー表 解決策導入後'!M13),\"\",'1-12-2.キャッシュフロー表 解決策導入後'!M13)","v":""},{"$f":"IF(ISBLANK('1-12-2.キャッシュフロー表 解決策導入後'!N13),\"\",'1-12-2.キャッシュフロー表 解決策導入後'!N13)","v":""},{"$f":"IF(ISBLANK('1-12-2.キャッシュフロー表 解決策導入後'!O13),\"\",'1-12-2.キャッシュフロー表 解決策導入後'!O13)","v":""},{"$f":"IF(ISBLANK('1-12-2.キャッシュフロー表 解決策導入後'!P13),\"\",'1-12-2.キャッシュフロー表 解決策導入後'!P13)","v":""},{"$f":"IF(ISBLANK('1-12-2.キャッシュフロー表 解決策導入後'!Q13),\"\",'1-12-2.キャッシュフロー表 解決策導入後'!Q13)","v":""},{"$f":"IF(ISBLANK('1-12-2.キャッシュフロー表 解決策導入後'!R13),\"\",'1-12-2.キャッシュフロー表 解決策導入後'!R13)","v":""},{"$f":"IF(ISBLANK('1-12-2.キャッシュフロー表 解決策導入後'!S13),\"\",'1-12-2.キャッシュフロー表 解決策導入後'!S13)","v":""},{"$f":"IF(ISBLANK('1-12-2.キャッシュフロー表 解決策導入後'!T13),\"\",'1-12-2.キャッシュフロー表 解決策導入後'!T13)","v":""},{"$f":"IF(ISBLANK('1-12-2.キャッシュフロー表 解決策導入後'!U13),\"\",'1-12-2.キャッシュフロー表 解決策導入後'!U13)","v":""},{"$f":"IF(ISBLANK('1-12-2.キャッシュフロー表 解決策導入後'!V13),\"\",'1-12-2.キャッシュフロー表 解決策導入後'!V13)","v":""},{"$f":"IF(ISBLANK('1-12-2.キャッシュフロー表 解決策導入後'!W13),\"\",'1-12-2.キャッシュフロー表 解決策導入後'!W13)","v":""},{"$f":"IF(ISBLANK('1-12-2.キャッシュフロー表 解決策導入後'!X13),\"\",'1-12-2.キャッシュフロー表 解決策導入後'!X13)","v":""},{"$f":"IF(ISBLANK('1-12-2.キャッシュフロー表 解決策導入後'!Y13),\"\",'1-12-2.キャッシュフロー表 解決策導入後'!Y13)","v":""},{"$f":"IF(ISBLANK('1-12-2.キャッシュフロー表 解決策導入後'!Z13),\"\",'1-12-2.キャッシュフロー表 解決策導入後'!Z13)","v":""},{"$f":"IF(ISBLANK('1-12-2.キャッシュフロー表 解決策導入後'!AA13),\"\",'1-12-2.キャッシュフロー表 解決策導入後'!AA13)","v":""},{"$f":"IF(ISBLANK('1-12-2.キャッシュフロー表 解決策導入後'!AB13),\"\",'1-12-2.キャッシュフロー表 解決策導入後'!AB13)","v":""},{"$f":"IF(ISBLANK('1-12-2.キャッシュフロー表 解決策導入後'!AC13),\"\",'1-12-2.キャッシュフロー表 解決策導入後'!AC13)","v":""},{"$f":"IF(ISBLANK('1-12-2.キャッシュフロー表 解決策導入後'!AD13),\"\",'1-12-2.キャッシュフロー表 解決策導入後'!AD13)","v":""},{"$f":"IF(ISBLANK('1-12-2.キャッシュフロー表 解決策導入後'!AE13),\"\",'1-12-2.キャッシュフロー表 解決策導入後'!AE13)","v":""},{"$f":"IF(ISBLANK('1-12-2.キャッシュフロー表 解決策導入後'!AF13),\"\",'1-12-2.キャッシュフロー表 解決策導入後'!AF13)","v":""},{"$f":"IF(ISBLANK('1-12-2.キャッシュフロー表 解決策導入後'!AG13),\"\",'1-12-2.キャッシュフロー表 解決策導入後'!AG13)","v":""},{"$f":"IF(ISBLANK('1-12-2.キャッシュフロー表 解決策導入後'!AH13),\"\",'1-12-2.キャッシュフロー表 解決策導入後'!AH13)","v":""},{"$f":"IF(ISBLANK('1-12-2.キャッシュフロー表 解決策導入後'!AI13),\"\",'1-12-2.キャッシュフロー表 解決策導入後'!AI13)","v":""},{"$f":"IF(ISBLANK('1-12-2.キャッシュフロー表 解決策導入後'!AJ13),\"\",'1-12-2.キャッシュフロー表 解決策導入後'!AJ13)","v":""},{"$f":"IF(ISBLANK('1-12-2.キャッシュフロー表 解決策導入後'!AK13),\"\",'1-12-2.キャッシュフロー表 解決策導入後'!AK13)","v":""},{"$f":"IF(ISBLANK('1-12-2.キャッシュフロー表 解決策導入後'!AL13),\"\",'1-12-2.キャッシュフロー表 解決策導入後'!AL13)","v":""},null,null,null,null,{"$f":"IF(ISBLANK('1-12-2.キャッシュフロー表 解決策導入後'!D13),\"\",'1-12-2.キャッシュフロー表 解決策導入後'!D13)","v":""},null,null,null,{"$f":"IF(ISBLANK('1-12-2.キャッシュフロー表 解決策導入後'!G13),\"\",'1-12-2.キャッシュフロー表 解決策導入後'!G13)","v":""},{"$f":"IF(ISBLANK('1-12-2.キャッシュフロー表 解決策導入後'!AM13),\"\",'1-12-2.キャッシュフロー表 解決策導入後'!AM13)","v":""},{"$f":"IF(ISBLANK('1-12-2.キャッシュフロー表 解決策導入後'!AN13),\"\",'1-12-2.キャッシュフロー表 解決策導入後'!AN13)","v":""},{"$f":"IF(ISBLANK('1-12-2.キャッシュフロー表 解決策導入後'!AO13),\"\",'1-12-2.キャッシュフロー表 解決策導入後'!AO13)","v":""},{"$f":"IF(ISBLANK('1-12-2.キャッシュフロー表 解決策導入後'!AP13),\"\",'1-12-2.キャッシュフロー表 解決策導入後'!AP13)","v":""},{"$f":"IF(ISBLANK('1-12-2.キャッシュフロー表 解決策導入後'!AQ13),\"\",'1-12-2.キャッシュフロー表 解決策導入後'!AQ13)","v":""},{"$f":"IF(ISBLANK('1-12-2.キャッシュフロー表 解決策導入後'!AR13),\"\",'1-12-2.キャッシュフロー表 解決策導入後'!AR13)","v":""},{"$f":"IF(ISBLANK('1-12-2.キャッシュフロー表 解決策導入後'!AS13),\"\",'1-12-2.キャッシュフロー表 解決策導入後'!AS13)","v":""},{"$f":"IF(ISBLANK('1-12-2.キャッシュフロー表 解決策導入後'!AT13),\"\",'1-12-2.キャッシュフロー表 解決策導入後'!AT13)","v":""},{"$f":"IF(ISBLANK('1-12-2.キャッシュフロー表 解決策導入後'!AU13),\"\",'1-12-2.キャッシュフロー表 解決策導入後'!AU13)","v":""},{"$f":"IF(ISBLANK('1-12-2.キャッシュフロー表 解決策導入後'!AV13),\"\",'1-12-2.キャッシュフロー表 解決策導入後'!AV13)","v":""},{"$f":"IF(ISBLANK('1-12-2.キャッシュフロー表 解決策導入後'!AW13),\"\",'1-12-2.キャッシュフロー表 解決策導入後'!AW13)","v":""},{"$f":"IF(ISBLANK('1-12-2.キャッシュフロー表 解決策導入後'!AX13),\"\",'1-12-2.キャッシュフロー表 解決策導入後'!AX13)","v":""},{"$f":"IF(ISBLANK('1-12-2.キャッシュフロー表 解決策導入後'!AY13),\"\",'1-12-2.キャッシュフロー表 解決策導入後'!AY13)","v":""},{"$f":"IF(ISBLANK('1-12-2.キャッシュフロー表 解決策導入後'!AZ13),\"\",'1-12-2.キャッシュフロー表 解決策導入後'!AZ13)","v":""},{"$f":"IF(ISBLANK('1-12-2.キャッシュフロー表 解決策導入後'!BA13),\"\",'1-12-2.キャッシュフロー表 解決策導入後'!BA13)","v":""},{"$f":"IF(ISBLANK('1-12-2.キャッシュフロー表 解決策導入後'!BB13),\"\",'1-12-2.キャッシュフロー表 解決策導入後'!BB13)","v":""},{"$f":"IF(ISBLANK('1-12-2.キャッシュフロー表 解決策導入後'!BC13),\"\",'1-12-2.キャッシュフロー表 解決策導入後'!BC13)","v":""},{"$f":"IF(ISBLANK('1-12-2.キャッシュフロー表 解決策導入後'!BD13),\"\",'1-12-2.キャッシュフロー表 解決策導入後'!BD13)","v":""},{"$f":"IF(ISBLANK('1-12-2.キャッシュフロー表 解決策導入後'!BE13),\"\",'1-12-2.キャッシュフロー表 解決策導入後'!BE13)","v":""},{"$f":"IF(ISBLANK('1-12-2.キャッシュフロー表 解決策導入後'!BF13),\"\",'1-12-2.キャッシュフロー表 解決策導入後'!BF13)","v":""},{"$f":"IF(ISBLANK('1-12-2.キャッシュフロー表 解決策導入後'!BG13),\"\",'1-12-2.キャッシュフロー表 解決策導入後'!BG13)","v":""},{"$f":"IF(ISBLANK('1-12-2.キャッシュフロー表 解決策導入後'!BH13),\"\",'1-12-2.キャッシュフロー表 解決策導入後'!BH13)","v":""},{"$f":"IF(ISBLANK('1-12-2.キャッシュフロー表 解決策導入後'!BI13),\"\",'1-12-2.キャッシュフロー表 解決策導入後'!BI13)","v":""},{"$f":"IF(ISBLANK('1-12-2.キャッシュフロー表 解決策導入後'!BJ13),\"\",'1-12-2.キャッシュフロー表 解決策導入後'!BJ13)","v":""},{"$f":"IF(ISBLANK('1-12-2.キャッシュフロー表 解決策導入後'!BK13),\"\",'1-12-2.キャッシュフロー表 解決策導入後'!BK13)","v":""},{"$f":"IF(ISBLANK('1-12-2.キャッシュフロー表 解決策導入後'!BL13),\"\",'1-12-2.キャッシュフロー表 解決策導入後'!BL13)","v":""},{"$f":"IF(ISBLANK('1-12-2.キャッシュフロー表 解決策導入後'!BM13),\"\",'1-12-2.キャッシュフロー表 解決策導入後'!BM13)","v":""},{"$f":"IF(ISBLANK('1-12-2.キャッシュフロー表 解決策導入後'!BN13),\"\",'1-12-2.キャッシュフロー表 解決策導入後'!BN13)","v":""},{"$f":"IF(ISBLANK('1-12-2.キャッシュフロー表 解決策導入後'!BO13),\"\",'1-12-2.キャッシュフロー表 解決策導入後'!BO13)","v":""},{"$f":"IF(ISBLANK('1-12-2.キャッシュフロー表 解決策導入後'!BP13),\"\",'1-12-2.キャッシュフロー表 解決策導入後'!BP13)","v":""},{"$f":"IF(ISBLANK('1-12-2.キャッシュフロー表 解決策導入後'!BQ13),\"\",'1-12-2.キャッシュフロー表 解決策導入後'!BQ13)","v":""},{"$f":"IF(ISBLANK('1-12-2.キャッシュフロー表 解決策導入後'!BR13),\"\",'1-12-2.キャッシュフロー表 解決策導入後'!BR13)","v":""},{"$f":"IF(ISBLANK('1-12-2.キャッシュフロー表 解決策導入後'!BS13),\"\",'1-12-2.キャッシュフロー表 解決策導入後'!BS13)","v":""},{"$f":"IF(ISBLANK('1-12-2.キャッシュフロー表 解決策導入後'!BT13),\"\",'1-12-2.キャッシュフロー表 解決策導入後'!BT13)","v":""},{"$f":"IF(ISBLANK('1-12-2.キャッシュフロー表 解決策導入後'!BU13),\"\",'1-12-2.キャッシュフロー表 解決策導入後'!BU13)","v":""},{"$f":"IF(ISBLANK('1-12-2.キャッシュフロー表 解決策導入後'!BV13),\"\",'1-12-2.キャッシュフロー表 解決策導入後'!BV13)","v":""},{"$f":"IF(ISBLANK('1-12-2.キャッシュフロー表 解決策導入後'!BW13),\"\",'1-12-2.キャッシュフロー表 解決策導入後'!BW13)","v":""},{"$f":"IF(ISBLANK('1-12-2.キャッシュフロー表 解決策導入後'!BX13),\"\",'1-12-2.キャッシュフロー表 解決策導入後'!BX13)","v":""},{"$f":"IF(ISBLANK('1-12-2.キャッシュフロー表 解決策導入後'!BY13),\"\",'1-12-2.キャッシュフロー表 解決策導入後'!BY13)","v":""},{"$f":"IF(ISBLANK('1-12-2.キャッシュフロー表 解決策導入後'!BZ13),\"\",'1-12-2.キャッシュフロー表 解決策導入後'!BZ13)","v":""}]
[null,null,null,{"$f":"IF(ISBLANK('1-12-2.キャッシュフロー表 解決策導入後'!D14),\"\",'1-12-2.キャッシュフロー表 解決策導入後'!D14)","v":""},null,null,null,{"$f":"IF(ISBLANK('1-12-2.キャッシュフロー表 解決策導入後'!G14),\"\",'1-12-2.キャッシュフロー表 解決策導入後'!G14)","v":""},{"$f":"IF(ISBLANK('1-12-2.キャッシュフロー表 解決策導入後'!H14),\"\",'1-12-2.キャッシュフロー表 解決策導入後'!H14)","v":""},{"$f":"IF(ISBLANK('1-12-2.キャッシュフロー表 解決策導入後'!I14),\"\",'1-12-2.キャッシュフロー表 解決策導入後'!I14)","v":""},{"$f":"IF(ISBLANK('1-12-2.キャッシュフロー表 解決策導入後'!J14),\"\",'1-12-2.キャッシュフロー表 解決策導入後'!J14)","v":""},{"$f":"IF(ISBLANK('1-12-2.キャッシュフロー表 解決策導入後'!K14),\"\",'1-12-2.キャッシュフロー表 解決策導入後'!K14)","v":""},{"$f":"IF(ISBLANK('1-12-2.キャッシュフロー表 解決策導入後'!L14),\"\",'1-12-2.キャッシュフロー表 解決策導入後'!L14)","v":""},{"$f":"IF(ISBLANK('1-12-2.キャッシュフロー表 解決策導入後'!M14),\"\",'1-12-2.キャッシュフロー表 解決策導入後'!M14)","v":""},{"$f":"IF(ISBLANK('1-12-2.キャッシュフロー表 解決策導入後'!N14),\"\",'1-12-2.キャッシュフロー表 解決策導入後'!N14)","v":""},{"$f":"IF(ISBLANK('1-12-2.キャッシュフロー表 解決策導入後'!O14),\"\",'1-12-2.キャッシュフロー表 解決策導入後'!O14)","v":""},{"$f":"IF(ISBLANK('1-12-2.キャッシュフロー表 解決策導入後'!P14),\"\",'1-12-2.キャッシュフロー表 解決策導入後'!P14)","v":""},{"$f":"IF(ISBLANK('1-12-2.キャッシュフロー表 解決策導入後'!Q14),\"\",'1-12-2.キャッシュフロー表 解決策導入後'!Q14)","v":""},{"$f":"IF(ISBLANK('1-12-2.キャッシュフロー表 解決策導入後'!R14),\"\",'1-12-2.キャッシュフロー表 解決策導入後'!R14)","v":""},{"$f":"IF(ISBLANK('1-12-2.キャッシュフロー表 解決策導入後'!S14),\"\",'1-12-2.キャッシュフロー表 解決策導入後'!S14)","v":""},{"$f":"IF(ISBLANK('1-12-2.キャッシュフロー表 解決策導入後'!T14),\"\",'1-12-2.キャッシュフロー表 解決策導入後'!T14)","v":""},{"$f":"IF(ISBLANK('1-12-2.キャッシュフロー表 解決策導入後'!U14),\"\",'1-12-2.キャッシュフロー表 解決策導入後'!U14)","v":""},{"$f":"IF(ISBLANK('1-12-2.キャッシュフロー表 解決策導入後'!V14),\"\",'1-12-2.キャッシュフロー表 解決策導入後'!V14)","v":""},{"$f":"IF(ISBLANK('1-12-2.キャッシュフロー表 解決策導入後'!W14),\"\",'1-12-2.キャッシュフロー表 解決策導入後'!W14)","v":""},{"$f":"IF(ISBLANK('1-12-2.キャッシュフロー表 解決策導入後'!X14),\"\",'1-12-2.キャッシュフロー表 解決策導入後'!X14)","v":""},{"$f":"IF(ISBLANK('1-12-2.キャッシュフロー表 解決策導入後'!Y14),\"\",'1-12-2.キャッシュフロー表 解決策導入後'!Y14)","v":""},{"$f":"IF(ISBLANK('1-12-2.キャッシュフロー表 解決策導入後'!Z14),\"\",'1-12-2.キャッシュフロー表 解決策導入後'!Z14)","v":""},{"$f":"IF(ISBLANK('1-12-2.キャッシュフロー表 解決策導入後'!AA14),\"\",'1-12-2.キャッシュフロー表 解決策導入後'!AA14)","v":""},{"$f":"IF(ISBLANK('1-12-2.キャッシュフロー表 解決策導入後'!AB14),\"\",'1-12-2.キャッシュフロー表 解決策導入後'!AB14)","v":""},{"$f":"IF(ISBLANK('1-12-2.キャッシュフロー表 解決策導入後'!AC14),\"\",'1-12-2.キャッシュフロー表 解決策導入後'!AC14)","v":""},{"$f":"IF(ISBLANK('1-12-2.キャッシュフロー表 解決策導入後'!AD14),\"\",'1-12-2.キャッシュフロー表 解決策導入後'!AD14)","v":""},{"$f":"IF(ISBLANK('1-12-2.キャッシュフロー表 解決策導入後'!AE14),\"\",'1-12-2.キャッシュフロー表 解決策導入後'!AE14)","v":""},{"$f":"IF(ISBLANK('1-12-2.キャッシュフロー表 解決策導入後'!AF14),\"\",'1-12-2.キャッシュフロー表 解決策導入後'!AF14)","v":""},{"$f":"IF(ISBLANK('1-12-2.キャッシュフロー表 解決策導入後'!AG14),\"\",'1-12-2.キャッシュフロー表 解決策導入後'!AG14)","v":""},{"$f":"IF(ISBLANK('1-12-2.キャッシュフロー表 解決策導入後'!AH14),\"\",'1-12-2.キャッシュフロー表 解決策導入後'!AH14)","v":""},{"$f":"IF(ISBLANK('1-12-2.キャッシュフロー表 解決策導入後'!AI14),\"\",'1-12-2.キャッシュフロー表 解決策導入後'!AI14)","v":""},{"$f":"IF(ISBLANK('1-12-2.キャッシュフロー表 解決策導入後'!AJ14),\"\",'1-12-2.キャッシュフロー表 解決策導入後'!AJ14)","v":""},{"$f":"IF(ISBLANK('1-12-2.キャッシュフロー表 解決策導入後'!AK14),\"\",'1-12-2.キャッシュフロー表 解決策導入後'!AK14)","v":""},{"$f":"IF(ISBLANK('1-12-2.キャッシュフロー表 解決策導入後'!AL14),\"\",'1-12-2.キャッシュフロー表 解決策導入後'!AL14)","v":""},null,null,null,null,{"$f":"IF(ISBLANK('1-12-2.キャッシュフロー表 解決策導入後'!D14),\"\",'1-12-2.キャッシュフロー表 解決策導入後'!D14)","v":""},null,null,null,{"$f":"IF(ISBLANK('1-12-2.キャッシュフロー表 解決策導入後'!G14),\"\",'1-12-2.キャッシュフロー表 解決策導入後'!G14)","v":""},{"$f":"IF(ISBLANK('1-12-2.キャッシュフロー表 解決策導入後'!AM14),\"\",'1-12-2.キャッシュフロー表 解決策導入後'!AM14)","v":""},{"$f":"IF(ISBLANK('1-12-2.キャッシュフロー表 解決策導入後'!AN14),\"\",'1-12-2.キャッシュフロー表 解決策導入後'!AN14)","v":""},{"$f":"IF(ISBLANK('1-12-2.キャッシュフロー表 解決策導入後'!AO14),\"\",'1-12-2.キャッシュフロー表 解決策導入後'!AO14)","v":""},{"$f":"IF(ISBLANK('1-12-2.キャッシュフロー表 解決策導入後'!AP14),\"\",'1-12-2.キャッシュフロー表 解決策導入後'!AP14)","v":""},{"$f":"IF(ISBLANK('1-12-2.キャッシュフロー表 解決策導入後'!AQ14),\"\",'1-12-2.キャッシュフロー表 解決策導入後'!AQ14)","v":""},{"$f":"IF(ISBLANK('1-12-2.キャッシュフロー表 解決策導入後'!AR14),\"\",'1-12-2.キャッシュフロー表 解決策導入後'!AR14)","v":""},{"$f":"IF(ISBLANK('1-12-2.キャッシュフロー表 解決策導入後'!AS14),\"\",'1-12-2.キャッシュフロー表 解決策導入後'!AS14)","v":""},{"$f":"IF(ISBLANK('1-12-2.キャッシュフロー表 解決策導入後'!AT14),\"\",'1-12-2.キャッシュフロー表 解決策導入後'!AT14)","v":""},{"$f":"IF(ISBLANK('1-12-2.キャッシュフロー表 解決策導入後'!AU14),\"\",'1-12-2.キャッシュフロー表 解決策導入後'!AU14)","v":""},{"$f":"IF(ISBLANK('1-12-2.キャッシュフロー表 解決策導入後'!AV14),\"\",'1-12-2.キャッシュフロー表 解決策導入後'!AV14)","v":""},{"$f":"IF(ISBLANK('1-12-2.キャッシュフロー表 解決策導入後'!AW14),\"\",'1-12-2.キャッシュフロー表 解決策導入後'!AW14)","v":""},{"$f":"IF(ISBLANK('1-12-2.キャッシュフロー表 解決策導入後'!AX14),\"\",'1-12-2.キャッシュフロー表 解決策導入後'!AX14)","v":""},{"$f":"IF(ISBLANK('1-12-2.キャッシュフロー表 解決策導入後'!AY14),\"\",'1-12-2.キャッシュフロー表 解決策導入後'!AY14)","v":""},{"$f":"IF(ISBLANK('1-12-2.キャッシュフロー表 解決策導入後'!AZ14),\"\",'1-12-2.キャッシュフロー表 解決策導入後'!AZ14)","v":""},{"$f":"IF(ISBLANK('1-12-2.キャッシュフロー表 解決策導入後'!BA14),\"\",'1-12-2.キャッシュフロー表 解決策導入後'!BA14)","v":""},{"$f":"IF(ISBLANK('1-12-2.キャッシュフロー表 解決策導入後'!BB14),\"\",'1-12-2.キャッシュフロー表 解決策導入後'!BB14)","v":""},{"$f":"IF(ISBLANK('1-12-2.キャッシュフロー表 解決策導入後'!BC14),\"\",'1-12-2.キャッシュフロー表 解決策導入後'!BC14)","v":""},{"$f":"IF(ISBLANK('1-12-2.キャッシュフロー表 解決策導入後'!BD14),\"\",'1-12-2.キャッシュフロー表 解決策導入後'!BD14)","v":""},{"$f":"IF(ISBLANK('1-12-2.キャッシュフロー表 解決策導入後'!BE14),\"\",'1-12-2.キャッシュフロー表 解決策導入後'!BE14)","v":""},{"$f":"IF(ISBLANK('1-12-2.キャッシュフロー表 解決策導入後'!BF14),\"\",'1-12-2.キャッシュフロー表 解決策導入後'!BF14)","v":""},{"$f":"IF(ISBLANK('1-12-2.キャッシュフロー表 解決策導入後'!BG14),\"\",'1-12-2.キャッシュフロー表 解決策導入後'!BG14)","v":""},{"$f":"IF(ISBLANK('1-12-2.キャッシュフロー表 解決策導入後'!BH14),\"\",'1-12-2.キャッシュフロー表 解決策導入後'!BH14)","v":""},{"$f":"IF(ISBLANK('1-12-2.キャッシュフロー表 解決策導入後'!BI14),\"\",'1-12-2.キャッシュフロー表 解決策導入後'!BI14)","v":""},{"$f":"IF(ISBLANK('1-12-2.キャッシュフロー表 解決策導入後'!BJ14),\"\",'1-12-2.キャッシュフロー表 解決策導入後'!BJ14)","v":""},{"$f":"IF(ISBLANK('1-12-2.キャッシュフロー表 解決策導入後'!BK14),\"\",'1-12-2.キャッシュフロー表 解決策導入後'!BK14)","v":""},{"$f":"IF(ISBLANK('1-12-2.キャッシュフロー表 解決策導入後'!BL14),\"\",'1-12-2.キャッシュフロー表 解決策導入後'!BL14)","v":""},{"$f":"IF(ISBLANK('1-12-2.キャッシュフロー表 解決策導入後'!BM14),\"\",'1-12-2.キャッシュフロー表 解決策導入後'!BM14)","v":""},{"$f":"IF(ISBLANK('1-12-2.キャッシュフロー表 解決策導入後'!BN14),\"\",'1-12-2.キャッシュフロー表 解決策導入後'!BN14)","v":""},{"$f":"IF(ISBLANK('1-12-2.キャッシュフロー表 解決策導入後'!BO14),\"\",'1-12-2.キャッシュフロー表 解決策導入後'!BO14)","v":""},{"$f":"IF(ISBLANK('1-12-2.キャッシュフロー表 解決策導入後'!BP14),\"\",'1-12-2.キャッシュフロー表 解決策導入後'!BP14)","v":""},{"$f":"IF(ISBLANK('1-12-2.キャッシュフロー表 解決策導入後'!BQ14),\"\",'1-12-2.キャッシュフロー表 解決策導入後'!BQ14)","v":""},{"$f":"IF(ISBLANK('1-12-2.キャッシュフロー表 解決策導入後'!BR14),\"\",'1-12-2.キャッシュフロー表 解決策導入後'!BR14)","v":""},{"$f":"IF(ISBLANK('1-12-2.キャッシュフロー表 解決策導入後'!BS14),\"\",'1-12-2.キャッシュフロー表 解決策導入後'!BS14)","v":""},{"$f":"IF(ISBLANK('1-12-2.キャッシュフロー表 解決策導入後'!BT14),\"\",'1-12-2.キャッシュフロー表 解決策導入後'!BT14)","v":""},{"$f":"IF(ISBLANK('1-12-2.キャッシュフロー表 解決策導入後'!BU14),\"\",'1-12-2.キャッシュフロー表 解決策導入後'!BU14)","v":""},{"$f":"IF(ISBLANK('1-12-2.キャッシュフロー表 解決策導入後'!BV14),\"\",'1-12-2.キャッシュフロー表 解決策導入後'!BV14)","v":""},{"$f":"IF(ISBLANK('1-12-2.キャッシュフロー表 解決策導入後'!BW14),\"\",'1-12-2.キャッシュフロー表 解決策導入後'!BW14)","v":""},{"$f":"IF(ISBLANK('1-12-2.キャッシュフロー表 解決策導入後'!BX14),\"\",'1-12-2.キャッシュフロー表 解決策導入後'!BX14)","v":""},{"$f":"IF(ISBLANK('1-12-2.キャッシュフロー表 解決策導入後'!BY14),\"\",'1-12-2.キャッシュフロー表 解決策導入後'!BY14)","v":""},{"$f":"IF(ISBLANK('1-12-2.キャッシュフロー表 解決策導入後'!BZ14),\"\",'1-12-2.キャッシュフロー表 解決策導入後'!BZ14)","v":""}]
[null,null,null,{"$f":"IF(ISBLANK('1-12-2.キャッシュフロー表 解決策導入後'!D15),\"\",'1-12-2.キャッシュフロー表 解決策導入後'!D15)","v":""},null,null,null,{"$f":"IF(ISBLANK('1-12-2.キャッシュフロー表 解決策導入後'!G15),\"\",'1-12-2.キャッシュフロー表 解決策導入後'!G15)","v":""},{"$f":"IF(ISBLANK('1-12-2.キャッシュフロー表 解決策導入後'!H15),\"\",'1-12-2.キャッシュフロー表 解決策導入後'!H15)","v":""},{"$f":"IF(ISBLANK('1-12-2.キャッシュフロー表 解決策導入後'!I15),\"\",'1-12-2.キャッシュフロー表 解決策導入後'!I15)","v":""},{"$f":"IF(ISBLANK('1-12-2.キャッシュフロー表 解決策導入後'!J15),\"\",'1-12-2.キャッシュフロー表 解決策導入後'!J15)","v":""},{"$f":"IF(ISBLANK('1-12-2.キャッシュフロー表 解決策導入後'!K15),\"\",'1-12-2.キャッシュフロー表 解決策導入後'!K15)","v":""},{"$f":"IF(ISBLANK('1-12-2.キャッシュフロー表 解決策導入後'!L15),\"\",'1-12-2.キャッシュフロー表 解決策導入後'!L15)","v":""},{"$f":"IF(ISBLANK('1-12-2.キャッシュフロー表 解決策導入後'!M15),\"\",'1-12-2.キャッシュフロー表 解決策導入後'!M15)","v":""},{"$f":"IF(ISBLANK('1-12-2.キャッシュフロー表 解決策導入後'!N15),\"\",'1-12-2.キャッシュフロー表 解決策導入後'!N15)","v":""},{"$f":"IF(ISBLANK('1-12-2.キャッシュフロー表 解決策導入後'!O15),\"\",'1-12-2.キャッシュフロー表 解決策導入後'!O15)","v":""},{"$f":"IF(ISBLANK('1-12-2.キャッシュフロー表 解決策導入後'!P15),\"\",'1-12-2.キャッシュフロー表 解決策導入後'!P15)","v":""},{"$f":"IF(ISBLANK('1-12-2.キャッシュフロー表 解決策導入後'!Q15),\"\",'1-12-2.キャッシュフロー表 解決策導入後'!Q15)","v":""},{"$f":"IF(ISBLANK('1-12-2.キャッシュフロー表 解決策導入後'!R15),\"\",'1-12-2.キャッシュフロー表 解決策導入後'!R15)","v":""},{"$f":"IF(ISBLANK('1-12-2.キャッシュフロー表 解決策導入後'!S15),\"\",'1-12-2.キャッシュフロー表 解決策導入後'!S15)","v":""},{"$f":"IF(ISBLANK('1-12-2.キャッシュフロー表 解決策導入後'!T15),\"\",'1-12-2.キャッシュフロー表 解決策導入後'!T15)","v":""},{"$f":"IF(ISBLANK('1-12-2.キャッシュフロー表 解決策導入後'!U15),\"\",'1-12-2.キャッシュフロー表 解決策導入後'!U15)","v":""},{"$f":"IF(ISBLANK('1-12-2.キャッシュフロー表 解決策導入後'!V15),\"\",'1-12-2.キャッシュフロー表 解決策導入後'!V15)","v":""},{"$f":"IF(ISBLANK('1-12-2.キャッシュフロー表 解決策導入後'!W15),\"\",'1-12-2.キャッシュフロー表 解決策導入後'!W15)","v":""},{"$f":"IF(ISBLANK('1-12-2.キャッシュフロー表 解決策導入後'!X15),\"\",'1-12-2.キャッシュフロー表 解決策導入後'!X15)","v":""},{"$f":"IF(ISBLANK('1-12-2.キャッシュフロー表 解決策導入後'!Y15),\"\",'1-12-2.キャッシュフロー表 解決策導入後'!Y15)","v":""},{"$f":"IF(ISBLANK('1-12-2.キャッシュフロー表 解決策導入後'!Z15),\"\",'1-12-2.キャッシュフロー表 解決策導入後'!Z15)","v":""},{"$f":"IF(ISBLANK('1-12-2.キャッシュフロー表 解決策導入後'!AA15),\"\",'1-12-2.キャッシュフロー表 解決策導入後'!AA15)","v":""},{"$f":"IF(ISBLANK('1-12-2.キャッシュフロー表 解決策導入後'!AB15),\"\",'1-12-2.キャッシュフロー表 解決策導入後'!AB15)","v":""},{"$f":"IF(ISBLANK('1-12-2.キャッシュフロー表 解決策導入後'!AC15),\"\",'1-12-2.キャッシュフロー表 解決策導入後'!AC15)","v":""},{"$f":"IF(ISBLANK('1-12-2.キャッシュフロー表 解決策導入後'!AD15),\"\",'1-12-2.キャッシュフロー表 解決策導入後'!AD15)","v":""},{"$f":"IF(ISBLANK('1-12-2.キャッシュフロー表 解決策導入後'!AE15),\"\",'1-12-2.キャッシュフロー表 解決策導入後'!AE15)","v":""},{"$f":"IF(ISBLANK('1-12-2.キャッシュフロー表 解決策導入後'!AF15),\"\",'1-12-2.キャッシュフロー表 解決策導入後'!AF15)","v":""},{"$f":"IF(ISBLANK('1-12-2.キャッシュフロー表 解決策導入後'!AG15),\"\",'1-12-2.キャッシュフロー表 解決策導入後'!AG15)","v":""},{"$f":"IF(ISBLANK('1-12-2.キャッシュフロー表 解決策導入後'!AH15),\"\",'1-12-2.キャッシュフロー表 解決策導入後'!AH15)","v":""},{"$f":"IF(ISBLANK('1-12-2.キャッシュフロー表 解決策導入後'!AI15),\"\",'1-12-2.キャッシュフロー表 解決策導入後'!AI15)","v":""},{"$f":"IF(ISBLANK('1-12-2.キャッシュフロー表 解決策導入後'!AJ15),\"\",'1-12-2.キャッシュフロー表 解決策導入後'!AJ15)","v":""},{"$f":"IF(ISBLANK('1-12-2.キャッシュフロー表 解決策導入後'!AK15),\"\",'1-12-2.キャッシュフロー表 解決策導入後'!AK15)","v":""},{"$f":"IF(ISBLANK('1-12-2.キャッシュフロー表 解決策導入後'!AL15),\"\",'1-12-2.キャッシュフロー表 解決策導入後'!AL15)","v":""},null,null,null,null,{"$f":"IF(ISBLANK('1-12-2.キャッシュフロー表 解決策導入後'!D15),\"\",'1-12-2.キャッシュフロー表 解決策導入後'!D15)","v":""},null,null,null,{"$f":"IF(ISBLANK('1-12-2.キャッシュフロー表 解決策導入後'!G15),\"\",'1-12-2.キャッシュフロー表 解決策導入後'!G15)","v":""},{"$f":"IF(ISBLANK('1-12-2.キャッシュフロー表 解決策導入後'!AM15),\"\",'1-12-2.キャッシュフロー表 解決策導入後'!AM15)","v":""},{"$f":"IF(ISBLANK('1-12-2.キャッシュフロー表 解決策導入後'!AN15),\"\",'1-12-2.キャッシュフロー表 解決策導入後'!AN15)","v":""},{"$f":"IF(ISBLANK('1-12-2.キャッシュフロー表 解決策導入後'!AO15),\"\",'1-12-2.キャッシュフロー表 解決策導入後'!AO15)","v":""},{"$f":"IF(ISBLANK('1-12-2.キャッシュフロー表 解決策導入後'!AP15),\"\",'1-12-2.キャッシュフロー表 解決策導入後'!AP15)","v":""},{"$f":"IF(ISBLANK('1-12-2.キャッシュフロー表 解決策導入後'!AQ15),\"\",'1-12-2.キャッシュフロー表 解決策導入後'!AQ15)","v":""},{"$f":"IF(ISBLANK('1-12-2.キャッシュフロー表 解決策導入後'!AR15),\"\",'1-12-2.キャッシュフロー表 解決策導入後'!AR15)","v":""},{"$f":"IF(ISBLANK('1-12-2.キャッシュフロー表 解決策導入後'!AS15),\"\",'1-12-2.キャッシュフロー表 解決策導入後'!AS15)","v":""},{"$f":"IF(ISBLANK('1-12-2.キャッシュフロー表 解決策導入後'!AT15),\"\",'1-12-2.キャッシュフロー表 解決策導入後'!AT15)","v":""},{"$f":"IF(ISBLANK('1-12-2.キャッシュフロー表 解決策導入後'!AU15),\"\",'1-12-2.キャッシュフロー表 解決策導入後'!AU15)","v":""},{"$f":"IF(ISBLANK('1-12-2.キャッシュフロー表 解決策導入後'!AV15),\"\",'1-12-2.キャッシュフロー表 解決策導入後'!AV15)","v":""},{"$f":"IF(ISBLANK('1-12-2.キャッシュフロー表 解決策導入後'!AW15),\"\",'1-12-2.キャッシュフロー表 解決策導入後'!AW15)","v":""},{"$f":"IF(ISBLANK('1-12-2.キャッシュフロー表 解決策導入後'!AX15),\"\",'1-12-2.キャッシュフロー表 解決策導入後'!AX15)","v":""},{"$f":"IF(ISBLANK('1-12-2.キャッシュフロー表 解決策導入後'!AY15),\"\",'1-12-2.キャッシュフロー表 解決策導入後'!AY15)","v":""},{"$f":"IF(ISBLANK('1-12-2.キャッシュフロー表 解決策導入後'!AZ15),\"\",'1-12-2.キャッシュフロー表 解決策導入後'!AZ15)","v":""},{"$f":"IF(ISBLANK('1-12-2.キャッシュフロー表 解決策導入後'!BA15),\"\",'1-12-2.キャッシュフロー表 解決策導入後'!BA15)","v":""},{"$f":"IF(ISBLANK('1-12-2.キャッシュフロー表 解決策導入後'!BB15),\"\",'1-12-2.キャッシュフロー表 解決策導入後'!BB15)","v":""},{"$f":"IF(ISBLANK('1-12-2.キャッシュフロー表 解決策導入後'!BC15),\"\",'1-12-2.キャッシュフロー表 解決策導入後'!BC15)","v":""},{"$f":"IF(ISBLANK('1-12-2.キャッシュフロー表 解決策導入後'!BD15),\"\",'1-12-2.キャッシュフロー表 解決策導入後'!BD15)","v":""},{"$f":"IF(ISBLANK('1-12-2.キャッシュフロー表 解決策導入後'!BE15),\"\",'1-12-2.キャッシュフロー表 解決策導入後'!BE15)","v":""},{"$f":"IF(ISBLANK('1-12-2.キャッシュフロー表 解決策導入後'!BF15),\"\",'1-12-2.キャッシュフロー表 解決策導入後'!BF15)","v":""},{"$f":"IF(ISBLANK('1-12-2.キャッシュフロー表 解決策導入後'!BG15),\"\",'1-12-2.キャッシュフロー表 解決策導入後'!BG15)","v":""},{"$f":"IF(ISBLANK('1-12-2.キャッシュフロー表 解決策導入後'!BH15),\"\",'1-12-2.キャッシュフロー表 解決策導入後'!BH15)","v":""},{"$f":"IF(ISBLANK('1-12-2.キャッシュフロー表 解決策導入後'!BI15),\"\",'1-12-2.キャッシュフロー表 解決策導入後'!BI15)","v":""},{"$f":"IF(ISBLANK('1-12-2.キャッシュフロー表 解決策導入後'!BJ15),\"\",'1-12-2.キャッシュフロー表 解決策導入後'!BJ15)","v":""},{"$f":"IF(ISBLANK('1-12-2.キャッシュフロー表 解決策導入後'!BK15),\"\",'1-12-2.キャッシュフロー表 解決策導入後'!BK15)","v":""},{"$f":"IF(ISBLANK('1-12-2.キャッシュフロー表 解決策導入後'!BL15),\"\",'1-12-2.キャッシュフロー表 解決策導入後'!BL15)","v":""},{"$f":"IF(ISBLANK('1-12-2.キャッシュフロー表 解決策導入後'!BM15),\"\",'1-12-2.キャッシュフロー表 解決策導入後'!BM15)","v":""},{"$f":"IF(ISBLANK('1-12-2.キャッシュフロー表 解決策導入後'!BN15),\"\",'1-12-2.キャッシュフロー表 解決策導入後'!BN15)","v":""},{"$f":"IF(ISBLANK('1-12-2.キャッシュフロー表 解決策導入後'!BO15),\"\",'1-12-2.キャッシュフロー表 解決策導入後'!BO15)","v":""},{"$f":"IF(ISBLANK('1-12-2.キャッシュフロー表 解決策導入後'!BP15),\"\",'1-12-2.キャッシュフロー表 解決策導入後'!BP15)","v":""},{"$f":"IF(ISBLANK('1-12-2.キャッシュフロー表 解決策導入後'!BQ15),\"\",'1-12-2.キャッシュフロー表 解決策導入後'!BQ15)","v":""},{"$f":"IF(ISBLANK('1-12-2.キャッシュフロー表 解決策導入後'!BR15),\"\",'1-12-2.キャッシュフロー表 解決策導入後'!BR15)","v":""},{"$f":"IF(ISBLANK('1-12-2.キャッシュフロー表 解決策導入後'!BS15),\"\",'1-12-2.キャッシュフロー表 解決策導入後'!BS15)","v":""},{"$f":"IF(ISBLANK('1-12-2.キャッシュフロー表 解決策導入後'!BT15),\"\",'1-12-2.キャッシュフロー表 解決策導入後'!BT15)","v":""},{"$f":"IF(ISBLANK('1-12-2.キャッシュフロー表 解決策導入後'!BU15),\"\",'1-12-2.キャッシュフロー表 解決策導入後'!BU15)","v":""},{"$f":"IF(ISBLANK('1-12-2.キャッシュフロー表 解決策導入後'!BV15),\"\",'1-12-2.キャッシュフロー表 解決策導入後'!BV15)","v":""},{"$f":"IF(ISBLANK('1-12-2.キャッシュフロー表 解決策導入後'!BW15),\"\",'1-12-2.キャッシュフロー表 解決策導入後'!BW15)","v":""},{"$f":"IF(ISBLANK('1-12-2.キャッシュフロー表 解決策導入後'!BX15),\"\",'1-12-2.キャッシュフロー表 解決策導入後'!BX15)","v":""},{"$f":"IF(ISBLANK('1-12-2.キャッシュフロー表 解決策導入後'!BY15),\"\",'1-12-2.キャッシュフロー表 解決策導入後'!BY15)","v":""},{"$f":"IF(ISBLANK('1-12-2.キャッシュフロー表 解決策導入後'!BZ15),\"\",'1-12-2.キャッシュフロー表 解決策導入後'!BZ15)","v":""}]
[null,null,null,{"$f":"IF(ISBLANK('1-12-2.キャッシュフロー表 解決策導入後'!D16),\"\",'1-12-2.キャッシュフロー表 解決策導入後'!D16)","v":""},null,null,null,{"$f":"IF(ISBLANK('1-12-2.キャッシュフロー表 解決策導入後'!G16),\"\",'1-12-2.キャッシュフロー表 解決策導入後'!G16)","v":""},{"$f":"IF(ISBLANK('1-12-2.キャッシュフロー表 解決策導入後'!H16),\"\",'1-12-2.キャッシュフロー表 解決策導入後'!H16)","v":""},{"$f":"IF(ISBLANK('1-12-2.キャッシュフロー表 解決策導入後'!I16),\"\",'1-12-2.キャッシュフロー表 解決策導入後'!I16)","v":""},{"$f":"IF(ISBLANK('1-12-2.キャッシュフロー表 解決策導入後'!J16),\"\",'1-12-2.キャッシュフロー表 解決策導入後'!J16)","v":""},{"$f":"IF(ISBLANK('1-12-2.キャッシュフロー表 解決策導入後'!K16),\"\",'1-12-2.キャッシュフロー表 解決策導入後'!K16)","v":""},{"$f":"IF(ISBLANK('1-12-2.キャッシュフロー表 解決策導入後'!L16),\"\",'1-12-2.キャッシュフロー表 解決策導入後'!L16)","v":""},{"$f":"IF(ISBLANK('1-12-2.キャッシュフロー表 解決策導入後'!M16),\"\",'1-12-2.キャッシュフロー表 解決策導入後'!M16)","v":""},{"$f":"IF(ISBLANK('1-12-2.キャッシュフロー表 解決策導入後'!N16),\"\",'1-12-2.キャッシュフロー表 解決策導入後'!N16)","v":""},{"$f":"IF(ISBLANK('1-12-2.キャッシュフロー表 解決策導入後'!O16),\"\",'1-12-2.キャッシュフロー表 解決策導入後'!O16)","v":""},{"$f":"IF(ISBLANK('1-12-2.キャッシュフロー表 解決策導入後'!P16),\"\",'1-12-2.キャッシュフロー表 解決策導入後'!P16)","v":""},{"$f":"IF(ISBLANK('1-12-2.キャッシュフロー表 解決策導入後'!Q16),\"\",'1-12-2.キャッシュフロー表 解決策導入後'!Q16)","v":""},{"$f":"IF(ISBLANK('1-12-2.キャッシュフロー表 解決策導入後'!R16),\"\",'1-12-2.キャッシュフロー表 解決策導入後'!R16)","v":""},{"$f":"IF(ISBLANK('1-12-2.キャッシュフロー表 解決策導入後'!S16),\"\",'1-12-2.キャッシュフロー表 解決策導入後'!S16)","v":""},{"$f":"IF(ISBLANK('1-12-2.キャッシュフロー表 解決策導入後'!T16),\"\",'1-12-2.キャッシュフロー表 解決策導入後'!T16)","v":""},{"$f":"IF(ISBLANK('1-12-2.キャッシュフロー表 解決策導入後'!U16),\"\",'1-12-2.キャッシュフロー表 解決策導入後'!U16)","v":""},{"$f":"IF(ISBLANK('1-12-2.キャッシュフロー表 解決策導入後'!V16),\"\",'1-12-2.キャッシュフロー表 解決策導入後'!V16)","v":""},{"$f":"IF(ISBLANK('1-12-2.キャッシュフロー表 解決策導入後'!W16),\"\",'1-12-2.キャッシュフロー表 解決策導入後'!W16)","v":""},{"$f":"IF(ISBLANK('1-12-2.キャッシュフロー表 解決策導入後'!X16),\"\",'1-12-2.キャッシュフロー表 解決策導入後'!X16)","v":""},{"$f":"IF(ISBLANK('1-12-2.キャッシュフロー表 解決策導入後'!Y16),\"\",'1-12-2.キャッシュフロー表 解決策導入後'!Y16)","v":""},{"$f":"IF(ISBLANK('1-12-2.キャッシュフロー表 解決策導入後'!Z16),\"\",'1-12-2.キャッシュフロー表 解決策導入後'!Z16)","v":""},{"$f":"IF(ISBLANK('1-12-2.キャッシュフロー表 解決策導入後'!AA16),\"\",'1-12-2.キャッシュフロー表 解決策導入後'!AA16)","v":""},{"$f":"IF(ISBLANK('1-12-2.キャッシュフロー表 解決策導入後'!AB16),\"\",'1-12-2.キャッシュフロー表 解決策導入後'!AB16)","v":""},{"$f":"IF(ISBLANK('1-12-2.キャッシュフロー表 解決策導入後'!AC16),\"\",'1-12-2.キャッシュフロー表 解決策導入後'!AC16)","v":""},{"$f":"IF(ISBLANK('1-12-2.キャッシュフロー表 解決策導入後'!AD16),\"\",'1-12-2.キャッシュフロー表 解決策導入後'!AD16)","v":""},{"$f":"IF(ISBLANK('1-12-2.キャッシュフロー表 解決策導入後'!AE16),\"\",'1-12-2.キャッシュフロー表 解決策導入後'!AE16)","v":""},{"$f":"IF(ISBLANK('1-12-2.キャッシュフロー表 解決策導入後'!AF16),\"\",'1-12-2.キャッシュフロー表 解決策導入後'!AF16)","v":""},{"$f":"IF(ISBLANK('1-12-2.キャッシュフロー表 解決策導入後'!AG16),\"\",'1-12-2.キャッシュフロー表 解決策導入後'!AG16)","v":""},{"$f":"IF(ISBLANK('1-12-2.キャッシュフロー表 解決策導入後'!AH16),\"\",'1-12-2.キャッシュフロー表 解決策導入後'!AH16)","v":""},{"$f":"IF(ISBLANK('1-12-2.キャッシュフロー表 解決策導入後'!AI16),\"\",'1-12-2.キャッシュフロー表 解決策導入後'!AI16)","v":""},{"$f":"IF(ISBLANK('1-12-2.キャッシュフロー表 解決策導入後'!AJ16),\"\",'1-12-2.キャッシュフロー表 解決策導入後'!AJ16)","v":""},{"$f":"IF(ISBLANK('1-12-2.キャッシュフロー表 解決策導入後'!AK16),\"\",'1-12-2.キャッシュフロー表 解決策導入後'!AK16)","v":""},{"$f":"IF(ISBLANK('1-12-2.キャッシュフロー表 解決策導入後'!AL16),\"\",'1-12-2.キャッシュフロー表 解決策導入後'!AL16)","v":""},null,null,null,null,{"$f":"IF(ISBLANK('1-12-2.キャッシュフロー表 解決策導入後'!D16),\"\",'1-12-2.キャッシュフロー表 解決策導入後'!D16)","v":""},null,null,null,{"$f":"IF(ISBLANK('1-12-2.キャッシュフロー表 解決策導入後'!G16),\"\",'1-12-2.キャッシュフロー表 解決策導入後'!G16)","v":""},{"$f":"IF(ISBLANK('1-12-2.キャッシュフロー表 解決策導入後'!AM16),\"\",'1-12-2.キャッシュフロー表 解決策導入後'!AM16)","v":""},{"$f":"IF(ISBLANK('1-12-2.キャッシュフロー表 解決策導入後'!AN16),\"\",'1-12-2.キャッシュフロー表 解決策導入後'!AN16)","v":""},{"$f":"IF(ISBLANK('1-12-2.キャッシュフロー表 解決策導入後'!AO16),\"\",'1-12-2.キャッシュフロー表 解決策導入後'!AO16)","v":""},{"$f":"IF(ISBLANK('1-12-2.キャッシュフロー表 解決策導入後'!AP16),\"\",'1-12-2.キャッシュフロー表 解決策導入後'!AP16)","v":""},{"$f":"IF(ISBLANK('1-12-2.キャッシュフロー表 解決策導入後'!AQ16),\"\",'1-12-2.キャッシュフロー表 解決策導入後'!AQ16)","v":""},{"$f":"IF(ISBLANK('1-12-2.キャッシュフロー表 解決策導入後'!AR16),\"\",'1-12-2.キャッシュフロー表 解決策導入後'!AR16)","v":""},{"$f":"IF(ISBLANK('1-12-2.キャッシュフロー表 解決策導入後'!AS16),\"\",'1-12-2.キャッシュフロー表 解決策導入後'!AS16)","v":""},{"$f":"IF(ISBLANK('1-12-2.キャッシュフロー表 解決策導入後'!AT16),\"\",'1-12-2.キャッシュフロー表 解決策導入後'!AT16)","v":""},{"$f":"IF(ISBLANK('1-12-2.キャッシュフロー表 解決策導入後'!AU16),\"\",'1-12-2.キャッシュフロー表 解決策導入後'!AU16)","v":""},{"$f":"IF(ISBLANK('1-12-2.キャッシュフロー表 解決策導入後'!AV16),\"\",'1-12-2.キャッシュフロー表 解決策導入後'!AV16)","v":""},{"$f":"IF(ISBLANK('1-12-2.キャッシュフロー表 解決策導入後'!AW16),\"\",'1-12-2.キャッシュフロー表 解決策導入後'!AW16)","v":""},{"$f":"IF(ISBLANK('1-12-2.キャッシュフロー表 解決策導入後'!AX16),\"\",'1-12-2.キャッシュフロー表 解決策導入後'!AX16)","v":""},{"$f":"IF(ISBLANK('1-12-2.キャッシュフロー表 解決策導入後'!AY16),\"\",'1-12-2.キャッシュフロー表 解決策導入後'!AY16)","v":""},{"$f":"IF(ISBLANK('1-12-2.キャッシュフロー表 解決策導入後'!AZ16),\"\",'1-12-2.キャッシュフロー表 解決策導入後'!AZ16)","v":""},{"$f":"IF(ISBLANK('1-12-2.キャッシュフロー表 解決策導入後'!BA16),\"\",'1-12-2.キャッシュフロー表 解決策導入後'!BA16)","v":""},{"$f":"IF(ISBLANK('1-12-2.キャッシュフロー表 解決策導入後'!BB16),\"\",'1-12-2.キャッシュフロー表 解決策導入後'!BB16)","v":""},{"$f":"IF(ISBLANK('1-12-2.キャッシュフロー表 解決策導入後'!BC16),\"\",'1-12-2.キャッシュフロー表 解決策導入後'!BC16)","v":""},{"$f":"IF(ISBLANK('1-12-2.キャッシュフロー表 解決策導入後'!BD16),\"\",'1-12-2.キャッシュフロー表 解決策導入後'!BD16)","v":""},{"$f":"IF(ISBLANK('1-12-2.キャッシュフロー表 解決策導入後'!BE16),\"\",'1-12-2.キャッシュフロー表 解決策導入後'!BE16)","v":""},{"$f":"IF(ISBLANK('1-12-2.キャッシュフロー表 解決策導入後'!BF16),\"\",'1-12-2.キャッシュフロー表 解決策導入後'!BF16)","v":""},{"$f":"IF(ISBLANK('1-12-2.キャッシュフロー表 解決策導入後'!BG16),\"\",'1-12-2.キャッシュフロー表 解決策導入後'!BG16)","v":""},{"$f":"IF(ISBLANK('1-12-2.キャッシュフロー表 解決策導入後'!BH16),\"\",'1-12-2.キャッシュフロー表 解決策導入後'!BH16)","v":""},{"$f":"IF(ISBLANK('1-12-2.キャッシュフロー表 解決策導入後'!BI16),\"\",'1-12-2.キャッシュフロー表 解決策導入後'!BI16)","v":""},{"$f":"IF(ISBLANK('1-12-2.キャッシュフロー表 解決策導入後'!BJ16),\"\",'1-12-2.キャッシュフロー表 解決策導入後'!BJ16)","v":""},{"$f":"IF(ISBLANK('1-12-2.キャッシュフロー表 解決策導入後'!BK16),\"\",'1-12-2.キャッシュフロー表 解決策導入後'!BK16)","v":""},{"$f":"IF(ISBLANK('1-12-2.キャッシュフロー表 解決策導入後'!BL16),\"\",'1-12-2.キャッシュフロー表 解決策導入後'!BL16)","v":""},{"$f":"IF(ISBLANK('1-12-2.キャッシュフロー表 解決策導入後'!BM16),\"\",'1-12-2.キャッシュフロー表 解決策導入後'!BM16)","v":""},{"$f":"IF(ISBLANK('1-12-2.キャッシュフロー表 解決策導入後'!BN16),\"\",'1-12-2.キャッシュフロー表 解決策導入後'!BN16)","v":""},{"$f":"IF(ISBLANK('1-12-2.キャッシュフロー表 解決策導入後'!BO16),\"\",'1-12-2.キャッシュフロー表 解決策導入後'!BO16)","v":""},{"$f":"IF(ISBLANK('1-12-2.キャッシュフロー表 解決策導入後'!BP16),\"\",'1-12-2.キャッシュフロー表 解決策導入後'!BP16)","v":""},{"$f":"IF(ISBLANK('1-12-2.キャッシュフロー表 解決策導入後'!BQ16),\"\",'1-12-2.キャッシュフロー表 解決策導入後'!BQ16)","v":""},{"$f":"IF(ISBLANK('1-12-2.キャッシュフロー表 解決策導入後'!BR16),\"\",'1-12-2.キャッシュフロー表 解決策導入後'!BR16)","v":""},{"$f":"IF(ISBLANK('1-12-2.キャッシュフロー表 解決策導入後'!BS16),\"\",'1-12-2.キャッシュフロー表 解決策導入後'!BS16)","v":""},{"$f":"IF(ISBLANK('1-12-2.キャッシュフロー表 解決策導入後'!BT16),\"\",'1-12-2.キャッシュフロー表 解決策導入後'!BT16)","v":""},{"$f":"IF(ISBLANK('1-12-2.キャッシュフロー表 解決策導入後'!BU16),\"\",'1-12-2.キャッシュフロー表 解決策導入後'!BU16)","v":""},{"$f":"IF(ISBLANK('1-12-2.キャッシュフロー表 解決策導入後'!BV16),\"\",'1-12-2.キャッシュフロー表 解決策導入後'!BV16)","v":""},{"$f":"IF(ISBLANK('1-12-2.キャッシュフロー表 解決策導入後'!BW16),\"\",'1-12-2.キャッシュフロー表 解決策導入後'!BW16)","v":""},{"$f":"IF(ISBLANK('1-12-2.キャッシュフロー表 解決策導入後'!BX16),\"\",'1-12-2.キャッシュフロー表 解決策導入後'!BX16)","v":""},{"$f":"IF(ISBLANK('1-12-2.キャッシュフロー表 解決策導入後'!BY16),\"\",'1-12-2.キャッシュフロー表 解決策導入後'!BY16)","v":""},{"$f":"IF(ISBLANK('1-12-2.キャッシュフロー表 解決策導入後'!BZ16),\"\",'1-12-2.キャッシュフロー表 解決策導入後'!BZ16)","v":""}]
[null,null,null,{"$f":"IF(ISBLANK('1-12-2.キャッシュフロー表 解決策導入後'!D17),\"\",'1-12-2.キャッシュフロー表 解決策導入後'!D17)","v":""},null,null,null,{"$f":"IF(ISBLANK('1-12-2.キャッシュフロー表 解決策導入後'!G17),\"\",'1-12-2.キャッシュフロー表 解決策導入後'!G17)","v":""},{"$f":"IF(ISBLANK('1-12-2.キャッシュフロー表 解決策導入後'!H17),\"\",'1-12-2.キャッシュフロー表 解決策導入後'!H17)","v":""},{"$f":"IF(ISBLANK('1-12-2.キャッシュフロー表 解決策導入後'!I17),\"\",'1-12-2.キャッシュフロー表 解決策導入後'!I17)","v":""},{"$f":"IF(ISBLANK('1-12-2.キャッシュフロー表 解決策導入後'!J17),\"\",'1-12-2.キャッシュフロー表 解決策導入後'!J17)","v":""},{"$f":"IF(ISBLANK('1-12-2.キャッシュフロー表 解決策導入後'!K17),\"\",'1-12-2.キャッシュフロー表 解決策導入後'!K17)","v":""},{"$f":"IF(ISBLANK('1-12-2.キャッシュフロー表 解決策導入後'!L17),\"\",'1-12-2.キャッシュフロー表 解決策導入後'!L17)","v":""},{"$f":"IF(ISBLANK('1-12-2.キャッシュフロー表 解決策導入後'!M17),\"\",'1-12-2.キャッシュフロー表 解決策導入後'!M17)","v":""},{"$f":"IF(ISBLANK('1-12-2.キャッシュフロー表 解決策導入後'!N17),\"\",'1-12-2.キャッシュフロー表 解決策導入後'!N17)","v":""},{"$f":"IF(ISBLANK('1-12-2.キャッシュフロー表 解決策導入後'!O17),\"\",'1-12-2.キャッシュフロー表 解決策導入後'!O17)","v":""},{"$f":"IF(ISBLANK('1-12-2.キャッシュフロー表 解決策導入後'!P17),\"\",'1-12-2.キャッシュフロー表 解決策導入後'!P17)","v":""},{"$f":"IF(ISBLANK('1-12-2.キャッシュフロー表 解決策導入後'!Q17),\"\",'1-12-2.キャッシュフロー表 解決策導入後'!Q17)","v":""},{"$f":"IF(ISBLANK('1-12-2.キャッシュフロー表 解決策導入後'!R17),\"\",'1-12-2.キャッシュフロー表 解決策導入後'!R17)","v":""},{"$f":"IF(ISBLANK('1-12-2.キャッシュフロー表 解決策導入後'!S17),\"\",'1-12-2.キャッシュフロー表 解決策導入後'!S17)","v":""},{"$f":"IF(ISBLANK('1-12-2.キャッシュフロー表 解決策導入後'!T17),\"\",'1-12-2.キャッシュフロー表 解決策導入後'!T17)","v":""},{"$f":"IF(ISBLANK('1-12-2.キャッシュフロー表 解決策導入後'!U17),\"\",'1-12-2.キャッシュフロー表 解決策導入後'!U17)","v":""},{"$f":"IF(ISBLANK('1-12-2.キャッシュフロー表 解決策導入後'!V17),\"\",'1-12-2.キャッシュフロー表 解決策導入後'!V17)","v":""},{"$f":"IF(ISBLANK('1-12-2.キャッシュフロー表 解決策導入後'!W17),\"\",'1-12-2.キャッシュフロー表 解決策導入後'!W17)","v":""},{"$f":"IF(ISBLANK('1-12-2.キャッシュフロー表 解決策導入後'!X17),\"\",'1-12-2.キャッシュフロー表 解決策導入後'!X17)","v":""},{"$f":"IF(ISBLANK('1-12-2.キャッシュフロー表 解決策導入後'!Y17),\"\",'1-12-2.キャッシュフロー表 解決策導入後'!Y17)","v":""},{"$f":"IF(ISBLANK('1-12-2.キャッシュフロー表 解決策導入後'!Z17),\"\",'1-12-2.キャッシュフロー表 解決策導入後'!Z17)","v":""},{"$f":"IF(ISBLANK('1-12-2.キャッシュフロー表 解決策導入後'!AA17),\"\",'1-12-2.キャッシュフロー表 解決策導入後'!AA17)","v":""},{"$f":"IF(ISBLANK('1-12-2.キャッシュフロー表 解決策導入後'!AB17),\"\",'1-12-2.キャッシュフロー表 解決策導入後'!AB17)","v":""},{"$f":"IF(ISBLANK('1-12-2.キャッシュフロー表 解決策導入後'!AC17),\"\",'1-12-2.キャッシュフロー表 解決策導入後'!AC17)","v":""},{"$f":"IF(ISBLANK('1-12-2.キャッシュフロー表 解決策導入後'!AD17),\"\",'1-12-2.キャッシュフロー表 解決策導入後'!AD17)","v":""},{"$f":"IF(ISBLANK('1-12-2.キャッシュフロー表 解決策導入後'!AE17),\"\",'1-12-2.キャッシュフロー表 解決策導入後'!AE17)","v":""},{"$f":"IF(ISBLANK('1-12-2.キャッシュフロー表 解決策導入後'!AF17),\"\",'1-12-2.キャッシュフロー表 解決策導入後'!AF17)","v":""},{"$f":"IF(ISBLANK('1-12-2.キャッシュフロー表 解決策導入後'!AG17),\"\",'1-12-2.キャッシュフロー表 解決策導入後'!AG17)","v":""},{"$f":"IF(ISBLANK('1-12-2.キャッシュフロー表 解決策導入後'!AH17),\"\",'1-12-2.キャッシュフロー表 解決策導入後'!AH17)","v":""},{"$f":"IF(ISBLANK('1-12-2.キャッシュフロー表 解決策導入後'!AI17),\"\",'1-12-2.キャッシュフロー表 解決策導入後'!AI17)","v":""},{"$f":"IF(ISBLANK('1-12-2.キャッシュフロー表 解決策導入後'!AJ17),\"\",'1-12-2.キャッシュフロー表 解決策導入後'!AJ17)","v":""},{"$f":"IF(ISBLANK('1-12-2.キャッシュフロー表 解決策導入後'!AK17),\"\",'1-12-2.キャッシュフロー表 解決策導入後'!AK17)","v":""},{"$f":"IF(ISBLANK('1-12-2.キャッシュフロー表 解決策導入後'!AL17),\"\",'1-12-2.キャッシュフロー表 解決策導入後'!AL17)","v":""},null,null,null,null,{"$f":"IF(ISBLANK('1-12-2.キャッシュフロー表 解決策導入後'!D17),\"\",'1-12-2.キャッシュフロー表 解決策導入後'!D17)","v":""},null,null,null,{"$f":"IF(ISBLANK('1-12-2.キャッシュフロー表 解決策導入後'!G17),\"\",'1-12-2.キャッシュフロー表 解決策導入後'!G17)","v":""},{"$f":"IF(ISBLANK('1-12-2.キャッシュフロー表 解決策導入後'!AM17),\"\",'1-12-2.キャッシュフロー表 解決策導入後'!AM17)","v":""},{"$f":"IF(ISBLANK('1-12-2.キャッシュフロー表 解決策導入後'!AN17),\"\",'1-12-2.キャッシュフロー表 解決策導入後'!AN17)","v":""},{"$f":"IF(ISBLANK('1-12-2.キャッシュフロー表 解決策導入後'!AO17),\"\",'1-12-2.キャッシュフロー表 解決策導入後'!AO17)","v":""},{"$f":"IF(ISBLANK('1-12-2.キャッシュフロー表 解決策導入後'!AP17),\"\",'1-12-2.キャッシュフロー表 解決策導入後'!AP17)","v":""},{"$f":"IF(ISBLANK('1-12-2.キャッシュフロー表 解決策導入後'!AQ17),\"\",'1-12-2.キャッシュフロー表 解決策導入後'!AQ17)","v":""},{"$f":"IF(ISBLANK('1-12-2.キャッシュフロー表 解決策導入後'!AR17),\"\",'1-12-2.キャッシュフロー表 解決策導入後'!AR17)","v":""},{"$f":"IF(ISBLANK('1-12-2.キャッシュフロー表 解決策導入後'!AS17),\"\",'1-12-2.キャッシュフロー表 解決策導入後'!AS17)","v":""},{"$f":"IF(ISBLANK('1-12-2.キャッシュフロー表 解決策導入後'!AT17),\"\",'1-12-2.キャッシュフロー表 解決策導入後'!AT17)","v":""},{"$f":"IF(ISBLANK('1-12-2.キャッシュフロー表 解決策導入後'!AU17),\"\",'1-12-2.キャッシュフロー表 解決策導入後'!AU17)","v":""},{"$f":"IF(ISBLANK('1-12-2.キャッシュフロー表 解決策導入後'!AV17),\"\",'1-12-2.キャッシュフロー表 解決策導入後'!AV17)","v":""},{"$f":"IF(ISBLANK('1-12-2.キャッシュフロー表 解決策導入後'!AW17),\"\",'1-12-2.キャッシュフロー表 解決策導入後'!AW17)","v":""},{"$f":"IF(ISBLANK('1-12-2.キャッシュフロー表 解決策導入後'!AX17),\"\",'1-12-2.キャッシュフロー表 解決策導入後'!AX17)","v":""},{"$f":"IF(ISBLANK('1-12-2.キャッシュフロー表 解決策導入後'!AY17),\"\",'1-12-2.キャッシュフロー表 解決策導入後'!AY17)","v":""},{"$f":"IF(ISBLANK('1-12-2.キャッシュフロー表 解決策導入後'!AZ17),\"\",'1-12-2.キャッシュフロー表 解決策導入後'!AZ17)","v":""},{"$f":"IF(ISBLANK('1-12-2.キャッシュフロー表 解決策導入後'!BA17),\"\",'1-12-2.キャッシュフロー表 解決策導入後'!BA17)","v":""},{"$f":"IF(ISBLANK('1-12-2.キャッシュフロー表 解決策導入後'!BB17),\"\",'1-12-2.キャッシュフロー表 解決策導入後'!BB17)","v":""},{"$f":"IF(ISBLANK('1-12-2.キャッシュフロー表 解決策導入後'!BC17),\"\",'1-12-2.キャッシュフロー表 解決策導入後'!BC17)","v":""},{"$f":"IF(ISBLANK('1-12-2.キャッシュフロー表 解決策導入後'!BD17),\"\",'1-12-2.キャッシュフロー表 解決策導入後'!BD17)","v":""},{"$f":"IF(ISBLANK('1-12-2.キャッシュフロー表 解決策導入後'!BE17),\"\",'1-12-2.キャッシュフロー表 解決策導入後'!BE17)","v":""},{"$f":"IF(ISBLANK('1-12-2.キャッシュフロー表 解決策導入後'!BF17),\"\",'1-12-2.キャッシュフロー表 解決策導入後'!BF17)","v":""},{"$f":"IF(ISBLANK('1-12-2.キャッシュフロー表 解決策導入後'!BG17),\"\",'1-12-2.キャッシュフロー表 解決策導入後'!BG17)","v":""},{"$f":"IF(ISBLANK('1-12-2.キャッシュフロー表 解決策導入後'!BH17),\"\",'1-12-2.キャッシュフロー表 解決策導入後'!BH17)","v":""},{"$f":"IF(ISBLANK('1-12-2.キャッシュフロー表 解決策導入後'!BI17),\"\",'1-12-2.キャッシュフロー表 解決策導入後'!BI17)","v":""},{"$f":"IF(ISBLANK('1-12-2.キャッシュフロー表 解決策導入後'!BJ17),\"\",'1-12-2.キャッシュフロー表 解決策導入後'!BJ17)","v":""},{"$f":"IF(ISBLANK('1-12-2.キャッシュフロー表 解決策導入後'!BK17),\"\",'1-12-2.キャッシュフロー表 解決策導入後'!BK17)","v":""},{"$f":"IF(ISBLANK('1-12-2.キャッシュフロー表 解決策導入後'!BL17),\"\",'1-12-2.キャッシュフロー表 解決策導入後'!BL17)","v":""},{"$f":"IF(ISBLANK('1-12-2.キャッシュフロー表 解決策導入後'!BM17),\"\",'1-12-2.キャッシュフロー表 解決策導入後'!BM17)","v":""},{"$f":"IF(ISBLANK('1-12-2.キャッシュフロー表 解決策導入後'!BN17),\"\",'1-12-2.キャッシュフロー表 解決策導入後'!BN17)","v":""},{"$f":"IF(ISBLANK('1-12-2.キャッシュフロー表 解決策導入後'!BO17),\"\",'1-12-2.キャッシュフロー表 解決策導入後'!BO17)","v":""},{"$f":"IF(ISBLANK('1-12-2.キャッシュフロー表 解決策導入後'!BP17),\"\",'1-12-2.キャッシュフロー表 解決策導入後'!BP17)","v":""},{"$f":"IF(ISBLANK('1-12-2.キャッシュフロー表 解決策導入後'!BQ17),\"\",'1-12-2.キャッシュフロー表 解決策導入後'!BQ17)","v":""},{"$f":"IF(ISBLANK('1-12-2.キャッシュフロー表 解決策導入後'!BR17),\"\",'1-12-2.キャッシュフロー表 解決策導入後'!BR17)","v":""},{"$f":"IF(ISBLANK('1-12-2.キャッシュフロー表 解決策導入後'!BS17),\"\",'1-12-2.キャッシュフロー表 解決策導入後'!BS17)","v":""},{"$f":"IF(ISBLANK('1-12-2.キャッシュフロー表 解決策導入後'!BT17),\"\",'1-12-2.キャッシュフロー表 解決策導入後'!BT17)","v":""},{"$f":"IF(ISBLANK('1-12-2.キャッシュフロー表 解決策導入後'!BU17),\"\",'1-12-2.キャッシュフロー表 解決策導入後'!BU17)","v":""},{"$f":"IF(ISBLANK('1-12-2.キャッシュフロー表 解決策導入後'!BV17),\"\",'1-12-2.キャッシュフロー表 解決策導入後'!BV17)","v":""},{"$f":"IF(ISBLANK('1-12-2.キャッシュフロー表 解決策導入後'!BW17),\"\",'1-12-2.キャッシュフロー表 解決策導入後'!BW17)","v":""},{"$f":"IF(ISBLANK('1-12-2.キャッシュフロー表 解決策導入後'!BX17),\"\",'1-12-2.キャッシュフロー表 解決策導入後'!BX17)","v":""},{"$f":"IF(ISBLANK('1-12-2.キャッシュフロー表 解決策導入後'!BY17),\"\",'1-12-2.キャッシュフロー表 解決策導入後'!BY17)","v":""},{"$f":"IF(ISBLANK('1-12-2.キャッシュフロー表 解決策導入後'!BZ17),\"\",'1-12-2.キャッシュフロー表 解決策導入後'!BZ17)","v":""}]
[null,null,null,{"$f":"IF(ISBLANK('1-12-2.キャッシュフロー表 解決策導入後'!D18),\"\",'1-12-2.キャッシュフロー表 解決策導入後'!D18)","v":""},null,null,null,{"$f":"IF(ISBLANK('1-12-2.キャッシュフロー表 解決策導入後'!G18),\"\",'1-12-2.キャッシュフロー表 解決策導入後'!G18)","v":""},{"$f":"IF(ISBLANK('1-12-2.キャッシュフロー表 解決策導入後'!H18),\"\",'1-12-2.キャッシュフロー表 解決策導入後'!H18)","v":""},{"$f":"IF(ISBLANK('1-12-2.キャッシュフロー表 解決策導入後'!I18),\"\",'1-12-2.キャッシュフロー表 解決策導入後'!I18)","v":""},{"$f":"IF(ISBLANK('1-12-2.キャッシュフロー表 解決策導入後'!J18),\"\",'1-12-2.キャッシュフロー表 解決策導入後'!J18)","v":""},{"$f":"IF(ISBLANK('1-12-2.キャッシュフロー表 解決策導入後'!K18),\"\",'1-12-2.キャッシュフロー表 解決策導入後'!K18)","v":""},{"$f":"IF(ISBLANK('1-12-2.キャッシュフロー表 解決策導入後'!L18),\"\",'1-12-2.キャッシュフロー表 解決策導入後'!L18)","v":""},{"$f":"IF(ISBLANK('1-12-2.キャッシュフロー表 解決策導入後'!M18),\"\",'1-12-2.キャッシュフロー表 解決策導入後'!M18)","v":""},{"$f":"IF(ISBLANK('1-12-2.キャッシュフロー表 解決策導入後'!N18),\"\",'1-12-2.キャッシュフロー表 解決策導入後'!N18)","v":""},{"$f":"IF(ISBLANK('1-12-2.キャッシュフロー表 解決策導入後'!O18),\"\",'1-12-2.キャッシュフロー表 解決策導入後'!O18)","v":""},{"$f":"IF(ISBLANK('1-12-2.キャッシュフロー表 解決策導入後'!P18),\"\",'1-12-2.キャッシュフロー表 解決策導入後'!P18)","v":""},{"$f":"IF(ISBLANK('1-12-2.キャッシュフロー表 解決策導入後'!Q18),\"\",'1-12-2.キャッシュフロー表 解決策導入後'!Q18)","v":""},{"$f":"IF(ISBLANK('1-12-2.キャッシュフロー表 解決策導入後'!R18),\"\",'1-12-2.キャッシュフロー表 解決策導入後'!R18)","v":""},{"$f":"IF(ISBLANK('1-12-2.キャッシュフロー表 解決策導入後'!S18),\"\",'1-12-2.キャッシュフロー表 解決策導入後'!S18)","v":""},{"$f":"IF(ISBLANK('1-12-2.キャッシュフロー表 解決策導入後'!T18),\"\",'1-12-2.キャッシュフロー表 解決策導入後'!T18)","v":""},{"$f":"IF(ISBLANK('1-12-2.キャッシュフロー表 解決策導入後'!U18),\"\",'1-12-2.キャッシュフロー表 解決策導入後'!U18)","v":""},{"$f":"IF(ISBLANK('1-12-2.キャッシュフロー表 解決策導入後'!V18),\"\",'1-12-2.キャッシュフロー表 解決策導入後'!V18)","v":""},{"$f":"IF(ISBLANK('1-12-2.キャッシュフロー表 解決策導入後'!W18),\"\",'1-12-2.キャッシュフロー表 解決策導入後'!W18)","v":""},{"$f":"IF(ISBLANK('1-12-2.キャッシュフロー表 解決策導入後'!X18),\"\",'1-12-2.キャッシュフロー表 解決策導入後'!X18)","v":""},{"$f":"IF(ISBLANK('1-12-2.キャッシュフロー表 解決策導入後'!Y18),\"\",'1-12-2.キャッシュフロー表 解決策導入後'!Y18)","v":""},{"$f":"IF(ISBLANK('1-12-2.キャッシュフロー表 解決策導入後'!Z18),\"\",'1-12-2.キャッシュフロー表 解決策導入後'!Z18)","v":""},{"$f":"IF(ISBLANK('1-12-2.キャッシュフロー表 解決策導入後'!AA18),\"\",'1-12-2.キャッシュフロー表 解決策導入後'!AA18)","v":""},{"$f":"IF(ISBLANK('1-12-2.キャッシュフロー表 解決策導入後'!AB18),\"\",'1-12-2.キャッシュフロー表 解決策導入後'!AB18)","v":""},{"$f":"IF(ISBLANK('1-12-2.キャッシュフロー表 解決策導入後'!AC18),\"\",'1-12-2.キャッシュフロー表 解決策導入後'!AC18)","v":""},{"$f":"IF(ISBLANK('1-12-2.キャッシュフロー表 解決策導入後'!AD18),\"\",'1-12-2.キャッシュフロー表 解決策導入後'!AD18)","v":""},{"$f":"IF(ISBLANK('1-12-2.キャッシュフロー表 解決策導入後'!AE18),\"\",'1-12-2.キャッシュフロー表 解決策導入後'!AE18)","v":""},{"$f":"IF(ISBLANK('1-12-2.キャッシュフロー表 解決策導入後'!AF18),\"\",'1-12-2.キャッシュフロー表 解決策導入後'!AF18)","v":""},{"$f":"IF(ISBLANK('1-12-2.キャッシュフロー表 解決策導入後'!AG18),\"\",'1-12-2.キャッシュフロー表 解決策導入後'!AG18)","v":""},{"$f":"IF(ISBLANK('1-12-2.キャッシュフロー表 解決策導入後'!AH18),\"\",'1-12-2.キャッシュフロー表 解決策導入後'!AH18)","v":""},{"$f":"IF(ISBLANK('1-12-2.キャッシュフロー表 解決策導入後'!AI18),\"\",'1-12-2.キャッシュフロー表 解決策導入後'!AI18)","v":""},{"$f":"IF(ISBLANK('1-12-2.キャッシュフロー表 解決策導入後'!AJ18),\"\",'1-12-2.キャッシュフロー表 解決策導入後'!AJ18)","v":""},{"$f":"IF(ISBLANK('1-12-2.キャッシュフロー表 解決策導入後'!AK18),\"\",'1-12-2.キャッシュフロー表 解決策導入後'!AK18)","v":""},{"$f":"IF(ISBLANK('1-12-2.キャッシュフロー表 解決策導入後'!AL18),\"\",'1-12-2.キャッシュフロー表 解決策導入後'!AL18)","v":""},null,null,null,null,{"$f":"IF(ISBLANK('1-12-2.キャッシュフロー表 解決策導入後'!D18),\"\",'1-12-2.キャッシュフロー表 解決策導入後'!D18)","v":""},null,null,null,{"$f":"IF(ISBLANK('1-12-2.キャッシュフロー表 解決策導入後'!G18),\"\",'1-12-2.キャッシュフロー表 解決策導入後'!G18)","v":""},{"$f":"IF(ISBLANK('1-12-2.キャッシュフロー表 解決策導入後'!AM18),\"\",'1-12-2.キャッシュフロー表 解決策導入後'!AM18)","v":""},{"$f":"IF(ISBLANK('1-12-2.キャッシュフロー表 解決策導入後'!AN18),\"\",'1-12-2.キャッシュフロー表 解決策導入後'!AN18)","v":""},{"$f":"IF(ISBLANK('1-12-2.キャッシュフロー表 解決策導入後'!AO18),\"\",'1-12-2.キャッシュフロー表 解決策導入後'!AO18)","v":""},{"$f":"IF(ISBLANK('1-12-2.キャッシュフロー表 解決策導入後'!AP18),\"\",'1-12-2.キャッシュフロー表 解決策導入後'!AP18)","v":""},{"$f":"IF(ISBLANK('1-12-2.キャッシュフロー表 解決策導入後'!AQ18),\"\",'1-12-2.キャッシュフロー表 解決策導入後'!AQ18)","v":""},{"$f":"IF(ISBLANK('1-12-2.キャッシュフロー表 解決策導入後'!AR18),\"\",'1-12-2.キャッシュフロー表 解決策導入後'!AR18)","v":""},{"$f":"IF(ISBLANK('1-12-2.キャッシュフロー表 解決策導入後'!AS18),\"\",'1-12-2.キャッシュフロー表 解決策導入後'!AS18)","v":""},{"$f":"IF(ISBLANK('1-12-2.キャッシュフロー表 解決策導入後'!AT18),\"\",'1-12-2.キャッシュフロー表 解決策導入後'!AT18)","v":""},{"$f":"IF(ISBLANK('1-12-2.キャッシュフロー表 解決策導入後'!AU18),\"\",'1-12-2.キャッシュフロー表 解決策導入後'!AU18)","v":""},{"$f":"IF(ISBLANK('1-12-2.キャッシュフロー表 解決策導入後'!AV18),\"\",'1-12-2.キャッシュフロー表 解決策導入後'!AV18)","v":""},{"$f":"IF(ISBLANK('1-12-2.キャッシュフロー表 解決策導入後'!AW18),\"\",'1-12-2.キャッシュフロー表 解決策導入後'!AW18)","v":""},{"$f":"IF(ISBLANK('1-12-2.キャッシュフロー表 解決策導入後'!AX18),\"\",'1-12-2.キャッシュフロー表 解決策導入後'!AX18)","v":""},{"$f":"IF(ISBLANK('1-12-2.キャッシュフロー表 解決策導入後'!AY18),\"\",'1-12-2.キャッシュフロー表 解決策導入後'!AY18)","v":""},{"$f":"IF(ISBLANK('1-12-2.キャッシュフロー表 解決策導入後'!AZ18),\"\",'1-12-2.キャッシュフロー表 解決策導入後'!AZ18)","v":""},{"$f":"IF(ISBLANK('1-12-2.キャッシュフロー表 解決策導入後'!BA18),\"\",'1-12-2.キャッシュフロー表 解決策導入後'!BA18)","v":""},{"$f":"IF(ISBLANK('1-12-2.キャッシュフロー表 解決策導入後'!BB18),\"\",'1-12-2.キャッシュフロー表 解決策導入後'!BB18)","v":""},{"$f":"IF(ISBLANK('1-12-2.キャッシュフロー表 解決策導入後'!BC18),\"\",'1-12-2.キャッシュフロー表 解決策導入後'!BC18)","v":""},{"$f":"IF(ISBLANK('1-12-2.キャッシュフロー表 解決策導入後'!BD18),\"\",'1-12-2.キャッシュフロー表 解決策導入後'!BD18)","v":""},{"$f":"IF(ISBLANK('1-12-2.キャッシュフロー表 解決策導入後'!BE18),\"\",'1-12-2.キャッシュフロー表 解決策導入後'!BE18)","v":""},{"$f":"IF(ISBLANK('1-12-2.キャッシュフロー表 解決策導入後'!BF18),\"\",'1-12-2.キャッシュフロー表 解決策導入後'!BF18)","v":""},{"$f":"IF(ISBLANK('1-12-2.キャッシュフロー表 解決策導入後'!BG18),\"\",'1-12-2.キャッシュフロー表 解決策導入後'!BG18)","v":""},{"$f":"IF(ISBLANK('1-12-2.キャッシュフロー表 解決策導入後'!BH18),\"\",'1-12-2.キャッシュフロー表 解決策導入後'!BH18)","v":""},{"$f":"IF(ISBLANK('1-12-2.キャッシュフロー表 解決策導入後'!BI18),\"\",'1-12-2.キャッシュフロー表 解決策導入後'!BI18)","v":""},{"$f":"IF(ISBLANK('1-12-2.キャッシュフロー表 解決策導入後'!BJ18),\"\",'1-12-2.キャッシュフロー表 解決策導入後'!BJ18)","v":""},{"$f":"IF(ISBLANK('1-12-2.キャッシュフロー表 解決策導入後'!BK18),\"\",'1-12-2.キャッシュフロー表 解決策導入後'!BK18)","v":""},{"$f":"IF(ISBLANK('1-12-2.キャッシュフロー表 解決策導入後'!BL18),\"\",'1-12-2.キャッシュフロー表 解決策導入後'!BL18)","v":""},{"$f":"IF(ISBLANK('1-12-2.キャッシュフロー表 解決策導入後'!BM18),\"\",'1-12-2.キャッシュフロー表 解決策導入後'!BM18)","v":""},{"$f":"IF(ISBLANK('1-12-2.キャッシュフロー表 解決策導入後'!BN18),\"\",'1-12-2.キャッシュフロー表 解決策導入後'!BN18)","v":""},{"$f":"IF(ISBLANK('1-12-2.キャッシュフロー表 解決策導入後'!BO18),\"\",'1-12-2.キャッシュフロー表 解決策導入後'!BO18)","v":""},{"$f":"IF(ISBLANK('1-12-2.キャッシュフロー表 解決策導入後'!BP18),\"\",'1-12-2.キャッシュフロー表 解決策導入後'!BP18)","v":""},{"$f":"IF(ISBLANK('1-12-2.キャッシュフロー表 解決策導入後'!BQ18),\"\",'1-12-2.キャッシュフロー表 解決策導入後'!BQ18)","v":""},{"$f":"IF(ISBLANK('1-12-2.キャッシュフロー表 解決策導入後'!BR18),\"\",'1-12-2.キャッシュフロー表 解決策導入後'!BR18)","v":""},{"$f":"IF(ISBLANK('1-12-2.キャッシュフロー表 解決策導入後'!BS18),\"\",'1-12-2.キャッシュフロー表 解決策導入後'!BS18)","v":""},{"$f":"IF(ISBLANK('1-12-2.キャッシュフロー表 解決策導入後'!BT18),\"\",'1-12-2.キャッシュフロー表 解決策導入後'!BT18)","v":""},{"$f":"IF(ISBLANK('1-12-2.キャッシュフロー表 解決策導入後'!BU18),\"\",'1-12-2.キャッシュフロー表 解決策導入後'!BU18)","v":""},{"$f":"IF(ISBLANK('1-12-2.キャッシュフロー表 解決策導入後'!BV18),\"\",'1-12-2.キャッシュフロー表 解決策導入後'!BV18)","v":""},{"$f":"IF(ISBLANK('1-12-2.キャッシュフロー表 解決策導入後'!BW18),\"\",'1-12-2.キャッシュフロー表 解決策導入後'!BW18)","v":""},{"$f":"IF(ISBLANK('1-12-2.キャッシュフロー表 解決策導入後'!BX18),\"\",'1-12-2.キャッシュフロー表 解決策導入後'!BX18)","v":""},{"$f":"IF(ISBLANK('1-12-2.キャッシュフロー表 解決策導入後'!BY18),\"\",'1-12-2.キャッシュフロー表 解決策導入後'!BY18)","v":""},{"$f":"IF(ISBLANK('1-12-2.キャッシュフロー表 解決策導入後'!BZ18),\"\",'1-12-2.キャッシュフロー表 解決策導入後'!BZ18)","v":""}]
[null,null,null,{"$f":"IF(ISBLANK('1-12-2.キャッシュフロー表 解決策導入後'!D19),\"\",'1-12-2.キャッシュフロー表 解決策導入後'!D19)","v":""},null,null,null,{"$f":"IF(ISBLANK('1-12-2.キャッシュフロー表 解決策導入後'!G19),\"\",'1-12-2.キャッシュフロー表 解決策導入後'!G19)","v":""},{"$f":"IF(ISBLANK('1-12-2.キャッシュフロー表 解決策導入後'!H19),\"\",'1-12-2.キャッシュフロー表 解決策導入後'!H19)","v":""},{"$f":"IF(ISBLANK('1-12-2.キャッシュフロー表 解決策導入後'!I19),\"\",'1-12-2.キャッシュフロー表 解決策導入後'!I19)","v":""},{"$f":"IF(ISBLANK('1-12-2.キャッシュフロー表 解決策導入後'!J19),\"\",'1-12-2.キャッシュフロー表 解決策導入後'!J19)","v":""},{"$f":"IF(ISBLANK('1-12-2.キャッシュフロー表 解決策導入後'!K19),\"\",'1-12-2.キャッシュフロー表 解決策導入後'!K19)","v":""},{"$f":"IF(ISBLANK('1-12-2.キャッシュフロー表 解決策導入後'!L19),\"\",'1-12-2.キャッシュフロー表 解決策導入後'!L19)","v":""},{"$f":"IF(ISBLANK('1-12-2.キャッシュフロー表 解決策導入後'!M19),\"\",'1-12-2.キャッシュフロー表 解決策導入後'!M19)","v":""},{"$f":"IF(ISBLANK('1-12-2.キャッシュフロー表 解決策導入後'!N19),\"\",'1-12-2.キャッシュフロー表 解決策導入後'!N19)","v":""},{"$f":"IF(ISBLANK('1-12-2.キャッシュフロー表 解決策導入後'!O19),\"\",'1-12-2.キャッシュフロー表 解決策導入後'!O19)","v":""},{"$f":"IF(ISBLANK('1-12-2.キャッシュフロー表 解決策導入後'!P19),\"\",'1-12-2.キャッシュフロー表 解決策導入後'!P19)","v":""},{"$f":"IF(ISBLANK('1-12-2.キャッシュフロー表 解決策導入後'!Q19),\"\",'1-12-2.キャッシュフロー表 解決策導入後'!Q19)","v":""},{"$f":"IF(ISBLANK('1-12-2.キャッシュフロー表 解決策導入後'!R19),\"\",'1-12-2.キャッシュフロー表 解決策導入後'!R19)","v":""},{"$f":"IF(ISBLANK('1-12-2.キャッシュフロー表 解決策導入後'!S19),\"\",'1-12-2.キャッシュフロー表 解決策導入後'!S19)","v":""},{"$f":"IF(ISBLANK('1-12-2.キャッシュフロー表 解決策導入後'!T19),\"\",'1-12-2.キャッシュフロー表 解決策導入後'!T19)","v":""},{"$f":"IF(ISBLANK('1-12-2.キャッシュフロー表 解決策導入後'!U19),\"\",'1-12-2.キャッシュフロー表 解決策導入後'!U19)","v":""},{"$f":"IF(ISBLANK('1-12-2.キャッシュフロー表 解決策導入後'!V19),\"\",'1-12-2.キャッシュフロー表 解決策導入後'!V19)","v":""},{"$f":"IF(ISBLANK('1-12-2.キャッシュフロー表 解決策導入後'!W19),\"\",'1-12-2.キャッシュフロー表 解決策導入後'!W19)","v":""},{"$f":"IF(ISBLANK('1-12-2.キャッシュフロー表 解決策導入後'!X19),\"\",'1-12-2.キャッシュフロー表 解決策導入後'!X19)","v":""},{"$f":"IF(ISBLANK('1-12-2.キャッシュフロー表 解決策導入後'!Y19),\"\",'1-12-2.キャッシュフロー表 解決策導入後'!Y19)","v":""},{"$f":"IF(ISBLANK('1-12-2.キャッシュフロー表 解決策導入後'!Z19),\"\",'1-12-2.キャッシュフロー表 解決策導入後'!Z19)","v":""},{"$f":"IF(ISBLANK('1-12-2.キャッシュフロー表 解決策導入後'!AA19),\"\",'1-12-2.キャッシュフロー表 解決策導入後'!AA19)","v":""},{"$f":"IF(ISBLANK('1-12-2.キャッシュフロー表 解決策導入後'!AB19),\"\",'1-12-2.キャッシュフロー表 解決策導入後'!AB19)","v":""},{"$f":"IF(ISBLANK('1-12-2.キャッシュフロー表 解決策導入後'!AC19),\"\",'1-12-2.キャッシュフロー表 解決策導入後'!AC19)","v":""},{"$f":"IF(ISBLANK('1-12-2.キャッシュフロー表 解決策導入後'!AD19),\"\",'1-12-2.キャッシュフロー表 解決策導入後'!AD19)","v":""},{"$f":"IF(ISBLANK('1-12-2.キャッシュフロー表 解決策導入後'!AE19),\"\",'1-12-2.キャッシュフロー表 解決策導入後'!AE19)","v":""},{"$f":"IF(ISBLANK('1-12-2.キャッシュフロー表 解決策導入後'!AF19),\"\",'1-12-2.キャッシュフロー表 解決策導入後'!AF19)","v":""},{"$f":"IF(ISBLANK('1-12-2.キャッシュフロー表 解決策導入後'!AG19),\"\",'1-12-2.キャッシュフロー表 解決策導入後'!AG19)","v":""},{"$f":"IF(ISBLANK('1-12-2.キャッシュフロー表 解決策導入後'!AH19),\"\",'1-12-2.キャッシュフロー表 解決策導入後'!AH19)","v":""},{"$f":"IF(ISBLANK('1-12-2.キャッシュフロー表 解決策導入後'!AI19),\"\",'1-12-2.キャッシュフロー表 解決策導入後'!AI19)","v":""},{"$f":"IF(ISBLANK('1-12-2.キャッシュフロー表 解決策導入後'!AJ19),\"\",'1-12-2.キャッシュフロー表 解決策導入後'!AJ19)","v":""},{"$f":"IF(ISBLANK('1-12-2.キャッシュフロー表 解決策導入後'!AK19),\"\",'1-12-2.キャッシュフロー表 解決策導入後'!AK19)","v":""},{"$f":"IF(ISBLANK('1-12-2.キャッシュフロー表 解決策導入後'!AL19),\"\",'1-12-2.キャッシュフロー表 解決策導入後'!AL19)","v":""},null,null,null,null,{"$f":"IF(ISBLANK('1-12-2.キャッシュフロー表 解決策導入後'!D19),\"\",'1-12-2.キャッシュフロー表 解決策導入後'!D19)","v":""},null,null,null,{"$f":"IF(ISBLANK('1-12-2.キャッシュフロー表 解決策導入後'!G19),\"\",'1-12-2.キャッシュフロー表 解決策導入後'!G19)","v":""},{"$f":"IF(ISBLANK('1-12-2.キャッシュフロー表 解決策導入後'!AM19),\"\",'1-12-2.キャッシュフロー表 解決策導入後'!AM19)","v":""},{"$f":"IF(ISBLANK('1-12-2.キャッシュフロー表 解決策導入後'!AN19),\"\",'1-12-2.キャッシュフロー表 解決策導入後'!AN19)","v":""},{"$f":"IF(ISBLANK('1-12-2.キャッシュフロー表 解決策導入後'!AO19),\"\",'1-12-2.キャッシュフロー表 解決策導入後'!AO19)","v":""},{"$f":"IF(ISBLANK('1-12-2.キャッシュフロー表 解決策導入後'!AP19),\"\",'1-12-2.キャッシュフロー表 解決策導入後'!AP19)","v":""},{"$f":"IF(ISBLANK('1-12-2.キャッシュフロー表 解決策導入後'!AQ19),\"\",'1-12-2.キャッシュフロー表 解決策導入後'!AQ19)","v":""},{"$f":"IF(ISBLANK('1-12-2.キャッシュフロー表 解決策導入後'!AR19),\"\",'1-12-2.キャッシュフロー表 解決策導入後'!AR19)","v":""},{"$f":"IF(ISBLANK('1-12-2.キャッシュフロー表 解決策導入後'!AS19),\"\",'1-12-2.キャッシュフロー表 解決策導入後'!AS19)","v":""},{"$f":"IF(ISBLANK('1-12-2.キャッシュフロー表 解決策導入後'!AT19),\"\",'1-12-2.キャッシュフロー表 解決策導入後'!AT19)","v":""},{"$f":"IF(ISBLANK('1-12-2.キャッシュフロー表 解決策導入後'!AU19),\"\",'1-12-2.キャッシュフロー表 解決策導入後'!AU19)","v":""},{"$f":"IF(ISBLANK('1-12-2.キャッシュフロー表 解決策導入後'!AV19),\"\",'1-12-2.キャッシュフロー表 解決策導入後'!AV19)","v":""},{"$f":"IF(ISBLANK('1-12-2.キャッシュフロー表 解決策導入後'!AW19),\"\",'1-12-2.キャッシュフロー表 解決策導入後'!AW19)","v":""},{"$f":"IF(ISBLANK('1-12-2.キャッシュフロー表 解決策導入後'!AX19),\"\",'1-12-2.キャッシュフロー表 解決策導入後'!AX19)","v":""},{"$f":"IF(ISBLANK('1-12-2.キャッシュフロー表 解決策導入後'!AY19),\"\",'1-12-2.キャッシュフロー表 解決策導入後'!AY19)","v":""},{"$f":"IF(ISBLANK('1-12-2.キャッシュフロー表 解決策導入後'!AZ19),\"\",'1-12-2.キャッシュフロー表 解決策導入後'!AZ19)","v":""},{"$f":"IF(ISBLANK('1-12-2.キャッシュフロー表 解決策導入後'!BA19),\"\",'1-12-2.キャッシュフロー表 解決策導入後'!BA19)","v":""},{"$f":"IF(ISBLANK('1-12-2.キャッシュフロー表 解決策導入後'!BB19),\"\",'1-12-2.キャッシュフロー表 解決策導入後'!BB19)","v":""},{"$f":"IF(ISBLANK('1-12-2.キャッシュフロー表 解決策導入後'!BC19),\"\",'1-12-2.キャッシュフロー表 解決策導入後'!BC19)","v":""},{"$f":"IF(ISBLANK('1-12-2.キャッシュフロー表 解決策導入後'!BD19),\"\",'1-12-2.キャッシュフロー表 解決策導入後'!BD19)","v":""},{"$f":"IF(ISBLANK('1-12-2.キャッシュフロー表 解決策導入後'!BE19),\"\",'1-12-2.キャッシュフロー表 解決策導入後'!BE19)","v":""},{"$f":"IF(ISBLANK('1-12-2.キャッシュフロー表 解決策導入後'!BF19),\"\",'1-12-2.キャッシュフロー表 解決策導入後'!BF19)","v":""},{"$f":"IF(ISBLANK('1-12-2.キャッシュフロー表 解決策導入後'!BG19),\"\",'1-12-2.キャッシュフロー表 解決策導入後'!BG19)","v":""},{"$f":"IF(ISBLANK('1-12-2.キャッシュフロー表 解決策導入後'!BH19),\"\",'1-12-2.キャッシュフロー表 解決策導入後'!BH19)","v":""},{"$f":"IF(ISBLANK('1-12-2.キャッシュフロー表 解決策導入後'!BI19),\"\",'1-12-2.キャッシュフロー表 解決策導入後'!BI19)","v":""},{"$f":"IF(ISBLANK('1-12-2.キャッシュフロー表 解決策導入後'!BJ19),\"\",'1-12-2.キャッシュフロー表 解決策導入後'!BJ19)","v":""},{"$f":"IF(ISBLANK('1-12-2.キャッシュフロー表 解決策導入後'!BK19),\"\",'1-12-2.キャッシュフロー表 解決策導入後'!BK19)","v":""},{"$f":"IF(ISBLANK('1-12-2.キャッシュフロー表 解決策導入後'!BL19),\"\",'1-12-2.キャッシュフロー表 解決策導入後'!BL19)","v":""},{"$f":"IF(ISBLANK('1-12-2.キャッシュフロー表 解決策導入後'!BM19),\"\",'1-12-2.キャッシュフロー表 解決策導入後'!BM19)","v":""},{"$f":"IF(ISBLANK('1-12-2.キャッシュフロー表 解決策導入後'!BN19),\"\",'1-12-2.キャッシュフロー表 解決策導入後'!BN19)","v":""},{"$f":"IF(ISBLANK('1-12-2.キャッシュフロー表 解決策導入後'!BO19),\"\",'1-12-2.キャッシュフロー表 解決策導入後'!BO19)","v":""},{"$f":"IF(ISBLANK('1-12-2.キャッシュフロー表 解決策導入後'!BP19),\"\",'1-12-2.キャッシュフロー表 解決策導入後'!BP19)","v":""},{"$f":"IF(ISBLANK('1-12-2.キャッシュフロー表 解決策導入後'!BQ19),\"\",'1-12-2.キャッシュフロー表 解決策導入後'!BQ19)","v":""},{"$f":"IF(ISBLANK('1-12-2.キャッシュフロー表 解決策導入後'!BR19),\"\",'1-12-2.キャッシュフロー表 解決策導入後'!BR19)","v":""},{"$f":"IF(ISBLANK('1-12-2.キャッシュフロー表 解決策導入後'!BS19),\"\",'1-12-2.キャッシュフロー表 解決策導入後'!BS19)","v":""},{"$f":"IF(ISBLANK('1-12-2.キャッシュフロー表 解決策導入後'!BT19),\"\",'1-12-2.キャッシュフロー表 解決策導入後'!BT19)","v":""},{"$f":"IF(ISBLANK('1-12-2.キャッシュフロー表 解決策導入後'!BU19),\"\",'1-12-2.キャッシュフロー表 解決策導入後'!BU19)","v":""},{"$f":"IF(ISBLANK('1-12-2.キャッシュフロー表 解決策導入後'!BV19),\"\",'1-12-2.キャッシュフロー表 解決策導入後'!BV19)","v":""},{"$f":"IF(ISBLANK('1-12-2.キャッシュフロー表 解決策導入後'!BW19),\"\",'1-12-2.キャッシュフロー表 解決策導入後'!BW19)","v":""},{"$f":"IF(ISBLANK('1-12-2.キャッシュフロー表 解決策導入後'!BX19),\"\",'1-12-2.キャッシュフロー表 解決策導入後'!BX19)","v":""},{"$f":"IF(ISBLANK('1-12-2.キャッシュフロー表 解決策導入後'!BY19),\"\",'1-12-2.キャッシュフロー表 解決策導入後'!BY19)","v":""},{"$f":"IF(ISBLANK('1-12-2.キャッシュフロー表 解決策導入後'!BZ19),\"\",'1-12-2.キャッシュフロー表 解決策導入後'!BZ19)","v":""}]
[null,null,"収支支出項目",null,"変動率","変動率○年後～",null,null,null,null,null,null,null,null,null,null,null,null,null,null,null,null,null,null,null,null,null,null,null,null,null,null,null,null,null,null,null,null,null,null,null,null,"収支支出項目",null,"変動率","変動率○年後～"]
[null,null,"収　入",{"$f":"IF(ISBLANK('1-12-2.キャッシュフロー表 解決策導入後'!D21),\"\",'1-12-2.キャッシュフロー表 解決策導入後'!D21)","v":""},{"$f":"IF(ISBLANK('1-12-2.キャッシュフロー表 解決策導入後'!E21),\"\",'1-12-2.キャッシュフロー表 解決策導入後'!E21)","v":0},{"$f":"IF(ISBLANK('1-12-2.キャッシュフロー表 解決策導入後'!F21),\"\",'1-12-2.キャッシュフロー表 解決策導入後'!F21&\"年後\")","v":""},null,{"$f":"IF(ISBLANK('1-12-2.キャッシュフロー表 解決策導入後'!G21),\"\",'1-12-2.キャッシュフロー表 解決策導入後'!G21)","v":0},{"$f":"IF(ISBLANK('1-12-2.キャッシュフロー表 解決策導入後'!H21),\"\",'1-12-2.キャッシュフロー表 解決策導入後'!H21)","v":""},{"$f":"IF(ISBLANK('1-12-2.キャッシュフロー表 解決策導入後'!I21),\"\",'1-12-2.キャッシュフロー表 解決策導入後'!I21)","v":0},{"$f":"IF(ISBLANK('1-12-2.キャッシュフロー表 解決策導入後'!J21),\"\",'1-12-2.キャッシュフロー表 解決策導入後'!J21)","v":0},{"$f":"IF(ISBLANK('1-12-2.キャッシュフロー表 解決策導入後'!K21),\"\",'1-12-2.キャッシュフロー表 解決策導入後'!K21)","v":0},{"$f":"IF(ISBLANK('1-12-2.キャッシュフロー表 解決策導入後'!L21),\"\",'1-12-2.キャッシュフロー表 解決策導入後'!L21)","v":0},{"$f":"IF(ISBLANK('1-12-2.キャッシュフロー表 解決策導入後'!M21),\"\",'1-12-2.キャッシュフロー表 解決策導入後'!M21)","v":0},{"$f":"IF(ISBLANK('1-12-2.キャッシュフロー表 解決策導入後'!N21),\"\",'1-12-2.キャッシュフロー表 解決策導入後'!N21)","v":0},{"$f":"IF(ISBLANK('1-12-2.キャッシュフロー表 解決策導入後'!O21),\"\",'1-12-2.キャッシュフロー表 解決策導入後'!O21)","v":0},{"$f":"IF(ISBLANK('1-12-2.キャッシュフロー表 解決策導入後'!P21),\"\",'1-12-2.キャッシュフロー表 解決策導入後'!P21)","v":0},{"$f":"IF(ISBLANK('1-12-2.キャッシュフロー表 解決策導入後'!Q21),\"\",'1-12-2.キャッシュフロー表 解決策導入後'!Q21)","v":0},{"$f":"IF(ISBLANK('1-12-2.キャッシュフロー表 解決策導入後'!R21),\"\",'1-12-2.キャッシュフロー表 解決策導入後'!R21)","v":0},{"$f":"IF(ISBLANK('1-12-2.キャッシュフロー表 解決策導入後'!S21),\"\",'1-12-2.キャッシュフロー表 解決策導入後'!S21)","v":0},{"$f":"IF(ISBLANK('1-12-2.キャッシュフロー表 解決策導入後'!T21),\"\",'1-12-2.キャッシュフロー表 解決策導入後'!T21)","v":0},{"$f":"IF(ISBLANK('1-12-2.キャッシュフロー表 解決策導入後'!U21),\"\",'1-12-2.キャッシュフロー表 解決策導入後'!U21)","v":0},{"$f":"IF(ISBLANK('1-12-2.キャッシュフロー表 解決策導入後'!V21),\"\",'1-12-2.キャッシュフロー表 解決策導入後'!V21)","v":0},{"$f":"IF(ISBLANK('1-12-2.キャッシュフロー表 解決策導入後'!W21),\"\",'1-12-2.キャッシュフロー表 解決策導入後'!W21)","v":0},{"$f":"IF(ISBLANK('1-12-2.キャッシュフロー表 解決策導入後'!X21),\"\",'1-12-2.キャッシュフロー表 解決策導入後'!X21)","v":0},{"$f":"IF(ISBLANK('1-12-2.キャッシュフロー表 解決策導入後'!Y21),\"\",'1-12-2.キャッシュフロー表 解決策導入後'!Y21)","v":0},{"$f":"IF(ISBLANK('1-12-2.キャッシュフロー表 解決策導入後'!Z21),\"\",'1-12-2.キャッシュフロー表 解決策導入後'!Z21)","v":0},{"$f":"IF(ISBLANK('1-12-2.キャッシュフロー表 解決策導入後'!AA21),\"\",'1-12-2.キャッシュフロー表 解決策導入後'!AA21)","v":0},{"$f":"IF(ISBLANK('1-12-2.キャッシュフロー表 解決策導入後'!AB21),\"\",'1-12-2.キャッシュフロー表 解決策導入後'!AB21)","v":0},{"$f":"IF(ISBLANK('1-12-2.キャッシュフロー表 解決策導入後'!AC21),\"\",'1-12-2.キャッシュフロー表 解決策導入後'!AC21)","v":0},{"$f":"IF(ISBLANK('1-12-2.キャッシュフロー表 解決策導入後'!AD21),\"\",'1-12-2.キャッシュフロー表 解決策導入後'!AD21)","v":0},{"$f":"IF(ISBLANK('1-12-2.キャッシュフロー表 解決策導入後'!AE21),\"\",'1-12-2.キャッシュフロー表 解決策導入後'!AE21)","v":0},{"$f":"IF(ISBLANK('1-12-2.キャッシュフロー表 解決策導入後'!AF21),\"\",'1-12-2.キャッシュフロー表 解決策導入後'!AF21)","v":0},{"$f":"IF(ISBLANK('1-12-2.キャッシュフロー表 解決策導入後'!AG21),\"\",'1-12-2.キャッシュフロー表 解決策導入後'!AG21)","v":0},{"$f":"IF(ISBLANK('1-12-2.キャッシュフロー表 解決策導入後'!AH21),\"\",'1-12-2.キャッシュフロー表 解決策導入後'!AH21)","v":0},{"$f":"IF(ISBLANK('1-12-2.キャッシュフロー表 解決策導入後'!AI21),\"\",'1-12-2.キャッシュフロー表 解決策導入後'!AI21)","v":0},{"$f":"IF(ISBLANK('1-12-2.キャッシュフロー表 解決策導入後'!AJ21),\"\",'1-12-2.キャッシュフロー表 解決策導入後'!AJ21)","v":0},{"$f":"IF(ISBLANK('1-12-2.キャッシュフロー表 解決策導入後'!AK21),\"\",'1-12-2.キャッシュフロー表 解決策導入後'!AK21)","v":0},{"$f":"IF(ISBLANK('1-12-2.キャッシュフロー表 解決策導入後'!AL21),\"\",'1-12-2.キャッシュフロー表 解決策導入後'!AL21)","v":0},null,null,null,"収　入",{"$f":"IF(ISBLANK('1-12-2.キャッシュフロー表 解決策導入後'!D21),\"\",'1-12-2.キャッシュフロー表 解決策導入後'!D21)","v":""},{"$f":"IF(ISBLANK('1-12-2.キャッシュフロー表 解決策導入後'!E21),\"\",'1-12-2.キャッシュフロー表 解決策導入後'!E21)","v":0},{"$f":"IF(ISBLANK('1-12-2.キャッシュフロー表 解決策導入後'!F21),\"\",'1-12-2.キャッシュフロー表 解決策導入後'!F21&\"年後\")","v":""},null,{"$f":"IF(ISBLANK('1-12-2.キャッシュフロー表 解決策導入後'!G21),\"\",'1-12-2.キャッシュフロー表 解決策導入後'!G21)","v":0},{"$f":"IF(ISBLANK('1-12-2.キャッシュフロー表 解決策導入後'!AM21),\"\",'1-12-2.キャッシュフロー表 解決策導入後'!AM21)","v":0},{"$f":"IF(ISBLANK('1-12-2.キャッシュフロー表 解決策導入後'!AN21),\"\",'1-12-2.キャッシュフロー表 解決策導入後'!AN21)","v":0},{"$f":"IF(ISBLANK('1-12-2.キャッシュフロー表 解決策導入後'!AO21),\"\",'1-12-2.キャッシュフロー表 解決策導入後'!AO21)","v":0},{"$f":"IF(ISBLANK('1-12-2.キャッシュフロー表 解決策導入後'!AP21),\"\",'1-12-2.キャッシュフロー表 解決策導入後'!AP21)","v":0},{"$f":"IF(ISBLANK('1-12-2.キャッシュフロー表 解決策導入後'!AQ21),\"\",'1-12-2.キャッシュフロー表 解決策導入後'!AQ21)","v":0},{"$f":"IF(ISBLANK('1-12-2.キャッシュフロー表 解決策導入後'!AR21),\"\",'1-12-2.キャッシュフロー表 解決策導入後'!AR21)","v":0},{"$f":"IF(ISBLANK('1-12-2.キャッシュフロー表 解決策導入後'!AS21),\"\",'1-12-2.キャッシュフロー表 解決策導入後'!AS21)","v":0},{"$f":"IF(ISBLANK('1-12-2.キャッシュフロー表 解決策導入後'!AT21),\"\",'1-12-2.キャッシュフロー表 解決策導入後'!AT21)","v":0},{"$f":"IF(ISBLANK('1-12-2.キャッシュフロー表 解決策導入後'!AU21),\"\",'1-12-2.キャッシュフロー表 解決策導入後'!AU21)","v":0},{"$f":"IF(ISBLANK('1-12-2.キャッシュフロー表 解決策導入後'!AV21),\"\",'1-12-2.キャッシュフロー表 解決策導入後'!AV21)","v":0},{"$f":"IF(ISBLANK('1-12-2.キャッシュフロー表 解決策導入後'!AW21),\"\",'1-12-2.キャッシュフロー表 解決策導入後'!AW21)","v":0},{"$f":"IF(ISBLANK('1-12-2.キャッシュフロー表 解決策導入後'!AX21),\"\",'1-12-2.キャッシュフロー表 解決策導入後'!AX21)","v":0},{"$f":"IF(ISBLANK('1-12-2.キャッシュフロー表 解決策導入後'!AY21),\"\",'1-12-2.キャッシュフロー表 解決策導入後'!AY21)","v":0},{"$f":"IF(ISBLANK('1-12-2.キャッシュフロー表 解決策導入後'!AZ21),\"\",'1-12-2.キャッシュフロー表 解決策導入後'!AZ21)","v":0},{"$f":"IF(ISBLANK('1-12-2.キャッシュフロー表 解決策導入後'!BA21),\"\",'1-12-2.キャッシュフロー表 解決策導入後'!BA21)","v":0},{"$f":"IF(ISBLANK('1-12-2.キャッシュフロー表 解決策導入後'!BB21),\"\",'1-12-2.キャッシュフロー表 解決策導入後'!BB21)","v":0},{"$f":"IF(ISBLANK('1-12-2.キャッシュフロー表 解決策導入後'!BC21),\"\",'1-12-2.キャッシュフロー表 解決策導入後'!BC21)","v":0},{"$f":"IF(ISBLANK('1-12-2.キャッシュフロー表 解決策導入後'!BD21),\"\",'1-12-2.キャッシュフロー表 解決策導入後'!BD21)","v":0},{"$f":"IF(ISBLANK('1-12-2.キャッシュフロー表 解決策導入後'!BE21),\"\",'1-12-2.キャッシュフロー表 解決策導入後'!BE21)","v":0},{"$f":"IF(ISBLANK('1-12-2.キャッシュフロー表 解決策導入後'!BF21),\"\",'1-12-2.キャッシュフロー表 解決策導入後'!BF21)","v":0},{"$f":"IF(ISBLANK('1-12-2.キャッシュフロー表 解決策導入後'!BG21),\"\",'1-12-2.キャッシュフロー表 解決策導入後'!BG21)","v":0},{"$f":"IF(ISBLANK('1-12-2.キャッシュフロー表 解決策導入後'!BH21),\"\",'1-12-2.キャッシュフロー表 解決策導入後'!BH21)","v":0},{"$f":"IF(ISBLANK('1-12-2.キャッシュフロー表 解決策導入後'!BI21),\"\",'1-12-2.キャッシュフロー表 解決策導入後'!BI21)","v":0},{"$f":"IF(ISBLANK('1-12-2.キャッシュフロー表 解決策導入後'!BJ21),\"\",'1-12-2.キャッシュフロー表 解決策導入後'!BJ21)","v":0},{"$f":"IF(ISBLANK('1-12-2.キャッシュフロー表 解決策導入後'!BK21),\"\",'1-12-2.キャッシュフロー表 解決策導入後'!BK21)","v":0},{"$f":"IF(ISBLANK('1-12-2.キャッシュフロー表 解決策導入後'!BL21),\"\",'1-12-2.キャッシュフロー表 解決策導入後'!BL21)","v":0},{"$f":"IF(ISBLANK('1-12-2.キャッシュフロー表 解決策導入後'!BM21),\"\",'1-12-2.キャッシュフロー表 解決策導入後'!BM21)","v":0},{"$f":"IF(ISBLANK('1-12-2.キャッシュフロー表 解決策導入後'!BN21),\"\",'1-12-2.キャッシュフロー表 解決策導入後'!BN21)","v":0},{"$f":"IF(ISBLANK('1-12-2.キャッシュフロー表 解決策導入後'!BO21),\"\",'1-12-2.キャッシュフロー表 解決策導入後'!BO21)","v":0},{"$f":"IF(ISBLANK('1-12-2.キャッシュフロー表 解決策導入後'!BP21),\"\",'1-12-2.キャッシュフロー表 解決策導入後'!BP21)","v":0},{"$f":"IF(ISBLANK('1-12-2.キャッシュフロー表 解決策導入後'!BQ21),\"\",'1-12-2.キャッシュフロー表 解決策導入後'!BQ21)","v":0},{"$f":"IF(ISBLANK('1-12-2.キャッシュフロー表 解決策導入後'!BR21),\"\",'1-12-2.キャッシュフロー表 解決策導入後'!BR21)","v":0},{"$f":"IF(ISBLANK('1-12-2.キャッシュフロー表 解決策導入後'!BS21),\"\",'1-12-2.キャッシュフロー表 解決策導入後'!BS21)","v":0},{"$f":"IF(ISBLANK('1-12-2.キャッシュフロー表 解決策導入後'!BT21),\"\",'1-12-2.キャッシュフロー表 解決策導入後'!BT21)","v":0},{"$f":"IF(ISBLANK('1-12-2.キャッシュフロー表 解決策導入後'!BU21),\"\",'1-12-2.キャッシュフロー表 解決策導入後'!BU21)","v":0},{"$f":"IF(ISBLANK('1-12-2.キャッシュフロー表 解決策導入後'!BV21),\"\",'1-12-2.キャッシュフロー表 解決策導入後'!BV21)","v":0},{"$f":"IF(ISBLANK('1-12-2.キャッシュフロー表 解決策導入後'!BW21),\"\",'1-12-2.キャッシュフロー表 解決策導入後'!BW21)","v":0},{"$f":"IF(ISBLANK('1-12-2.キャッシュフロー表 解決策導入後'!BX21),\"\",'1-12-2.キャッシュフロー表 解決策導入後'!BX21)","v":0},{"$f":"IF(ISBLANK('1-12-2.キャッシュフロー表 解決策導入後'!BY21),\"\",'1-12-2.キャッシュフロー表 解決策導入後'!BY21)","v":0},{"$f":"IF(ISBLANK('1-12-2.キャッシュフロー表 解決策導入後'!BZ21),\"\",'1-12-2.キャッシュフロー表 解決策導入後'!BZ21)","v":0}]
[null,null,null,{"$f":"IF(ISBLANK('1-12-2.キャッシュフロー表 解決策導入後'!D22),\"\",'1-12-2.キャッシュフロー表 解決策導入後'!D22)","v":""},{"$f":"IF(ISBLANK('1-12-2.キャッシュフロー表 解決策導入後'!E22),\"\",'1-12-2.キャッシュフロー表 解決策導入後'!E22)","v":0},{"$f":"IF(ISBLANK('1-12-2.キャッシュフロー表 解決策導入後'!F22),\"\",'1-12-2.キャッシュフロー表 解決策導入後'!F22&\"年後\")","v":""},null,{"$f":"IF(ISBLANK('1-12-2.キャッシュフロー表 解決策導入後'!G22),\"\",'1-12-2.キャッシュフロー表 解決策導入後'!G22)","v":0},{"$f":"IF(ISBLANK('1-12-2.キャッシュフロー表 解決策導入後'!H22),\"\",'1-12-2.キャッシュフロー表 解決策導入後'!H22)","v":""},{"$f":"IF(ISBLANK('1-12-2.キャッシュフロー表 解決策導入後'!I22),\"\",'1-12-2.キャッシュフロー表 解決策導入後'!I22)","v":0},{"$f":"IF(ISBLANK('1-12-2.キャッシュフロー表 解決策導入後'!J22),\"\",'1-12-2.キャッシュフロー表 解決策導入後'!J22)","v":0},{"$f":"IF(ISBLANK('1-12-2.キャッシュフロー表 解決策導入後'!K22),\"\",'1-12-2.キャッシュフロー表 解決策導入後'!K22)","v":0},{"$f":"IF(ISBLANK('1-12-2.キャッシュフロー表 解決策導入後'!L22),\"\",'1-12-2.キャッシュフロー表 解決策導入後'!L22)","v":0},{"$f":"IF(ISBLANK('1-12-2.キャッシュフロー表 解決策導入後'!M22),\"\",'1-12-2.キャッシュフロー表 解決策導入後'!M22)","v":0},{"$f":"IF(ISBLANK('1-12-2.キャッシュフロー表 解決策導入後'!N22),\"\",'1-12-2.キャッシュフロー表 解決策導入後'!N22)","v":0},{"$f":"IF(ISBLANK('1-12-2.キャッシュフロー表 解決策導入後'!O22),\"\",'1-12-2.キャッシュフロー表 解決策導入後'!O22)","v":0},{"$f":"IF(ISBLANK('1-12-2.キャッシュフロー表 解決策導入後'!P22),\"\",'1-12-2.キャッシュフロー表 解決策導入後'!P22)","v":0},{"$f":"IF(ISBLANK('1-12-2.キャッシュフロー表 解決策導入後'!Q22),\"\",'1-12-2.キャッシュフロー表 解決策導入後'!Q22)","v":0},{"$f":"IF(ISBLANK('1-12-2.キャッシュフロー表 解決策導入後'!R22),\"\",'1-12-2.キャッシュフロー表 解決策導入後'!R22)","v":0},{"$f":"IF(ISBLANK('1-12-2.キャッシュフロー表 解決策導入後'!S22),\"\",'1-12-2.キャッシュフロー表 解決策導入後'!S22)","v":0},{"$f":"IF(ISBLANK('1-12-2.キャッシュフロー表 解決策導入後'!T22),\"\",'1-12-2.キャッシュフロー表 解決策導入後'!T22)","v":0},{"$f":"IF(ISBLANK('1-12-2.キャッシュフロー表 解決策導入後'!U22),\"\",'1-12-2.キャッシュフロー表 解決策導入後'!U22)","v":0},{"$f":"IF(ISBLANK('1-12-2.キャッシュフロー表 解決策導入後'!V22),\"\",'1-12-2.キャッシュフロー表 解決策導入後'!V22)","v":0},{"$f":"IF(ISBLANK('1-12-2.キャッシュフロー表 解決策導入後'!W22),\"\",'1-12-2.キャッシュフロー表 解決策導入後'!W22)","v":0},{"$f":"IF(ISBLANK('1-12-2.キャッシュフロー表 解決策導入後'!X22),\"\",'1-12-2.キャッシュフロー表 解決策導入後'!X22)","v":0},{"$f":"IF(ISBLANK('1-12-2.キャッシュフロー表 解決策導入後'!Y22),\"\",'1-12-2.キャッシュフロー表 解決策導入後'!Y22)","v":0},{"$f":"IF(ISBLANK('1-12-2.キャッシュフロー表 解決策導入後'!Z22),\"\",'1-12-2.キャッシュフロー表 解決策導入後'!Z22)","v":0},{"$f":"IF(ISBLANK('1-12-2.キャッシュフロー表 解決策導入後'!AA22),\"\",'1-12-2.キャッシュフロー表 解決策導入後'!AA22)","v":0},{"$f":"IF(ISBLANK('1-12-2.キャッシュフロー表 解決策導入後'!AB22),\"\",'1-12-2.キャッシュフロー表 解決策導入後'!AB22)","v":0},{"$f":"IF(ISBLANK('1-12-2.キャッシュフロー表 解決策導入後'!AC22),\"\",'1-12-2.キャッシュフロー表 解決策導入後'!AC22)","v":0},{"$f":"IF(ISBLANK('1-12-2.キャッシュフロー表 解決策導入後'!AD22),\"\",'1-12-2.キャッシュフロー表 解決策導入後'!AD22)","v":0},{"$f":"IF(ISBLANK('1-12-2.キャッシュフロー表 解決策導入後'!AE22),\"\",'1-12-2.キャッシュフロー表 解決策導入後'!AE22)","v":0},{"$f":"IF(ISBLANK('1-12-2.キャッシュフロー表 解決策導入後'!AF22),\"\",'1-12-2.キャッシュフロー表 解決策導入後'!AF22)","v":0},{"$f":"IF(ISBLANK('1-12-2.キャッシュフロー表 解決策導入後'!AG22),\"\",'1-12-2.キャッシュフロー表 解決策導入後'!AG22)","v":0},{"$f":"IF(ISBLANK('1-12-2.キャッシュフロー表 解決策導入後'!AH22),\"\",'1-12-2.キャッシュフロー表 解決策導入後'!AH22)","v":0},{"$f":"IF(ISBLANK('1-12-2.キャッシュフロー表 解決策導入後'!AI22),\"\",'1-12-2.キャッシュフロー表 解決策導入後'!AI22)","v":0},{"$f":"IF(ISBLANK('1-12-2.キャッシュフロー表 解決策導入後'!AJ22),\"\",'1-12-2.キャッシュフロー表 解決策導入後'!AJ22)","v":0},{"$f":"IF(ISBLANK('1-12-2.キャッシュフロー表 解決策導入後'!AK22),\"\",'1-12-2.キャッシュフロー表 解決策導入後'!AK22)","v":0},{"$f":"IF(ISBLANK('1-12-2.キャッシュフロー表 解決策導入後'!AL22),\"\",'1-12-2.キャッシュフロー表 解決策導入後'!AL22)","v":0},null,null,null,null,{"$f":"IF(ISBLANK('1-12-2.キャッシュフロー表 解決策導入後'!D22),\"\",'1-12-2.キャッシュフロー表 解決策導入後'!D22)","v":""},{"$f":"IF(ISBLANK('1-12-2.キャッシュフロー表 解決策導入後'!E22),\"\",'1-12-2.キャッシュフロー表 解決策導入後'!E22)","v":0},{"$f":"IF(ISBLANK('1-12-2.キャッシュフロー表 解決策導入後'!F22),\"\",'1-12-2.キャッシュフロー表 解決策導入後'!F22&\"年後\")","v":""},null,{"$f":"IF(ISBLANK('1-12-2.キャッシュフロー表 解決策導入後'!G22),\"\",'1-12-2.キャッシュフロー表 解決策導入後'!G22)","v":0},{"$f":"IF(ISBLANK('1-12-2.キャッシュフロー表 解決策導入後'!AM22),\"\",'1-12-2.キャッシュフロー表 解決策導入後'!AM22)","v":0},{"$f":"IF(ISBLANK('1-12-2.キャッシュフロー表 解決策導入後'!AN22),\"\",'1-12-2.キャッシュフロー表 解決策導入後'!AN22)","v":0},{"$f":"IF(ISBLANK('1-12-2.キャッシュフロー表 解決策導入後'!AO22),\"\",'1-12-2.キャッシュフロー表 解決策導入後'!AO22)","v":0},{"$f":"IF(ISBLANK('1-12-2.キャッシュフロー表 解決策導入後'!AP22),\"\",'1-12-2.キャッシュフロー表 解決策導入後'!AP22)","v":0},{"$f":"IF(ISBLANK('1-12-2.キャッシュフロー表 解決策導入後'!AQ22),\"\",'1-12-2.キャッシュフロー表 解決策導入後'!AQ22)","v":0},{"$f":"IF(ISBLANK('1-12-2.キャッシュフロー表 解決策導入後'!AR22),\"\",'1-12-2.キャッシュフロー表 解決策導入後'!AR22)","v":0},{"$f":"IF(ISBLANK('1-12-2.キャッシュフロー表 解決策導入後'!AS22),\"\",'1-12-2.キャッシュフロー表 解決策導入後'!AS22)","v":0},{"$f":"IF(ISBLANK('1-12-2.キャッシュフロー表 解決策導入後'!AT22),\"\",'1-12-2.キャッシュフロー表 解決策導入後'!AT22)","v":0},{"$f":"IF(ISBLANK('1-12-2.キャッシュフロー表 解決策導入後'!AU22),\"\",'1-12-2.キャッシュフロー表 解決策導入後'!AU22)","v":0},{"$f":"IF(ISBLANK('1-12-2.キャッシュフロー表 解決策導入後'!AV22),\"\",'1-12-2.キャッシュフロー表 解決策導入後'!AV22)","v":0},{"$f":"IF(ISBLANK('1-12-2.キャッシュフロー表 解決策導入後'!AW22),\"\",'1-12-2.キャッシュフロー表 解決策導入後'!AW22)","v":0},{"$f":"IF(ISBLANK('1-12-2.キャッシュフロー表 解決策導入後'!AX22),\"\",'1-12-2.キャッシュフロー表 解決策導入後'!AX22)","v":0},{"$f":"IF(ISBLANK('1-12-2.キャッシュフロー表 解決策導入後'!AY22),\"\",'1-12-2.キャッシュフロー表 解決策導入後'!AY22)","v":0},{"$f":"IF(ISBLANK('1-12-2.キャッシュフロー表 解決策導入後'!AZ22),\"\",'1-12-2.キャッシュフロー表 解決策導入後'!AZ22)","v":0},{"$f":"IF(ISBLANK('1-12-2.キャッシュフロー表 解決策導入後'!BA22),\"\",'1-12-2.キャッシュフロー表 解決策導入後'!BA22)","v":0},{"$f":"IF(ISBLANK('1-12-2.キャッシュフロー表 解決策導入後'!BB22),\"\",'1-12-2.キャッシュフロー表 解決策導入後'!BB22)","v":0},{"$f":"IF(ISBLANK('1-12-2.キャッシュフロー表 解決策導入後'!BC22),\"\",'1-12-2.キャッシュフロー表 解決策導入後'!BC22)","v":0},{"$f":"IF(ISBLANK('1-12-2.キャッシュフロー表 解決策導入後'!BD22),\"\",'1-12-2.キャッシュフロー表 解決策導入後'!BD22)","v":0},{"$f":"IF(ISBLANK('1-12-2.キャッシュフロー表 解決策導入後'!BE22),\"\",'1-12-2.キャッシュフロー表 解決策導入後'!BE22)","v":0},{"$f":"IF(ISBLANK('1-12-2.キャッシュフロー表 解決策導入後'!BF22),\"\",'1-12-2.キャッシュフロー表 解決策導入後'!BF22)","v":0},{"$f":"IF(ISBLANK('1-12-2.キャッシュフロー表 解決策導入後'!BG22),\"\",'1-12-2.キャッシュフロー表 解決策導入後'!BG22)","v":0},{"$f":"IF(ISBLANK('1-12-2.キャッシュフロー表 解決策導入後'!BH22),\"\",'1-12-2.キャッシュフロー表 解決策導入後'!BH22)","v":0},{"$f":"IF(ISBLANK('1-12-2.キャッシュフロー表 解決策導入後'!BI22),\"\",'1-12-2.キャッシュフロー表 解決策導入後'!BI22)","v":0},{"$f":"IF(ISBLANK('1-12-2.キャッシュフロー表 解決策導入後'!BJ22),\"\",'1-12-2.キャッシュフロー表 解決策導入後'!BJ22)","v":0},{"$f":"IF(ISBLANK('1-12-2.キャッシュフロー表 解決策導入後'!BK22),\"\",'1-12-2.キャッシュフロー表 解決策導入後'!BK22)","v":0},{"$f":"IF(ISBLANK('1-12-2.キャッシュフロー表 解決策導入後'!BL22),\"\",'1-12-2.キャッシュフロー表 解決策導入後'!BL22)","v":0},{"$f":"IF(ISBLANK('1-12-2.キャッシュフロー表 解決策導入後'!BM22),\"\",'1-12-2.キャッシュフロー表 解決策導入後'!BM22)","v":0},{"$f":"IF(ISBLANK('1-12-2.キャッシュフロー表 解決策導入後'!BN22),\"\",'1-12-2.キャッシュフロー表 解決策導入後'!BN22)","v":0},{"$f":"IF(ISBLANK('1-12-2.キャッシュフロー表 解決策導入後'!BO22),\"\",'1-12-2.キャッシュフロー表 解決策導入後'!BO22)","v":0},{"$f":"IF(ISBLANK('1-12-2.キャッシュフロー表 解決策導入後'!BP22),\"\",'1-12-2.キャッシュフロー表 解決策導入後'!BP22)","v":0},{"$f":"IF(ISBLANK('1-12-2.キャッシュフロー表 解決策導入後'!BQ22),\"\",'1-12-2.キャッシュフロー表 解決策導入後'!BQ22)","v":0},{"$f":"IF(ISBLANK('1-12-2.キャッシュフロー表 解決策導入後'!BR22),\"\",'1-12-2.キャッシュフロー表 解決策導入後'!BR22)","v":0},{"$f":"IF(ISBLANK('1-12-2.キャッシュフロー表 解決策導入後'!BS22),\"\",'1-12-2.キャッシュフロー表 解決策導入後'!BS22)","v":0},{"$f":"IF(ISBLANK('1-12-2.キャッシュフロー表 解決策導入後'!BT22),\"\",'1-12-2.キャッシュフロー表 解決策導入後'!BT22)","v":0},{"$f":"IF(ISBLANK('1-12-2.キャッシュフロー表 解決策導入後'!BU22),\"\",'1-12-2.キャッシュフロー表 解決策導入後'!BU22)","v":0},{"$f":"IF(ISBLANK('1-12-2.キャッシュフロー表 解決策導入後'!BV22),\"\",'1-12-2.キャッシュフロー表 解決策導入後'!BV22)","v":0},{"$f":"IF(ISBLANK('1-12-2.キャッシュフロー表 解決策導入後'!BW22),\"\",'1-12-2.キャッシュフロー表 解決策導入後'!BW22)","v":0},{"$f":"IF(ISBLANK('1-12-2.キャッシュフロー表 解決策導入後'!BX22),\"\",'1-12-2.キャッシュフロー表 解決策導入後'!BX22)","v":0},{"$f":"IF(ISBLANK('1-12-2.キャッシュフロー表 解決策導入後'!BY22),\"\",'1-12-2.キャッシュフロー表 解決策導入後'!BY22)","v":0},{"$f":"IF(ISBLANK('1-12-2.キャッシュフロー表 解決策導入後'!BZ22),\"\",'1-12-2.キャッシュフロー表 解決策導入後'!BZ22)","v":0}]
[null,null,null,{"$f":"IF(ISBLANK('1-12-2.キャッシュフロー表 解決策導入後'!D23),\"\",'1-12-2.キャッシュフロー表 解決策導入後'!D23)","v":""},{"$f":"IF(ISBLANK('1-12-2.キャッシュフロー表 解決策導入後'!E23),\"\",'1-12-2.キャッシュフロー表 解決策導入後'!E23)","v":0},{"$f":"IF(ISBLANK('1-12-2.キャッシュフロー表 解決策導入後'!F23),\"\",'1-12-2.キャッシュフロー表 解決策導入後'!F23&\"年後\")","v":""},null,{"$f":"IF(ISBLANK('1-12-2.キャッシュフロー表 解決策導入後'!G23),\"\",'1-12-2.キャッシュフロー表 解決策導入後'!G23)","v":0},{"$f":"IF(ISBLANK('1-12-2.キャッシュフロー表 解決策導入後'!H23),\"\",'1-12-2.キャッシュフロー表 解決策導入後'!H23)","v":""},{"$f":"IF(ISBLANK('1-12-2.キャッシュフロー表 解決策導入後'!I23),\"\",'1-12-2.キャッシュフロー表 解決策導入後'!I23)","v":0},{"$f":"IF(ISBLANK('1-12-2.キャッシュフロー表 解決策導入後'!J23),\"\",'1-12-2.キャッシュフロー表 解決策導入後'!J23)","v":0},{"$f":"IF(ISBLANK('1-12-2.キャッシュフロー表 解決策導入後'!K23),\"\",'1-12-2.キャッシュフロー表 解決策導入後'!K23)","v":0},{"$f":"IF(ISBLANK('1-12-2.キャッシュフロー表 解決策導入後'!L23),\"\",'1-12-2.キャッシュフロー表 解決策導入後'!L23)","v":0},{"$f":"IF(ISBLANK('1-12-2.キャッシュフロー表 解決策導入後'!M23),\"\",'1-12-2.キャッシュフロー表 解決策導入後'!M23)","v":0},{"$f":"IF(ISBLANK('1-12-2.キャッシュフロー表 解決策導入後'!N23),\"\",'1-12-2.キャッシュフロー表 解決策導入後'!N23)","v":0},{"$f":"IF(ISBLANK('1-12-2.キャッシュフロー表 解決策導入後'!O23),\"\",'1-12-2.キャッシュフロー表 解決策導入後'!O23)","v":0},{"$f":"IF(ISBLANK('1-12-2.キャッシュフロー表 解決策導入後'!P23),\"\",'1-12-2.キャッシュフロー表 解決策導入後'!P23)","v":0},{"$f":"IF(ISBLANK('1-12-2.キャッシュフロー表 解決策導入後'!Q23),\"\",'1-12-2.キャッシュフロー表 解決策導入後'!Q23)","v":0},{"$f":"IF(ISBLANK('1-12-2.キャッシュフロー表 解決策導入後'!R23),\"\",'1-12-2.キャッシュフロー表 解決策導入後'!R23)","v":0},{"$f":"IF(ISBLANK('1-12-2.キャッシュフロー表 解決策導入後'!S23),\"\",'1-12-2.キャッシュフロー表 解決策導入後'!S23)","v":0},{"$f":"IF(ISBLANK('1-12-2.キャッシュフロー表 解決策導入後'!T23),\"\",'1-12-2.キャッシュフロー表 解決策導入後'!T23)","v":0},{"$f":"IF(ISBLANK('1-12-2.キャッシュフロー表 解決策導入後'!U23),\"\",'1-12-2.キャッシュフロー表 解決策導入後'!U23)","v":0},{"$f":"IF(ISBLANK('1-12-2.キャッシュフロー表 解決策導入後'!V23),\"\",'1-12-2.キャッシュフロー表 解決策導入後'!V23)","v":0},{"$f":"IF(ISBLANK('1-12-2.キャッシュフロー表 解決策導入後'!W23),\"\",'1-12-2.キャッシュフロー表 解決策導入後'!W23)","v":0},{"$f":"IF(ISBLANK('1-12-2.キャッシュフロー表 解決策導入後'!X23),\"\",'1-12-2.キャッシュフロー表 解決策導入後'!X23)","v":0},{"$f":"IF(ISBLANK('1-12-2.キャッシュフロー表 解決策導入後'!Y23),\"\",'1-12-2.キャッシュフロー表 解決策導入後'!Y23)","v":0},{"$f":"IF(ISBLANK('1-12-2.キャッシュフロー表 解決策導入後'!Z23),\"\",'1-12-2.キャッシュフロー表 解決策導入後'!Z23)","v":0},{"$f":"IF(ISBLANK('1-12-2.キャッシュフロー表 解決策導入後'!AA23),\"\",'1-12-2.キャッシュフロー表 解決策導入後'!AA23)","v":0},{"$f":"IF(ISBLANK('1-12-2.キャッシュフロー表 解決策導入後'!AB23),\"\",'1-12-2.キャッシュフロー表 解決策導入後'!AB23)","v":0},{"$f":"IF(ISBLANK('1-12-2.キャッシュフロー表 解決策導入後'!AC23),\"\",'1-12-2.キャッシュフロー表 解決策導入後'!AC23)","v":0},{"$f":"IF(ISBLANK('1-12-2.キャッシュフロー表 解決策導入後'!AD23),\"\",'1-12-2.キャッシュフロー表 解決策導入後'!AD23)","v":0},{"$f":"IF(ISBLANK('1-12-2.キャッシュフロー表 解決策導入後'!AE23),\"\",'1-12-2.キャッシュフロー表 解決策導入後'!AE23)","v":0},{"$f":"IF(ISBLANK('1-12-2.キャッシュフロー表 解決策導入後'!AF23),\"\",'1-12-2.キャッシュフロー表 解決策導入後'!AF23)","v":0},{"$f":"IF(ISBLANK('1-12-2.キャッシュフロー表 解決策導入後'!AG23),\"\",'1-12-2.キャッシュフロー表 解決策導入後'!AG23)","v":0},{"$f":"IF(ISBLANK('1-12-2.キャッシュフロー表 解決策導入後'!AH23),\"\",'1-12-2.キャッシュフロー表 解決策導入後'!AH23)","v":0},{"$f":"IF(ISBLANK('1-12-2.キャッシュフロー表 解決策導入後'!AI23),\"\",'1-12-2.キャッシュフロー表 解決策導入後'!AI23)","v":0},{"$f":"IF(ISBLANK('1-12-2.キャッシュフロー表 解決策導入後'!AJ23),\"\",'1-12-2.キャッシュフロー表 解決策導入後'!AJ23)","v":0},{"$f":"IF(ISBLANK('1-12-2.キャッシュフロー表 解決策導入後'!AK23),\"\",'1-12-2.キャッシュフロー表 解決策導入後'!AK23)","v":0},{"$f":"IF(ISBLANK('1-12-2.キャッシュフロー表 解決策導入後'!AL23),\"\",'1-12-2.キャッシュフロー表 解決策導入後'!AL23)","v":0},null,null,null,null,{"$f":"IF(ISBLANK('1-12-2.キャッシュフロー表 解決策導入後'!D23),\"\",'1-12-2.キャッシュフロー表 解決策導入後'!D23)","v":""},{"$f":"IF(ISBLANK('1-12-2.キャッシュフロー表 解決策導入後'!E23),\"\",'1-12-2.キャッシュフロー表 解決策導入後'!E23)","v":0},{"$f":"IF(ISBLANK('1-12-2.キャッシュフロー表 解決策導入後'!F23),\"\",'1-12-2.キャッシュフロー表 解決策導入後'!F23&\"年後\")","v":""},null,{"$f":"IF(ISBLANK('1-12-2.キャッシュフロー表 解決策導入後'!G23),\"\",'1-12-2.キャッシュフロー表 解決策導入後'!G23)","v":0},{"$f":"IF(ISBLANK('1-12-2.キャッシュフロー表 解決策導入後'!AM23),\"\",'1-12-2.キャッシュフロー表 解決策導入後'!AM23)","v":0},{"$f":"IF(ISBLANK('1-12-2.キャッシュフロー表 解決策導入後'!AN23),\"\",'1-12-2.キャッシュフロー表 解決策導入後'!AN23)","v":0},{"$f":"IF(ISBLANK('1-12-2.キャッシュフロー表 解決策導入後'!AO23),\"\",'1-12-2.キャッシュフロー表 解決策導入後'!AO23)","v":0},{"$f":"IF(ISBLANK('1-12-2.キャッシュフロー表 解決策導入後'!AP23),\"\",'1-12-2.キャッシュフロー表 解決策導入後'!AP23)","v":0},{"$f":"IF(ISBLANK('1-12-2.キャッシュフロー表 解決策導入後'!AQ23),\"\",'1-12-2.キャッシュフロー表 解決策導入後'!AQ23)","v":0},{"$f":"IF(ISBLANK('1-12-2.キャッシュフロー表 解決策導入後'!AR23),\"\",'1-12-2.キャッシュフロー表 解決策導入後'!AR23)","v":0},{"$f":"IF(ISBLANK('1-12-2.キャッシュフロー表 解決策導入後'!AS23),\"\",'1-12-2.キャッシュフロー表 解決策導入後'!AS23)","v":0},{"$f":"IF(ISBLANK('1-12-2.キャッシュフロー表 解決策導入後'!AT23),\"\",'1-12-2.キャッシュフロー表 解決策導入後'!AT23)","v":0},{"$f":"IF(ISBLANK('1-12-2.キャッシュフロー表 解決策導入後'!AU23),\"\",'1-12-2.キャッシュフロー表 解決策導入後'!AU23)","v":0},{"$f":"IF(ISBLANK('1-12-2.キャッシュフロー表 解決策導入後'!AV23),\"\",'1-12-2.キャッシュフロー表 解決策導入後'!AV23)","v":0},{"$f":"IF(ISBLANK('1-12-2.キャッシュフロー表 解決策導入後'!AW23),\"\",'1-12-2.キャッシュフロー表 解決策導入後'!AW23)","v":0},{"$f":"IF(ISBLANK('1-12-2.キャッシュフロー表 解決策導入後'!AX23),\"\",'1-12-2.キャッシュフロー表 解決策導入後'!AX23)","v":0},{"$f":"IF(ISBLANK('1-12-2.キャッシュフロー表 解決策導入後'!AY23),\"\",'1-12-2.キャッシュフロー表 解決策導入後'!AY23)","v":0},{"$f":"IF(ISBLANK('1-12-2.キャッシュフロー表 解決策導入後'!AZ23),\"\",'1-12-2.キャッシュフロー表 解決策導入後'!AZ23)","v":0},{"$f":"IF(ISBLANK('1-12-2.キャッシュフロー表 解決策導入後'!BA23),\"\",'1-12-2.キャッシュフロー表 解決策導入後'!BA23)","v":0},{"$f":"IF(ISBLANK('1-12-2.キャッシュフロー表 解決策導入後'!BB23),\"\",'1-12-2.キャッシュフロー表 解決策導入後'!BB23)","v":0},{"$f":"IF(ISBLANK('1-12-2.キャッシュフロー表 解決策導入後'!BC23),\"\",'1-12-2.キャッシュフロー表 解決策導入後'!BC23)","v":0},{"$f":"IF(ISBLANK('1-12-2.キャッシュフロー表 解決策導入後'!BD23),\"\",'1-12-2.キャッシュフロー表 解決策導入後'!BD23)","v":0},{"$f":"IF(ISBLANK('1-12-2.キャッシュフロー表 解決策導入後'!BE23),\"\",'1-12-2.キャッシュフロー表 解決策導入後'!BE23)","v":0},{"$f":"IF(ISBLANK('1-12-2.キャッシュフロー表 解決策導入後'!BF23),\"\",'1-12-2.キャッシュフロー表 解決策導入後'!BF23)","v":0},{"$f":"IF(ISBLANK('1-12-2.キャッシュフロー表 解決策導入後'!BG23),\"\",'1-12-2.キャッシュフロー表 解決策導入後'!BG23)","v":0},{"$f":"IF(ISBLANK('1-12-2.キャッシュフロー表 解決策導入後'!BH23),\"\",'1-12-2.キャッシュフロー表 解決策導入後'!BH23)","v":0},{"$f":"IF(ISBLANK('1-12-2.キャッシュフロー表 解決策導入後'!BI23),\"\",'1-12-2.キャッシュフロー表 解決策導入後'!BI23)","v":0},{"$f":"IF(ISBLANK('1-12-2.キャッシュフロー表 解決策導入後'!BJ23),\"\",'1-12-2.キャッシュフロー表 解決策導入後'!BJ23)","v":0},{"$f":"IF(ISBLANK('1-12-2.キャッシュフロー表 解決策導入後'!BK23),\"\",'1-12-2.キャッシュフロー表 解決策導入後'!BK23)","v":0},{"$f":"IF(ISBLANK('1-12-2.キャッシュフロー表 解決策導入後'!BL23),\"\",'1-12-2.キャッシュフロー表 解決策導入後'!BL23)","v":0},{"$f":"IF(ISBLANK('1-12-2.キャッシュフロー表 解決策導入後'!BM23),\"\",'1-12-2.キャッシュフロー表 解決策導入後'!BM23)","v":0},{"$f":"IF(ISBLANK('1-12-2.キャッシュフロー表 解決策導入後'!BN23),\"\",'1-12-2.キャッシュフロー表 解決策導入後'!BN23)","v":0},{"$f":"IF(ISBLANK('1-12-2.キャッシュフロー表 解決策導入後'!BO23),\"\",'1-12-2.キャッシュフロー表 解決策導入後'!BO23)","v":0},{"$f":"IF(ISBLANK('1-12-2.キャッシュフロー表 解決策導入後'!BP23),\"\",'1-12-2.キャッシュフロー表 解決策導入後'!BP23)","v":0},{"$f":"IF(ISBLANK('1-12-2.キャッシュフロー表 解決策導入後'!BQ23),\"\",'1-12-2.キャッシュフロー表 解決策導入後'!BQ23)","v":0},{"$f":"IF(ISBLANK('1-12-2.キャッシュフロー表 解決策導入後'!BR23),\"\",'1-12-2.キャッシュフロー表 解決策導入後'!BR23)","v":0},{"$f":"IF(ISBLANK('1-12-2.キャッシュフロー表 解決策導入後'!BS23),\"\",'1-12-2.キャッシュフロー表 解決策導入後'!BS23)","v":0},{"$f":"IF(ISBLANK('1-12-2.キャッシュフロー表 解決策導入後'!BT23),\"\",'1-12-2.キャッシュフロー表 解決策導入後'!BT23)","v":0},{"$f":"IF(ISBLANK('1-12-2.キャッシュフロー表 解決策導入後'!BU23),\"\",'1-12-2.キャッシュフロー表 解決策導入後'!BU23)","v":0},{"$f":"IF(ISBLANK('1-12-2.キャッシュフロー表 解決策導入後'!BV23),\"\",'1-12-2.キャッシュフロー表 解決策導入後'!BV23)","v":0},{"$f":"IF(ISBLANK('1-12-2.キャッシュフロー表 解決策導入後'!BW23),\"\",'1-12-2.キャッシュフロー表 解決策導入後'!BW23)","v":0},{"$f":"IF(ISBLANK('1-12-2.キャッシュフロー表 解決策導入後'!BX23),\"\",'1-12-2.キャッシュフロー表 解決策導入後'!BX23)","v":0},{"$f":"IF(ISBLANK('1-12-2.キャッシュフロー表 解決策導入後'!BY23),\"\",'1-12-2.キャッシュフロー表 解決策導入後'!BY23)","v":0},{"$f":"IF(ISBLANK('1-12-2.キャッシュフロー表 解決策導入後'!BZ23),\"\",'1-12-2.キャッシュフロー表 解決策導入後'!BZ23)","v":0}]
[null,null,null,{"$f":"IF(ISBLANK('1-12-2.キャッシュフロー表 解決策導入後'!D24),\"\",'1-12-2.キャッシュフロー表 解決策導入後'!D24)","v":""},{"$f":"IF(ISBLANK('1-12-2.キャッシュフロー表 解決策導入後'!E24),\"\",'1-12-2.キャッシュフロー表 解決策導入後'!E24)","v":0},{"$f":"IF(ISBLANK('1-12-2.キャッシュフロー表 解決策導入後'!F24),\"\",'1-12-2.キャッシュフロー表 解決策導入後'!F24&\"年後\")","v":""},null,{"$f":"IF(ISBLANK('1-12-2.キャッシュフロー表 解決策導入後'!G24),\"\",'1-12-2.キャッシュフロー表 解決策導入後'!G24)","v":0},{"$f":"IF(ISBLANK('1-12-2.キャッシュフロー表 解決策導入後'!H24),\"\",'1-12-2.キャッシュフロー表 解決策導入後'!H24)","v":""},{"$f":"IF(ISBLANK('1-12-2.キャッシュフロー表 解決策導入後'!I24),\"\",'1-12-2.キャッシュフロー表 解決策導入後'!I24)","v":0},{"$f":"IF(ISBLANK('1-12-2.キャッシュフロー表 解決策導入後'!J24),\"\",'1-12-2.キャッシュフロー表 解決策導入後'!J24)","v":0},{"$f":"IF(ISBLANK('1-12-2.キャッシュフロー表 解決策導入後'!K24),\"\",'1-12-2.キャッシュフロー表 解決策導入後'!K24)","v":0},{"$f":"IF(ISBLANK('1-12-2.キャッシュフロー表 解決策導入後'!L24),\"\",'1-12-2.キャッシュフロー表 解決策導入後'!L24)","v":0},{"$f":"IF(ISBLANK('1-12-2.キャッシュフロー表 解決策導入後'!M24),\"\",'1-12-2.キャッシュフロー表 解決策導入後'!M24)","v":0},{"$f":"IF(ISBLANK('1-12-2.キャッシュフロー表 解決策導入後'!N24),\"\",'1-12-2.キャッシュフロー表 解決策導入後'!N24)","v":0},{"$f":"IF(ISBLANK('1-12-2.キャッシュフロー表 解決策導入後'!O24),\"\",'1-12-2.キャッシュフロー表 解決策導入後'!O24)","v":0},{"$f":"IF(ISBLANK('1-12-2.キャッシュフロー表 解決策導入後'!P24),\"\",'1-12-2.キャッシュフロー表 解決策導入後'!P24)","v":0},{"$f":"IF(ISBLANK('1-12-2.キャッシュフロー表 解決策導入後'!Q24),\"\",'1-12-2.キャッシュフロー表 解決策導入後'!Q24)","v":0},{"$f":"IF(ISBLANK('1-12-2.キャッシュフロー表 解決策導入後'!R24),\"\",'1-12-2.キャッシュフロー表 解決策導入後'!R24)","v":0},{"$f":"IF(ISBLANK('1-12-2.キャッシュフロー表 解決策導入後'!S24),\"\",'1-12-2.キャッシュフロー表 解決策導入後'!S24)","v":0},{"$f":"IF(ISBLANK('1-12-2.キャッシュフロー表 解決策導入後'!T24),\"\",'1-12-2.キャッシュフロー表 解決策導入後'!T24)","v":0},{"$f":"IF(ISBLANK('1-12-2.キャッシュフロー表 解決策導入後'!U24),\"\",'1-12-2.キャッシュフロー表 解決策導入後'!U24)","v":0},{"$f":"IF(ISBLANK('1-12-2.キャッシュフロー表 解決策導入後'!V24),\"\",'1-12-2.キャッシュフロー表 解決策導入後'!V24)","v":0},{"$f":"IF(ISBLANK('1-12-2.キャッシュフロー表 解決策導入後'!W24),\"\",'1-12-2.キャッシュフロー表 解決策導入後'!W24)","v":0},{"$f":"IF(ISBLANK('1-12-2.キャッシュフロー表 解決策導入後'!X24),\"\",'1-12-2.キャッシュフロー表 解決策導入後'!X24)","v":0},{"$f":"IF(ISBLANK('1-12-2.キャッシュフロー表 解決策導入後'!Y24),\"\",'1-12-2.キャッシュフロー表 解決策導入後'!Y24)","v":0},{"$f":"IF(ISBLANK('1-12-2.キャッシュフロー表 解決策導入後'!Z24),\"\",'1-12-2.キャッシュフロー表 解決策導入後'!Z24)","v":0},{"$f":"IF(ISBLANK('1-12-2.キャッシュフロー表 解決策導入後'!AA24),\"\",'1-12-2.キャッシュフロー表 解決策導入後'!AA24)","v":0},{"$f":"IF(ISBLANK('1-12-2.キャッシュフロー表 解決策導入後'!AB24),\"\",'1-12-2.キャッシュフロー表 解決策導入後'!AB24)","v":0},{"$f":"IF(ISBLANK('1-12-2.キャッシュフロー表 解決策導入後'!AC24),\"\",'1-12-2.キャッシュフロー表 解決策導入後'!AC24)","v":0},{"$f":"IF(ISBLANK('1-12-2.キャッシュフロー表 解決策導入後'!AD24),\"\",'1-12-2.キャッシュフロー表 解決策導入後'!AD24)","v":0},{"$f":"IF(ISBLANK('1-12-2.キャッシュフロー表 解決策導入後'!AE24),\"\",'1-12-2.キャッシュフロー表 解決策導入後'!AE24)","v":0},{"$f":"IF(ISBLANK('1-12-2.キャッシュフロー表 解決策導入後'!AF24),\"\",'1-12-2.キャッシュフロー表 解決策導入後'!AF24)","v":0},{"$f":"IF(ISBLANK('1-12-2.キャッシュフロー表 解決策導入後'!AG24),\"\",'1-12-2.キャッシュフロー表 解決策導入後'!AG24)","v":0},{"$f":"IF(ISBLANK('1-12-2.キャッシュフロー表 解決策導入後'!AH24),\"\",'1-12-2.キャッシュフロー表 解決策導入後'!AH24)","v":0},{"$f":"IF(ISBLANK('1-12-2.キャッシュフロー表 解決策導入後'!AI24),\"\",'1-12-2.キャッシュフロー表 解決策導入後'!AI24)","v":0},{"$f":"IF(ISBLANK('1-12-2.キャッシュフロー表 解決策導入後'!AJ24),\"\",'1-12-2.キャッシュフロー表 解決策導入後'!AJ24)","v":0},{"$f":"IF(ISBLANK('1-12-2.キャッシュフロー表 解決策導入後'!AK24),\"\",'1-12-2.キャッシュフロー表 解決策導入後'!AK24)","v":0},{"$f":"IF(ISBLANK('1-12-2.キャッシュフロー表 解決策導入後'!AL24),\"\",'1-12-2.キャッシュフロー表 解決策導入後'!AL24)","v":0},null,null,null,null,{"$f":"IF(ISBLANK('1-12-2.キャッシュフロー表 解決策導入後'!D24),\"\",'1-12-2.キャッシュフロー表 解決策導入後'!D24)","v":""},{"$f":"IF(ISBLANK('1-12-2.キャッシュフロー表 解決策導入後'!E24),\"\",'1-12-2.キャッシュフロー表 解決策導入後'!E24)","v":0},{"$f":"IF(ISBLANK('1-12-2.キャッシュフロー表 解決策導入後'!F24),\"\",'1-12-2.キャッシュフロー表 解決策導入後'!F24&\"年後\")","v":""},null,{"$f":"IF(ISBLANK('1-12-2.キャッシュフロー表 解決策導入後'!G24),\"\",'1-12-2.キャッシュフロー表 解決策導入後'!G24)","v":0},{"$f":"IF(ISBLANK('1-12-2.キャッシュフロー表 解決策導入後'!AM24),\"\",'1-12-2.キャッシュフロー表 解決策導入後'!AM24)","v":0},{"$f":"IF(ISBLANK('1-12-2.キャッシュフロー表 解決策導入後'!AN24),\"\",'1-12-2.キャッシュフロー表 解決策導入後'!AN24)","v":0},{"$f":"IF(ISBLANK('1-12-2.キャッシュフロー表 解決策導入後'!AO24),\"\",'1-12-2.キャッシュフロー表 解決策導入後'!AO24)","v":0},{"$f":"IF(ISBLANK('1-12-2.キャッシュフロー表 解決策導入後'!AP24),\"\",'1-12-2.キャッシュフロー表 解決策導入後'!AP24)","v":0},{"$f":"IF(ISBLANK('1-12-2.キャッシュフロー表 解決策導入後'!AQ24),\"\",'1-12-2.キャッシュフロー表 解決策導入後'!AQ24)","v":0},{"$f":"IF(ISBLANK('1-12-2.キャッシュフロー表 解決策導入後'!AR24),\"\",'1-12-2.キャッシュフロー表 解決策導入後'!AR24)","v":0},{"$f":"IF(ISBLANK('1-12-2.キャッシュフロー表 解決策導入後'!AS24),\"\",'1-12-2.キャッシュフロー表 解決策導入後'!AS24)","v":0},{"$f":"IF(ISBLANK('1-12-2.キャッシュフロー表 解決策導入後'!AT24),\"\",'1-12-2.キャッシュフロー表 解決策導入後'!AT24)","v":0},{"$f":"IF(ISBLANK('1-12-2.キャッシュフロー表 解決策導入後'!AU24),\"\",'1-12-2.キャッシュフロー表 解決策導入後'!AU24)","v":0},{"$f":"IF(ISBLANK('1-12-2.キャッシュフロー表 解決策導入後'!AV24),\"\",'1-12-2.キャッシュフロー表 解決策導入後'!AV24)","v":0},{"$f":"IF(ISBLANK('1-12-2.キャッシュフロー表 解決策導入後'!AW24),\"\",'1-12-2.キャッシュフロー表 解決策導入後'!AW24)","v":0},{"$f":"IF(ISBLANK('1-12-2.キャッシュフロー表 解決策導入後'!AX24),\"\",'1-12-2.キャッシュフロー表 解決策導入後'!AX24)","v":0},{"$f":"IF(ISBLANK('1-12-2.キャッシュフロー表 解決策導入後'!AY24),\"\",'1-12-2.キャッシュフロー表 解決策導入後'!AY24)","v":0},{"$f":"IF(ISBLANK('1-12-2.キャッシュフロー表 解決策導入後'!AZ24),\"\",'1-12-2.キャッシュフロー表 解決策導入後'!AZ24)","v":0},{"$f":"IF(ISBLANK('1-12-2.キャッシュフロー表 解決策導入後'!BA24),\"\",'1-12-2.キャッシュフロー表 解決策導入後'!BA24)","v":0},{"$f":"IF(ISBLANK('1-12-2.キャッシュフロー表 解決策導入後'!BB24),\"\",'1-12-2.キャッシュフロー表 解決策導入後'!BB24)","v":0},{"$f":"IF(ISBLANK('1-12-2.キャッシュフロー表 解決策導入後'!BC24),\"\",'1-12-2.キャッシュフロー表 解決策導入後'!BC24)","v":0},{"$f":"IF(ISBLANK('1-12-2.キャッシュフロー表 解決策導入後'!BD24),\"\",'1-12-2.キャッシュフロー表 解決策導入後'!BD24)","v":0},{"$f":"IF(ISBLANK('1-12-2.キャッシュフロー表 解決策導入後'!BE24),\"\",'1-12-2.キャッシュフロー表 解決策導入後'!BE24)","v":0},{"$f":"IF(ISBLANK('1-12-2.キャッシュフロー表 解決策導入後'!BF24),\"\",'1-12-2.キャッシュフロー表 解決策導入後'!BF24)","v":0},{"$f":"IF(ISBLANK('1-12-2.キャッシュフロー表 解決策導入後'!BG24),\"\",'1-12-2.キャッシュフロー表 解決策導入後'!BG24)","v":0},{"$f":"IF(ISBLANK('1-12-2.キャッシュフロー表 解決策導入後'!BH24),\"\",'1-12-2.キャッシュフロー表 解決策導入後'!BH24)","v":0},{"$f":"IF(ISBLANK('1-12-2.キャッシュフロー表 解決策導入後'!BI24),\"\",'1-12-2.キャッシュフロー表 解決策導入後'!BI24)","v":0},{"$f":"IF(ISBLANK('1-12-2.キャッシュフロー表 解決策導入後'!BJ24),\"\",'1-12-2.キャッシュフロー表 解決策導入後'!BJ24)","v":0},{"$f":"IF(ISBLANK('1-12-2.キャッシュフロー表 解決策導入後'!BK24),\"\",'1-12-2.キャッシュフロー表 解決策導入後'!BK24)","v":0},{"$f":"IF(ISBLANK('1-12-2.キャッシュフロー表 解決策導入後'!BL24),\"\",'1-12-2.キャッシュフロー表 解決策導入後'!BL24)","v":0},{"$f":"IF(ISBLANK('1-12-2.キャッシュフロー表 解決策導入後'!BM24),\"\",'1-12-2.キャッシュフロー表 解決策導入後'!BM24)","v":0},{"$f":"IF(ISBLANK('1-12-2.キャッシュフロー表 解決策導入後'!BN24),\"\",'1-12-2.キャッシュフロー表 解決策導入後'!BN24)","v":0},{"$f":"IF(ISBLANK('1-12-2.キャッシュフロー表 解決策導入後'!BO24),\"\",'1-12-2.キャッシュフロー表 解決策導入後'!BO24)","v":0},{"$f":"IF(ISBLANK('1-12-2.キャッシュフロー表 解決策導入後'!BP24),\"\",'1-12-2.キャッシュフロー表 解決策導入後'!BP24)","v":0},{"$f":"IF(ISBLANK('1-12-2.キャッシュフロー表 解決策導入後'!BQ24),\"\",'1-12-2.キャッシュフロー表 解決策導入後'!BQ24)","v":0},{"$f":"IF(ISBLANK('1-12-2.キャッシュフロー表 解決策導入後'!BR24),\"\",'1-12-2.キャッシュフロー表 解決策導入後'!BR24)","v":0},{"$f":"IF(ISBLANK('1-12-2.キャッシュフロー表 解決策導入後'!BS24),\"\",'1-12-2.キャッシュフロー表 解決策導入後'!BS24)","v":0},{"$f":"IF(ISBLANK('1-12-2.キャッシュフロー表 解決策導入後'!BT24),\"\",'1-12-2.キャッシュフロー表 解決策導入後'!BT24)","v":0},{"$f":"IF(ISBLANK('1-12-2.キャッシュフロー表 解決策導入後'!BU24),\"\",'1-12-2.キャッシュフロー表 解決策導入後'!BU24)","v":0},{"$f":"IF(ISBLANK('1-12-2.キャッシュフロー表 解決策導入後'!BV24),\"\",'1-12-2.キャッシュフロー表 解決策導入後'!BV24)","v":0},{"$f":"IF(ISBLANK('1-12-2.キャッシュフロー表 解決策導入後'!BW24),\"\",'1-12-2.キャッシュフロー表 解決策導入後'!BW24)","v":0},{"$f":"IF(ISBLANK('1-12-2.キャッシュフロー表 解決策導入後'!BX24),\"\",'1-12-2.キャッシュフロー表 解決策導入後'!BX24)","v":0},{"$f":"IF(ISBLANK('1-12-2.キャッシュフロー表 解決策導入後'!BY24),\"\",'1-12-2.キャッシュフロー表 解決策導入後'!BY24)","v":0},{"$f":"IF(ISBLANK('1-12-2.キャッシュフロー表 解決策導入後'!BZ24),\"\",'1-12-2.キャッシュフロー表 解決策導入後'!BZ24)","v":0}]
[null,null,null,{"$f":"IF(ISBLANK('1-12-2.キャッシュフロー表 解決策導入後'!D25),\"\",'1-12-2.キャッシュフロー表 解決策導入後'!D25)","v":""},{"$f":"IF(ISBLANK('1-12-2.キャッシュフロー表 解決策導入後'!E25),\"\",'1-12-2.キャッシュフロー表 解決策導入後'!E25)","v":0},{"$f":"IF(ISBLANK('1-12-2.キャッシュフロー表 解決策導入後'!F25),\"\",'1-12-2.キャッシュフロー表 解決策導入後'!F25&\"年後\")","v":""},null,{"$f":"IF(ISBLANK('1-12-2.キャッシュフロー表 解決策導入後'!G25),\"\",'1-12-2.キャッシュフロー表 解決策導入後'!G25)","v":0},{"$f":"IF(ISBLANK('1-12-2.キャッシュフロー表 解決策導入後'!H25),\"\",'1-12-2.キャッシュフロー表 解決策導入後'!H25)","v":""},{"$f":"IF(ISBLANK('1-12-2.キャッシュフロー表 解決策導入後'!I25),\"\",'1-12-2.キャッシュフロー表 解決策導入後'!I25)","v":0},{"$f":"IF(ISBLANK('1-12-2.キャッシュフロー表 解決策導入後'!J25),\"\",'1-12-2.キャッシュフロー表 解決策導入後'!J25)","v":0},{"$f":"IF(ISBLANK('1-12-2.キャッシュフロー表 解決策導入後'!K25),\"\",'1-12-2.キャッシュフロー表 解決策導入後'!K25)","v":0},{"$f":"IF(ISBLANK('1-12-2.キャッシュフロー表 解決策導入後'!L25),\"\",'1-12-2.キャッシュフロー表 解決策導入後'!L25)","v":0},{"$f":"IF(ISBLANK('1-12-2.キャッシュフロー表 解決策導入後'!M25),\"\",'1-12-2.キャッシュフロー表 解決策導入後'!M25)","v":0},{"$f":"IF(ISBLANK('1-12-2.キャッシュフロー表 解決策導入後'!N25),\"\",'1-12-2.キャッシュフロー表 解決策導入後'!N25)","v":0},{"$f":"IF(ISBLANK('1-12-2.キャッシュフロー表 解決策導入後'!O25),\"\",'1-12-2.キャッシュフロー表 解決策導入後'!O25)","v":0},{"$f":"IF(ISBLANK('1-12-2.キャッシュフロー表 解決策導入後'!P25),\"\",'1-12-2.キャッシュフロー表 解決策導入後'!P25)","v":0},{"$f":"IF(ISBLANK('1-12-2.キャッシュフロー表 解決策導入後'!Q25),\"\",'1-12-2.キャッシュフロー表 解決策導入後'!Q25)","v":0},{"$f":"IF(ISBLANK('1-12-2.キャッシュフロー表 解決策導入後'!R25),\"\",'1-12-2.キャッシュフロー表 解決策導入後'!R25)","v":0},{"$f":"IF(ISBLANK('1-12-2.キャッシュフロー表 解決策導入後'!S25),\"\",'1-12-2.キャッシュフロー表 解決策導入後'!S25)","v":0},{"$f":"IF(ISBLANK('1-12-2.キャッシュフロー表 解決策導入後'!T25),\"\",'1-12-2.キャッシュフロー表 解決策導入後'!T25)","v":0},{"$f":"IF(ISBLANK('1-12-2.キャッシュフロー表 解決策導入後'!U25),\"\",'1-12-2.キャッシュフロー表 解決策導入後'!U25)","v":0},{"$f":"IF(ISBLANK('1-12-2.キャッシュフロー表 解決策導入後'!V25),\"\",'1-12-2.キャッシュフロー表 解決策導入後'!V25)","v":0},{"$f":"IF(ISBLANK('1-12-2.キャッシュフロー表 解決策導入後'!W25),\"\",'1-12-2.キャッシュフロー表 解決策導入後'!W25)","v":0},{"$f":"IF(ISBLANK('1-12-2.キャッシュフロー表 解決策導入後'!X25),\"\",'1-12-2.キャッシュフロー表 解決策導入後'!X25)","v":0},{"$f":"IF(ISBLANK('1-12-2.キャッシュフロー表 解決策導入後'!Y25),\"\",'1-12-2.キャッシュフロー表 解決策導入後'!Y25)","v":0},{"$f":"IF(ISBLANK('1-12-2.キャッシュフロー表 解決策導入後'!Z25),\"\",'1-12-2.キャッシュフロー表 解決策導入後'!Z25)","v":0},{"$f":"IF(ISBLANK('1-12-2.キャッシュフロー表 解決策導入後'!AA25),\"\",'1-12-2.キャッシュフロー表 解決策導入後'!AA25)","v":0},{"$f":"IF(ISBLANK('1-12-2.キャッシュフロー表 解決策導入後'!AB25),\"\",'1-12-2.キャッシュフロー表 解決策導入後'!AB25)","v":0},{"$f":"IF(ISBLANK('1-12-2.キャッシュフロー表 解決策導入後'!AC25),\"\",'1-12-2.キャッシュフロー表 解決策導入後'!AC25)","v":0},{"$f":"IF(ISBLANK('1-12-2.キャッシュフロー表 解決策導入後'!AD25),\"\",'1-12-2.キャッシュフロー表 解決策導入後'!AD25)","v":0},{"$f":"IF(ISBLANK('1-12-2.キャッシュフロー表 解決策導入後'!AE25),\"\",'1-12-2.キャッシュフロー表 解決策導入後'!AE25)","v":0},{"$f":"IF(ISBLANK('1-12-2.キャッシュフロー表 解決策導入後'!AF25),\"\",'1-12-2.キャッシュフロー表 解決策導入後'!AF25)","v":0},{"$f":"IF(ISBLANK('1-12-2.キャッシュフロー表 解決策導入後'!AG25),\"\",'1-12-2.キャッシュフロー表 解決策導入後'!AG25)","v":0},{"$f":"IF(ISBLANK('1-12-2.キャッシュフロー表 解決策導入後'!AH25),\"\",'1-12-2.キャッシュフロー表 解決策導入後'!AH25)","v":0},{"$f":"IF(ISBLANK('1-12-2.キャッシュフロー表 解決策導入後'!AI25),\"\",'1-12-2.キャッシュフロー表 解決策導入後'!AI25)","v":0},{"$f":"IF(ISBLANK('1-12-2.キャッシュフロー表 解決策導入後'!AJ25),\"\",'1-12-2.キャッシュフロー表 解決策導入後'!AJ25)","v":0},{"$f":"IF(ISBLANK('1-12-2.キャッシュフロー表 解決策導入後'!AK25),\"\",'1-12-2.キャッシュフロー表 解決策導入後'!AK25)","v":0},{"$f":"IF(ISBLANK('1-12-2.キャッシュフロー表 解決策導入後'!AL25),\"\",'1-12-2.キャッシュフロー表 解決策導入後'!AL25)","v":0},null,null,null,null,{"$f":"IF(ISBLANK('1-12-2.キャッシュフロー表 解決策導入後'!D25),\"\",'1-12-2.キャッシュフロー表 解決策導入後'!D25)","v":""},{"$f":"IF(ISBLANK('1-12-2.キャッシュフロー表 解決策導入後'!E25),\"\",'1-12-2.キャッシュフロー表 解決策導入後'!E25)","v":0},{"$f":"IF(ISBLANK('1-12-2.キャッシュフロー表 解決策導入後'!F25),\"\",'1-12-2.キャッシュフロー表 解決策導入後'!F25&\"年後\")","v":""},null,{"$f":"IF(ISBLANK('1-12-2.キャッシュフロー表 解決策導入後'!G25),\"\",'1-12-2.キャッシュフロー表 解決策導入後'!G25)","v":0},{"$f":"IF(ISBLANK('1-12-2.キャッシュフロー表 解決策導入後'!AM25),\"\",'1-12-2.キャッシュフロー表 解決策導入後'!AM25)","v":0},{"$f":"IF(ISBLANK('1-12-2.キャッシュフロー表 解決策導入後'!AN25),\"\",'1-12-2.キャッシュフロー表 解決策導入後'!AN25)","v":0},{"$f":"IF(ISBLANK('1-12-2.キャッシュフロー表 解決策導入後'!AO25),\"\",'1-12-2.キャッシュフロー表 解決策導入後'!AO25)","v":0},{"$f":"IF(ISBLANK('1-12-2.キャッシュフロー表 解決策導入後'!AP25),\"\",'1-12-2.キャッシュフロー表 解決策導入後'!AP25)","v":0},{"$f":"IF(ISBLANK('1-12-2.キャッシュフロー表 解決策導入後'!AQ25),\"\",'1-12-2.キャッシュフロー表 解決策導入後'!AQ25)","v":0},{"$f":"IF(ISBLANK('1-12-2.キャッシュフロー表 解決策導入後'!AR25),\"\",'1-12-2.キャッシュフロー表 解決策導入後'!AR25)","v":0},{"$f":"IF(ISBLANK('1-12-2.キャッシュフロー表 解決策導入後'!AS25),\"\",'1-12-2.キャッシュフロー表 解決策導入後'!AS25)","v":0},{"$f":"IF(ISBLANK('1-12-2.キャッシュフロー表 解決策導入後'!AT25),\"\",'1-12-2.キャッシュフロー表 解決策導入後'!AT25)","v":0},{"$f":"IF(ISBLANK('1-12-2.キャッシュフロー表 解決策導入後'!AU25),\"\",'1-12-2.キャッシュフロー表 解決策導入後'!AU25)","v":0},{"$f":"IF(ISBLANK('1-12-2.キャッシュフロー表 解決策導入後'!AV25),\"\",'1-12-2.キャッシュフロー表 解決策導入後'!AV25)","v":0},{"$f":"IF(ISBLANK('1-12-2.キャッシュフロー表 解決策導入後'!AW25),\"\",'1-12-2.キャッシュフロー表 解決策導入後'!AW25)","v":0},{"$f":"IF(ISBLANK('1-12-2.キャッシュフロー表 解決策導入後'!AX25),\"\",'1-12-2.キャッシュフロー表 解決策導入後'!AX25)","v":0},{"$f":"IF(ISBLANK('1-12-2.キャッシュフロー表 解決策導入後'!AY25),\"\",'1-12-2.キャッシュフロー表 解決策導入後'!AY25)","v":0},{"$f":"IF(ISBLANK('1-12-2.キャッシュフロー表 解決策導入後'!AZ25),\"\",'1-12-2.キャッシュフロー表 解決策導入後'!AZ25)","v":0},{"$f":"IF(ISBLANK('1-12-2.キャッシュフロー表 解決策導入後'!BA25),\"\",'1-12-2.キャッシュフロー表 解決策導入後'!BA25)","v":0},{"$f":"IF(ISBLANK('1-12-2.キャッシュフロー表 解決策導入後'!BB25),\"\",'1-12-2.キャッシュフロー表 解決策導入後'!BB25)","v":0},{"$f":"IF(ISBLANK('1-12-2.キャッシュフロー表 解決策導入後'!BC25),\"\",'1-12-2.キャッシュフロー表 解決策導入後'!BC25)","v":0},{"$f":"IF(ISBLANK('1-12-2.キャッシュフロー表 解決策導入後'!BD25),\"\",'1-12-2.キャッシュフロー表 解決策導入後'!BD25)","v":0},{"$f":"IF(ISBLANK('1-12-2.キャッシュフロー表 解決策導入後'!BE25),\"\",'1-12-2.キャッシュフロー表 解決策導入後'!BE25)","v":0},{"$f":"IF(ISBLANK('1-12-2.キャッシュフロー表 解決策導入後'!BF25),\"\",'1-12-2.キャッシュフロー表 解決策導入後'!BF25)","v":0},{"$f":"IF(ISBLANK('1-12-2.キャッシュフロー表 解決策導入後'!BG25),\"\",'1-12-2.キャッシュフロー表 解決策導入後'!BG25)","v":0},{"$f":"IF(ISBLANK('1-12-2.キャッシュフロー表 解決策導入後'!BH25),\"\",'1-12-2.キャッシュフロー表 解決策導入後'!BH25)","v":0},{"$f":"IF(ISBLANK('1-12-2.キャッシュフロー表 解決策導入後'!BI25),\"\",'1-12-2.キャッシュフロー表 解決策導入後'!BI25)","v":0},{"$f":"IF(ISBLANK('1-12-2.キャッシュフロー表 解決策導入後'!BJ25),\"\",'1-12-2.キャッシュフロー表 解決策導入後'!BJ25)","v":0},{"$f":"IF(ISBLANK('1-12-2.キャッシュフロー表 解決策導入後'!BK25),\"\",'1-12-2.キャッシュフロー表 解決策導入後'!BK25)","v":0},{"$f":"IF(ISBLANK('1-12-2.キャッシュフロー表 解決策導入後'!BL25),\"\",'1-12-2.キャッシュフロー表 解決策導入後'!BL25)","v":0},{"$f":"IF(ISBLANK('1-12-2.キャッシュフロー表 解決策導入後'!BM25),\"\",'1-12-2.キャッシュフロー表 解決策導入後'!BM25)","v":0},{"$f":"IF(ISBLANK('1-12-2.キャッシュフロー表 解決策導入後'!BN25),\"\",'1-12-2.キャッシュフロー表 解決策導入後'!BN25)","v":0},{"$f":"IF(ISBLANK('1-12-2.キャッシュフロー表 解決策導入後'!BO25),\"\",'1-12-2.キャッシュフロー表 解決策導入後'!BO25)","v":0},{"$f":"IF(ISBLANK('1-12-2.キャッシュフロー表 解決策導入後'!BP25),\"\",'1-12-2.キャッシュフロー表 解決策導入後'!BP25)","v":0},{"$f":"IF(ISBLANK('1-12-2.キャッシュフロー表 解決策導入後'!BQ25),\"\",'1-12-2.キャッシュフロー表 解決策導入後'!BQ25)","v":0},{"$f":"IF(ISBLANK('1-12-2.キャッシュフロー表 解決策導入後'!BR25),\"\",'1-12-2.キャッシュフロー表 解決策導入後'!BR25)","v":0},{"$f":"IF(ISBLANK('1-12-2.キャッシュフロー表 解決策導入後'!BS25),\"\",'1-12-2.キャッシュフロー表 解決策導入後'!BS25)","v":0},{"$f":"IF(ISBLANK('1-12-2.キャッシュフロー表 解決策導入後'!BT25),\"\",'1-12-2.キャッシュフロー表 解決策導入後'!BT25)","v":0},{"$f":"IF(ISBLANK('1-12-2.キャッシュフロー表 解決策導入後'!BU25),\"\",'1-12-2.キャッシュフロー表 解決策導入後'!BU25)","v":0},{"$f":"IF(ISBLANK('1-12-2.キャッシュフロー表 解決策導入後'!BV25),\"\",'1-12-2.キャッシュフロー表 解決策導入後'!BV25)","v":0},{"$f":"IF(ISBLANK('1-12-2.キャッシュフロー表 解決策導入後'!BW25),\"\",'1-12-2.キャッシュフロー表 解決策導入後'!BW25)","v":0},{"$f":"IF(ISBLANK('1-12-2.キャッシュフロー表 解決策導入後'!BX25),\"\",'1-12-2.キャッシュフロー表 解決策導入後'!BX25)","v":0},{"$f":"IF(ISBLANK('1-12-2.キャッシュフロー表 解決策導入後'!BY25),\"\",'1-12-2.キャッシュフロー表 解決策導入後'!BY25)","v":0},{"$f":"IF(ISBLANK('1-12-2.キャッシュフロー表 解決策導入後'!BZ25),\"\",'1-12-2.キャッシュフロー表 解決策導入後'!BZ25)","v":0}]
[null,null,null,{"$f":"IF(ISBLANK('1-12-2.キャッシュフロー表 解決策導入後'!D26),\"\",'1-12-2.キャッシュフロー表 解決策導入後'!D26)","v":""},{"$f":"IF(ISBLANK('1-12-2.キャッシュフロー表 解決策導入後'!E26),\"\",'1-12-2.キャッシュフロー表 解決策導入後'!E26)","v":0},{"$f":"IF(ISBLANK('1-12-2.キャッシュフロー表 解決策導入後'!F26),\"\",'1-12-2.キャッシュフロー表 解決策導入後'!F26&\"年後\")","v":""},null,{"$f":"IF(ISBLANK('1-12-2.キャッシュフロー表 解決策導入後'!G26),\"\",'1-12-2.キャッシュフロー表 解決策導入後'!G26)","v":0},{"$f":"IF(ISBLANK('1-12-2.キャッシュフロー表 解決策導入後'!H26),\"\",'1-12-2.キャッシュフロー表 解決策導入後'!H26)","v":""},{"$f":"IF(ISBLANK('1-12-2.キャッシュフロー表 解決策導入後'!I26),\"\",'1-12-2.キャッシュフロー表 解決策導入後'!I26)","v":0},{"$f":"IF(ISBLANK('1-12-2.キャッシュフロー表 解決策導入後'!J26),\"\",'1-12-2.キャッシュフロー表 解決策導入後'!J26)","v":0},{"$f":"IF(ISBLANK('1-12-2.キャッシュフロー表 解決策導入後'!K26),\"\",'1-12-2.キャッシュフロー表 解決策導入後'!K26)","v":0},{"$f":"IF(ISBLANK('1-12-2.キャッシュフロー表 解決策導入後'!L26),\"\",'1-12-2.キャッシュフロー表 解決策導入後'!L26)","v":0},{"$f":"IF(ISBLANK('1-12-2.キャッシュフロー表 解決策導入後'!M26),\"\",'1-12-2.キャッシュフロー表 解決策導入後'!M26)","v":0},{"$f":"IF(ISBLANK('1-12-2.キャッシュフロー表 解決策導入後'!N26),\"\",'1-12-2.キャッシュフロー表 解決策導入後'!N26)","v":0},{"$f":"IF(ISBLANK('1-12-2.キャッシュフロー表 解決策導入後'!O26),\"\",'1-12-2.キャッシュフロー表 解決策導入後'!O26)","v":0},{"$f":"IF(ISBLANK('1-12-2.キャッシュフロー表 解決策導入後'!P26),\"\",'1-12-2.キャッシュフロー表 解決策導入後'!P26)","v":0},{"$f":"IF(ISBLANK('1-12-2.キャッシュフロー表 解決策導入後'!Q26),\"\",'1-12-2.キャッシュフロー表 解決策導入後'!Q26)","v":0},{"$f":"IF(ISBLANK('1-12-2.キャッシュフロー表 解決策導入後'!R26),\"\",'1-12-2.キャッシュフロー表 解決策導入後'!R26)","v":0},{"$f":"IF(ISBLANK('1-12-2.キャッシュフロー表 解決策導入後'!S26),\"\",'1-12-2.キャッシュフロー表 解決策導入後'!S26)","v":0},{"$f":"IF(ISBLANK('1-12-2.キャッシュフロー表 解決策導入後'!T26),\"\",'1-12-2.キャッシュフロー表 解決策導入後'!T26)","v":0},{"$f":"IF(ISBLANK('1-12-2.キャッシュフロー表 解決策導入後'!U26),\"\",'1-12-2.キャッシュフロー表 解決策導入後'!U26)","v":0},{"$f":"IF(ISBLANK('1-12-2.キャッシュフロー表 解決策導入後'!V26),\"\",'1-12-2.キャッシュフロー表 解決策導入後'!V26)","v":0},{"$f":"IF(ISBLANK('1-12-2.キャッシュフロー表 解決策導入後'!W26),\"\",'1-12-2.キャッシュフロー表 解決策導入後'!W26)","v":0},{"$f":"IF(ISBLANK('1-12-2.キャッシュフロー表 解決策導入後'!X26),\"\",'1-12-2.キャッシュフロー表 解決策導入後'!X26)","v":0},{"$f":"IF(ISBLANK('1-12-2.キャッシュフロー表 解決策導入後'!Y26),\"\",'1-12-2.キャッシュフロー表 解決策導入後'!Y26)","v":0},{"$f":"IF(ISBLANK('1-12-2.キャッシュフロー表 解決策導入後'!Z26),\"\",'1-12-2.キャッシュフロー表 解決策導入後'!Z26)","v":0},{"$f":"IF(ISBLANK('1-12-2.キャッシュフロー表 解決策導入後'!AA26),\"\",'1-12-2.キャッシュフロー表 解決策導入後'!AA26)","v":0},{"$f":"IF(ISBLANK('1-12-2.キャッシュフロー表 解決策導入後'!AB26),\"\",'1-12-2.キャッシュフロー表 解決策導入後'!AB26)","v":0},{"$f":"IF(ISBLANK('1-12-2.キャッシュフロー表 解決策導入後'!AC26),\"\",'1-12-2.キャッシュフロー表 解決策導入後'!AC26)","v":0},{"$f":"IF(ISBLANK('1-12-2.キャッシュフロー表 解決策導入後'!AD26),\"\",'1-12-2.キャッシュフロー表 解決策導入後'!AD26)","v":0},{"$f":"IF(ISBLANK('1-12-2.キャッシュフロー表 解決策導入後'!AE26),\"\",'1-12-2.キャッシュフロー表 解決策導入後'!AE26)","v":0},{"$f":"IF(ISBLANK('1-12-2.キャッシュフロー表 解決策導入後'!AF26),\"\",'1-12-2.キャッシュフロー表 解決策導入後'!AF26)","v":0},{"$f":"IF(ISBLANK('1-12-2.キャッシュフロー表 解決策導入後'!AG26),\"\",'1-12-2.キャッシュフロー表 解決策導入後'!AG26)","v":0},{"$f":"IF(ISBLANK('1-12-2.キャッシュフロー表 解決策導入後'!AH26),\"\",'1-12-2.キャッシュフロー表 解決策導入後'!AH26)","v":0},{"$f":"IF(ISBLANK('1-12-2.キャッシュフロー表 解決策導入後'!AI26),\"\",'1-12-2.キャッシュフロー表 解決策導入後'!AI26)","v":0},{"$f":"IF(ISBLANK('1-12-2.キャッシュフロー表 解決策導入後'!AJ26),\"\",'1-12-2.キャッシュフロー表 解決策導入後'!AJ26)","v":0},{"$f":"IF(ISBLANK('1-12-2.キャッシュフロー表 解決策導入後'!AK26),\"\",'1-12-2.キャッシュフロー表 解決策導入後'!AK26)","v":0},{"$f":"IF(ISBLANK('1-12-2.キャッシュフロー表 解決策導入後'!AL26),\"\",'1-12-2.キャッシュフロー表 解決策導入後'!AL26)","v":0},null,null,null,null,{"$f":"IF(ISBLANK('1-12-2.キャッシュフロー表 解決策導入後'!D26),\"\",'1-12-2.キャッシュフロー表 解決策導入後'!D26)","v":""},{"$f":"IF(ISBLANK('1-12-2.キャッシュフロー表 解決策導入後'!E26),\"\",'1-12-2.キャッシュフロー表 解決策導入後'!E26)","v":0},{"$f":"IF(ISBLANK('1-12-2.キャッシュフロー表 解決策導入後'!F26),\"\",'1-12-2.キャッシュフロー表 解決策導入後'!F26&\"年後\")","v":""},null,{"$f":"IF(ISBLANK('1-12-2.キャッシュフロー表 解決策導入後'!G26),\"\",'1-12-2.キャッシュフロー表 解決策導入後'!G26)","v":0},{"$f":"IF(ISBLANK('1-12-2.キャッシュフロー表 解決策導入後'!AM26),\"\",'1-12-2.キャッシュフロー表 解決策導入後'!AM26)","v":0},{"$f":"IF(ISBLANK('1-12-2.キャッシュフロー表 解決策導入後'!AN26),\"\",'1-12-2.キャッシュフロー表 解決策導入後'!AN26)","v":0},{"$f":"IF(ISBLANK('1-12-2.キャッシュフロー表 解決策導入後'!AO26),\"\",'1-12-2.キャッシュフロー表 解決策導入後'!AO26)","v":0},{"$f":"IF(ISBLANK('1-12-2.キャッシュフロー表 解決策導入後'!AP26),\"\",'1-12-2.キャッシュフロー表 解決策導入後'!AP26)","v":0},{"$f":"IF(ISBLANK('1-12-2.キャッシュフロー表 解決策導入後'!AQ26),\"\",'1-12-2.キャッシュフロー表 解決策導入後'!AQ26)","v":0},{"$f":"IF(ISBLANK('1-12-2.キャッシュフロー表 解決策導入後'!AR26),\"\",'1-12-2.キャッシュフロー表 解決策導入後'!AR26)","v":0},{"$f":"IF(ISBLANK('1-12-2.キャッシュフロー表 解決策導入後'!AS26),\"\",'1-12-2.キャッシュフロー表 解決策導入後'!AS26)","v":0},{"$f":"IF(ISBLANK('1-12-2.キャッシュフロー表 解決策導入後'!AT26),\"\",'1-12-2.キャッシュフロー表 解決策導入後'!AT26)","v":0},{"$f":"IF(ISBLANK('1-12-2.キャッシュフロー表 解決策導入後'!AU26),\"\",'1-12-2.キャッシュフロー表 解決策導入後'!AU26)","v":0},{"$f":"IF(ISBLANK('1-12-2.キャッシュフロー表 解決策導入後'!AV26),\"\",'1-12-2.キャッシュフロー表 解決策導入後'!AV26)","v":0},{"$f":"IF(ISBLANK('1-12-2.キャッシュフロー表 解決策導入後'!AW26),\"\",'1-12-2.キャッシュフロー表 解決策導入後'!AW26)","v":0},{"$f":"IF(ISBLANK('1-12-2.キャッシュフロー表 解決策導入後'!AX26),\"\",'1-12-2.キャッシュフロー表 解決策導入後'!AX26)","v":0},{"$f":"IF(ISBLANK('1-12-2.キャッシュフロー表 解決策導入後'!AY26),\"\",'1-12-2.キャッシュフロー表 解決策導入後'!AY26)","v":0},{"$f":"IF(ISBLANK('1-12-2.キャッシュフロー表 解決策導入後'!AZ26),\"\",'1-12-2.キャッシュフロー表 解決策導入後'!AZ26)","v":0},{"$f":"IF(ISBLANK('1-12-2.キャッシュフロー表 解決策導入後'!BA26),\"\",'1-12-2.キャッシュフロー表 解決策導入後'!BA26)","v":0},{"$f":"IF(ISBLANK('1-12-2.キャッシュフロー表 解決策導入後'!BB26),\"\",'1-12-2.キャッシュフロー表 解決策導入後'!BB26)","v":0},{"$f":"IF(ISBLANK('1-12-2.キャッシュフロー表 解決策導入後'!BC26),\"\",'1-12-2.キャッシュフロー表 解決策導入後'!BC26)","v":0},{"$f":"IF(ISBLANK('1-12-2.キャッシュフロー表 解決策導入後'!BD26),\"\",'1-12-2.キャッシュフロー表 解決策導入後'!BD26)","v":0},{"$f":"IF(ISBLANK('1-12-2.キャッシュフロー表 解決策導入後'!BE26),\"\",'1-12-2.キャッシュフロー表 解決策導入後'!BE26)","v":0},{"$f":"IF(ISBLANK('1-12-2.キャッシュフロー表 解決策導入後'!BF26),\"\",'1-12-2.キャッシュフロー表 解決策導入後'!BF26)","v":0},{"$f":"IF(ISBLANK('1-12-2.キャッシュフロー表 解決策導入後'!BG26),\"\",'1-12-2.キャッシュフロー表 解決策導入後'!BG26)","v":0},{"$f":"IF(ISBLANK('1-12-2.キャッシュフロー表 解決策導入後'!BH26),\"\",'1-12-2.キャッシュフロー表 解決策導入後'!BH26)","v":0},{"$f":"IF(ISBLANK('1-12-2.キャッシュフロー表 解決策導入後'!BI26),\"\",'1-12-2.キャッシュフロー表 解決策導入後'!BI26)","v":0},{"$f":"IF(ISBLANK('1-12-2.キャッシュフロー表 解決策導入後'!BJ26),\"\",'1-12-2.キャッシュフロー表 解決策導入後'!BJ26)","v":0},{"$f":"IF(ISBLANK('1-12-2.キャッシュフロー表 解決策導入後'!BK26),\"\",'1-12-2.キャッシュフロー表 解決策導入後'!BK26)","v":0},{"$f":"IF(ISBLANK('1-12-2.キャッシュフロー表 解決策導入後'!BL26),\"\",'1-12-2.キャッシュフロー表 解決策導入後'!BL26)","v":0},{"$f":"IF(ISBLANK('1-12-2.キャッシュフロー表 解決策導入後'!BM26),\"\",'1-12-2.キャッシュフロー表 解決策導入後'!BM26)","v":0},{"$f":"IF(ISBLANK('1-12-2.キャッシュフロー表 解決策導入後'!BN26),\"\",'1-12-2.キャッシュフロー表 解決策導入後'!BN26)","v":0},{"$f":"IF(ISBLANK('1-12-2.キャッシュフロー表 解決策導入後'!BO26),\"\",'1-12-2.キャッシュフロー表 解決策導入後'!BO26)","v":0},{"$f":"IF(ISBLANK('1-12-2.キャッシュフロー表 解決策導入後'!BP26),\"\",'1-12-2.キャッシュフロー表 解決策導入後'!BP26)","v":0},{"$f":"IF(ISBLANK('1-12-2.キャッシュフロー表 解決策導入後'!BQ26),\"\",'1-12-2.キャッシュフロー表 解決策導入後'!BQ26)","v":0},{"$f":"IF(ISBLANK('1-12-2.キャッシュフロー表 解決策導入後'!BR26),\"\",'1-12-2.キャッシュフロー表 解決策導入後'!BR26)","v":0},{"$f":"IF(ISBLANK('1-12-2.キャッシュフロー表 解決策導入後'!BS26),\"\",'1-12-2.キャッシュフロー表 解決策導入後'!BS26)","v":0},{"$f":"IF(ISBLANK('1-12-2.キャッシュフロー表 解決策導入後'!BT26),\"\",'1-12-2.キャッシュフロー表 解決策導入後'!BT26)","v":0},{"$f":"IF(ISBLANK('1-12-2.キャッシュフロー表 解決策導入後'!BU26),\"\",'1-12-2.キャッシュフロー表 解決策導入後'!BU26)","v":0},{"$f":"IF(ISBLANK('1-12-2.キャッシュフロー表 解決策導入後'!BV26),\"\",'1-12-2.キャッシュフロー表 解決策導入後'!BV26)","v":0},{"$f":"IF(ISBLANK('1-12-2.キャッシュフロー表 解決策導入後'!BW26),\"\",'1-12-2.キャッシュフロー表 解決策導入後'!BW26)","v":0},{"$f":"IF(ISBLANK('1-12-2.キャッシュフロー表 解決策導入後'!BX26),\"\",'1-12-2.キャッシュフロー表 解決策導入後'!BX26)","v":0},{"$f":"IF(ISBLANK('1-12-2.キャッシュフロー表 解決策導入後'!BY26),\"\",'1-12-2.キャッシュフロー表 解決策導入後'!BY26)","v":0},{"$f":"IF(ISBLANK('1-12-2.キャッシュフロー表 解決策導入後'!BZ26),\"\",'1-12-2.キャッシュフロー表 解決策導入後'!BZ26)","v":0}]
[null,null,null,{"$f":"IF(ISBLANK('1-12-2.キャッシュフロー表 解決策導入後'!D27),\"\",'1-12-2.キャッシュフロー表 解決策導入後'!D27)","v":""},{"$f":"IF(ISBLANK('1-12-2.キャッシュフロー表 解決策導入後'!E27),\"\",'1-12-2.キャッシュフロー表 解決策導入後'!E27)","v":0},{"$f":"IF(ISBLANK('1-12-2.キャッシュフロー表 解決策導入後'!F27),\"\",'1-12-2.キャッシュフロー表 解決策導入後'!F27&\"年後\")","v":""},null,{"$f":"IF(ISBLANK('1-12-2.キャッシュフロー表 解決策導入後'!G27),\"\",'1-12-2.キャッシュフロー表 解決策導入後'!G27)","v":0},{"$f":"IF(ISBLANK('1-12-2.キャッシュフロー表 解決策導入後'!H27),\"\",'1-12-2.キャッシュフロー表 解決策導入後'!H27)","v":""},{"$f":"IF(ISBLANK('1-12-2.キャッシュフロー表 解決策導入後'!I27),\"\",'1-12-2.キャッシュフロー表 解決策導入後'!I27)","v":0},{"$f":"IF(ISBLANK('1-12-2.キャッシュフロー表 解決策導入後'!J27),\"\",'1-12-2.キャッシュフロー表 解決策導入後'!J27)","v":0},{"$f":"IF(ISBLANK('1-12-2.キャッシュフロー表 解決策導入後'!K27),\"\",'1-12-2.キャッシュフロー表 解決策導入後'!K27)","v":0},{"$f":"IF(ISBLANK('1-12-2.キャッシュフロー表 解決策導入後'!L27),\"\",'1-12-2.キャッシュフロー表 解決策導入後'!L27)","v":0},{"$f":"IF(ISBLANK('1-12-2.キャッシュフロー表 解決策導入後'!M27),\"\",'1-12-2.キャッシュフロー表 解決策導入後'!M27)","v":0},{"$f":"IF(ISBLANK('1-12-2.キャッシュフロー表 解決策導入後'!N27),\"\",'1-12-2.キャッシュフロー表 解決策導入後'!N27)","v":0},{"$f":"IF(ISBLANK('1-12-2.キャッシュフロー表 解決策導入後'!O27),\"\",'1-12-2.キャッシュフロー表 解決策導入後'!O27)","v":0},{"$f":"IF(ISBLANK('1-12-2.キャッシュフロー表 解決策導入後'!P27),\"\",'1-12-2.キャッシュフロー表 解決策導入後'!P27)","v":0},{"$f":"IF(ISBLANK('1-12-2.キャッシュフロー表 解決策導入後'!Q27),\"\",'1-12-2.キャッシュフロー表 解決策導入後'!Q27)","v":0},{"$f":"IF(ISBLANK('1-12-2.キャッシュフロー表 解決策導入後'!R27),\"\",'1-12-2.キャッシュフロー表 解決策導入後'!R27)","v":0},{"$f":"IF(ISBLANK('1-12-2.キャッシュフロー表 解決策導入後'!S27),\"\",'1-12-2.キャッシュフロー表 解決策導入後'!S27)","v":0},{"$f":"IF(ISBLANK('1-12-2.キャッシュフロー表 解決策導入後'!T27),\"\",'1-12-2.キャッシュフロー表 解決策導入後'!T27)","v":0},{"$f":"IF(ISBLANK('1-12-2.キャッシュフロー表 解決策導入後'!U27),\"\",'1-12-2.キャッシュフロー表 解決策導入後'!U27)","v":0},{"$f":"IF(ISBLANK('1-12-2.キャッシュフロー表 解決策導入後'!V27),\"\",'1-12-2.キャッシュフロー表 解決策導入後'!V27)","v":0},{"$f":"IF(ISBLANK('1-12-2.キャッシュフロー表 解決策導入後'!W27),\"\",'1-12-2.キャッシュフロー表 解決策導入後'!W27)","v":0},{"$f":"IF(ISBLANK('1-12-2.キャッシュフロー表 解決策導入後'!X27),\"\",'1-12-2.キャッシュフロー表 解決策導入後'!X27)","v":0},{"$f":"IF(ISBLANK('1-12-2.キャッシュフロー表 解決策導入後'!Y27),\"\",'1-12-2.キャッシュフロー表 解決策導入後'!Y27)","v":0},{"$f":"IF(ISBLANK('1-12-2.キャッシュフロー表 解決策導入後'!Z27),\"\",'1-12-2.キャッシュフロー表 解決策導入後'!Z27)","v":0},{"$f":"IF(ISBLANK('1-12-2.キャッシュフロー表 解決策導入後'!AA27),\"\",'1-12-2.キャッシュフロー表 解決策導入後'!AA27)","v":0},{"$f":"IF(ISBLANK('1-12-2.キャッシュフロー表 解決策導入後'!AB27),\"\",'1-12-2.キャッシュフロー表 解決策導入後'!AB27)","v":0},{"$f":"IF(ISBLANK('1-12-2.キャッシュフロー表 解決策導入後'!AC27),\"\",'1-12-2.キャッシュフロー表 解決策導入後'!AC27)","v":0},{"$f":"IF(ISBLANK('1-12-2.キャッシュフロー表 解決策導入後'!AD27),\"\",'1-12-2.キャッシュフロー表 解決策導入後'!AD27)","v":0},{"$f":"IF(ISBLANK('1-12-2.キャッシュフロー表 解決策導入後'!AE27),\"\",'1-12-2.キャッシュフロー表 解決策導入後'!AE27)","v":0},{"$f":"IF(ISBLANK('1-12-2.キャッシュフロー表 解決策導入後'!AF27),\"\",'1-12-2.キャッシュフロー表 解決策導入後'!AF27)","v":0},{"$f":"IF(ISBLANK('1-12-2.キャッシュフロー表 解決策導入後'!AG27),\"\",'1-12-2.キャッシュフロー表 解決策導入後'!AG27)","v":0},{"$f":"IF(ISBLANK('1-12-2.キャッシュフロー表 解決策導入後'!AH27),\"\",'1-12-2.キャッシュフロー表 解決策導入後'!AH27)","v":0},{"$f":"IF(ISBLANK('1-12-2.キャッシュフロー表 解決策導入後'!AI27),\"\",'1-12-2.キャッシュフロー表 解決策導入後'!AI27)","v":0},{"$f":"IF(ISBLANK('1-12-2.キャッシュフロー表 解決策導入後'!AJ27),\"\",'1-12-2.キャッシュフロー表 解決策導入後'!AJ27)","v":0},{"$f":"IF(ISBLANK('1-12-2.キャッシュフロー表 解決策導入後'!AK27),\"\",'1-12-2.キャッシュフロー表 解決策導入後'!AK27)","v":0},{"$f":"IF(ISBLANK('1-12-2.キャッシュフロー表 解決策導入後'!AL27),\"\",'1-12-2.キャッシュフロー表 解決策導入後'!AL27)","v":0},null,null,null,null,{"$f":"IF(ISBLANK('1-12-2.キャッシュフロー表 解決策導入後'!D27),\"\",'1-12-2.キャッシュフロー表 解決策導入後'!D27)","v":""},{"$f":"IF(ISBLANK('1-12-2.キャッシュフロー表 解決策導入後'!E27),\"\",'1-12-2.キャッシュフロー表 解決策導入後'!E27)","v":0},{"$f":"IF(ISBLANK('1-12-2.キャッシュフロー表 解決策導入後'!F27),\"\",'1-12-2.キャッシュフロー表 解決策導入後'!F27&\"年後\")","v":""},null,{"$f":"IF(ISBLANK('1-12-2.キャッシュフロー表 解決策導入後'!G27),\"\",'1-12-2.キャッシュフロー表 解決策導入後'!G27)","v":0},{"$f":"IF(ISBLANK('1-12-2.キャッシュフロー表 解決策導入後'!AM27),\"\",'1-12-2.キャッシュフロー表 解決策導入後'!AM27)","v":0},{"$f":"IF(ISBLANK('1-12-2.キャッシュフロー表 解決策導入後'!AN27),\"\",'1-12-2.キャッシュフロー表 解決策導入後'!AN27)","v":0},{"$f":"IF(ISBLANK('1-12-2.キャッシュフロー表 解決策導入後'!AO27),\"\",'1-12-2.キャッシュフロー表 解決策導入後'!AO27)","v":0},{"$f":"IF(ISBLANK('1-12-2.キャッシュフロー表 解決策導入後'!AP27),\"\",'1-12-2.キャッシュフロー表 解決策導入後'!AP27)","v":0},{"$f":"IF(ISBLANK('1-12-2.キャッシュフロー表 解決策導入後'!AQ27),\"\",'1-12-2.キャッシュフロー表 解決策導入後'!AQ27)","v":0},{"$f":"IF(ISBLANK('1-12-2.キャッシュフロー表 解決策導入後'!AR27),\"\",'1-12-2.キャッシュフロー表 解決策導入後'!AR27)","v":0},{"$f":"IF(ISBLANK('1-12-2.キャッシュフロー表 解決策導入後'!AS27),\"\",'1-12-2.キャッシュフロー表 解決策導入後'!AS27)","v":0},{"$f":"IF(ISBLANK('1-12-2.キャッシュフロー表 解決策導入後'!AT27),\"\",'1-12-2.キャッシュフロー表 解決策導入後'!AT27)","v":0},{"$f":"IF(ISBLANK('1-12-2.キャッシュフロー表 解決策導入後'!AU27),\"\",'1-12-2.キャッシュフロー表 解決策導入後'!AU27)","v":0},{"$f":"IF(ISBLANK('1-12-2.キャッシュフロー表 解決策導入後'!AV27),\"\",'1-12-2.キャッシュフロー表 解決策導入後'!AV27)","v":0},{"$f":"IF(ISBLANK('1-12-2.キャッシュフロー表 解決策導入後'!AW27),\"\",'1-12-2.キャッシュフロー表 解決策導入後'!AW27)","v":0},{"$f":"IF(ISBLANK('1-12-2.キャッシュフロー表 解決策導入後'!AX27),\"\",'1-12-2.キャッシュフロー表 解決策導入後'!AX27)","v":0},{"$f":"IF(ISBLANK('1-12-2.キャッシュフロー表 解決策導入後'!AY27),\"\",'1-12-2.キャッシュフロー表 解決策導入後'!AY27)","v":0},{"$f":"IF(ISBLANK('1-12-2.キャッシュフロー表 解決策導入後'!AZ27),\"\",'1-12-2.キャッシュフロー表 解決策導入後'!AZ27)","v":0},{"$f":"IF(ISBLANK('1-12-2.キャッシュフロー表 解決策導入後'!BA27),\"\",'1-12-2.キャッシュフロー表 解決策導入後'!BA27)","v":0},{"$f":"IF(ISBLANK('1-12-2.キャッシュフロー表 解決策導入後'!BB27),\"\",'1-12-2.キャッシュフロー表 解決策導入後'!BB27)","v":0},{"$f":"IF(ISBLANK('1-12-2.キャッシュフロー表 解決策導入後'!BC27),\"\",'1-12-2.キャッシュフロー表 解決策導入後'!BC27)","v":0},{"$f":"IF(ISBLANK('1-12-2.キャッシュフロー表 解決策導入後'!BD27),\"\",'1-12-2.キャッシュフロー表 解決策導入後'!BD27)","v":0},{"$f":"IF(ISBLANK('1-12-2.キャッシュフロー表 解決策導入後'!BE27),\"\",'1-12-2.キャッシュフロー表 解決策導入後'!BE27)","v":0},{"$f":"IF(ISBLANK('1-12-2.キャッシュフロー表 解決策導入後'!BF27),\"\",'1-12-2.キャッシュフロー表 解決策導入後'!BF27)","v":0},{"$f":"IF(ISBLANK('1-12-2.キャッシュフロー表 解決策導入後'!BG27),\"\",'1-12-2.キャッシュフロー表 解決策導入後'!BG27)","v":0},{"$f":"IF(ISBLANK('1-12-2.キャッシュフロー表 解決策導入後'!BH27),\"\",'1-12-2.キャッシュフロー表 解決策導入後'!BH27)","v":0},{"$f":"IF(ISBLANK('1-12-2.キャッシュフロー表 解決策導入後'!BI27),\"\",'1-12-2.キャッシュフロー表 解決策導入後'!BI27)","v":0},{"$f":"IF(ISBLANK('1-12-2.キャッシュフロー表 解決策導入後'!BJ27),\"\",'1-12-2.キャッシュフロー表 解決策導入後'!BJ27)","v":0},{"$f":"IF(ISBLANK('1-12-2.キャッシュフロー表 解決策導入後'!BK27),\"\",'1-12-2.キャッシュフロー表 解決策導入後'!BK27)","v":0},{"$f":"IF(ISBLANK('1-12-2.キャッシュフロー表 解決策導入後'!BL27),\"\",'1-12-2.キャッシュフロー表 解決策導入後'!BL27)","v":0},{"$f":"IF(ISBLANK('1-12-2.キャッシュフロー表 解決策導入後'!BM27),\"\",'1-12-2.キャッシュフロー表 解決策導入後'!BM27)","v":0},{"$f":"IF(ISBLANK('1-12-2.キャッシュフロー表 解決策導入後'!BN27),\"\",'1-12-2.キャッシュフロー表 解決策導入後'!BN27)","v":0},{"$f":"IF(ISBLANK('1-12-2.キャッシュフロー表 解決策導入後'!BO27),\"\",'1-12-2.キャッシュフロー表 解決策導入後'!BO27)","v":0},{"$f":"IF(ISBLANK('1-12-2.キャッシュフロー表 解決策導入後'!BP27),\"\",'1-12-2.キャッシュフロー表 解決策導入後'!BP27)","v":0},{"$f":"IF(ISBLANK('1-12-2.キャッシュフロー表 解決策導入後'!BQ27),\"\",'1-12-2.キャッシュフロー表 解決策導入後'!BQ27)","v":0},{"$f":"IF(ISBLANK('1-12-2.キャッシュフロー表 解決策導入後'!BR27),\"\",'1-12-2.キャッシュフロー表 解決策導入後'!BR27)","v":0},{"$f":"IF(ISBLANK('1-12-2.キャッシュフロー表 解決策導入後'!BS27),\"\",'1-12-2.キャッシュフロー表 解決策導入後'!BS27)","v":0},{"$f":"IF(ISBLANK('1-12-2.キャッシュフロー表 解決策導入後'!BT27),\"\",'1-12-2.キャッシュフロー表 解決策導入後'!BT27)","v":0},{"$f":"IF(ISBLANK('1-12-2.キャッシュフロー表 解決策導入後'!BU27),\"\",'1-12-2.キャッシュフロー表 解決策導入後'!BU27)","v":0},{"$f":"IF(ISBLANK('1-12-2.キャッシュフロー表 解決策導入後'!BV27),\"\",'1-12-2.キャッシュフロー表 解決策導入後'!BV27)","v":0},{"$f":"IF(ISBLANK('1-12-2.キャッシュフロー表 解決策導入後'!BW27),\"\",'1-12-2.キャッシュフロー表 解決策導入後'!BW27)","v":0},{"$f":"IF(ISBLANK('1-12-2.キャッシュフロー表 解決策導入後'!BX27),\"\",'1-12-2.キャッシュフロー表 解決策導入後'!BX27)","v":0},{"$f":"IF(ISBLANK('1-12-2.キャッシュフロー表 解決策導入後'!BY27),\"\",'1-12-2.キャッシュフロー表 解決策導入後'!BY27)","v":0},{"$f":"IF(ISBLANK('1-12-2.キャッシュフロー表 解決策導入後'!BZ27),\"\",'1-12-2.キャッシュフロー表 解決策導入後'!BZ27)","v":0}]
[null,null,null,{"$f":"IF(ISBLANK('1-12-2.キャッシュフロー表 解決策導入後'!D28),\"\",'1-12-2.キャッシュフロー表 解決策導入後'!D28)","v":""},{"$f":"IF(ISBLANK('1-12-2.キャッシュフロー表 解決策導入後'!E28),\"\",'1-12-2.キャッシュフロー表 解決策導入後'!E28)","v":0},{"$f":"IF(ISBLANK('1-12-2.キャッシュフロー表 解決策導入後'!F28),\"\",'1-12-2.キャッシュフロー表 解決策導入後'!F28&\"年後\")","v":""},null,{"$f":"IF(ISBLANK('1-12-2.キャッシュフロー表 解決策導入後'!G28),\"\",'1-12-2.キャッシュフロー表 解決策導入後'!G28)","v":0},{"$f":"IF(ISBLANK('1-12-2.キャッシュフロー表 解決策導入後'!H28),\"\",'1-12-2.キャッシュフロー表 解決策導入後'!H28)","v":""},{"$f":"IF(ISBLANK('1-12-2.キャッシュフロー表 解決策導入後'!I28),\"\",'1-12-2.キャッシュフロー表 解決策導入後'!I28)","v":0},{"$f":"IF(ISBLANK('1-12-2.キャッシュフロー表 解決策導入後'!J28),\"\",'1-12-2.キャッシュフロー表 解決策導入後'!J28)","v":0},{"$f":"IF(ISBLANK('1-12-2.キャッシュフロー表 解決策導入後'!K28),\"\",'1-12-2.キャッシュフロー表 解決策導入後'!K28)","v":0},{"$f":"IF(ISBLANK('1-12-2.キャッシュフロー表 解決策導入後'!L28),\"\",'1-12-2.キャッシュフロー表 解決策導入後'!L28)","v":0},{"$f":"IF(ISBLANK('1-12-2.キャッシュフロー表 解決策導入後'!M28),\"\",'1-12-2.キャッシュフロー表 解決策導入後'!M28)","v":0},{"$f":"IF(ISBLANK('1-12-2.キャッシュフロー表 解決策導入後'!N28),\"\",'1-12-2.キャッシュフロー表 解決策導入後'!N28)","v":0},{"$f":"IF(ISBLANK('1-12-2.キャッシュフロー表 解決策導入後'!O28),\"\",'1-12-2.キャッシュフロー表 解決策導入後'!O28)","v":0},{"$f":"IF(ISBLANK('1-12-2.キャッシュフロー表 解決策導入後'!P28),\"\",'1-12-2.キャッシュフロー表 解決策導入後'!P28)","v":0},{"$f":"IF(ISBLANK('1-12-2.キャッシュフロー表 解決策導入後'!Q28),\"\",'1-12-2.キャッシュフロー表 解決策導入後'!Q28)","v":0},{"$f":"IF(ISBLANK('1-12-2.キャッシュフロー表 解決策導入後'!R28),\"\",'1-12-2.キャッシュフロー表 解決策導入後'!R28)","v":0},{"$f":"IF(ISBLANK('1-12-2.キャッシュフロー表 解決策導入後'!S28),\"\",'1-12-2.キャッシュフロー表 解決策導入後'!S28)","v":0},{"$f":"IF(ISBLANK('1-12-2.キャッシュフロー表 解決策導入後'!T28),\"\",'1-12-2.キャッシュフロー表 解決策導入後'!T28)","v":0},{"$f":"IF(ISBLANK('1-12-2.キャッシュフロー表 解決策導入後'!U28),\"\",'1-12-2.キャッシュフロー表 解決策導入後'!U28)","v":0},{"$f":"IF(ISBLANK('1-12-2.キャッシュフロー表 解決策導入後'!V28),\"\",'1-12-2.キャッシュフロー表 解決策導入後'!V28)","v":0},{"$f":"IF(ISBLANK('1-12-2.キャッシュフロー表 解決策導入後'!W28),\"\",'1-12-2.キャッシュフロー表 解決策導入後'!W28)","v":0},{"$f":"IF(ISBLANK('1-12-2.キャッシュフロー表 解決策導入後'!X28),\"\",'1-12-2.キャッシュフロー表 解決策導入後'!X28)","v":0},{"$f":"IF(ISBLANK('1-12-2.キャッシュフロー表 解決策導入後'!Y28),\"\",'1-12-2.キャッシュフロー表 解決策導入後'!Y28)","v":0},{"$f":"IF(ISBLANK('1-12-2.キャッシュフロー表 解決策導入後'!Z28),\"\",'1-12-2.キャッシュフロー表 解決策導入後'!Z28)","v":0},{"$f":"IF(ISBLANK('1-12-2.キャッシュフロー表 解決策導入後'!AA28),\"\",'1-12-2.キャッシュフロー表 解決策導入後'!AA28)","v":0},{"$f":"IF(ISBLANK('1-12-2.キャッシュフロー表 解決策導入後'!AB28),\"\",'1-12-2.キャッシュフロー表 解決策導入後'!AB28)","v":0},{"$f":"IF(ISBLANK('1-12-2.キャッシュフロー表 解決策導入後'!AC28),\"\",'1-12-2.キャッシュフロー表 解決策導入後'!AC28)","v":0},{"$f":"IF(ISBLANK('1-12-2.キャッシュフロー表 解決策導入後'!AD28),\"\",'1-12-2.キャッシュフロー表 解決策導入後'!AD28)","v":0},{"$f":"IF(ISBLANK('1-12-2.キャッシュフロー表 解決策導入後'!AE28),\"\",'1-12-2.キャッシュフロー表 解決策導入後'!AE28)","v":0},{"$f":"IF(ISBLANK('1-12-2.キャッシュフロー表 解決策導入後'!AF28),\"\",'1-12-2.キャッシュフロー表 解決策導入後'!AF28)","v":0},{"$f":"IF(ISBLANK('1-12-2.キャッシュフロー表 解決策導入後'!AG28),\"\",'1-12-2.キャッシュフロー表 解決策導入後'!AG28)","v":0},{"$f":"IF(ISBLANK('1-12-2.キャッシュフロー表 解決策導入後'!AH28),\"\",'1-12-2.キャッシュフロー表 解決策導入後'!AH28)","v":0},{"$f":"IF(ISBLANK('1-12-2.キャッシュフロー表 解決策導入後'!AI28),\"\",'1-12-2.キャッシュフロー表 解決策導入後'!AI28)","v":0},{"$f":"IF(ISBLANK('1-12-2.キャッシュフロー表 解決策導入後'!AJ28),\"\",'1-12-2.キャッシュフロー表 解決策導入後'!AJ28)","v":0},{"$f":"IF(ISBLANK('1-12-2.キャッシュフロー表 解決策導入後'!AK28),\"\",'1-12-2.キャッシュフロー表 解決策導入後'!AK28)","v":0},{"$f":"IF(ISBLANK('1-12-2.キャッシュフロー表 解決策導入後'!AL28),\"\",'1-12-2.キャッシュフロー表 解決策導入後'!AL28)","v":0},null,null,null,null,{"$f":"IF(ISBLANK('1-12-2.キャッシュフロー表 解決策導入後'!D28),\"\",'1-12-2.キャッシュフロー表 解決策導入後'!D28)","v":""},{"$f":"IF(ISBLANK('1-12-2.キャッシュフロー表 解決策導入後'!E28),\"\",'1-12-2.キャッシュフロー表 解決策導入後'!E28)","v":0},{"$f":"IF(ISBLANK('1-12-2.キャッシュフロー表 解決策導入後'!F28),\"\",'1-12-2.キャッシュフロー表 解決策導入後'!F28&\"年後\")","v":""},null,{"$f":"IF(ISBLANK('1-12-2.キャッシュフロー表 解決策導入後'!G28),\"\",'1-12-2.キャッシュフロー表 解決策導入後'!G28)","v":0},{"$f":"IF(ISBLANK('1-12-2.キャッシュフロー表 解決策導入後'!AM28),\"\",'1-12-2.キャッシュフロー表 解決策導入後'!AM28)","v":0},{"$f":"IF(ISBLANK('1-12-2.キャッシュフロー表 解決策導入後'!AN28),\"\",'1-12-2.キャッシュフロー表 解決策導入後'!AN28)","v":0},{"$f":"IF(ISBLANK('1-12-2.キャッシュフロー表 解決策導入後'!AO28),\"\",'1-12-2.キャッシュフロー表 解決策導入後'!AO28)","v":0},{"$f":"IF(ISBLANK('1-12-2.キャッシュフロー表 解決策導入後'!AP28),\"\",'1-12-2.キャッシュフロー表 解決策導入後'!AP28)","v":0},{"$f":"IF(ISBLANK('1-12-2.キャッシュフロー表 解決策導入後'!AQ28),\"\",'1-12-2.キャッシュフロー表 解決策導入後'!AQ28)","v":0},{"$f":"IF(ISBLANK('1-12-2.キャッシュフロー表 解決策導入後'!AR28),\"\",'1-12-2.キャッシュフロー表 解決策導入後'!AR28)","v":0},{"$f":"IF(ISBLANK('1-12-2.キャッシュフロー表 解決策導入後'!AS28),\"\",'1-12-2.キャッシュフロー表 解決策導入後'!AS28)","v":0},{"$f":"IF(ISBLANK('1-12-2.キャッシュフロー表 解決策導入後'!AT28),\"\",'1-12-2.キャッシュフロー表 解決策導入後'!AT28)","v":0},{"$f":"IF(ISBLANK('1-12-2.キャッシュフロー表 解決策導入後'!AU28),\"\",'1-12-2.キャッシュフロー表 解決策導入後'!AU28)","v":0},{"$f":"IF(ISBLANK('1-12-2.キャッシュフロー表 解決策導入後'!AV28),\"\",'1-12-2.キャッシュフロー表 解決策導入後'!AV28)","v":0},{"$f":"IF(ISBLANK('1-12-2.キャッシュフロー表 解決策導入後'!AW28),\"\",'1-12-2.キャッシュフロー表 解決策導入後'!AW28)","v":0},{"$f":"IF(ISBLANK('1-12-2.キャッシュフロー表 解決策導入後'!AX28),\"\",'1-12-2.キャッシュフロー表 解決策導入後'!AX28)","v":0},{"$f":"IF(ISBLANK('1-12-2.キャッシュフロー表 解決策導入後'!AY28),\"\",'1-12-2.キャッシュフロー表 解決策導入後'!AY28)","v":0},{"$f":"IF(ISBLANK('1-12-2.キャッシュフロー表 解決策導入後'!AZ28),\"\",'1-12-2.キャッシュフロー表 解決策導入後'!AZ28)","v":0},{"$f":"IF(ISBLANK('1-12-2.キャッシュフロー表 解決策導入後'!BA28),\"\",'1-12-2.キャッシュフロー表 解決策導入後'!BA28)","v":0},{"$f":"IF(ISBLANK('1-12-2.キャッシュフロー表 解決策導入後'!BB28),\"\",'1-12-2.キャッシュフロー表 解決策導入後'!BB28)","v":0},{"$f":"IF(ISBLANK('1-12-2.キャッシュフロー表 解決策導入後'!BC28),\"\",'1-12-2.キャッシュフロー表 解決策導入後'!BC28)","v":0},{"$f":"IF(ISBLANK('1-12-2.キャッシュフロー表 解決策導入後'!BD28),\"\",'1-12-2.キャッシュフロー表 解決策導入後'!BD28)","v":0},{"$f":"IF(ISBLANK('1-12-2.キャッシュフロー表 解決策導入後'!BE28),\"\",'1-12-2.キャッシュフロー表 解決策導入後'!BE28)","v":0},{"$f":"IF(ISBLANK('1-12-2.キャッシュフロー表 解決策導入後'!BF28),\"\",'1-12-2.キャッシュフロー表 解決策導入後'!BF28)","v":0},{"$f":"IF(ISBLANK('1-12-2.キャッシュフロー表 解決策導入後'!BG28),\"\",'1-12-2.キャッシュフロー表 解決策導入後'!BG28)","v":0},{"$f":"IF(ISBLANK('1-12-2.キャッシュフロー表 解決策導入後'!BH28),\"\",'1-12-2.キャッシュフロー表 解決策導入後'!BH28)","v":0},{"$f":"IF(ISBLANK('1-12-2.キャッシュフロー表 解決策導入後'!BI28),\"\",'1-12-2.キャッシュフロー表 解決策導入後'!BI28)","v":0},{"$f":"IF(ISBLANK('1-12-2.キャッシュフロー表 解決策導入後'!BJ28),\"\",'1-12-2.キャッシュフロー表 解決策導入後'!BJ28)","v":0},{"$f":"IF(ISBLANK('1-12-2.キャッシュフロー表 解決策導入後'!BK28),\"\",'1-12-2.キャッシュフロー表 解決策導入後'!BK28)","v":0},{"$f":"IF(ISBLANK('1-12-2.キャッシュフロー表 解決策導入後'!BL28),\"\",'1-12-2.キャッシュフロー表 解決策導入後'!BL28)","v":0},{"$f":"IF(ISBLANK('1-12-2.キャッシュフロー表 解決策導入後'!BM28),\"\",'1-12-2.キャッシュフロー表 解決策導入後'!BM28)","v":0},{"$f":"IF(ISBLANK('1-12-2.キャッシュフロー表 解決策導入後'!BN28),\"\",'1-12-2.キャッシュフロー表 解決策導入後'!BN28)","v":0},{"$f":"IF(ISBLANK('1-12-2.キャッシュフロー表 解決策導入後'!BO28),\"\",'1-12-2.キャッシュフロー表 解決策導入後'!BO28)","v":0},{"$f":"IF(ISBLANK('1-12-2.キャッシュフロー表 解決策導入後'!BP28),\"\",'1-12-2.キャッシュフロー表 解決策導入後'!BP28)","v":0},{"$f":"IF(ISBLANK('1-12-2.キャッシュフロー表 解決策導入後'!BQ28),\"\",'1-12-2.キャッシュフロー表 解決策導入後'!BQ28)","v":0},{"$f":"IF(ISBLANK('1-12-2.キャッシュフロー表 解決策導入後'!BR28),\"\",'1-12-2.キャッシュフロー表 解決策導入後'!BR28)","v":0},{"$f":"IF(ISBLANK('1-12-2.キャッシュフロー表 解決策導入後'!BS28),\"\",'1-12-2.キャッシュフロー表 解決策導入後'!BS28)","v":0},{"$f":"IF(ISBLANK('1-12-2.キャッシュフロー表 解決策導入後'!BT28),\"\",'1-12-2.キャッシュフロー表 解決策導入後'!BT28)","v":0},{"$f":"IF(ISBLANK('1-12-2.キャッシュフロー表 解決策導入後'!BU28),\"\",'1-12-2.キャッシュフロー表 解決策導入後'!BU28)","v":0},{"$f":"IF(ISBLANK('1-12-2.キャッシュフロー表 解決策導入後'!BV28),\"\",'1-12-2.キャッシュフロー表 解決策導入後'!BV28)","v":0},{"$f":"IF(ISBLANK('1-12-2.キャッシュフロー表 解決策導入後'!BW28),\"\",'1-12-2.キャッシュフロー表 解決策導入後'!BW28)","v":0},{"$f":"IF(ISBLANK('1-12-2.キャッシュフロー表 解決策導入後'!BX28),\"\",'1-12-2.キャッシュフロー表 解決策導入後'!BX28)","v":0},{"$f":"IF(ISBLANK('1-12-2.キャッシュフロー表 解決策導入後'!BY28),\"\",'1-12-2.キャッシュフロー表 解決策導入後'!BY28)","v":0},{"$f":"IF(ISBLANK('1-12-2.キャッシュフロー表 解決策導入後'!BZ28),\"\",'1-12-2.キャッシュフロー表 解決策導入後'!BZ28)","v":0}]
[null,null,null,"その他一時的収入",{"$f":"IF(ISBLANK('1-12-2.キャッシュフロー表 解決策導入後'!E29),\"\",'1-12-2.キャッシュフロー表 解決策導入後'!E29)","v":""},{"$f":"IF(ISBLANK('1-12-2.キャッシュフロー表 解決策導入後'!F29),\"\",'1-12-2.キャッシュフロー表 解決策導入後'!F29&\"年後\")","v":""},null,{"$f":"IF(ISBLANK('1-12-2.キャッシュフロー表 解決策導入後'!G29),\"\",'1-12-2.キャッシュフロー表 解決策導入後'!G29)","v":""},{"$f":"IF(ISBLANK('1-12-2.キャッシュフロー表 解決策導入後'!H29),\"\",'1-12-2.キャッシュフロー表 解決策導入後'!H29)","v":""},{"$f":"IF(ISBLANK('1-12-2.キャッシュフロー表 解決策導入後'!I29),\"\",'1-12-2.キャッシュフロー表 解決策導入後'!I29)","v":""},{"$f":"IF(ISBLANK('1-12-2.キャッシュフロー表 解決策導入後'!J29),\"\",'1-12-2.キャッシュフロー表 解決策導入後'!J29)","v":""},{"$f":"IF(ISBLANK('1-12-2.キャッシュフロー表 解決策導入後'!K29),\"\",'1-12-2.キャッシュフロー表 解決策導入後'!K29)","v":""},{"$f":"IF(ISBLANK('1-12-2.キャッシュフロー表 解決策導入後'!L29),\"\",'1-12-2.キャッシュフロー表 解決策導入後'!L29)","v":""},{"$f":"IF(ISBLANK('1-12-2.キャッシュフロー表 解決策導入後'!M29),\"\",'1-12-2.キャッシュフロー表 解決策導入後'!M29)","v":""},{"$f":"IF(ISBLANK('1-12-2.キャッシュフロー表 解決策導入後'!N29),\"\",'1-12-2.キャッシュフロー表 解決策導入後'!N29)","v":""},{"$f":"IF(ISBLANK('1-12-2.キャッシュフロー表 解決策導入後'!O29),\"\",'1-12-2.キャッシュフロー表 解決策導入後'!O29)","v":""},{"$f":"IF(ISBLANK('1-12-2.キャッシュフロー表 解決策導入後'!P29),\"\",'1-12-2.キャッシュフロー表 解決策導入後'!P29)","v":""},{"$f":"IF(ISBLANK('1-12-2.キャッシュフロー表 解決策導入後'!Q29),\"\",'1-12-2.キャッシュフロー表 解決策導入後'!Q29)","v":""},{"$f":"IF(ISBLANK('1-12-2.キャッシュフロー表 解決策導入後'!R29),\"\",'1-12-2.キャッシュフロー表 解決策導入後'!R29)","v":""},{"$f":"IF(ISBLANK('1-12-2.キャッシュフロー表 解決策導入後'!S29),\"\",'1-12-2.キャッシュフロー表 解決策導入後'!S29)","v":""},{"$f":"IF(ISBLANK('1-12-2.キャッシュフロー表 解決策導入後'!T29),\"\",'1-12-2.キャッシュフロー表 解決策導入後'!T29)","v":""},{"$f":"IF(ISBLANK('1-12-2.キャッシュフロー表 解決策導入後'!U29),\"\",'1-12-2.キャッシュフロー表 解決策導入後'!U29)","v":""},{"$f":"IF(ISBLANK('1-12-2.キャッシュフロー表 解決策導入後'!V29),\"\",'1-12-2.キャッシュフロー表 解決策導入後'!V29)","v":""},{"$f":"IF(ISBLANK('1-12-2.キャッシュフロー表 解決策導入後'!W29),\"\",'1-12-2.キャッシュフロー表 解決策導入後'!W29)","v":""},{"$f":"IF(ISBLANK('1-12-2.キャッシュフロー表 解決策導入後'!X29),\"\",'1-12-2.キャッシュフロー表 解決策導入後'!X29)","v":""},{"$f":"IF(ISBLANK('1-12-2.キャッシュフロー表 解決策導入後'!Y29),\"\",'1-12-2.キャッシュフロー表 解決策導入後'!Y29)","v":""},{"$f":"IF(ISBLANK('1-12-2.キャッシュフロー表 解決策導入後'!Z29),\"\",'1-12-2.キャッシュフロー表 解決策導入後'!Z29)","v":""},{"$f":"IF(ISBLANK('1-12-2.キャッシュフロー表 解決策導入後'!AA29),\"\",'1-12-2.キャッシュフロー表 解決策導入後'!AA29)","v":""},{"$f":"IF(ISBLANK('1-12-2.キャッシュフロー表 解決策導入後'!AB29),\"\",'1-12-2.キャッシュフロー表 解決策導入後'!AB29)","v":""},{"$f":"IF(ISBLANK('1-12-2.キャッシュフロー表 解決策導入後'!AC29),\"\",'1-12-2.キャッシュフロー表 解決策導入後'!AC29)","v":""},{"$f":"IF(ISBLANK('1-12-2.キャッシュフロー表 解決策導入後'!AD29),\"\",'1-12-2.キャッシュフロー表 解決策導入後'!AD29)","v":""},{"$f":"IF(ISBLANK('1-12-2.キャッシュフロー表 解決策導入後'!AE29),\"\",'1-12-2.キャッシュフロー表 解決策導入後'!AE29)","v":""},{"$f":"IF(ISBLANK('1-12-2.キャッシュフロー表 解決策導入後'!AF29),\"\",'1-12-2.キャッシュフロー表 解決策導入後'!AF29)","v":""},{"$f":"IF(ISBLANK('1-12-2.キャッシュフロー表 解決策導入後'!AG29),\"\",'1-12-2.キャッシュフロー表 解決策導入後'!AG29)","v":""},{"$f":"IF(ISBLANK('1-12-2.キャッシュフロー表 解決策導入後'!AH29),\"\",'1-12-2.キャッシュフロー表 解決策導入後'!AH29)","v":""},{"$f":"IF(ISBLANK('1-12-2.キャッシュフロー表 解決策導入後'!AI29),\"\",'1-12-2.キャッシュフロー表 解決策導入後'!AI29)","v":""},{"$f":"IF(ISBLANK('1-12-2.キャッシュフロー表 解決策導入後'!AJ29),\"\",'1-12-2.キャッシュフロー表 解決策導入後'!AJ29)","v":""},{"$f":"IF(ISBLANK('1-12-2.キャッシュフロー表 解決策導入後'!AK29),\"\",'1-12-2.キャッシュフロー表 解決策導入後'!AK29)","v":""},{"$f":"IF(ISBLANK('1-12-2.キャッシュフロー表 解決策導入後'!AL29),\"\",'1-12-2.キャッシュフロー表 解決策導入後'!AL29)","v":""},null,null,null,null,{"$f":"IF(ISBLANK('1-12-2.キャッシュフロー表 解決策導入後'!D29),\"\",'1-12-2.キャッシュフロー表 解決策導入後'!D29)","v":"その他一時的収入"},{"$f":"IF(ISBLANK('1-12-2.キャッシュフロー表 解決策導入後'!E29),\"\",'1-12-2.キャッシュフロー表 解決策導入後'!E29)","v":""},{"$f":"IF(ISBLANK('1-12-2.キャッシュフロー表 解決策導入後'!F29),\"\",'1-12-2.キャッシュフロー表 解決策導入後'!F29&\"年後\")","v":""},null,{"$f":"IF(ISBLANK('1-12-2.キャッシュフロー表 解決策導入後'!G29),\"\",'1-12-2.キャッシュフロー表 解決策導入後'!G29)","v":""},{"$f":"IF(ISBLANK('1-12-2.キャッシュフロー表 解決策導入後'!AM29),\"\",'1-12-2.キャッシュフロー表 解決策導入後'!AM29)","v":""},{"$f":"IF(ISBLANK('1-12-2.キャッシュフロー表 解決策導入後'!AN29),\"\",'1-12-2.キャッシュフロー表 解決策導入後'!AN29)","v":""},{"$f":"IF(ISBLANK('1-12-2.キャッシュフロー表 解決策導入後'!AO29),\"\",'1-12-2.キャッシュフロー表 解決策導入後'!AO29)","v":""},{"$f":"IF(ISBLANK('1-12-2.キャッシュフロー表 解決策導入後'!AP29),\"\",'1-12-2.キャッシュフロー表 解決策導入後'!AP29)","v":""},{"$f":"IF(ISBLANK('1-12-2.キャッシュフロー表 解決策導入後'!AQ29),\"\",'1-12-2.キャッシュフロー表 解決策導入後'!AQ29)","v":""},{"$f":"IF(ISBLANK('1-12-2.キャッシュフロー表 解決策導入後'!AR29),\"\",'1-12-2.キャッシュフロー表 解決策導入後'!AR29)","v":""},{"$f":"IF(ISBLANK('1-12-2.キャッシュフロー表 解決策導入後'!AS29),\"\",'1-12-2.キャッシュフロー表 解決策導入後'!AS29)","v":""},{"$f":"IF(ISBLANK('1-12-2.キャッシュフロー表 解決策導入後'!AT29),\"\",'1-12-2.キャッシュフロー表 解決策導入後'!AT29)","v":""},{"$f":"IF(ISBLANK('1-12-2.キャッシュフロー表 解決策導入後'!AU29),\"\",'1-12-2.キャッシュフロー表 解決策導入後'!AU29)","v":""},{"$f":"IF(ISBLANK('1-12-2.キャッシュフロー表 解決策導入後'!AV29),\"\",'1-12-2.キャッシュフロー表 解決策導入後'!AV29)","v":""},{"$f":"IF(ISBLANK('1-12-2.キャッシュフロー表 解決策導入後'!AW29),\"\",'1-12-2.キャッシュフロー表 解決策導入後'!AW29)","v":""},{"$f":"IF(ISBLANK('1-12-2.キャッシュフロー表 解決策導入後'!AX29),\"\",'1-12-2.キャッシュフロー表 解決策導入後'!AX29)","v":""},{"$f":"IF(ISBLANK('1-12-2.キャッシュフロー表 解決策導入後'!AY29),\"\",'1-12-2.キャッシュフロー表 解決策導入後'!AY29)","v":""},{"$f":"IF(ISBLANK('1-12-2.キャッシュフロー表 解決策導入後'!AZ29),\"\",'1-12-2.キャッシュフロー表 解決策導入後'!AZ29)","v":""},{"$f":"IF(ISBLANK('1-12-2.キャッシュフロー表 解決策導入後'!BA29),\"\",'1-12-2.キャッシュフロー表 解決策導入後'!BA29)","v":""},{"$f":"IF(ISBLANK('1-12-2.キャッシュフロー表 解決策導入後'!BB29),\"\",'1-12-2.キャッシュフロー表 解決策導入後'!BB29)","v":""},{"$f":"IF(ISBLANK('1-12-2.キャッシュフロー表 解決策導入後'!BC29),\"\",'1-12-2.キャッシュフロー表 解決策導入後'!BC29)","v":""},{"$f":"IF(ISBLANK('1-12-2.キャッシュフロー表 解決策導入後'!BD29),\"\",'1-12-2.キャッシュフロー表 解決策導入後'!BD29)","v":""},{"$f":"IF(ISBLANK('1-12-2.キャッシュフロー表 解決策導入後'!BE29),\"\",'1-12-2.キャッシュフロー表 解決策導入後'!BE29)","v":""},{"$f":"IF(ISBLANK('1-12-2.キャッシュフロー表 解決策導入後'!BF29),\"\",'1-12-2.キャッシュフロー表 解決策導入後'!BF29)","v":""},{"$f":"IF(ISBLANK('1-12-2.キャッシュフロー表 解決策導入後'!BG29),\"\",'1-12-2.キャッシュフロー表 解決策導入後'!BG29)","v":""},{"$f":"IF(ISBLANK('1-12-2.キャッシュフロー表 解決策導入後'!BH29),\"\",'1-12-2.キャッシュフロー表 解決策導入後'!BH29)","v":""},{"$f":"IF(ISBLANK('1-12-2.キャッシュフロー表 解決策導入後'!BI29),\"\",'1-12-2.キャッシュフロー表 解決策導入後'!BI29)","v":""},{"$f":"IF(ISBLANK('1-12-2.キャッシュフロー表 解決策導入後'!BJ29),\"\",'1-12-2.キャッシュフロー表 解決策導入後'!BJ29)","v":""},{"$f":"IF(ISBLANK('1-12-2.キャッシュフロー表 解決策導入後'!BK29),\"\",'1-12-2.キャッシュフロー表 解決策導入後'!BK29)","v":""},{"$f":"IF(ISBLANK('1-12-2.キャッシュフロー表 解決策導入後'!BL29),\"\",'1-12-2.キャッシュフロー表 解決策導入後'!BL29)","v":""},{"$f":"IF(ISBLANK('1-12-2.キャッシュフロー表 解決策導入後'!BM29),\"\",'1-12-2.キャッシュフロー表 解決策導入後'!BM29)","v":""},{"$f":"IF(ISBLANK('1-12-2.キャッシュフロー表 解決策導入後'!BN29),\"\",'1-12-2.キャッシュフロー表 解決策導入後'!BN29)","v":""},{"$f":"IF(ISBLANK('1-12-2.キャッシュフロー表 解決策導入後'!BO29),\"\",'1-12-2.キャッシュフロー表 解決策導入後'!BO29)","v":""},{"$f":"IF(ISBLANK('1-12-2.キャッシュフロー表 解決策導入後'!BP29),\"\",'1-12-2.キャッシュフロー表 解決策導入後'!BP29)","v":""},{"$f":"IF(ISBLANK('1-12-2.キャッシュフロー表 解決策導入後'!BQ29),\"\",'1-12-2.キャッシュフロー表 解決策導入後'!BQ29)","v":""},{"$f":"IF(ISBLANK('1-12-2.キャッシュフロー表 解決策導入後'!BR29),\"\",'1-12-2.キャッシュフロー表 解決策導入後'!BR29)","v":""},{"$f":"IF(ISBLANK('1-12-2.キャッシュフロー表 解決策導入後'!BS29),\"\",'1-12-2.キャッシュフロー表 解決策導入後'!BS29)","v":""},{"$f":"IF(ISBLANK('1-12-2.キャッシュフロー表 解決策導入後'!BT29),\"\",'1-12-2.キャッシュフロー表 解決策導入後'!BT29)","v":""},{"$f":"IF(ISBLANK('1-12-2.キャッシュフロー表 解決策導入後'!BU29),\"\",'1-12-2.キャッシュフロー表 解決策導入後'!BU29)","v":""},{"$f":"IF(ISBLANK('1-12-2.キャッシュフロー表 解決策導入後'!BV29),\"\",'1-12-2.キャッシュフロー表 解決策導入後'!BV29)","v":""},{"$f":"IF(ISBLANK('1-12-2.キャッシュフロー表 解決策導入後'!BW29),\"\",'1-12-2.キャッシュフロー表 解決策導入後'!BW29)","v":""},{"$f":"IF(ISBLANK('1-12-2.キャッシュフロー表 解決策導入後'!BX29),\"\",'1-12-2.キャッシュフロー表 解決策導入後'!BX29)","v":""},{"$f":"IF(ISBLANK('1-12-2.キャッシュフロー表 解決策導入後'!BY29),\"\",'1-12-2.キャッシュフロー表 解決策導入後'!BY29)","v":""},{"$f":"IF(ISBLANK('1-12-2.キャッシュフロー表 解決策導入後'!BZ29),\"\",'1-12-2.キャッシュフロー表 解決策導入後'!BZ29)","v":""}]
[null,null,null,"収入合計",null,null,null,null,{"$f":"IF(ISBLANK('1-12-2.キャッシュフロー表 解決策導入後'!H30),\"\",'1-12-2.キャッシュフロー表 解決策導入後'!H30)","v":0},{"$f":"IF(ISBLANK('1-12-2.キャッシュフロー表 解決策導入後'!I30),\"\",'1-12-2.キャッシュフロー表 解決策導入後'!I30)","v":0},{"$f":"IF(ISBLANK('1-12-2.キャッシュフロー表 解決策導入後'!J30),\"\",'1-12-2.キャッシュフロー表 解決策導入後'!J30)","v":0},{"$f":"IF(ISBLANK('1-12-2.キャッシュフロー表 解決策導入後'!K30),\"\",'1-12-2.キャッシュフロー表 解決策導入後'!K30)","v":0},{"$f":"IF(ISBLANK('1-12-2.キャッシュフロー表 解決策導入後'!L30),\"\",'1-12-2.キャッシュフロー表 解決策導入後'!L30)","v":0},{"$f":"IF(ISBLANK('1-12-2.キャッシュフロー表 解決策導入後'!M30),\"\",'1-12-2.キャッシュフロー表 解決策導入後'!M30)","v":0},{"$f":"IF(ISBLANK('1-12-2.キャッシュフロー表 解決策導入後'!N30),\"\",'1-12-2.キャッシュフロー表 解決策導入後'!N30)","v":0},{"$f":"IF(ISBLANK('1-12-2.キャッシュフロー表 解決策導入後'!O30),\"\",'1-12-2.キャッシュフロー表 解決策導入後'!O30)","v":0},{"$f":"IF(ISBLANK('1-12-2.キャッシュフロー表 解決策導入後'!P30),\"\",'1-12-2.キャッシュフロー表 解決策導入後'!P30)","v":0},{"$f":"IF(ISBLANK('1-12-2.キャッシュフロー表 解決策導入後'!Q30),\"\",'1-12-2.キャッシュフロー表 解決策導入後'!Q30)","v":0},{"$f":"IF(ISBLANK('1-12-2.キャッシュフロー表 解決策導入後'!R30),\"\",'1-12-2.キャッシュフロー表 解決策導入後'!R30)","v":0},{"$f":"IF(ISBLANK('1-12-2.キャッシュフロー表 解決策導入後'!S30),\"\",'1-12-2.キャッシュフロー表 解決策導入後'!S30)","v":0},{"$f":"IF(ISBLANK('1-12-2.キャッシュフロー表 解決策導入後'!T30),\"\",'1-12-2.キャッシュフロー表 解決策導入後'!T30)","v":0},{"$f":"IF(ISBLANK('1-12-2.キャッシュフロー表 解決策導入後'!U30),\"\",'1-12-2.キャッシュフロー表 解決策導入後'!U30)","v":0},{"$f":"IF(ISBLANK('1-12-2.キャッシュフロー表 解決策導入後'!V30),\"\",'1-12-2.キャッシュフロー表 解決策導入後'!V30)","v":0},{"$f":"IF(ISBLANK('1-12-2.キャッシュフロー表 解決策導入後'!W30),\"\",'1-12-2.キャッシュフロー表 解決策導入後'!W30)","v":0},{"$f":"IF(ISBLANK('1-12-2.キャッシュフロー表 解決策導入後'!X30),\"\",'1-12-2.キャッシュフロー表 解決策導入後'!X30)","v":0},{"$f":"IF(ISBLANK('1-12-2.キャッシュフロー表 解決策導入後'!Y30),\"\",'1-12-2.キャッシュフロー表 解決策導入後'!Y30)","v":0},{"$f":"IF(ISBLANK('1-12-2.キャッシュフロー表 解決策導入後'!Z30),\"\",'1-12-2.キャッシュフロー表 解決策導入後'!Z30)","v":0},{"$f":"IF(ISBLANK('1-12-2.キャッシュフロー表 解決策導入後'!AA30),\"\",'1-12-2.キャッシュフロー表 解決策導入後'!AA30)","v":0},{"$f":"IF(ISBLANK('1-12-2.キャッシュフロー表 解決策導入後'!AB30),\"\",'1-12-2.キャッシュフロー表 解決策導入後'!AB30)","v":0},{"$f":"IF(ISBLANK('1-12-2.キャッシュフロー表 解決策導入後'!AC30),\"\",'1-12-2.キャッシュフロー表 解決策導入後'!AC30)","v":0},{"$f":"IF(ISBLANK('1-12-2.キャッシュフロー表 解決策導入後'!AD30),\"\",'1-12-2.キャッシュフロー表 解決策導入後'!AD30)","v":0},{"$f":"IF(ISBLANK('1-12-2.キャッシュフロー表 解決策導入後'!AE30),\"\",'1-12-2.キャッシュフロー表 解決策導入後'!AE30)","v":0},{"$f":"IF(ISBLANK('1-12-2.キャッシュフロー表 解決策導入後'!AF30),\"\",'1-12-2.キャッシュフロー表 解決策導入後'!AF30)","v":0},{"$f":"IF(ISBLANK('1-12-2.キャッシュフロー表 解決策導入後'!AG30),\"\",'1-12-2.キャッシュフロー表 解決策導入後'!AG30)","v":0},{"$f":"IF(ISBLANK('1-12-2.キャッシュフロー表 解決策導入後'!AH30),\"\",'1-12-2.キャッシュフロー表 解決策導入後'!AH30)","v":0},{"$f":"IF(ISBLANK('1-12-2.キャッシュフロー表 解決策導入後'!AI30),\"\",'1-12-2.キャッシュフロー表 解決策導入後'!AI30)","v":0},{"$f":"IF(ISBLANK('1-12-2.キャッシュフロー表 解決策導入後'!AJ30),\"\",'1-12-2.キャッシュフロー表 解決策導入後'!AJ30)","v":0},{"$f":"IF(ISBLANK('1-12-2.キャッシュフロー表 解決策導入後'!AK30),\"\",'1-12-2.キャッシュフロー表 解決策導入後'!AK30)","v":0},{"$f":"IF(ISBLANK('1-12-2.キャッシュフロー表 解決策導入後'!AL30),\"\",'1-12-2.キャッシュフロー表 解決策導入後'!AL30)","v":0},null,null,null,null,"収入合計",null,null,null,null,{"$f":"IF(ISBLANK('1-12-2.キャッシュフロー表 解決策導入後'!AM30),\"\",'1-12-2.キャッシュフロー表 解決策導入後'!AM30)","v":0},{"$f":"IF(ISBLANK('1-12-2.キャッシュフロー表 解決策導入後'!AN30),\"\",'1-12-2.キャッシュフロー表 解決策導入後'!AN30)","v":0},{"$f":"IF(ISBLANK('1-12-2.キャッシュフロー表 解決策導入後'!AO30),\"\",'1-12-2.キャッシュフロー表 解決策導入後'!AO30)","v":0},{"$f":"IF(ISBLANK('1-12-2.キャッシュフロー表 解決策導入後'!AP30),\"\",'1-12-2.キャッシュフロー表 解決策導入後'!AP30)","v":0},{"$f":"IF(ISBLANK('1-12-2.キャッシュフロー表 解決策導入後'!AQ30),\"\",'1-12-2.キャッシュフロー表 解決策導入後'!AQ30)","v":0},{"$f":"IF(ISBLANK('1-12-2.キャッシュフロー表 解決策導入後'!AR30),\"\",'1-12-2.キャッシュフロー表 解決策導入後'!AR30)","v":0},{"$f":"IF(ISBLANK('1-12-2.キャッシュフロー表 解決策導入後'!AS30),\"\",'1-12-2.キャッシュフロー表 解決策導入後'!AS30)","v":0},{"$f":"IF(ISBLANK('1-12-2.キャッシュフロー表 解決策導入後'!AT30),\"\",'1-12-2.キャッシュフロー表 解決策導入後'!AT30)","v":0},{"$f":"IF(ISBLANK('1-12-2.キャッシュフロー表 解決策導入後'!AU30),\"\",'1-12-2.キャッシュフロー表 解決策導入後'!AU30)","v":0},{"$f":"IF(ISBLANK('1-12-2.キャッシュフロー表 解決策導入後'!AV30),\"\",'1-12-2.キャッシュフロー表 解決策導入後'!AV30)","v":0},{"$f":"IF(ISBLANK('1-12-2.キャッシュフロー表 解決策導入後'!AW30),\"\",'1-12-2.キャッシュフロー表 解決策導入後'!AW30)","v":0},{"$f":"IF(ISBLANK('1-12-2.キャッシュフロー表 解決策導入後'!AX30),\"\",'1-12-2.キャッシュフロー表 解決策導入後'!AX30)","v":0},{"$f":"IF(ISBLANK('1-12-2.キャッシュフロー表 解決策導入後'!AY30),\"\",'1-12-2.キャッシュフロー表 解決策導入後'!AY30)","v":0},{"$f":"IF(ISBLANK('1-12-2.キャッシュフロー表 解決策導入後'!AZ30),\"\",'1-12-2.キャッシュフロー表 解決策導入後'!AZ30)","v":0},{"$f":"IF(ISBLANK('1-12-2.キャッシュフロー表 解決策導入後'!BA30),\"\",'1-12-2.キャッシュフロー表 解決策導入後'!BA30)","v":0},{"$f":"IF(ISBLANK('1-12-2.キャッシュフロー表 解決策導入後'!BB30),\"\",'1-12-2.キャッシュフロー表 解決策導入後'!BB30)","v":0},{"$f":"IF(ISBLANK('1-12-2.キャッシュフロー表 解決策導入後'!BC30),\"\",'1-12-2.キャッシュフロー表 解決策導入後'!BC30)","v":0},{"$f":"IF(ISBLANK('1-12-2.キャッシュフロー表 解決策導入後'!BD30),\"\",'1-12-2.キャッシュフロー表 解決策導入後'!BD30)","v":0},{"$f":"IF(ISBLANK('1-12-2.キャッシュフロー表 解決策導入後'!BE30),\"\",'1-12-2.キャッシュフロー表 解決策導入後'!BE30)","v":0},{"$f":"IF(ISBLANK('1-12-2.キャッシュフロー表 解決策導入後'!BF30),\"\",'1-12-2.キャッシュフロー表 解決策導入後'!BF30)","v":0},{"$f":"IF(ISBLANK('1-12-2.キャッシュフロー表 解決策導入後'!BG30),\"\",'1-12-2.キャッシュフロー表 解決策導入後'!BG30)","v":0},{"$f":"IF(ISBLANK('1-12-2.キャッシュフロー表 解決策導入後'!BH30),\"\",'1-12-2.キャッシュフロー表 解決策導入後'!BH30)","v":0},{"$f":"IF(ISBLANK('1-12-2.キャッシュフロー表 解決策導入後'!BI30),\"\",'1-12-2.キャッシュフロー表 解決策導入後'!BI30)","v":0},{"$f":"IF(ISBLANK('1-12-2.キャッシュフロー表 解決策導入後'!BJ30),\"\",'1-12-2.キャッシュフロー表 解決策導入後'!BJ30)","v":0},{"$f":"IF(ISBLANK('1-12-2.キャッシュフロー表 解決策導入後'!BK30),\"\",'1-12-2.キャッシュフロー表 解決策導入後'!BK30)","v":0},{"$f":"IF(ISBLANK('1-12-2.キャッシュフロー表 解決策導入後'!BL30),\"\",'1-12-2.キャッシュフロー表 解決策導入後'!BL30)","v":0},{"$f":"IF(ISBLANK('1-12-2.キャッシュフロー表 解決策導入後'!BM30),\"\",'1-12-2.キャッシュフロー表 解決策導入後'!BM30)","v":0},{"$f":"IF(ISBLANK('1-12-2.キャッシュフロー表 解決策導入後'!BN30),\"\",'1-12-2.キャッシュフロー表 解決策導入後'!BN30)","v":0},{"$f":"IF(ISBLANK('1-12-2.キャッシュフロー表 解決策導入後'!BO30),\"\",'1-12-2.キャッシュフロー表 解決策導入後'!BO30)","v":0},{"$f":"IF(ISBLANK('1-12-2.キャッシュフロー表 解決策導入後'!BP30),\"\",'1-12-2.キャッシュフロー表 解決策導入後'!BP30)","v":0},{"$f":"IF(ISBLANK('1-12-2.キャッシュフロー表 解決策導入後'!BQ30),\"\",'1-12-2.キャッシュフロー表 解決策導入後'!BQ30)","v":0},{"$f":"IF(ISBLANK('1-12-2.キャッシュフロー表 解決策導入後'!BR30),\"\",'1-12-2.キャッシュフロー表 解決策導入後'!BR30)","v":0},{"$f":"IF(ISBLANK('1-12-2.キャッシュフロー表 解決策導入後'!BS30),\"\",'1-12-2.キャッシュフロー表 解決策導入後'!BS30)","v":0},{"$f":"IF(ISBLANK('1-12-2.キャッシュフロー表 解決策導入後'!BT30),\"\",'1-12-2.キャッシュフロー表 解決策導入後'!BT30)","v":0},{"$f":"IF(ISBLANK('1-12-2.キャッシュフロー表 解決策導入後'!BU30),\"\",'1-12-2.キャッシュフロー表 解決策導入後'!BU30)","v":0},{"$f":"IF(ISBLANK('1-12-2.キャッシュフロー表 解決策導入後'!BV30),\"\",'1-12-2.キャッシュフロー表 解決策導入後'!BV30)","v":0},{"$f":"IF(ISBLANK('1-12-2.キャッシュフロー表 解決策導入後'!BW30),\"\",'1-12-2.キャッシュフロー表 解決策導入後'!BW30)","v":0},{"$f":"IF(ISBLANK('1-12-2.キャッシュフロー表 解決策導入後'!BX30),\"\",'1-12-2.キャッシュフロー表 解決策導入後'!BX30)","v":0},{"$f":"IF(ISBLANK('1-12-2.キャッシュフロー表 解決策導入後'!BY30),\"\",'1-12-2.キャッシュフロー表 解決策導入後'!BY30)","v":0},{"$f":"IF(ISBLANK('1-12-2.キャッシュフロー表 解決策導入後'!BZ30),\"\",'1-12-2.キャッシュフロー表 解決策導入後'!BZ30)","v":0}]
[null,null,"支　出",{"$f":"IF(ISBLANK('1-12-2.キャッシュフロー表 解決策導入後'!D31),\"\",'1-12-2.キャッシュフロー表 解決策導入後'!D31)","v":""},{"$f":"IF(ISBLANK('1-12-2.キャッシュフロー表 解決策導入後'!E31),\"\",'1-12-2.キャッシュフロー表 解決策導入後'!E31)","v":0},{"$f":"IF(ISBLANK('1-12-2.キャッシュフロー表 解決策導入後'!F31),\"\",'1-12-2.キャッシュフロー表 解決策導入後'!F31&\"年後\")","v":""},null,{"$f":"IF(ISBLANK('1-12-2.キャッシュフロー表 解決策導入後'!G31),\"\",'1-12-2.キャッシュフロー表 解決策導入後'!G31)","v":0},{"$f":"IF(ISBLANK('1-12-2.キャッシュフロー表 解決策導入後'!H31),\"\",'1-12-2.キャッシュフロー表 解決策導入後'!H31)","v":""},{"$f":"IF(ISBLANK('1-12-2.キャッシュフロー表 解決策導入後'!I31),\"\",'1-12-2.キャッシュフロー表 解決策導入後'!I31)","v":0},{"$f":"IF(ISBLANK('1-12-2.キャッシュフロー表 解決策導入後'!J31),\"\",'1-12-2.キャッシュフロー表 解決策導入後'!J31)","v":0},{"$f":"IF(ISBLANK('1-12-2.キャッシュフロー表 解決策導入後'!K31),\"\",'1-12-2.キャッシュフロー表 解決策導入後'!K31)","v":0},{"$f":"IF(ISBLANK('1-12-2.キャッシュフロー表 解決策導入後'!L31),\"\",'1-12-2.キャッシュフロー表 解決策導入後'!L31)","v":0},{"$f":"IF(ISBLANK('1-12-2.キャッシュフロー表 解決策導入後'!M31),\"\",'1-12-2.キャッシュフロー表 解決策導入後'!M31)","v":0},{"$f":"IF(ISBLANK('1-12-2.キャッシュフロー表 解決策導入後'!N31),\"\",'1-12-2.キャッシュフロー表 解決策導入後'!N31)","v":0},{"$f":"IF(ISBLANK('1-12-2.キャッシュフロー表 解決策導入後'!O31),\"\",'1-12-2.キャッシュフロー表 解決策導入後'!O31)","v":0},{"$f":"IF(ISBLANK('1-12-2.キャッシュフロー表 解決策導入後'!P31),\"\",'1-12-2.キャッシュフロー表 解決策導入後'!P31)","v":0},{"$f":"IF(ISBLANK('1-12-2.キャッシュフロー表 解決策導入後'!Q31),\"\",'1-12-2.キャッシュフロー表 解決策導入後'!Q31)","v":0},{"$f":"IF(ISBLANK('1-12-2.キャッシュフロー表 解決策導入後'!R31),\"\",'1-12-2.キャッシュフロー表 解決策導入後'!R31)","v":0},{"$f":"IF(ISBLANK('1-12-2.キャッシュフロー表 解決策導入後'!S31),\"\",'1-12-2.キャッシュフロー表 解決策導入後'!S31)","v":0},{"$f":"IF(ISBLANK('1-12-2.キャッシュフロー表 解決策導入後'!T31),\"\",'1-12-2.キャッシュフロー表 解決策導入後'!T31)","v":0},{"$f":"IF(ISBLANK('1-12-2.キャッシュフロー表 解決策導入後'!U31),\"\",'1-12-2.キャッシュフロー表 解決策導入後'!U31)","v":0},{"$f":"IF(ISBLANK('1-12-2.キャッシュフロー表 解決策導入後'!V31),\"\",'1-12-2.キャッシュフロー表 解決策導入後'!V31)","v":0},{"$f":"IF(ISBLANK('1-12-2.キャッシュフロー表 解決策導入後'!W31),\"\",'1-12-2.キャッシュフロー表 解決策導入後'!W31)","v":0},{"$f":"IF(ISBLANK('1-12-2.キャッシュフロー表 解決策導入後'!X31),\"\",'1-12-2.キャッシュフロー表 解決策導入後'!X31)","v":0},{"$f":"IF(ISBLANK('1-12-2.キャッシュフロー表 解決策導入後'!Y31),\"\",'1-12-2.キャッシュフロー表 解決策導入後'!Y31)","v":0},{"$f":"IF(ISBLANK('1-12-2.キャッシュフロー表 解決策導入後'!Z31),\"\",'1-12-2.キャッシュフロー表 解決策導入後'!Z31)","v":0},{"$f":"IF(ISBLANK('1-12-2.キャッシュフロー表 解決策導入後'!AA31),\"\",'1-12-2.キャッシュフロー表 解決策導入後'!AA31)","v":0},{"$f":"IF(ISBLANK('1-12-2.キャッシュフロー表 解決策導入後'!AB31),\"\",'1-12-2.キャッシュフロー表 解決策導入後'!AB31)","v":0},{"$f":"IF(ISBLANK('1-12-2.キャッシュフロー表 解決策導入後'!AC31),\"\",'1-12-2.キャッシュフロー表 解決策導入後'!AC31)","v":0},{"$f":"IF(ISBLANK('1-12-2.キャッシュフロー表 解決策導入後'!AD31),\"\",'1-12-2.キャッシュフロー表 解決策導入後'!AD31)","v":0},{"$f":"IF(ISBLANK('1-12-2.キャッシュフロー表 解決策導入後'!AE31),\"\",'1-12-2.キャッシュフロー表 解決策導入後'!AE31)","v":0},{"$f":"IF(ISBLANK('1-12-2.キャッシュフロー表 解決策導入後'!AF31),\"\",'1-12-2.キャッシュフロー表 解決策導入後'!AF31)","v":0},{"$f":"IF(ISBLANK('1-12-2.キャッシュフロー表 解決策導入後'!AG31),\"\",'1-12-2.キャッシュフロー表 解決策導入後'!AG31)","v":0},{"$f":"IF(ISBLANK('1-12-2.キャッシュフロー表 解決策導入後'!AH31),\"\",'1-12-2.キャッシュフロー表 解決策導入後'!AH31)","v":0},{"$f":"IF(ISBLANK('1-12-2.キャッシュフロー表 解決策導入後'!AI31),\"\",'1-12-2.キャッシュフロー表 解決策導入後'!AI31)","v":0},{"$f":"IF(ISBLANK('1-12-2.キャッシュフロー表 解決策導入後'!AJ31),\"\",'1-12-2.キャッシュフロー表 解決策導入後'!AJ31)","v":0},{"$f":"IF(ISBLANK('1-12-2.キャッシュフロー表 解決策導入後'!AK31),\"\",'1-12-2.キャッシュフロー表 解決策導入後'!AK31)","v":0},{"$f":"IF(ISBLANK('1-12-2.キャッシュフロー表 解決策導入後'!AL31),\"\",'1-12-2.キャッシュフロー表 解決策導入後'!AL31)","v":0},null,null,null,"支　出",{"$f":"IF(ISBLANK('1-12-2.キャッシュフロー表 解決策導入後'!D31),\"\",'1-12-2.キャッシュフロー表 解決策導入後'!D31)","v":""},{"$f":"IF(ISBLANK('1-12-2.キャッシュフロー表 解決策導入後'!E31),\"\",'1-12-2.キャッシュフロー表 解決策導入後'!E31)","v":0},{"$f":"IF(ISBLANK('1-12-2.キャッシュフロー表 解決策導入後'!F31),\"\",'1-12-2.キャッシュフロー表 解決策導入後'!F31&\"年後\")","v":""},null,{"$f":"IF(ISBLANK('1-12-2.キャッシュフロー表 解決策導入後'!G31),\"\",'1-12-2.キャッシュフロー表 解決策導入後'!G31)","v":0},{"$f":"IF(ISBLANK('1-12-2.キャッシュフロー表 解決策導入後'!AM31),\"\",'1-12-2.キャッシュフロー表 解決策導入後'!AM31)","v":0},{"$f":"IF(ISBLANK('1-12-2.キャッシュフロー表 解決策導入後'!AN31),\"\",'1-12-2.キャッシュフロー表 解決策導入後'!AN31)","v":0},{"$f":"IF(ISBLANK('1-12-2.キャッシュフロー表 解決策導入後'!AO31),\"\",'1-12-2.キャッシュフロー表 解決策導入後'!AO31)","v":0},{"$f":"IF(ISBLANK('1-12-2.キャッシュフロー表 解決策導入後'!AP31),\"\",'1-12-2.キャッシュフロー表 解決策導入後'!AP31)","v":0},{"$f":"IF(ISBLANK('1-12-2.キャッシュフロー表 解決策導入後'!AQ31),\"\",'1-12-2.キャッシュフロー表 解決策導入後'!AQ31)","v":0},{"$f":"IF(ISBLANK('1-12-2.キャッシュフロー表 解決策導入後'!AR31),\"\",'1-12-2.キャッシュフロー表 解決策導入後'!AR31)","v":0},{"$f":"IF(ISBLANK('1-12-2.キャッシュフロー表 解決策導入後'!AS31),\"\",'1-12-2.キャッシュフロー表 解決策導入後'!AS31)","v":0},{"$f":"IF(ISBLANK('1-12-2.キャッシュフロー表 解決策導入後'!AT31),\"\",'1-12-2.キャッシュフロー表 解決策導入後'!AT31)","v":0},{"$f":"IF(ISBLANK('1-12-2.キャッシュフロー表 解決策導入後'!AU31),\"\",'1-12-2.キャッシュフロー表 解決策導入後'!AU31)","v":0},{"$f":"IF(ISBLANK('1-12-2.キャッシュフロー表 解決策導入後'!AV31),\"\",'1-12-2.キャッシュフロー表 解決策導入後'!AV31)","v":0},{"$f":"IF(ISBLANK('1-12-2.キャッシュフロー表 解決策導入後'!AW31),\"\",'1-12-2.キャッシュフロー表 解決策導入後'!AW31)","v":0},{"$f":"IF(ISBLANK('1-12-2.キャッシュフロー表 解決策導入後'!AX31),\"\",'1-12-2.キャッシュフロー表 解決策導入後'!AX31)","v":0},{"$f":"IF(ISBLANK('1-12-2.キャッシュフロー表 解決策導入後'!AY31),\"\",'1-12-2.キャッシュフロー表 解決策導入後'!AY31)","v":0},{"$f":"IF(ISBLANK('1-12-2.キャッシュフロー表 解決策導入後'!AZ31),\"\",'1-12-2.キャッシュフロー表 解決策導入後'!AZ31)","v":0},{"$f":"IF(ISBLANK('1-12-2.キャッシュフロー表 解決策導入後'!BA31),\"\",'1-12-2.キャッシュフロー表 解決策導入後'!BA31)","v":0},{"$f":"IF(ISBLANK('1-12-2.キャッシュフロー表 解決策導入後'!BB31),\"\",'1-12-2.キャッシュフロー表 解決策導入後'!BB31)","v":0},{"$f":"IF(ISBLANK('1-12-2.キャッシュフロー表 解決策導入後'!BC31),\"\",'1-12-2.キャッシュフロー表 解決策導入後'!BC31)","v":0},{"$f":"IF(ISBLANK('1-12-2.キャッシュフロー表 解決策導入後'!BD31),\"\",'1-12-2.キャッシュフロー表 解決策導入後'!BD31)","v":0},{"$f":"IF(ISBLANK('1-12-2.キャッシュフロー表 解決策導入後'!BE31),\"\",'1-12-2.キャッシュフロー表 解決策導入後'!BE31)","v":0},{"$f":"IF(ISBLANK('1-12-2.キャッシュフロー表 解決策導入後'!BF31),\"\",'1-12-2.キャッシュフロー表 解決策導入後'!BF31)","v":0},{"$f":"IF(ISBLANK('1-12-2.キャッシュフロー表 解決策導入後'!BG31),\"\",'1-12-2.キャッシュフロー表 解決策導入後'!BG31)","v":0},{"$f":"IF(ISBLANK('1-12-2.キャッシュフロー表 解決策導入後'!BH31),\"\",'1-12-2.キャッシュフロー表 解決策導入後'!BH31)","v":0},{"$f":"IF(ISBLANK('1-12-2.キャッシュフロー表 解決策導入後'!BI31),\"\",'1-12-2.キャッシュフロー表 解決策導入後'!BI31)","v":0},{"$f":"IF(ISBLANK('1-12-2.キャッシュフロー表 解決策導入後'!BJ31),\"\",'1-12-2.キャッシュフロー表 解決策導入後'!BJ31)","v":0},{"$f":"IF(ISBLANK('1-12-2.キャッシュフロー表 解決策導入後'!BK31),\"\",'1-12-2.キャッシュフロー表 解決策導入後'!BK31)","v":0},{"$f":"IF(ISBLANK('1-12-2.キャッシュフロー表 解決策導入後'!BL31),\"\",'1-12-2.キャッシュフロー表 解決策導入後'!BL31)","v":0},{"$f":"IF(ISBLANK('1-12-2.キャッシュフロー表 解決策導入後'!BM31),\"\",'1-12-2.キャッシュフロー表 解決策導入後'!BM31)","v":0},{"$f":"IF(ISBLANK('1-12-2.キャッシュフロー表 解決策導入後'!BN31),\"\",'1-12-2.キャッシュフロー表 解決策導入後'!BN31)","v":0},{"$f":"IF(ISBLANK('1-12-2.キャッシュフロー表 解決策導入後'!BO31),\"\",'1-12-2.キャッシュフロー表 解決策導入後'!BO31)","v":0},{"$f":"IF(ISBLANK('1-12-2.キャッシュフロー表 解決策導入後'!BP31),\"\",'1-12-2.キャッシュフロー表 解決策導入後'!BP31)","v":0},{"$f":"IF(ISBLANK('1-12-2.キャッシュフロー表 解決策導入後'!BQ31),\"\",'1-12-2.キャッシュフロー表 解決策導入後'!BQ31)","v":0},{"$f":"IF(ISBLANK('1-12-2.キャッシュフロー表 解決策導入後'!BR31),\"\",'1-12-2.キャッシュフロー表 解決策導入後'!BR31)","v":0},{"$f":"IF(ISBLANK('1-12-2.キャッシュフロー表 解決策導入後'!BS31),\"\",'1-12-2.キャッシュフロー表 解決策導入後'!BS31)","v":0},{"$f":"IF(ISBLANK('1-12-2.キャッシュフロー表 解決策導入後'!BT31),\"\",'1-12-2.キャッシュフロー表 解決策導入後'!BT31)","v":0},{"$f":"IF(ISBLANK('1-12-2.キャッシュフロー表 解決策導入後'!BU31),\"\",'1-12-2.キャッシュフロー表 解決策導入後'!BU31)","v":0},{"$f":"IF(ISBLANK('1-12-2.キャッシュフロー表 解決策導入後'!BV31),\"\",'1-12-2.キャッシュフロー表 解決策導入後'!BV31)","v":0},{"$f":"IF(ISBLANK('1-12-2.キャッシュフロー表 解決策導入後'!BW31),\"\",'1-12-2.キャッシュフロー表 解決策導入後'!BW31)","v":0},{"$f":"IF(ISBLANK('1-12-2.キャッシュフロー表 解決策導入後'!BX31),\"\",'1-12-2.キャッシュフロー表 解決策導入後'!BX31)","v":0},{"$f":"IF(ISBLANK('1-12-2.キャッシュフロー表 解決策導入後'!BY31),\"\",'1-12-2.キャッシュフロー表 解決策導入後'!BY31)","v":0},{"$f":"IF(ISBLANK('1-12-2.キャッシュフロー表 解決策導入後'!BZ31),\"\",'1-12-2.キャッシュフロー表 解決策導入後'!BZ31)","v":0}]
[null,null,null,{"$f":"IF(ISBLANK('1-12-2.キャッシュフロー表 解決策導入後'!D32),\"\",'1-12-2.キャッシュフロー表 解決策導入後'!D32)","v":""},{"$f":"IF(ISBLANK('1-12-2.キャッシュフロー表 解決策導入後'!E32),\"\",'1-12-2.キャッシュフロー表 解決策導入後'!E32)","v":0},{"$f":"IF(ISBLANK('1-12-2.キャッシュフロー表 解決策導入後'!F32),\"\",'1-12-2.キャッシュフロー表 解決策導入後'!F32&\"年後\")","v":""},null,{"$f":"IF(ISBLANK('1-12-2.キャッシュフロー表 解決策導入後'!G32),\"\",'1-12-2.キャッシュフロー表 解決策導入後'!G32)","v":0},{"$f":"IF(ISBLANK('1-12-2.キャッシュフロー表 解決策導入後'!H32),\"\",'1-12-2.キャッシュフロー表 解決策導入後'!H32)","v":""},{"$f":"IF(ISBLANK('1-12-2.キャッシュフロー表 解決策導入後'!I32),\"\",'1-12-2.キャッシュフロー表 解決策導入後'!I32)","v":0},{"$f":"IF(ISBLANK('1-12-2.キャッシュフロー表 解決策導入後'!J32),\"\",'1-12-2.キャッシュフロー表 解決策導入後'!J32)","v":0},{"$f":"IF(ISBLANK('1-12-2.キャッシュフロー表 解決策導入後'!K32),\"\",'1-12-2.キャッシュフロー表 解決策導入後'!K32)","v":0},{"$f":"IF(ISBLANK('1-12-2.キャッシュフロー表 解決策導入後'!L32),\"\",'1-12-2.キャッシュフロー表 解決策導入後'!L32)","v":0},{"$f":"IF(ISBLANK('1-12-2.キャッシュフロー表 解決策導入後'!M32),\"\",'1-12-2.キャッシュフロー表 解決策導入後'!M32)","v":0},{"$f":"IF(ISBLANK('1-12-2.キャッシュフロー表 解決策導入後'!N32),\"\",'1-12-2.キャッシュフロー表 解決策導入後'!N32)","v":0},{"$f":"IF(ISBLANK('1-12-2.キャッシュフロー表 解決策導入後'!O32),\"\",'1-12-2.キャッシュフロー表 解決策導入後'!O32)","v":0},{"$f":"IF(ISBLANK('1-12-2.キャッシュフロー表 解決策導入後'!P32),\"\",'1-12-2.キャッシュフロー表 解決策導入後'!P32)","v":0},{"$f":"IF(ISBLANK('1-12-2.キャッシュフロー表 解決策導入後'!Q32),\"\",'1-12-2.キャッシュフロー表 解決策導入後'!Q32)","v":0},{"$f":"IF(ISBLANK('1-12-2.キャッシュフロー表 解決策導入後'!R32),\"\",'1-12-2.キャッシュフロー表 解決策導入後'!R32)","v":0},{"$f":"IF(ISBLANK('1-12-2.キャッシュフロー表 解決策導入後'!S32),\"\",'1-12-2.キャッシュフロー表 解決策導入後'!S32)","v":0},{"$f":"IF(ISBLANK('1-12-2.キャッシュフロー表 解決策導入後'!T32),\"\",'1-12-2.キャッシュフロー表 解決策導入後'!T32)","v":0},{"$f":"IF(ISBLANK('1-12-2.キャッシュフロー表 解決策導入後'!U32),\"\",'1-12-2.キャッシュフロー表 解決策導入後'!U32)","v":0},{"$f":"IF(ISBLANK('1-12-2.キャッシュフロー表 解決策導入後'!V32),\"\",'1-12-2.キャッシュフロー表 解決策導入後'!V32)","v":0},{"$f":"IF(ISBLANK('1-12-2.キャッシュフロー表 解決策導入後'!W32),\"\",'1-12-2.キャッシュフロー表 解決策導入後'!W32)","v":0},{"$f":"IF(ISBLANK('1-12-2.キャッシュフロー表 解決策導入後'!X32),\"\",'1-12-2.キャッシュフロー表 解決策導入後'!X32)","v":0},{"$f":"IF(ISBLANK('1-12-2.キャッシュフロー表 解決策導入後'!Y32),\"\",'1-12-2.キャッシュフロー表 解決策導入後'!Y32)","v":0},{"$f":"IF(ISBLANK('1-12-2.キャッシュフロー表 解決策導入後'!Z32),\"\",'1-12-2.キャッシュフロー表 解決策導入後'!Z32)","v":0},{"$f":"IF(ISBLANK('1-12-2.キャッシュフロー表 解決策導入後'!AA32),\"\",'1-12-2.キャッシュフロー表 解決策導入後'!AA32)","v":0},{"$f":"IF(ISBLANK('1-12-2.キャッシュフロー表 解決策導入後'!AB32),\"\",'1-12-2.キャッシュフロー表 解決策導入後'!AB32)","v":0},{"$f":"IF(ISBLANK('1-12-2.キャッシュフロー表 解決策導入後'!AC32),\"\",'1-12-2.キャッシュフロー表 解決策導入後'!AC32)","v":0},{"$f":"IF(ISBLANK('1-12-2.キャッシュフロー表 解決策導入後'!AD32),\"\",'1-12-2.キャッシュフロー表 解決策導入後'!AD32)","v":0},{"$f":"IF(ISBLANK('1-12-2.キャッシュフロー表 解決策導入後'!AE32),\"\",'1-12-2.キャッシュフロー表 解決策導入後'!AE32)","v":0},{"$f":"IF(ISBLANK('1-12-2.キャッシュフロー表 解決策導入後'!AF32),\"\",'1-12-2.キャッシュフロー表 解決策導入後'!AF32)","v":0},{"$f":"IF(ISBLANK('1-12-2.キャッシュフロー表 解決策導入後'!AG32),\"\",'1-12-2.キャッシュフロー表 解決策導入後'!AG32)","v":0},{"$f":"IF(ISBLANK('1-12-2.キャッシュフロー表 解決策導入後'!AH32),\"\",'1-12-2.キャッシュフロー表 解決策導入後'!AH32)","v":0},{"$f":"IF(ISBLANK('1-12-2.キャッシュフロー表 解決策導入後'!AI32),\"\",'1-12-2.キャッシュフロー表 解決策導入後'!AI32)","v":0},{"$f":"IF(ISBLANK('1-12-2.キャッシュフロー表 解決策導入後'!AJ32),\"\",'1-12-2.キャッシュフロー表 解決策導入後'!AJ32)","v":0},{"$f":"IF(ISBLANK('1-12-2.キャッシュフロー表 解決策導入後'!AK32),\"\",'1-12-2.キャッシュフロー表 解決策導入後'!AK32)","v":0},{"$f":"IF(ISBLANK('1-12-2.キャッシュフロー表 解決策導入後'!AL32),\"\",'1-12-2.キャッシュフロー表 解決策導入後'!AL32)","v":0},null,null,null,null,{"$f":"IF(ISBLANK('1-12-2.キャッシュフロー表 解決策導入後'!D32),\"\",'1-12-2.キャッシュフロー表 解決策導入後'!D32)","v":""},{"$f":"IF(ISBLANK('1-12-2.キャッシュフロー表 解決策導入後'!E32),\"\",'1-12-2.キャッシュフロー表 解決策導入後'!E32)","v":0},{"$f":"IF(ISBLANK('1-12-2.キャッシュフロー表 解決策導入後'!F32),\"\",'1-12-2.キャッシュフロー表 解決策導入後'!F32&\"年後\")","v":""},null,{"$f":"IF(ISBLANK('1-12-2.キャッシュフロー表 解決策導入後'!G32),\"\",'1-12-2.キャッシュフロー表 解決策導入後'!G32)","v":0},{"$f":"IF(ISBLANK('1-12-2.キャッシュフロー表 解決策導入後'!AM32),\"\",'1-12-2.キャッシュフロー表 解決策導入後'!AM32)","v":0},{"$f":"IF(ISBLANK('1-12-2.キャッシュフロー表 解決策導入後'!AN32),\"\",'1-12-2.キャッシュフロー表 解決策導入後'!AN32)","v":0},{"$f":"IF(ISBLANK('1-12-2.キャッシュフロー表 解決策導入後'!AO32),\"\",'1-12-2.キャッシュフロー表 解決策導入後'!AO32)","v":0},{"$f":"IF(ISBLANK('1-12-2.キャッシュフロー表 解決策導入後'!AP32),\"\",'1-12-2.キャッシュフロー表 解決策導入後'!AP32)","v":0},{"$f":"IF(ISBLANK('1-12-2.キャッシュフロー表 解決策導入後'!AQ32),\"\",'1-12-2.キャッシュフロー表 解決策導入後'!AQ32)","v":0},{"$f":"IF(ISBLANK('1-12-2.キャッシュフロー表 解決策導入後'!AR32),\"\",'1-12-2.キャッシュフロー表 解決策導入後'!AR32)","v":0},{"$f":"IF(ISBLANK('1-12-2.キャッシュフロー表 解決策導入後'!AS32),\"\",'1-12-2.キャッシュフロー表 解決策導入後'!AS32)","v":0},{"$f":"IF(ISBLANK('1-12-2.キャッシュフロー表 解決策導入後'!AT32),\"\",'1-12-2.キャッシュフロー表 解決策導入後'!AT32)","v":0},{"$f":"IF(ISBLANK('1-12-2.キャッシュフロー表 解決策導入後'!AU32),\"\",'1-12-2.キャッシュフロー表 解決策導入後'!AU32)","v":0},{"$f":"IF(ISBLANK('1-12-2.キャッシュフロー表 解決策導入後'!AV32),\"\",'1-12-2.キャッシュフロー表 解決策導入後'!AV32)","v":0},{"$f":"IF(ISBLANK('1-12-2.キャッシュフロー表 解決策導入後'!AW32),\"\",'1-12-2.キャッシュフロー表 解決策導入後'!AW32)","v":0},{"$f":"IF(ISBLANK('1-12-2.キャッシュフロー表 解決策導入後'!AX32),\"\",'1-12-2.キャッシュフロー表 解決策導入後'!AX32)","v":0},{"$f":"IF(ISBLANK('1-12-2.キャッシュフロー表 解決策導入後'!AY32),\"\",'1-12-2.キャッシュフロー表 解決策導入後'!AY32)","v":0},{"$f":"IF(ISBLANK('1-12-2.キャッシュフロー表 解決策導入後'!AZ32),\"\",'1-12-2.キャッシュフロー表 解決策導入後'!AZ32)","v":0},{"$f":"IF(ISBLANK('1-12-2.キャッシュフロー表 解決策導入後'!BA32),\"\",'1-12-2.キャッシュフロー表 解決策導入後'!BA32)","v":0},{"$f":"IF(ISBLANK('1-12-2.キャッシュフロー表 解決策導入後'!BB32),\"\",'1-12-2.キャッシュフロー表 解決策導入後'!BB32)","v":0},{"$f":"IF(ISBLANK('1-12-2.キャッシュフロー表 解決策導入後'!BC32),\"\",'1-12-2.キャッシュフロー表 解決策導入後'!BC32)","v":0},{"$f":"IF(ISBLANK('1-12-2.キャッシュフロー表 解決策導入後'!BD32),\"\",'1-12-2.キャッシュフロー表 解決策導入後'!BD32)","v":0},{"$f":"IF(ISBLANK('1-12-2.キャッシュフロー表 解決策導入後'!BE32),\"\",'1-12-2.キャッシュフロー表 解決策導入後'!BE32)","v":0},{"$f":"IF(ISBLANK('1-12-2.キャッシュフロー表 解決策導入後'!BF32),\"\",'1-12-2.キャッシュフロー表 解決策導入後'!BF32)","v":0},{"$f":"IF(ISBLANK('1-12-2.キャッシュフロー表 解決策導入後'!BG32),\"\",'1-12-2.キャッシュフロー表 解決策導入後'!BG32)","v":0},{"$f":"IF(ISBLANK('1-12-2.キャッシュフロー表 解決策導入後'!BH32),\"\",'1-12-2.キャッシュフロー表 解決策導入後'!BH32)","v":0},{"$f":"IF(ISBLANK('1-12-2.キャッシュフロー表 解決策導入後'!BI32),\"\",'1-12-2.キャッシュフロー表 解決策導入後'!BI32)","v":0},{"$f":"IF(ISBLANK('1-12-2.キャッシュフロー表 解決策導入後'!BJ32),\"\",'1-12-2.キャッシュフロー表 解決策導入後'!BJ32)","v":0},{"$f":"IF(ISBLANK('1-12-2.キャッシュフロー表 解決策導入後'!BK32),\"\",'1-12-2.キャッシュフロー表 解決策導入後'!BK32)","v":0},{"$f":"IF(ISBLANK('1-12-2.キャッシュフロー表 解決策導入後'!BL32),\"\",'1-12-2.キャッシュフロー表 解決策導入後'!BL32)","v":0},{"$f":"IF(ISBLANK('1-12-2.キャッシュフロー表 解決策導入後'!BM32),\"\",'1-12-2.キャッシュフロー表 解決策導入後'!BM32)","v":0},{"$f":"IF(ISBLANK('1-12-2.キャッシュフロー表 解決策導入後'!BN32),\"\",'1-12-2.キャッシュフロー表 解決策導入後'!BN32)","v":0},{"$f":"IF(ISBLANK('1-12-2.キャッシュフロー表 解決策導入後'!BO32),\"\",'1-12-2.キャッシュフロー表 解決策導入後'!BO32)","v":0},{"$f":"IF(ISBLANK('1-12-2.キャッシュフロー表 解決策導入後'!BP32),\"\",'1-12-2.キャッシュフロー表 解決策導入後'!BP32)","v":0},{"$f":"IF(ISBLANK('1-12-2.キャッシュフロー表 解決策導入後'!BQ32),\"\",'1-12-2.キャッシュフロー表 解決策導入後'!BQ32)","v":0},{"$f":"IF(ISBLANK('1-12-2.キャッシュフロー表 解決策導入後'!BR32),\"\",'1-12-2.キャッシュフロー表 解決策導入後'!BR32)","v":0},{"$f":"IF(ISBLANK('1-12-2.キャッシュフロー表 解決策導入後'!BS32),\"\",'1-12-2.キャッシュフロー表 解決策導入後'!BS32)","v":0},{"$f":"IF(ISBLANK('1-12-2.キャッシュフロー表 解決策導入後'!BT32),\"\",'1-12-2.キャッシュフロー表 解決策導入後'!BT32)","v":0},{"$f":"IF(ISBLANK('1-12-2.キャッシュフロー表 解決策導入後'!BU32),\"\",'1-12-2.キャッシュフロー表 解決策導入後'!BU32)","v":0},{"$f":"IF(ISBLANK('1-12-2.キャッシュフロー表 解決策導入後'!BV32),\"\",'1-12-2.キャッシュフロー表 解決策導入後'!BV32)","v":0},{"$f":"IF(ISBLANK('1-12-2.キャッシュフロー表 解決策導入後'!BW32),\"\",'1-12-2.キャッシュフロー表 解決策導入後'!BW32)","v":0},{"$f":"IF(ISBLANK('1-12-2.キャッシュフロー表 解決策導入後'!BX32),\"\",'1-12-2.キャッシュフロー表 解決策導入後'!BX32)","v":0},{"$f":"IF(ISBLANK('1-12-2.キャッシュフロー表 解決策導入後'!BY32),\"\",'1-12-2.キャッシュフロー表 解決策導入後'!BY32)","v":0},{"$f":"IF(ISBLANK('1-12-2.キャッシュフロー表 解決策導入後'!BZ32),\"\",'1-12-2.キャッシュフロー表 解決策導入後'!BZ32)","v":0}]
[null,null,null,{"$f":"IF(ISBLANK('1-12-2.キャッシュフロー表 解決策導入後'!D33),\"\",'1-12-2.キャッシュフロー表 解決策導入後'!D33)","v":""},{"$f":"IF(ISBLANK('1-12-2.キャッシュフロー表 解決策導入後'!E33),\"\",'1-12-2.キャッシュフロー表 解決策導入後'!E33)","v":0},{"$f":"IF(ISBLANK('1-12-2.キャッシュフロー表 解決策導入後'!F33),\"\",'1-12-2.キャッシュフロー表 解決策導入後'!F33&\"年後\")","v":""},null,{"$f":"IF(ISBLANK('1-12-2.キャッシュフロー表 解決策導入後'!G33),\"\",'1-12-2.キャッシュフロー表 解決策導入後'!G33)","v":0},{"$f":"IF(ISBLANK('1-12-2.キャッシュフロー表 解決策導入後'!H33),\"\",'1-12-2.キャッシュフロー表 解決策導入後'!H33)","v":""},{"$f":"IF(ISBLANK('1-12-2.キャッシュフロー表 解決策導入後'!I33),\"\",'1-12-2.キャッシュフロー表 解決策導入後'!I33)","v":0},{"$f":"IF(ISBLANK('1-12-2.キャッシュフロー表 解決策導入後'!J33),\"\",'1-12-2.キャッシュフロー表 解決策導入後'!J33)","v":0},{"$f":"IF(ISBLANK('1-12-2.キャッシュフロー表 解決策導入後'!K33),\"\",'1-12-2.キャッシュフロー表 解決策導入後'!K33)","v":0},{"$f":"IF(ISBLANK('1-12-2.キャッシュフロー表 解決策導入後'!L33),\"\",'1-12-2.キャッシュフロー表 解決策導入後'!L33)","v":0},{"$f":"IF(ISBLANK('1-12-2.キャッシュフロー表 解決策導入後'!M33),\"\",'1-12-2.キャッシュフロー表 解決策導入後'!M33)","v":0},{"$f":"IF(ISBLANK('1-12-2.キャッシュフロー表 解決策導入後'!N33),\"\",'1-12-2.キャッシュフロー表 解決策導入後'!N33)","v":0},{"$f":"IF(ISBLANK('1-12-2.キャッシュフロー表 解決策導入後'!O33),\"\",'1-12-2.キャッシュフロー表 解決策導入後'!O33)","v":0},{"$f":"IF(ISBLANK('1-12-2.キャッシュフロー表 解決策導入後'!P33),\"\",'1-12-2.キャッシュフロー表 解決策導入後'!P33)","v":0},{"$f":"IF(ISBLANK('1-12-2.キャッシュフロー表 解決策導入後'!Q33),\"\",'1-12-2.キャッシュフロー表 解決策導入後'!Q33)","v":0},{"$f":"IF(ISBLANK('1-12-2.キャッシュフロー表 解決策導入後'!R33),\"\",'1-12-2.キャッシュフロー表 解決策導入後'!R33)","v":0},{"$f":"IF(ISBLANK('1-12-2.キャッシュフロー表 解決策導入後'!S33),\"\",'1-12-2.キャッシュフロー表 解決策導入後'!S33)","v":0},{"$f":"IF(ISBLANK('1-12-2.キャッシュフロー表 解決策導入後'!T33),\"\",'1-12-2.キャッシュフロー表 解決策導入後'!T33)","v":0},{"$f":"IF(ISBLANK('1-12-2.キャッシュフロー表 解決策導入後'!U33),\"\",'1-12-2.キャッシュフロー表 解決策導入後'!U33)","v":0},{"$f":"IF(ISBLANK('1-12-2.キャッシュフロー表 解決策導入後'!V33),\"\",'1-12-2.キャッシュフロー表 解決策導入後'!V33)","v":0},{"$f":"IF(ISBLANK('1-12-2.キャッシュフロー表 解決策導入後'!W33),\"\",'1-12-2.キャッシュフロー表 解決策導入後'!W33)","v":0},{"$f":"IF(ISBLANK('1-12-2.キャッシュフロー表 解決策導入後'!X33),\"\",'1-12-2.キャッシュフロー表 解決策導入後'!X33)","v":0},{"$f":"IF(ISBLANK('1-12-2.キャッシュフロー表 解決策導入後'!Y33),\"\",'1-12-2.キャッシュフロー表 解決策導入後'!Y33)","v":0},{"$f":"IF(ISBLANK('1-12-2.キャッシュフロー表 解決策導入後'!Z33),\"\",'1-12-2.キャッシュフロー表 解決策導入後'!Z33)","v":0},{"$f":"IF(ISBLANK('1-12-2.キャッシュフロー表 解決策導入後'!AA33),\"\",'1-12-2.キャッシュフロー表 解決策導入後'!AA33)","v":0},{"$f":"IF(ISBLANK('1-12-2.キャッシュフロー表 解決策導入後'!AB33),\"\",'1-12-2.キャッシュフロー表 解決策導入後'!AB33)","v":0},{"$f":"IF(ISBLANK('1-12-2.キャッシュフロー表 解決策導入後'!AC33),\"\",'1-12-2.キャッシュフロー表 解決策導入後'!AC33)","v":0},{"$f":"IF(ISBLANK('1-12-2.キャッシュフロー表 解決策導入後'!AD33),\"\",'1-12-2.キャッシュフロー表 解決策導入後'!AD33)","v":0},{"$f":"IF(ISBLANK('1-12-2.キャッシュフロー表 解決策導入後'!AE33),\"\",'1-12-2.キャッシュフロー表 解決策導入後'!AE33)","v":0},{"$f":"IF(ISBLANK('1-12-2.キャッシュフロー表 解決策導入後'!AF33),\"\",'1-12-2.キャッシュフロー表 解決策導入後'!AF33)","v":0},{"$f":"IF(ISBLANK('1-12-2.キャッシュフロー表 解決策導入後'!AG33),\"\",'1-12-2.キャッシュフロー表 解決策導入後'!AG33)","v":0},{"$f":"IF(ISBLANK('1-12-2.キャッシュフロー表 解決策導入後'!AH33),\"\",'1-12-2.キャッシュフロー表 解決策導入後'!AH33)","v":0},{"$f":"IF(ISBLANK('1-12-2.キャッシュフロー表 解決策導入後'!AI33),\"\",'1-12-2.キャッシュフロー表 解決策導入後'!AI33)","v":0},{"$f":"IF(ISBLANK('1-12-2.キャッシュフロー表 解決策導入後'!AJ33),\"\",'1-12-2.キャッシュフロー表 解決策導入後'!AJ33)","v":0},{"$f":"IF(ISBLANK('1-12-2.キャッシュフロー表 解決策導入後'!AK33),\"\",'1-12-2.キャッシュフロー表 解決策導入後'!AK33)","v":0},{"$f":"IF(ISBLANK('1-12-2.キャッシュフロー表 解決策導入後'!AL33),\"\",'1-12-2.キャッシュフロー表 解決策導入後'!AL33)","v":0},null,null,null,null,{"$f":"IF(ISBLANK('1-12-2.キャッシュフロー表 解決策導入後'!D33),\"\",'1-12-2.キャッシュフロー表 解決策導入後'!D33)","v":""},{"$f":"IF(ISBLANK('1-12-2.キャッシュフロー表 解決策導入後'!E33),\"\",'1-12-2.キャッシュフロー表 解決策導入後'!E33)","v":0},{"$f":"IF(ISBLANK('1-12-2.キャッシュフロー表 解決策導入後'!F33),\"\",'1-12-2.キャッシュフロー表 解決策導入後'!F33&\"年後\")","v":""},null,{"$f":"IF(ISBLANK('1-12-2.キャッシュフロー表 解決策導入後'!G33),\"\",'1-12-2.キャッシュフロー表 解決策導入後'!G33)","v":0},{"$f":"IF(ISBLANK('1-12-2.キャッシュフロー表 解決策導入後'!AM33),\"\",'1-12-2.キャッシュフロー表 解決策導入後'!AM33)","v":0},{"$f":"IF(ISBLANK('1-12-2.キャッシュフロー表 解決策導入後'!AN33),\"\",'1-12-2.キャッシュフロー表 解決策導入後'!AN33)","v":0},{"$f":"IF(ISBLANK('1-12-2.キャッシュフロー表 解決策導入後'!AO33),\"\",'1-12-2.キャッシュフロー表 解決策導入後'!AO33)","v":0},{"$f":"IF(ISBLANK('1-12-2.キャッシュフロー表 解決策導入後'!AP33),\"\",'1-12-2.キャッシュフロー表 解決策導入後'!AP33)","v":0},{"$f":"IF(ISBLANK('1-12-2.キャッシュフロー表 解決策導入後'!AQ33),\"\",'1-12-2.キャッシュフロー表 解決策導入後'!AQ33)","v":0},{"$f":"IF(ISBLANK('1-12-2.キャッシュフロー表 解決策導入後'!AR33),\"\",'1-12-2.キャッシュフロー表 解決策導入後'!AR33)","v":0},{"$f":"IF(ISBLANK('1-12-2.キャッシュフロー表 解決策導入後'!AS33),\"\",'1-12-2.キャッシュフロー表 解決策導入後'!AS33)","v":0},{"$f":"IF(ISBLANK('1-12-2.キャッシュフロー表 解決策導入後'!AT33),\"\",'1-12-2.キャッシュフロー表 解決策導入後'!AT33)","v":0},{"$f":"IF(ISBLANK('1-12-2.キャッシュフロー表 解決策導入後'!AU33),\"\",'1-12-2.キャッシュフロー表 解決策導入後'!AU33)","v":0},{"$f":"IF(ISBLANK('1-12-2.キャッシュフロー表 解決策導入後'!AV33),\"\",'1-12-2.キャッシュフロー表 解決策導入後'!AV33)","v":0},{"$f":"IF(ISBLANK('1-12-2.キャッシュフロー表 解決策導入後'!AW33),\"\",'1-12-2.キャッシュフロー表 解決策導入後'!AW33)","v":0},{"$f":"IF(ISBLANK('1-12-2.キャッシュフロー表 解決策導入後'!AX33),\"\",'1-12-2.キャッシュフロー表 解決策導入後'!AX33)","v":0},{"$f":"IF(ISBLANK('1-12-2.キャッシュフロー表 解決策導入後'!AY33),\"\",'1-12-2.キャッシュフロー表 解決策導入後'!AY33)","v":0},{"$f":"IF(ISBLANK('1-12-2.キャッシュフロー表 解決策導入後'!AZ33),\"\",'1-12-2.キャッシュフロー表 解決策導入後'!AZ33)","v":0},{"$f":"IF(ISBLANK('1-12-2.キャッシュフロー表 解決策導入後'!BA33),\"\",'1-12-2.キャッシュフロー表 解決策導入後'!BA33)","v":0},{"$f":"IF(ISBLANK('1-12-2.キャッシュフロー表 解決策導入後'!BB33),\"\",'1-12-2.キャッシュフロー表 解決策導入後'!BB33)","v":0},{"$f":"IF(ISBLANK('1-12-2.キャッシュフロー表 解決策導入後'!BC33),\"\",'1-12-2.キャッシュフロー表 解決策導入後'!BC33)","v":0},{"$f":"IF(ISBLANK('1-12-2.キャッシュフロー表 解決策導入後'!BD33),\"\",'1-12-2.キャッシュフロー表 解決策導入後'!BD33)","v":0},{"$f":"IF(ISBLANK('1-12-2.キャッシュフロー表 解決策導入後'!BE33),\"\",'1-12-2.キャッシュフロー表 解決策導入後'!BE33)","v":0},{"$f":"IF(ISBLANK('1-12-2.キャッシュフロー表 解決策導入後'!BF33),\"\",'1-12-2.キャッシュフロー表 解決策導入後'!BF33)","v":0},{"$f":"IF(ISBLANK('1-12-2.キャッシュフロー表 解決策導入後'!BG33),\"\",'1-12-2.キャッシュフロー表 解決策導入後'!BG33)","v":0},{"$f":"IF(ISBLANK('1-12-2.キャッシュフロー表 解決策導入後'!BH33),\"\",'1-12-2.キャッシュフロー表 解決策導入後'!BH33)","v":0},{"$f":"IF(ISBLANK('1-12-2.キャッシュフロー表 解決策導入後'!BI33),\"\",'1-12-2.キャッシュフロー表 解決策導入後'!BI33)","v":0},{"$f":"IF(ISBLANK('1-12-2.キャッシュフロー表 解決策導入後'!BJ33),\"\",'1-12-2.キャッシュフロー表 解決策導入後'!BJ33)","v":0},{"$f":"IF(ISBLANK('1-12-2.キャッシュフロー表 解決策導入後'!BK33),\"\",'1-12-2.キャッシュフロー表 解決策導入後'!BK33)","v":0},{"$f":"IF(ISBLANK('1-12-2.キャッシュフロー表 解決策導入後'!BL33),\"\",'1-12-2.キャッシュフロー表 解決策導入後'!BL33)","v":0},{"$f":"IF(ISBLANK('1-12-2.キャッシュフロー表 解決策導入後'!BM33),\"\",'1-12-2.キャッシュフロー表 解決策導入後'!BM33)","v":0},{"$f":"IF(ISBLANK('1-12-2.キャッシュフロー表 解決策導入後'!BN33),\"\",'1-12-2.キャッシュフロー表 解決策導入後'!BN33)","v":0},{"$f":"IF(ISBLANK('1-12-2.キャッシュフロー表 解決策導入後'!BO33),\"\",'1-12-2.キャッシュフロー表 解決策導入後'!BO33)","v":0},{"$f":"IF(ISBLANK('1-12-2.キャッシュフロー表 解決策導入後'!BP33),\"\",'1-12-2.キャッシュフロー表 解決策導入後'!BP33)","v":0},{"$f":"IF(ISBLANK('1-12-2.キャッシュフロー表 解決策導入後'!BQ33),\"\",'1-12-2.キャッシュフロー表 解決策導入後'!BQ33)","v":0},{"$f":"IF(ISBLANK('1-12-2.キャッシュフロー表 解決策導入後'!BR33),\"\",'1-12-2.キャッシュフロー表 解決策導入後'!BR33)","v":0},{"$f":"IF(ISBLANK('1-12-2.キャッシュフロー表 解決策導入後'!BS33),\"\",'1-12-2.キャッシュフロー表 解決策導入後'!BS33)","v":0},{"$f":"IF(ISBLANK('1-12-2.キャッシュフロー表 解決策導入後'!BT33),\"\",'1-12-2.キャッシュフロー表 解決策導入後'!BT33)","v":0},{"$f":"IF(ISBLANK('1-12-2.キャッシュフロー表 解決策導入後'!BU33),\"\",'1-12-2.キャッシュフロー表 解決策導入後'!BU33)","v":0},{"$f":"IF(ISBLANK('1-12-2.キャッシュフロー表 解決策導入後'!BV33),\"\",'1-12-2.キャッシュフロー表 解決策導入後'!BV33)","v":0},{"$f":"IF(ISBLANK('1-12-2.キャッシュフロー表 解決策導入後'!BW33),\"\",'1-12-2.キャッシュフロー表 解決策導入後'!BW33)","v":0},{"$f":"IF(ISBLANK('1-12-2.キャッシュフロー表 解決策導入後'!BX33),\"\",'1-12-2.キャッシュフロー表 解決策導入後'!BX33)","v":0},{"$f":"IF(ISBLANK('1-12-2.キャッシュフロー表 解決策導入後'!BY33),\"\",'1-12-2.キャッシュフロー表 解決策導入後'!BY33)","v":0},{"$f":"IF(ISBLANK('1-12-2.キャッシュフロー表 解決策導入後'!BZ33),\"\",'1-12-2.キャッシュフロー表 解決策導入後'!BZ33)","v":0}]
[null,null,null,{"$f":"IF(ISBLANK('1-12-2.キャッシュフロー表 解決策導入後'!D34),\"\",'1-12-2.キャッシュフロー表 解決策導入後'!D34)","v":""},{"$f":"IF(ISBLANK('1-12-2.キャッシュフロー表 解決策導入後'!E34),\"\",'1-12-2.キャッシュフロー表 解決策導入後'!E34)","v":0},{"$f":"IF(ISBLANK('1-12-2.キャッシュフロー表 解決策導入後'!F34),\"\",'1-12-2.キャッシュフロー表 解決策導入後'!F34&\"年後\")","v":""},null,{"$f":"IF(ISBLANK('1-12-2.キャッシュフロー表 解決策導入後'!G34),\"\",'1-12-2.キャッシュフロー表 解決策導入後'!G34)","v":0},{"$f":"IF(ISBLANK('1-12-2.キャッシュフロー表 解決策導入後'!H34),\"\",'1-12-2.キャッシュフロー表 解決策導入後'!H34)","v":""},{"$f":"IF(ISBLANK('1-12-2.キャッシュフロー表 解決策導入後'!I34),\"\",'1-12-2.キャッシュフロー表 解決策導入後'!I34)","v":0},{"$f":"IF(ISBLANK('1-12-2.キャッシュフロー表 解決策導入後'!J34),\"\",'1-12-2.キャッシュフロー表 解決策導入後'!J34)","v":0},{"$f":"IF(ISBLANK('1-12-2.キャッシュフロー表 解決策導入後'!K34),\"\",'1-12-2.キャッシュフロー表 解決策導入後'!K34)","v":0},{"$f":"IF(ISBLANK('1-12-2.キャッシュフロー表 解決策導入後'!L34),\"\",'1-12-2.キャッシュフロー表 解決策導入後'!L34)","v":0},{"$f":"IF(ISBLANK('1-12-2.キャッシュフロー表 解決策導入後'!M34),\"\",'1-12-2.キャッシュフロー表 解決策導入後'!M34)","v":0},{"$f":"IF(ISBLANK('1-12-2.キャッシュフロー表 解決策導入後'!N34),\"\",'1-12-2.キャッシュフロー表 解決策導入後'!N34)","v":0},{"$f":"IF(ISBLANK('1-12-2.キャッシュフロー表 解決策導入後'!O34),\"\",'1-12-2.キャッシュフロー表 解決策導入後'!O34)","v":0},{"$f":"IF(ISBLANK('1-12-2.キャッシュフロー表 解決策導入後'!P34),\"\",'1-12-2.キャッシュフロー表 解決策導入後'!P34)","v":0},{"$f":"IF(ISBLANK('1-12-2.キャッシュフロー表 解決策導入後'!Q34),\"\",'1-12-2.キャッシュフロー表 解決策導入後'!Q34)","v":0},{"$f":"IF(ISBLANK('1-12-2.キャッシュフロー表 解決策導入後'!R34),\"\",'1-12-2.キャッシュフロー表 解決策導入後'!R34)","v":0},{"$f":"IF(ISBLANK('1-12-2.キャッシュフロー表 解決策導入後'!S34),\"\",'1-12-2.キャッシュフロー表 解決策導入後'!S34)","v":0},{"$f":"IF(ISBLANK('1-12-2.キャッシュフロー表 解決策導入後'!T34),\"\",'1-12-2.キャッシュフロー表 解決策導入後'!T34)","v":0},{"$f":"IF(ISBLANK('1-12-2.キャッシュフロー表 解決策導入後'!U34),\"\",'1-12-2.キャッシュフロー表 解決策導入後'!U34)","v":0},{"$f":"IF(ISBLANK('1-12-2.キャッシュフロー表 解決策導入後'!V34),\"\",'1-12-2.キャッシュフロー表 解決策導入後'!V34)","v":0},{"$f":"IF(ISBLANK('1-12-2.キャッシュフロー表 解決策導入後'!W34),\"\",'1-12-2.キャッシュフロー表 解決策導入後'!W34)","v":0},{"$f":"IF(ISBLANK('1-12-2.キャッシュフロー表 解決策導入後'!X34),\"\",'1-12-2.キャッシュフロー表 解決策導入後'!X34)","v":0},{"$f":"IF(ISBLANK('1-12-2.キャッシュフロー表 解決策導入後'!Y34),\"\",'1-12-2.キャッシュフロー表 解決策導入後'!Y34)","v":0},{"$f":"IF(ISBLANK('1-12-2.キャッシュフロー表 解決策導入後'!Z34),\"\",'1-12-2.キャッシュフロー表 解決策導入後'!Z34)","v":0},{"$f":"IF(ISBLANK('1-12-2.キャッシュフロー表 解決策導入後'!AA34),\"\",'1-12-2.キャッシュフロー表 解決策導入後'!AA34)","v":0},{"$f":"IF(ISBLANK('1-12-2.キャッシュフロー表 解決策導入後'!AB34),\"\",'1-12-2.キャッシュフロー表 解決策導入後'!AB34)","v":0},{"$f":"IF(ISBLANK('1-12-2.キャッシュフロー表 解決策導入後'!AC34),\"\",'1-12-2.キャッシュフロー表 解決策導入後'!AC34)","v":0},{"$f":"IF(ISBLANK('1-12-2.キャッシュフロー表 解決策導入後'!AD34),\"\",'1-12-2.キャッシュフロー表 解決策導入後'!AD34)","v":0},{"$f":"IF(ISBLANK('1-12-2.キャッシュフロー表 解決策導入後'!AE34),\"\",'1-12-2.キャッシュフロー表 解決策導入後'!AE34)","v":0},{"$f":"IF(ISBLANK('1-12-2.キャッシュフロー表 解決策導入後'!AF34),\"\",'1-12-2.キャッシュフロー表 解決策導入後'!AF34)","v":0},{"$f":"IF(ISBLANK('1-12-2.キャッシュフロー表 解決策導入後'!AG34),\"\",'1-12-2.キャッシュフロー表 解決策導入後'!AG34)","v":0},{"$f":"IF(ISBLANK('1-12-2.キャッシュフロー表 解決策導入後'!AH34),\"\",'1-12-2.キャッシュフロー表 解決策導入後'!AH34)","v":0},{"$f":"IF(ISBLANK('1-12-2.キャッシュフロー表 解決策導入後'!AI34),\"\",'1-12-2.キャッシュフロー表 解決策導入後'!AI34)","v":0},{"$f":"IF(ISBLANK('1-12-2.キャッシュフロー表 解決策導入後'!AJ34),\"\",'1-12-2.キャッシュフロー表 解決策導入後'!AJ34)","v":0},{"$f":"IF(ISBLANK('1-12-2.キャッシュフロー表 解決策導入後'!AK34),\"\",'1-12-2.キャッシュフロー表 解決策導入後'!AK34)","v":0},{"$f":"IF(ISBLANK('1-12-2.キャッシュフロー表 解決策導入後'!AL34),\"\",'1-12-2.キャッシュフロー表 解決策導入後'!AL34)","v":0},null,null,null,null,{"$f":"IF(ISBLANK('1-12-2.キャッシュフロー表 解決策導入後'!D34),\"\",'1-12-2.キャッシュフロー表 解決策導入後'!D34)","v":""},{"$f":"IF(ISBLANK('1-12-2.キャッシュフロー表 解決策導入後'!E34),\"\",'1-12-2.キャッシュフロー表 解決策導入後'!E34)","v":0},{"$f":"IF(ISBLANK('1-12-2.キャッシュフロー表 解決策導入後'!F34),\"\",'1-12-2.キャッシュフロー表 解決策導入後'!F34&\"年後\")","v":""},null,{"$f":"IF(ISBLANK('1-12-2.キャッシュフロー表 解決策導入後'!G34),\"\",'1-12-2.キャッシュフロー表 解決策導入後'!G34)","v":0},{"$f":"IF(ISBLANK('1-12-2.キャッシュフロー表 解決策導入後'!AM34),\"\",'1-12-2.キャッシュフロー表 解決策導入後'!AM34)","v":0},{"$f":"IF(ISBLANK('1-12-2.キャッシュフロー表 解決策導入後'!AN34),\"\",'1-12-2.キャッシュフロー表 解決策導入後'!AN34)","v":0},{"$f":"IF(ISBLANK('1-12-2.キャッシュフロー表 解決策導入後'!AO34),\"\",'1-12-2.キャッシュフロー表 解決策導入後'!AO34)","v":0},{"$f":"IF(ISBLANK('1-12-2.キャッシュフロー表 解決策導入後'!AP34),\"\",'1-12-2.キャッシュフロー表 解決策導入後'!AP34)","v":0},{"$f":"IF(ISBLANK('1-12-2.キャッシュフロー表 解決策導入後'!AQ34),\"\",'1-12-2.キャッシュフロー表 解決策導入後'!AQ34)","v":0},{"$f":"IF(ISBLANK('1-12-2.キャッシュフロー表 解決策導入後'!AR34),\"\",'1-12-2.キャッシュフロー表 解決策導入後'!AR34)","v":0},{"$f":"IF(ISBLANK('1-12-2.キャッシュフロー表 解決策導入後'!AS34),\"\",'1-12-2.キャッシュフロー表 解決策導入後'!AS34)","v":0},{"$f":"IF(ISBLANK('1-12-2.キャッシュフロー表 解決策導入後'!AT34),\"\",'1-12-2.キャッシュフロー表 解決策導入後'!AT34)","v":0},{"$f":"IF(ISBLANK('1-12-2.キャッシュフロー表 解決策導入後'!AU34),\"\",'1-12-2.キャッシュフロー表 解決策導入後'!AU34)","v":0},{"$f":"IF(ISBLANK('1-12-2.キャッシュフロー表 解決策導入後'!AV34),\"\",'1-12-2.キャッシュフロー表 解決策導入後'!AV34)","v":0},{"$f":"IF(ISBLANK('1-12-2.キャッシュフロー表 解決策導入後'!AW34),\"\",'1-12-2.キャッシュフロー表 解決策導入後'!AW34)","v":0},{"$f":"IF(ISBLANK('1-12-2.キャッシュフロー表 解決策導入後'!AX34),\"\",'1-12-2.キャッシュフロー表 解決策導入後'!AX34)","v":0},{"$f":"IF(ISBLANK('1-12-2.キャッシュフロー表 解決策導入後'!AY34),\"\",'1-12-2.キャッシュフロー表 解決策導入後'!AY34)","v":0},{"$f":"IF(ISBLANK('1-12-2.キャッシュフロー表 解決策導入後'!AZ34),\"\",'1-12-2.キャッシュフロー表 解決策導入後'!AZ34)","v":0},{"$f":"IF(ISBLANK('1-12-2.キャッシュフロー表 解決策導入後'!BA34),\"\",'1-12-2.キャッシュフロー表 解決策導入後'!BA34)","v":0},{"$f":"IF(ISBLANK('1-12-2.キャッシュフロー表 解決策導入後'!BB34),\"\",'1-12-2.キャッシュフロー表 解決策導入後'!BB34)","v":0},{"$f":"IF(ISBLANK('1-12-2.キャッシュフロー表 解決策導入後'!BC34),\"\",'1-12-2.キャッシュフロー表 解決策導入後'!BC34)","v":0},{"$f":"IF(ISBLANK('1-12-2.キャッシュフロー表 解決策導入後'!BD34),\"\",'1-12-2.キャッシュフロー表 解決策導入後'!BD34)","v":0},{"$f":"IF(ISBLANK('1-12-2.キャッシュフロー表 解決策導入後'!BE34),\"\",'1-12-2.キャッシュフロー表 解決策導入後'!BE34)","v":0},{"$f":"IF(ISBLANK('1-12-2.キャッシュフロー表 解決策導入後'!BF34),\"\",'1-12-2.キャッシュフロー表 解決策導入後'!BF34)","v":0},{"$f":"IF(ISBLANK('1-12-2.キャッシュフロー表 解決策導入後'!BG34),\"\",'1-12-2.キャッシュフロー表 解決策導入後'!BG34)","v":0},{"$f":"IF(ISBLANK('1-12-2.キャッシュフロー表 解決策導入後'!BH34),\"\",'1-12-2.キャッシュフロー表 解決策導入後'!BH34)","v":0},{"$f":"IF(ISBLANK('1-12-2.キャッシュフロー表 解決策導入後'!BI34),\"\",'1-12-2.キャッシュフロー表 解決策導入後'!BI34)","v":0},{"$f":"IF(ISBLANK('1-12-2.キャッシュフロー表 解決策導入後'!BJ34),\"\",'1-12-2.キャッシュフロー表 解決策導入後'!BJ34)","v":0},{"$f":"IF(ISBLANK('1-12-2.キャッシュフロー表 解決策導入後'!BK34),\"\",'1-12-2.キャッシュフロー表 解決策導入後'!BK34)","v":0},{"$f":"IF(ISBLANK('1-12-2.キャッシュフロー表 解決策導入後'!BL34),\"\",'1-12-2.キャッシュフロー表 解決策導入後'!BL34)","v":0},{"$f":"IF(ISBLANK('1-12-2.キャッシュフロー表 解決策導入後'!BM34),\"\",'1-12-2.キャッシュフロー表 解決策導入後'!BM34)","v":0},{"$f":"IF(ISBLANK('1-12-2.キャッシュフロー表 解決策導入後'!BN34),\"\",'1-12-2.キャッシュフロー表 解決策導入後'!BN34)","v":0},{"$f":"IF(ISBLANK('1-12-2.キャッシュフロー表 解決策導入後'!BO34),\"\",'1-12-2.キャッシュフロー表 解決策導入後'!BO34)","v":0},{"$f":"IF(ISBLANK('1-12-2.キャッシュフロー表 解決策導入後'!BP34),\"\",'1-12-2.キャッシュフロー表 解決策導入後'!BP34)","v":0},{"$f":"IF(ISBLANK('1-12-2.キャッシュフロー表 解決策導入後'!BQ34),\"\",'1-12-2.キャッシュフロー表 解決策導入後'!BQ34)","v":0},{"$f":"IF(ISBLANK('1-12-2.キャッシュフロー表 解決策導入後'!BR34),\"\",'1-12-2.キャッシュフロー表 解決策導入後'!BR34)","v":0},{"$f":"IF(ISBLANK('1-12-2.キャッシュフロー表 解決策導入後'!BS34),\"\",'1-12-2.キャッシュフロー表 解決策導入後'!BS34)","v":0},{"$f":"IF(ISBLANK('1-12-2.キャッシュフロー表 解決策導入後'!BT34),\"\",'1-12-2.キャッシュフロー表 解決策導入後'!BT34)","v":0},{"$f":"IF(ISBLANK('1-12-2.キャッシュフロー表 解決策導入後'!BU34),\"\",'1-12-2.キャッシュフロー表 解決策導入後'!BU34)","v":0},{"$f":"IF(ISBLANK('1-12-2.キャッシュフロー表 解決策導入後'!BV34),\"\",'1-12-2.キャッシュフロー表 解決策導入後'!BV34)","v":0},{"$f":"IF(ISBLANK('1-12-2.キャッシュフロー表 解決策導入後'!BW34),\"\",'1-12-2.キャッシュフロー表 解決策導入後'!BW34)","v":0},{"$f":"IF(ISBLANK('1-12-2.キャッシュフロー表 解決策導入後'!BX34),\"\",'1-12-2.キャッシュフロー表 解決策導入後'!BX34)","v":0},{"$f":"IF(ISBLANK('1-12-2.キャッシュフロー表 解決策導入後'!BY34),\"\",'1-12-2.キャッシュフロー表 解決策導入後'!BY34)","v":0},{"$f":"IF(ISBLANK('1-12-2.キャッシュフロー表 解決策導入後'!BZ34),\"\",'1-12-2.キャッシュフロー表 解決策導入後'!BZ34)","v":0}]
[null,null,null,{"$f":"IF(ISBLANK('1-12-2.キャッシュフロー表 解決策導入後'!D35),\"\",'1-12-2.キャッシュフロー表 解決策導入後'!D35)","v":""},{"$f":"IF(ISBLANK('1-12-2.キャッシュフロー表 解決策導入後'!E35),\"\",'1-12-2.キャッシュフロー表 解決策導入後'!E35)","v":0},{"$f":"IF(ISBLANK('1-12-2.キャッシュフロー表 解決策導入後'!F35),\"\",'1-12-2.キャッシュフロー表 解決策導入後'!F35&\"年後\")","v":""},null,{"$f":"IF(ISBLANK('1-12-2.キャッシュフロー表 解決策導入後'!G35),\"\",'1-12-2.キャッシュフロー表 解決策導入後'!G35)","v":0},{"$f":"IF(ISBLANK('1-12-2.キャッシュフロー表 解決策導入後'!H35),\"\",'1-12-2.キャッシュフロー表 解決策導入後'!H35)","v":""},{"$f":"IF(ISBLANK('1-12-2.キャッシュフロー表 解決策導入後'!I35),\"\",'1-12-2.キャッシュフロー表 解決策導入後'!I35)","v":0},{"$f":"IF(ISBLANK('1-12-2.キャッシュフロー表 解決策導入後'!J35),\"\",'1-12-2.キャッシュフロー表 解決策導入後'!J35)","v":0},{"$f":"IF(ISBLANK('1-12-2.キャッシュフロー表 解決策導入後'!K35),\"\",'1-12-2.キャッシュフロー表 解決策導入後'!K35)","v":0},{"$f":"IF(ISBLANK('1-12-2.キャッシュフロー表 解決策導入後'!L35),\"\",'1-12-2.キャッシュフロー表 解決策導入後'!L35)","v":0},{"$f":"IF(ISBLANK('1-12-2.キャッシュフロー表 解決策導入後'!M35),\"\",'1-12-2.キャッシュフロー表 解決策導入後'!M35)","v":0},{"$f":"IF(ISBLANK('1-12-2.キャッシュフロー表 解決策導入後'!N35),\"\",'1-12-2.キャッシュフロー表 解決策導入後'!N35)","v":0},{"$f":"IF(ISBLANK('1-12-2.キャッシュフロー表 解決策導入後'!O35),\"\",'1-12-2.キャッシュフロー表 解決策導入後'!O35)","v":0},{"$f":"IF(ISBLANK('1-12-2.キャッシュフロー表 解決策導入後'!P35),\"\",'1-12-2.キャッシュフロー表 解決策導入後'!P35)","v":0},{"$f":"IF(ISBLANK('1-12-2.キャッシュフロー表 解決策導入後'!Q35),\"\",'1-12-2.キャッシュフロー表 解決策導入後'!Q35)","v":0},{"$f":"IF(ISBLANK('1-12-2.キャッシュフロー表 解決策導入後'!R35),\"\",'1-12-2.キャッシュフロー表 解決策導入後'!R35)","v":0},{"$f":"IF(ISBLANK('1-12-2.キャッシュフロー表 解決策導入後'!S35),\"\",'1-12-2.キャッシュフロー表 解決策導入後'!S35)","v":0},{"$f":"IF(ISBLANK('1-12-2.キャッシュフロー表 解決策導入後'!T35),\"\",'1-12-2.キャッシュフロー表 解決策導入後'!T35)","v":0},{"$f":"IF(ISBLANK('1-12-2.キャッシュフロー表 解決策導入後'!U35),\"\",'1-12-2.キャッシュフロー表 解決策導入後'!U35)","v":0},{"$f":"IF(ISBLANK('1-12-2.キャッシュフロー表 解決策導入後'!V35),\"\",'1-12-2.キャッシュフロー表 解決策導入後'!V35)","v":0},{"$f":"IF(ISBLANK('1-12-2.キャッシュフロー表 解決策導入後'!W35),\"\",'1-12-2.キャッシュフロー表 解決策導入後'!W35)","v":0},{"$f":"IF(ISBLANK('1-12-2.キャッシュフロー表 解決策導入後'!X35),\"\",'1-12-2.キャッシュフロー表 解決策導入後'!X35)","v":0},{"$f":"IF(ISBLANK('1-12-2.キャッシュフロー表 解決策導入後'!Y35),\"\",'1-12-2.キャッシュフロー表 解決策導入後'!Y35)","v":0},{"$f":"IF(ISBLANK('1-12-2.キャッシュフロー表 解決策導入後'!Z35),\"\",'1-12-2.キャッシュフロー表 解決策導入後'!Z35)","v":0},{"$f":"IF(ISBLANK('1-12-2.キャッシュフロー表 解決策導入後'!AA35),\"\",'1-12-2.キャッシュフロー表 解決策導入後'!AA35)","v":0},{"$f":"IF(ISBLANK('1-12-2.キャッシュフロー表 解決策導入後'!AB35),\"\",'1-12-2.キャッシュフロー表 解決策導入後'!AB35)","v":0},{"$f":"IF(ISBLANK('1-12-2.キャッシュフロー表 解決策導入後'!AC35),\"\",'1-12-2.キャッシュフロー表 解決策導入後'!AC35)","v":0},{"$f":"IF(ISBLANK('1-12-2.キャッシュフロー表 解決策導入後'!AD35),\"\",'1-12-2.キャッシュフロー表 解決策導入後'!AD35)","v":0},{"$f":"IF(ISBLANK('1-12-2.キャッシュフロー表 解決策導入後'!AE35),\"\",'1-12-2.キャッシュフロー表 解決策導入後'!AE35)","v":0},{"$f":"IF(ISBLANK('1-12-2.キャッシュフロー表 解決策導入後'!AF35),\"\",'1-12-2.キャッシュフロー表 解決策導入後'!AF35)","v":0},{"$f":"IF(ISBLANK('1-12-2.キャッシュフロー表 解決策導入後'!AG35),\"\",'1-12-2.キャッシュフロー表 解決策導入後'!AG35)","v":0},{"$f":"IF(ISBLANK('1-12-2.キャッシュフロー表 解決策導入後'!AH35),\"\",'1-12-2.キャッシュフロー表 解決策導入後'!AH35)","v":0},{"$f":"IF(ISBLANK('1-12-2.キャッシュフロー表 解決策導入後'!AI35),\"\",'1-12-2.キャッシュフロー表 解決策導入後'!AI35)","v":0},{"$f":"IF(ISBLANK('1-12-2.キャッシュフロー表 解決策導入後'!AJ35),\"\",'1-12-2.キャッシュフロー表 解決策導入後'!AJ35)","v":0},{"$f":"IF(ISBLANK('1-12-2.キャッシュフロー表 解決策導入後'!AK35),\"\",'1-12-2.キャッシュフロー表 解決策導入後'!AK35)","v":0},{"$f":"IF(ISBLANK('1-12-2.キャッシュフロー表 解決策導入後'!AL35),\"\",'1-12-2.キャッシュフロー表 解決策導入後'!AL35)","v":0},null,null,null,null,{"$f":"IF(ISBLANK('1-12-2.キャッシュフロー表 解決策導入後'!D35),\"\",'1-12-2.キャッシュフロー表 解決策導入後'!D35)","v":""},{"$f":"IF(ISBLANK('1-12-2.キャッシュフロー表 解決策導入後'!E35),\"\",'1-12-2.キャッシュフロー表 解決策導入後'!E35)","v":0},{"$f":"IF(ISBLANK('1-12-2.キャッシュフロー表 解決策導入後'!F35),\"\",'1-12-2.キャッシュフロー表 解決策導入後'!F35&\"年後\")","v":""},null,{"$f":"IF(ISBLANK('1-12-2.キャッシュフロー表 解決策導入後'!G35),\"\",'1-12-2.キャッシュフロー表 解決策導入後'!G35)","v":0},{"$f":"IF(ISBLANK('1-12-2.キャッシュフロー表 解決策導入後'!AM35),\"\",'1-12-2.キャッシュフロー表 解決策導入後'!AM35)","v":0},{"$f":"IF(ISBLANK('1-12-2.キャッシュフロー表 解決策導入後'!AN35),\"\",'1-12-2.キャッシュフロー表 解決策導入後'!AN35)","v":0},{"$f":"IF(ISBLANK('1-12-2.キャッシュフロー表 解決策導入後'!AO35),\"\",'1-12-2.キャッシュフロー表 解決策導入後'!AO35)","v":0},{"$f":"IF(ISBLANK('1-12-2.キャッシュフロー表 解決策導入後'!AP35),\"\",'1-12-2.キャッシュフロー表 解決策導入後'!AP35)","v":0},{"$f":"IF(ISBLANK('1-12-2.キャッシュフロー表 解決策導入後'!AQ35),\"\",'1-12-2.キャッシュフロー表 解決策導入後'!AQ35)","v":0},{"$f":"IF(ISBLANK('1-12-2.キャッシュフロー表 解決策導入後'!AR35),\"\",'1-12-2.キャッシュフロー表 解決策導入後'!AR35)","v":0},{"$f":"IF(ISBLANK('1-12-2.キャッシュフロー表 解決策導入後'!AS35),\"\",'1-12-2.キャッシュフロー表 解決策導入後'!AS35)","v":0},{"$f":"IF(ISBLANK('1-12-2.キャッシュフロー表 解決策導入後'!AT35),\"\",'1-12-2.キャッシュフロー表 解決策導入後'!AT35)","v":0},{"$f":"IF(ISBLANK('1-12-2.キャッシュフロー表 解決策導入後'!AU35),\"\",'1-12-2.キャッシュフロー表 解決策導入後'!AU35)","v":0},{"$f":"IF(ISBLANK('1-12-2.キャッシュフロー表 解決策導入後'!AV35),\"\",'1-12-2.キャッシュフロー表 解決策導入後'!AV35)","v":0},{"$f":"IF(ISBLANK('1-12-2.キャッシュフロー表 解決策導入後'!AW35),\"\",'1-12-2.キャッシュフロー表 解決策導入後'!AW35)","v":0},{"$f":"IF(ISBLANK('1-12-2.キャッシュフロー表 解決策導入後'!AX35),\"\",'1-12-2.キャッシュフロー表 解決策導入後'!AX35)","v":0},{"$f":"IF(ISBLANK('1-12-2.キャッシュフロー表 解決策導入後'!AY35),\"\",'1-12-2.キャッシュフロー表 解決策導入後'!AY35)","v":0},{"$f":"IF(ISBLANK('1-12-2.キャッシュフロー表 解決策導入後'!AZ35),\"\",'1-12-2.キャッシュフロー表 解決策導入後'!AZ35)","v":0},{"$f":"IF(ISBLANK('1-12-2.キャッシュフロー表 解決策導入後'!BA35),\"\",'1-12-2.キャッシュフロー表 解決策導入後'!BA35)","v":0},{"$f":"IF(ISBLANK('1-12-2.キャッシュフロー表 解決策導入後'!BB35),\"\",'1-12-2.キャッシュフロー表 解決策導入後'!BB35)","v":0},{"$f":"IF(ISBLANK('1-12-2.キャッシュフロー表 解決策導入後'!BC35),\"\",'1-12-2.キャッシュフロー表 解決策導入後'!BC35)","v":0},{"$f":"IF(ISBLANK('1-12-2.キャッシュフロー表 解決策導入後'!BD35),\"\",'1-12-2.キャッシュフロー表 解決策導入後'!BD35)","v":0},{"$f":"IF(ISBLANK('1-12-2.キャッシュフロー表 解決策導入後'!BE35),\"\",'1-12-2.キャッシュフロー表 解決策導入後'!BE35)","v":0},{"$f":"IF(ISBLANK('1-12-2.キャッシュフロー表 解決策導入後'!BF35),\"\",'1-12-2.キャッシュフロー表 解決策導入後'!BF35)","v":0},{"$f":"IF(ISBLANK('1-12-2.キャッシュフロー表 解決策導入後'!BG35),\"\",'1-12-2.キャッシュフロー表 解決策導入後'!BG35)","v":0},{"$f":"IF(ISBLANK('1-12-2.キャッシュフロー表 解決策導入後'!BH35),\"\",'1-12-2.キャッシュフロー表 解決策導入後'!BH35)","v":0},{"$f":"IF(ISBLANK('1-12-2.キャッシュフロー表 解決策導入後'!BI35),\"\",'1-12-2.キャッシュフロー表 解決策導入後'!BI35)","v":0},{"$f":"IF(ISBLANK('1-12-2.キャッシュフロー表 解決策導入後'!BJ35),\"\",'1-12-2.キャッシュフロー表 解決策導入後'!BJ35)","v":0},{"$f":"IF(ISBLANK('1-12-2.キャッシュフロー表 解決策導入後'!BK35),\"\",'1-12-2.キャッシュフロー表 解決策導入後'!BK35)","v":0},{"$f":"IF(ISBLANK('1-12-2.キャッシュフロー表 解決策導入後'!BL35),\"\",'1-12-2.キャッシュフロー表 解決策導入後'!BL35)","v":0},{"$f":"IF(ISBLANK('1-12-2.キャッシュフロー表 解決策導入後'!BM35),\"\",'1-12-2.キャッシュフロー表 解決策導入後'!BM35)","v":0},{"$f":"IF(ISBLANK('1-12-2.キャッシュフロー表 解決策導入後'!BN35),\"\",'1-12-2.キャッシュフロー表 解決策導入後'!BN35)","v":0},{"$f":"IF(ISBLANK('1-12-2.キャッシュフロー表 解決策導入後'!BO35),\"\",'1-12-2.キャッシュフロー表 解決策導入後'!BO35)","v":0},{"$f":"IF(ISBLANK('1-12-2.キャッシュフロー表 解決策導入後'!BP35),\"\",'1-12-2.キャッシュフロー表 解決策導入後'!BP35)","v":0},{"$f":"IF(ISBLANK('1-12-2.キャッシュフロー表 解決策導入後'!BQ35),\"\",'1-12-2.キャッシュフロー表 解決策導入後'!BQ35)","v":0},{"$f":"IF(ISBLANK('1-12-2.キャッシュフロー表 解決策導入後'!BR35),\"\",'1-12-2.キャッシュフロー表 解決策導入後'!BR35)","v":0},{"$f":"IF(ISBLANK('1-12-2.キャッシュフロー表 解決策導入後'!BS35),\"\",'1-12-2.キャッシュフロー表 解決策導入後'!BS35)","v":0},{"$f":"IF(ISBLANK('1-12-2.キャッシュフロー表 解決策導入後'!BT35),\"\",'1-12-2.キャッシュフロー表 解決策導入後'!BT35)","v":0},{"$f":"IF(ISBLANK('1-12-2.キャッシュフロー表 解決策導入後'!BU35),\"\",'1-12-2.キャッシュフロー表 解決策導入後'!BU35)","v":0},{"$f":"IF(ISBLANK('1-12-2.キャッシュフロー表 解決策導入後'!BV35),\"\",'1-12-2.キャッシュフロー表 解決策導入後'!BV35)","v":0},{"$f":"IF(ISBLANK('1-12-2.キャッシュフロー表 解決策導入後'!BW35),\"\",'1-12-2.キャッシュフロー表 解決策導入後'!BW35)","v":0},{"$f":"IF(ISBLANK('1-12-2.キャッシュフロー表 解決策導入後'!BX35),\"\",'1-12-2.キャッシュフロー表 解決策導入後'!BX35)","v":0},{"$f":"IF(ISBLANK('1-12-2.キャッシュフロー表 解決策導入後'!BY35),\"\",'1-12-2.キャッシュフロー表 解決策導入後'!BY35)","v":0},{"$f":"IF(ISBLANK('1-12-2.キャッシュフロー表 解決策導入後'!BZ35),\"\",'1-12-2.キャッシュフロー表 解決策導入後'!BZ35)","v":0}]
[null,null,null,{"$f":"IF(ISBLANK('1-12-2.キャッシュフロー表 解決策導入後'!D36),\"\",'1-12-2.キャッシュフロー表 解決策導入後'!D36)","v":""},{"$f":"IF(ISBLANK('1-12-2.キャッシュフロー表 解決策導入後'!E36),\"\",'1-12-2.キャッシュフロー表 解決策導入後'!E36)","v":0},{"$f":"IF(ISBLANK('1-12-2.キャッシュフロー表 解決策導入後'!F36),\"\",'1-12-2.キャッシュフロー表 解決策導入後'!F36&\"年後\")","v":""},null,{"$f":"IF(ISBLANK('1-12-2.キャッシュフロー表 解決策導入後'!G36),\"\",'1-12-2.キャッシュフロー表 解決策導入後'!G36)","v":0},{"$f":"IF(ISBLANK('1-12-2.キャッシュフロー表 解決策導入後'!H36),\"\",'1-12-2.キャッシュフロー表 解決策導入後'!H36)","v":""},{"$f":"IF(ISBLANK('1-12-2.キャッシュフロー表 解決策導入後'!I36),\"\",'1-12-2.キャッシュフロー表 解決策導入後'!I36)","v":0},{"$f":"IF(ISBLANK('1-12-2.キャッシュフロー表 解決策導入後'!J36),\"\",'1-12-2.キャッシュフロー表 解決策導入後'!J36)","v":0},{"$f":"IF(ISBLANK('1-12-2.キャッシュフロー表 解決策導入後'!K36),\"\",'1-12-2.キャッシュフロー表 解決策導入後'!K36)","v":0},{"$f":"IF(ISBLANK('1-12-2.キャッシュフロー表 解決策導入後'!L36),\"\",'1-12-2.キャッシュフロー表 解決策導入後'!L36)","v":0},{"$f":"IF(ISBLANK('1-12-2.キャッシュフロー表 解決策導入後'!M36),\"\",'1-12-2.キャッシュフロー表 解決策導入後'!M36)","v":0},{"$f":"IF(ISBLANK('1-12-2.キャッシュフロー表 解決策導入後'!N36),\"\",'1-12-2.キャッシュフロー表 解決策導入後'!N36)","v":0},{"$f":"IF(ISBLANK('1-12-2.キャッシュフロー表 解決策導入後'!O36),\"\",'1-12-2.キャッシュフロー表 解決策導入後'!O36)","v":0},{"$f":"IF(ISBLANK('1-12-2.キャッシュフロー表 解決策導入後'!P36),\"\",'1-12-2.キャッシュフロー表 解決策導入後'!P36)","v":0},{"$f":"IF(ISBLANK('1-12-2.キャッシュフロー表 解決策導入後'!Q36),\"\",'1-12-2.キャッシュフロー表 解決策導入後'!Q36)","v":0},{"$f":"IF(ISBLANK('1-12-2.キャッシュフロー表 解決策導入後'!R36),\"\",'1-12-2.キャッシュフロー表 解決策導入後'!R36)","v":0},{"$f":"IF(ISBLANK('1-12-2.キャッシュフロー表 解決策導入後'!S36),\"\",'1-12-2.キャッシュフロー表 解決策導入後'!S36)","v":0},{"$f":"IF(ISBLANK('1-12-2.キャッシュフロー表 解決策導入後'!T36),\"\",'1-12-2.キャッシュフロー表 解決策導入後'!T36)","v":0},{"$f":"IF(ISBLANK('1-12-2.キャッシュフロー表 解決策導入後'!U36),\"\",'1-12-2.キャッシュフロー表 解決策導入後'!U36)","v":0},{"$f":"IF(ISBLANK('1-12-2.キャッシュフロー表 解決策導入後'!V36),\"\",'1-12-2.キャッシュフロー表 解決策導入後'!V36)","v":0},{"$f":"IF(ISBLANK('1-12-2.キャッシュフロー表 解決策導入後'!W36),\"\",'1-12-2.キャッシュフロー表 解決策導入後'!W36)","v":0},{"$f":"IF(ISBLANK('1-12-2.キャッシュフロー表 解決策導入後'!X36),\"\",'1-12-2.キャッシュフロー表 解決策導入後'!X36)","v":0},{"$f":"IF(ISBLANK('1-12-2.キャッシュフロー表 解決策導入後'!Y36),\"\",'1-12-2.キャッシュフロー表 解決策導入後'!Y36)","v":0},{"$f":"IF(ISBLANK('1-12-2.キャッシュフロー表 解決策導入後'!Z36),\"\",'1-12-2.キャッシュフロー表 解決策導入後'!Z36)","v":0},{"$f":"IF(ISBLANK('1-12-2.キャッシュフロー表 解決策導入後'!AA36),\"\",'1-12-2.キャッシュフロー表 解決策導入後'!AA36)","v":0},{"$f":"IF(ISBLANK('1-12-2.キャッシュフロー表 解決策導入後'!AB36),\"\",'1-12-2.キャッシュフロー表 解決策導入後'!AB36)","v":0},{"$f":"IF(ISBLANK('1-12-2.キャッシュフロー表 解決策導入後'!AC36),\"\",'1-12-2.キャッシュフロー表 解決策導入後'!AC36)","v":0},{"$f":"IF(ISBLANK('1-12-2.キャッシュフロー表 解決策導入後'!AD36),\"\",'1-12-2.キャッシュフロー表 解決策導入後'!AD36)","v":0},{"$f":"IF(ISBLANK('1-12-2.キャッシュフロー表 解決策導入後'!AE36),\"\",'1-12-2.キャッシュフロー表 解決策導入後'!AE36)","v":0},{"$f":"IF(ISBLANK('1-12-2.キャッシュフロー表 解決策導入後'!AF36),\"\",'1-12-2.キャッシュフロー表 解決策導入後'!AF36)","v":0},{"$f":"IF(ISBLANK('1-12-2.キャッシュフロー表 解決策導入後'!AG36),\"\",'1-12-2.キャッシュフロー表 解決策導入後'!AG36)","v":0},{"$f":"IF(ISBLANK('1-12-2.キャッシュフロー表 解決策導入後'!AH36),\"\",'1-12-2.キャッシュフロー表 解決策導入後'!AH36)","v":0},{"$f":"IF(ISBLANK('1-12-2.キャッシュフロー表 解決策導入後'!AI36),\"\",'1-12-2.キャッシュフロー表 解決策導入後'!AI36)","v":0},{"$f":"IF(ISBLANK('1-12-2.キャッシュフロー表 解決策導入後'!AJ36),\"\",'1-12-2.キャッシュフロー表 解決策導入後'!AJ36)","v":0},{"$f":"IF(ISBLANK('1-12-2.キャッシュフロー表 解決策導入後'!AK36),\"\",'1-12-2.キャッシュフロー表 解決策導入後'!AK36)","v":0},{"$f":"IF(ISBLANK('1-12-2.キャッシュフロー表 解決策導入後'!AL36),\"\",'1-12-2.キャッシュフロー表 解決策導入後'!AL36)","v":0},null,null,null,null,{"$f":"IF(ISBLANK('1-12-2.キャッシュフロー表 解決策導入後'!D36),\"\",'1-12-2.キャッシュフロー表 解決策導入後'!D36)","v":""},{"$f":"IF(ISBLANK('1-12-2.キャッシュフロー表 解決策導入後'!E36),\"\",'1-12-2.キャッシュフロー表 解決策導入後'!E36)","v":0},{"$f":"IF(ISBLANK('1-12-2.キャッシュフロー表 解決策導入後'!F36),\"\",'1-12-2.キャッシュフロー表 解決策導入後'!F36&\"年後\")","v":""},null,{"$f":"IF(ISBLANK('1-12-2.キャッシュフロー表 解決策導入後'!G36),\"\",'1-12-2.キャッシュフロー表 解決策導入後'!G36)","v":0},{"$f":"IF(ISBLANK('1-12-2.キャッシュフロー表 解決策導入後'!AM36),\"\",'1-12-2.キャッシュフロー表 解決策導入後'!AM36)","v":0},{"$f":"IF(ISBLANK('1-12-2.キャッシュフロー表 解決策導入後'!AN36),\"\",'1-12-2.キャッシュフロー表 解決策導入後'!AN36)","v":0},{"$f":"IF(ISBLANK('1-12-2.キャッシュフロー表 解決策導入後'!AO36),\"\",'1-12-2.キャッシュフロー表 解決策導入後'!AO36)","v":0},{"$f":"IF(ISBLANK('1-12-2.キャッシュフロー表 解決策導入後'!AP36),\"\",'1-12-2.キャッシュフロー表 解決策導入後'!AP36)","v":0},{"$f":"IF(ISBLANK('1-12-2.キャッシュフロー表 解決策導入後'!AQ36),\"\",'1-12-2.キャッシュフロー表 解決策導入後'!AQ36)","v":0},{"$f":"IF(ISBLANK('1-12-2.キャッシュフロー表 解決策導入後'!AR36),\"\",'1-12-2.キャッシュフロー表 解決策導入後'!AR36)","v":0},{"$f":"IF(ISBLANK('1-12-2.キャッシュフロー表 解決策導入後'!AS36),\"\",'1-12-2.キャッシュフロー表 解決策導入後'!AS36)","v":0},{"$f":"IF(ISBLANK('1-12-2.キャッシュフロー表 解決策導入後'!AT36),\"\",'1-12-2.キャッシュフロー表 解決策導入後'!AT36)","v":0},{"$f":"IF(ISBLANK('1-12-2.キャッシュフロー表 解決策導入後'!AU36),\"\",'1-12-2.キャッシュフロー表 解決策導入後'!AU36)","v":0},{"$f":"IF(ISBLANK('1-12-2.キャッシュフロー表 解決策導入後'!AV36),\"\",'1-12-2.キャッシュフロー表 解決策導入後'!AV36)","v":0},{"$f":"IF(ISBLANK('1-12-2.キャッシュフロー表 解決策導入後'!AW36),\"\",'1-12-2.キャッシュフロー表 解決策導入後'!AW36)","v":0},{"$f":"IF(ISBLANK('1-12-2.キャッシュフロー表 解決策導入後'!AX36),\"\",'1-12-2.キャッシュフロー表 解決策導入後'!AX36)","v":0},{"$f":"IF(ISBLANK('1-12-2.キャッシュフロー表 解決策導入後'!AY36),\"\",'1-12-2.キャッシュフロー表 解決策導入後'!AY36)","v":0},{"$f":"IF(ISBLANK('1-12-2.キャッシュフロー表 解決策導入後'!AZ36),\"\",'1-12-2.キャッシュフロー表 解決策導入後'!AZ36)","v":0},{"$f":"IF(ISBLANK('1-12-2.キャッシュフロー表 解決策導入後'!BA36),\"\",'1-12-2.キャッシュフロー表 解決策導入後'!BA36)","v":0},{"$f":"IF(ISBLANK('1-12-2.キャッシュフロー表 解決策導入後'!BB36),\"\",'1-12-2.キャッシュフロー表 解決策導入後'!BB36)","v":0},{"$f":"IF(ISBLANK('1-12-2.キャッシュフロー表 解決策導入後'!BC36),\"\",'1-12-2.キャッシュフロー表 解決策導入後'!BC36)","v":0},{"$f":"IF(ISBLANK('1-12-2.キャッシュフロー表 解決策導入後'!BD36),\"\",'1-12-2.キャッシュフロー表 解決策導入後'!BD36)","v":0},{"$f":"IF(ISBLANK('1-12-2.キャッシュフロー表 解決策導入後'!BE36),\"\",'1-12-2.キャッシュフロー表 解決策導入後'!BE36)","v":0},{"$f":"IF(ISBLANK('1-12-2.キャッシュフロー表 解決策導入後'!BF36),\"\",'1-12-2.キャッシュフロー表 解決策導入後'!BF36)","v":0},{"$f":"IF(ISBLANK('1-12-2.キャッシュフロー表 解決策導入後'!BG36),\"\",'1-12-2.キャッシュフロー表 解決策導入後'!BG36)","v":0},{"$f":"IF(ISBLANK('1-12-2.キャッシュフロー表 解決策導入後'!BH36),\"\",'1-12-2.キャッシュフロー表 解決策導入後'!BH36)","v":0},{"$f":"IF(ISBLANK('1-12-2.キャッシュフロー表 解決策導入後'!BI36),\"\",'1-12-2.キャッシュフロー表 解決策導入後'!BI36)","v":0},{"$f":"IF(ISBLANK('1-12-2.キャッシュフロー表 解決策導入後'!BJ36),\"\",'1-12-2.キャッシュフロー表 解決策導入後'!BJ36)","v":0},{"$f":"IF(ISBLANK('1-12-2.キャッシュフロー表 解決策導入後'!BK36),\"\",'1-12-2.キャッシュフロー表 解決策導入後'!BK36)","v":0},{"$f":"IF(ISBLANK('1-12-2.キャッシュフロー表 解決策導入後'!BL36),\"\",'1-12-2.キャッシュフロー表 解決策導入後'!BL36)","v":0},{"$f":"IF(ISBLANK('1-12-2.キャッシュフロー表 解決策導入後'!BM36),\"\",'1-12-2.キャッシュフロー表 解決策導入後'!BM36)","v":0},{"$f":"IF(ISBLANK('1-12-2.キャッシュフロー表 解決策導入後'!BN36),\"\",'1-12-2.キャッシュフロー表 解決策導入後'!BN36)","v":0},{"$f":"IF(ISBLANK('1-12-2.キャッシュフロー表 解決策導入後'!BO36),\"\",'1-12-2.キャッシュフロー表 解決策導入後'!BO36)","v":0},{"$f":"IF(ISBLANK('1-12-2.キャッシュフロー表 解決策導入後'!BP36),\"\",'1-12-2.キャッシュフロー表 解決策導入後'!BP36)","v":0},{"$f":"IF(ISBLANK('1-12-2.キャッシュフロー表 解決策導入後'!BQ36),\"\",'1-12-2.キャッシュフロー表 解決策導入後'!BQ36)","v":0},{"$f":"IF(ISBLANK('1-12-2.キャッシュフロー表 解決策導入後'!BR36),\"\",'1-12-2.キャッシュフロー表 解決策導入後'!BR36)","v":0},{"$f":"IF(ISBLANK('1-12-2.キャッシュフロー表 解決策導入後'!BS36),\"\",'1-12-2.キャッシュフロー表 解決策導入後'!BS36)","v":0},{"$f":"IF(ISBLANK('1-12-2.キャッシュフロー表 解決策導入後'!BT36),\"\",'1-12-2.キャッシュフロー表 解決策導入後'!BT36)","v":0},{"$f":"IF(ISBLANK('1-12-2.キャッシュフロー表 解決策導入後'!BU36),\"\",'1-12-2.キャッシュフロー表 解決策導入後'!BU36)","v":0},{"$f":"IF(ISBLANK('1-12-2.キャッシュフロー表 解決策導入後'!BV36),\"\",'1-12-2.キャッシュフロー表 解決策導入後'!BV36)","v":0},{"$f":"IF(ISBLANK('1-12-2.キャッシュフロー表 解決策導入後'!BW36),\"\",'1-12-2.キャッシュフロー表 解決策導入後'!BW36)","v":0},{"$f":"IF(ISBLANK('1-12-2.キャッシュフロー表 解決策導入後'!BX36),\"\",'1-12-2.キャッシュフロー表 解決策導入後'!BX36)","v":0},{"$f":"IF(ISBLANK('1-12-2.キャッシュフロー表 解決策導入後'!BY36),\"\",'1-12-2.キャッシュフロー表 解決策導入後'!BY36)","v":0},{"$f":"IF(ISBLANK('1-12-2.キャッシュフロー表 解決策導入後'!BZ36),\"\",'1-12-2.キャッシュフロー表 解決策導入後'!BZ36)","v":0}]
[null,null,null,{"$f":"IF(ISBLANK('1-12-2.キャッシュフロー表 解決策導入後'!D37),\"\",'1-12-2.キャッシュフロー表 解決策導入後'!D37)","v":""},{"$f":"IF(ISBLANK('1-12-2.キャッシュフロー表 解決策導入後'!E37),\"\",'1-12-2.キャッシュフロー表 解決策導入後'!E37)","v":0},{"$f":"IF(ISBLANK('1-12-2.キャッシュフロー表 解決策導入後'!F37),\"\",'1-12-2.キャッシュフロー表 解決策導入後'!F37&\"年後\")","v":""},null,{"$f":"IF(ISBLANK('1-12-2.キャッシュフロー表 解決策導入後'!G37),\"\",'1-12-2.キャッシュフロー表 解決策導入後'!G37)","v":0},{"$f":"IF(ISBLANK('1-12-2.キャッシュフロー表 解決策導入後'!H37),\"\",'1-12-2.キャッシュフロー表 解決策導入後'!H37)","v":""},{"$f":"IF(ISBLANK('1-12-2.キャッシュフロー表 解決策導入後'!I37),\"\",'1-12-2.キャッシュフロー表 解決策導入後'!I37)","v":0},{"$f":"IF(ISBLANK('1-12-2.キャッシュフロー表 解決策導入後'!J37),\"\",'1-12-2.キャッシュフロー表 解決策導入後'!J37)","v":0},{"$f":"IF(ISBLANK('1-12-2.キャッシュフロー表 解決策導入後'!K37),\"\",'1-12-2.キャッシュフロー表 解決策導入後'!K37)","v":0},{"$f":"IF(ISBLANK('1-12-2.キャッシュフロー表 解決策導入後'!L37),\"\",'1-12-2.キャッシュフロー表 解決策導入後'!L37)","v":0},{"$f":"IF(ISBLANK('1-12-2.キャッシュフロー表 解決策導入後'!M37),\"\",'1-12-2.キャッシュフロー表 解決策導入後'!M37)","v":0},{"$f":"IF(ISBLANK('1-12-2.キャッシュフロー表 解決策導入後'!N37),\"\",'1-12-2.キャッシュフロー表 解決策導入後'!N37)","v":0},{"$f":"IF(ISBLANK('1-12-2.キャッシュフロー表 解決策導入後'!O37),\"\",'1-12-2.キャッシュフロー表 解決策導入後'!O37)","v":0},{"$f":"IF(ISBLANK('1-12-2.キャッシュフロー表 解決策導入後'!P37),\"\",'1-12-2.キャッシュフロー表 解決策導入後'!P37)","v":0},{"$f":"IF(ISBLANK('1-12-2.キャッシュフロー表 解決策導入後'!Q37),\"\",'1-12-2.キャッシュフロー表 解決策導入後'!Q37)","v":0},{"$f":"IF(ISBLANK('1-12-2.キャッシュフロー表 解決策導入後'!R37),\"\",'1-12-2.キャッシュフロー表 解決策導入後'!R37)","v":0},{"$f":"IF(ISBLANK('1-12-2.キャッシュフロー表 解決策導入後'!S37),\"\",'1-12-2.キャッシュフロー表 解決策導入後'!S37)","v":0},{"$f":"IF(ISBLANK('1-12-2.キャッシュフロー表 解決策導入後'!T37),\"\",'1-12-2.キャッシュフロー表 解決策導入後'!T37)","v":0},{"$f":"IF(ISBLANK('1-12-2.キャッシュフロー表 解決策導入後'!U37),\"\",'1-12-2.キャッシュフロー表 解決策導入後'!U37)","v":0},{"$f":"IF(ISBLANK('1-12-2.キャッシュフロー表 解決策導入後'!V37),\"\",'1-12-2.キャッシュフロー表 解決策導入後'!V37)","v":0},{"$f":"IF(ISBLANK('1-12-2.キャッシュフロー表 解決策導入後'!W37),\"\",'1-12-2.キャッシュフロー表 解決策導入後'!W37)","v":0},{"$f":"IF(ISBLANK('1-12-2.キャッシュフロー表 解決策導入後'!X37),\"\",'1-12-2.キャッシュフロー表 解決策導入後'!X37)","v":0},{"$f":"IF(ISBLANK('1-12-2.キャッシュフロー表 解決策導入後'!Y37),\"\",'1-12-2.キャッシュフロー表 解決策導入後'!Y37)","v":0},{"$f":"IF(ISBLANK('1-12-2.キャッシュフロー表 解決策導入後'!Z37),\"\",'1-12-2.キャッシュフロー表 解決策導入後'!Z37)","v":0},{"$f":"IF(ISBLANK('1-12-2.キャッシュフロー表 解決策導入後'!AA37),\"\",'1-12-2.キャッシュフロー表 解決策導入後'!AA37)","v":0},{"$f":"IF(ISBLANK('1-12-2.キャッシュフロー表 解決策導入後'!AB37),\"\",'1-12-2.キャッシュフロー表 解決策導入後'!AB37)","v":0},{"$f":"IF(ISBLANK('1-12-2.キャッシュフロー表 解決策導入後'!AC37),\"\",'1-12-2.キャッシュフロー表 解決策導入後'!AC37)","v":0},{"$f":"IF(ISBLANK('1-12-2.キャッシュフロー表 解決策導入後'!AD37),\"\",'1-12-2.キャッシュフロー表 解決策導入後'!AD37)","v":0},{"$f":"IF(ISBLANK('1-12-2.キャッシュフロー表 解決策導入後'!AE37),\"\",'1-12-2.キャッシュフロー表 解決策導入後'!AE37)","v":0},{"$f":"IF(ISBLANK('1-12-2.キャッシュフロー表 解決策導入後'!AF37),\"\",'1-12-2.キャッシュフロー表 解決策導入後'!AF37)","v":0},{"$f":"IF(ISBLANK('1-12-2.キャッシュフロー表 解決策導入後'!AG37),\"\",'1-12-2.キャッシュフロー表 解決策導入後'!AG37)","v":0},{"$f":"IF(ISBLANK('1-12-2.キャッシュフロー表 解決策導入後'!AH37),\"\",'1-12-2.キャッシュフロー表 解決策導入後'!AH37)","v":0},{"$f":"IF(ISBLANK('1-12-2.キャッシュフロー表 解決策導入後'!AI37),\"\",'1-12-2.キャッシュフロー表 解決策導入後'!AI37)","v":0},{"$f":"IF(ISBLANK('1-12-2.キャッシュフロー表 解決策導入後'!AJ37),\"\",'1-12-2.キャッシュフロー表 解決策導入後'!AJ37)","v":0},{"$f":"IF(ISBLANK('1-12-2.キャッシュフロー表 解決策導入後'!AK37),\"\",'1-12-2.キャッシュフロー表 解決策導入後'!AK37)","v":0},{"$f":"IF(ISBLANK('1-12-2.キャッシュフロー表 解決策導入後'!AL37),\"\",'1-12-2.キャッシュフロー表 解決策導入後'!AL37)","v":0},null,null,null,null,{"$f":"IF(ISBLANK('1-12-2.キャッシュフロー表 解決策導入後'!D37),\"\",'1-12-2.キャッシュフロー表 解決策導入後'!D37)","v":""},{"$f":"IF(ISBLANK('1-12-2.キャッシュフロー表 解決策導入後'!E37),\"\",'1-12-2.キャッシュフロー表 解決策導入後'!E37)","v":0},{"$f":"IF(ISBLANK('1-12-2.キャッシュフロー表 解決策導入後'!F37),\"\",'1-12-2.キャッシュフロー表 解決策導入後'!F37&\"年後\")","v":""},null,{"$f":"IF(ISBLANK('1-12-2.キャッシュフロー表 解決策導入後'!G37),\"\",'1-12-2.キャッシュフロー表 解決策導入後'!G37)","v":0},{"$f":"IF(ISBLANK('1-12-2.キャッシュフロー表 解決策導入後'!AM37),\"\",'1-12-2.キャッシュフロー表 解決策導入後'!AM37)","v":0},{"$f":"IF(ISBLANK('1-12-2.キャッシュフロー表 解決策導入後'!AN37),\"\",'1-12-2.キャッシュフロー表 解決策導入後'!AN37)","v":0},{"$f":"IF(ISBLANK('1-12-2.キャッシュフロー表 解決策導入後'!AO37),\"\",'1-12-2.キャッシュフロー表 解決策導入後'!AO37)","v":0},{"$f":"IF(ISBLANK('1-12-2.キャッシュフロー表 解決策導入後'!AP37),\"\",'1-12-2.キャッシュフロー表 解決策導入後'!AP37)","v":0},{"$f":"IF(ISBLANK('1-12-2.キャッシュフロー表 解決策導入後'!AQ37),\"\",'1-12-2.キャッシュフロー表 解決策導入後'!AQ37)","v":0},{"$f":"IF(ISBLANK('1-12-2.キャッシュフロー表 解決策導入後'!AR37),\"\",'1-12-2.キャッシュフロー表 解決策導入後'!AR37)","v":0},{"$f":"IF(ISBLANK('1-12-2.キャッシュフロー表 解決策導入後'!AS37),\"\",'1-12-2.キャッシュフロー表 解決策導入後'!AS37)","v":0},{"$f":"IF(ISBLANK('1-12-2.キャッシュフロー表 解決策導入後'!AT37),\"\",'1-12-2.キャッシュフロー表 解決策導入後'!AT37)","v":0},{"$f":"IF(ISBLANK('1-12-2.キャッシュフロー表 解決策導入後'!AU37),\"\",'1-12-2.キャッシュフロー表 解決策導入後'!AU37)","v":0},{"$f":"IF(ISBLANK('1-12-2.キャッシュフロー表 解決策導入後'!AV37),\"\",'1-12-2.キャッシュフロー表 解決策導入後'!AV37)","v":0},{"$f":"IF(ISBLANK('1-12-2.キャッシュフロー表 解決策導入後'!AW37),\"\",'1-12-2.キャッシュフロー表 解決策導入後'!AW37)","v":0},{"$f":"IF(ISBLANK('1-12-2.キャッシュフロー表 解決策導入後'!AX37),\"\",'1-12-2.キャッシュフロー表 解決策導入後'!AX37)","v":0},{"$f":"IF(ISBLANK('1-12-2.キャッシュフロー表 解決策導入後'!AY37),\"\",'1-12-2.キャッシュフロー表 解決策導入後'!AY37)","v":0},{"$f":"IF(ISBLANK('1-12-2.キャッシュフロー表 解決策導入後'!AZ37),\"\",'1-12-2.キャッシュフロー表 解決策導入後'!AZ37)","v":0},{"$f":"IF(ISBLANK('1-12-2.キャッシュフロー表 解決策導入後'!BA37),\"\",'1-12-2.キャッシュフロー表 解決策導入後'!BA37)","v":0},{"$f":"IF(ISBLANK('1-12-2.キャッシュフロー表 解決策導入後'!BB37),\"\",'1-12-2.キャッシュフロー表 解決策導入後'!BB37)","v":0},{"$f":"IF(ISBLANK('1-12-2.キャッシュフロー表 解決策導入後'!BC37),\"\",'1-12-2.キャッシュフロー表 解決策導入後'!BC37)","v":0},{"$f":"IF(ISBLANK('1-12-2.キャッシュフロー表 解決策導入後'!BD37),\"\",'1-12-2.キャッシュフロー表 解決策導入後'!BD37)","v":0},{"$f":"IF(ISBLANK('1-12-2.キャッシュフロー表 解決策導入後'!BE37),\"\",'1-12-2.キャッシュフロー表 解決策導入後'!BE37)","v":0},{"$f":"IF(ISBLANK('1-12-2.キャッシュフロー表 解決策導入後'!BF37),\"\",'1-12-2.キャッシュフロー表 解決策導入後'!BF37)","v":0},{"$f":"IF(ISBLANK('1-12-2.キャッシュフロー表 解決策導入後'!BG37),\"\",'1-12-2.キャッシュフロー表 解決策導入後'!BG37)","v":0},{"$f":"IF(ISBLANK('1-12-2.キャッシュフロー表 解決策導入後'!BH37),\"\",'1-12-2.キャッシュフロー表 解決策導入後'!BH37)","v":0},{"$f":"IF(ISBLANK('1-12-2.キャッシュフロー表 解決策導入後'!BI37),\"\",'1-12-2.キャッシュフロー表 解決策導入後'!BI37)","v":0},{"$f":"IF(ISBLANK('1-12-2.キャッシュフロー表 解決策導入後'!BJ37),\"\",'1-12-2.キャッシュフロー表 解決策導入後'!BJ37)","v":0},{"$f":"IF(ISBLANK('1-12-2.キャッシュフロー表 解決策導入後'!BK37),\"\",'1-12-2.キャッシュフロー表 解決策導入後'!BK37)","v":0},{"$f":"IF(ISBLANK('1-12-2.キャッシュフロー表 解決策導入後'!BL37),\"\",'1-12-2.キャッシュフロー表 解決策導入後'!BL37)","v":0},{"$f":"IF(ISBLANK('1-12-2.キャッシュフロー表 解決策導入後'!BM37),\"\",'1-12-2.キャッシュフロー表 解決策導入後'!BM37)","v":0},{"$f":"IF(ISBLANK('1-12-2.キャッシュフロー表 解決策導入後'!BN37),\"\",'1-12-2.キャッシュフロー表 解決策導入後'!BN37)","v":0},{"$f":"IF(ISBLANK('1-12-2.キャッシュフロー表 解決策導入後'!BO37),\"\",'1-12-2.キャッシュフロー表 解決策導入後'!BO37)","v":0},{"$f":"IF(ISBLANK('1-12-2.キャッシュフロー表 解決策導入後'!BP37),\"\",'1-12-2.キャッシュフロー表 解決策導入後'!BP37)","v":0},{"$f":"IF(ISBLANK('1-12-2.キャッシュフロー表 解決策導入後'!BQ37),\"\",'1-12-2.キャッシュフロー表 解決策導入後'!BQ37)","v":0},{"$f":"IF(ISBLANK('1-12-2.キャッシュフロー表 解決策導入後'!BR37),\"\",'1-12-2.キャッシュフロー表 解決策導入後'!BR37)","v":0},{"$f":"IF(ISBLANK('1-12-2.キャッシュフロー表 解決策導入後'!BS37),\"\",'1-12-2.キャッシュフロー表 解決策導入後'!BS37)","v":0},{"$f":"IF(ISBLANK('1-12-2.キャッシュフロー表 解決策導入後'!BT37),\"\",'1-12-2.キャッシュフロー表 解決策導入後'!BT37)","v":0},{"$f":"IF(ISBLANK('1-12-2.キャッシュフロー表 解決策導入後'!BU37),\"\",'1-12-2.キャッシュフロー表 解決策導入後'!BU37)","v":0},{"$f":"IF(ISBLANK('1-12-2.キャッシュフロー表 解決策導入後'!BV37),\"\",'1-12-2.キャッシュフロー表 解決策導入後'!BV37)","v":0},{"$f":"IF(ISBLANK('1-12-2.キャッシュフロー表 解決策導入後'!BW37),\"\",'1-12-2.キャッシュフロー表 解決策導入後'!BW37)","v":0},{"$f":"IF(ISBLANK('1-12-2.キャッシュフロー表 解決策導入後'!BX37),\"\",'1-12-2.キャッシュフロー表 解決策導入後'!BX37)","v":0},{"$f":"IF(ISBLANK('1-12-2.キャッシュフロー表 解決策導入後'!BY37),\"\",'1-12-2.キャッシュフロー表 解決策導入後'!BY37)","v":0},{"$f":"IF(ISBLANK('1-12-2.キャッシュフロー表 解決策導入後'!BZ37),\"\",'1-12-2.キャッシュフロー表 解決策導入後'!BZ37)","v":0}]
[null,null,null,{"$f":"IF(ISBLANK('1-12-2.キャッシュフロー表 解決策導入後'!D38),\"\",'1-12-2.キャッシュフロー表 解決策導入後'!D38)","v":""},{"$f":"IF(ISBLANK('1-12-2.キャッシュフロー表 解決策導入後'!E38),\"\",'1-12-2.キャッシュフロー表 解決策導入後'!E38)","v":0},{"$f":"IF(ISBLANK('1-12-2.キャッシュフロー表 解決策導入後'!F38),\"\",'1-12-2.キャッシュフロー表 解決策導入後'!F38&\"年後\")","v":""},null,{"$f":"IF(ISBLANK('1-12-2.キャッシュフロー表 解決策導入後'!G38),\"\",'1-12-2.キャッシュフロー表 解決策導入後'!G38)","v":0},{"$f":"IF(ISBLANK('1-12-2.キャッシュフロー表 解決策導入後'!H38),\"\",'1-12-2.キャッシュフロー表 解決策導入後'!H38)","v":""},{"$f":"IF(ISBLANK('1-12-2.キャッシュフロー表 解決策導入後'!I38),\"\",'1-12-2.キャッシュフロー表 解決策導入後'!I38)","v":0},{"$f":"IF(ISBLANK('1-12-2.キャッシュフロー表 解決策導入後'!J38),\"\",'1-12-2.キャッシュフロー表 解決策導入後'!J38)","v":0},{"$f":"IF(ISBLANK('1-12-2.キャッシュフロー表 解決策導入後'!K38),\"\",'1-12-2.キャッシュフロー表 解決策導入後'!K38)","v":0},{"$f":"IF(ISBLANK('1-12-2.キャッシュフロー表 解決策導入後'!L38),\"\",'1-12-2.キャッシュフロー表 解決策導入後'!L38)","v":0},{"$f":"IF(ISBLANK('1-12-2.キャッシュフロー表 解決策導入後'!M38),\"\",'1-12-2.キャッシュフロー表 解決策導入後'!M38)","v":0},{"$f":"IF(ISBLANK('1-12-2.キャッシュフロー表 解決策導入後'!N38),\"\",'1-12-2.キャッシュフロー表 解決策導入後'!N38)","v":0},{"$f":"IF(ISBLANK('1-12-2.キャッシュフロー表 解決策導入後'!O38),\"\",'1-12-2.キャッシュフロー表 解決策導入後'!O38)","v":0},{"$f":"IF(ISBLANK('1-12-2.キャッシュフロー表 解決策導入後'!P38),\"\",'1-12-2.キャッシュフロー表 解決策導入後'!P38)","v":0},{"$f":"IF(ISBLANK('1-12-2.キャッシュフロー表 解決策導入後'!Q38),\"\",'1-12-2.キャッシュフロー表 解決策導入後'!Q38)","v":0},{"$f":"IF(ISBLANK('1-12-2.キャッシュフロー表 解決策導入後'!R38),\"\",'1-12-2.キャッシュフロー表 解決策導入後'!R38)","v":0},{"$f":"IF(ISBLANK('1-12-2.キャッシュフロー表 解決策導入後'!S38),\"\",'1-12-2.キャッシュフロー表 解決策導入後'!S38)","v":0},{"$f":"IF(ISBLANK('1-12-2.キャッシュフロー表 解決策導入後'!T38),\"\",'1-12-2.キャッシュフロー表 解決策導入後'!T38)","v":0},{"$f":"IF(ISBLANK('1-12-2.キャッシュフロー表 解決策導入後'!U38),\"\",'1-12-2.キャッシュフロー表 解決策導入後'!U38)","v":0},{"$f":"IF(ISBLANK('1-12-2.キャッシュフロー表 解決策導入後'!V38),\"\",'1-12-2.キャッシュフロー表 解決策導入後'!V38)","v":0},{"$f":"IF(ISBLANK('1-12-2.キャッシュフロー表 解決策導入後'!W38),\"\",'1-12-2.キャッシュフロー表 解決策導入後'!W38)","v":0},{"$f":"IF(ISBLANK('1-12-2.キャッシュフロー表 解決策導入後'!X38),\"\",'1-12-2.キャッシュフロー表 解決策導入後'!X38)","v":0},{"$f":"IF(ISBLANK('1-12-2.キャッシュフロー表 解決策導入後'!Y38),\"\",'1-12-2.キャッシュフロー表 解決策導入後'!Y38)","v":0},{"$f":"IF(ISBLANK('1-12-2.キャッシュフロー表 解決策導入後'!Z38),\"\",'1-12-2.キャッシュフロー表 解決策導入後'!Z38)","v":0},{"$f":"IF(ISBLANK('1-12-2.キャッシュフロー表 解決策導入後'!AA38),\"\",'1-12-2.キャッシュフロー表 解決策導入後'!AA38)","v":0},{"$f":"IF(ISBLANK('1-12-2.キャッシュフロー表 解決策導入後'!AB38),\"\",'1-12-2.キャッシュフロー表 解決策導入後'!AB38)","v":0},{"$f":"IF(ISBLANK('1-12-2.キャッシュフロー表 解決策導入後'!AC38),\"\",'1-12-2.キャッシュフロー表 解決策導入後'!AC38)","v":0},{"$f":"IF(ISBLANK('1-12-2.キャッシュフロー表 解決策導入後'!AD38),\"\",'1-12-2.キャッシュフロー表 解決策導入後'!AD38)","v":0},{"$f":"IF(ISBLANK('1-12-2.キャッシュフロー表 解決策導入後'!AE38),\"\",'1-12-2.キャッシュフロー表 解決策導入後'!AE38)","v":0},{"$f":"IF(ISBLANK('1-12-2.キャッシュフロー表 解決策導入後'!AF38),\"\",'1-12-2.キャッシュフロー表 解決策導入後'!AF38)","v":0},{"$f":"IF(ISBLANK('1-12-2.キャッシュフロー表 解決策導入後'!AG38),\"\",'1-12-2.キャッシュフロー表 解決策導入後'!AG38)","v":0},{"$f":"IF(ISBLANK('1-12-2.キャッシュフロー表 解決策導入後'!AH38),\"\",'1-12-2.キャッシュフロー表 解決策導入後'!AH38)","v":0},{"$f":"IF(ISBLANK('1-12-2.キャッシュフロー表 解決策導入後'!AI38),\"\",'1-12-2.キャッシュフロー表 解決策導入後'!AI38)","v":0},{"$f":"IF(ISBLANK('1-12-2.キャッシュフロー表 解決策導入後'!AJ38),\"\",'1-12-2.キャッシュフロー表 解決策導入後'!AJ38)","v":0},{"$f":"IF(ISBLANK('1-12-2.キャッシュフロー表 解決策導入後'!AK38),\"\",'1-12-2.キャッシュフロー表 解決策導入後'!AK38)","v":0},{"$f":"IF(ISBLANK('1-12-2.キャッシュフロー表 解決策導入後'!AL38),\"\",'1-12-2.キャッシュフロー表 解決策導入後'!AL38)","v":0},null,null,null,null,{"$f":"IF(ISBLANK('1-12-2.キャッシュフロー表 解決策導入後'!D38),\"\",'1-12-2.キャッシュフロー表 解決策導入後'!D38)","v":""},{"$f":"IF(ISBLANK('1-12-2.キャッシュフロー表 解決策導入後'!E38),\"\",'1-12-2.キャッシュフロー表 解決策導入後'!E38)","v":0},{"$f":"IF(ISBLANK('1-12-2.キャッシュフロー表 解決策導入後'!F38),\"\",'1-12-2.キャッシュフロー表 解決策導入後'!F38&\"年後\")","v":""},null,{"$f":"IF(ISBLANK('1-12-2.キャッシュフロー表 解決策導入後'!G38),\"\",'1-12-2.キャッシュフロー表 解決策導入後'!G38)","v":0},{"$f":"IF(ISBLANK('1-12-2.キャッシュフロー表 解決策導入後'!AM38),\"\",'1-12-2.キャッシュフロー表 解決策導入後'!AM38)","v":0},{"$f":"IF(ISBLANK('1-12-2.キャッシュフロー表 解決策導入後'!AN38),\"\",'1-12-2.キャッシュフロー表 解決策導入後'!AN38)","v":0},{"$f":"IF(ISBLANK('1-12-2.キャッシュフロー表 解決策導入後'!AO38),\"\",'1-12-2.キャッシュフロー表 解決策導入後'!AO38)","v":0},{"$f":"IF(ISBLANK('1-12-2.キャッシュフロー表 解決策導入後'!AP38),\"\",'1-12-2.キャッシュフロー表 解決策導入後'!AP38)","v":0},{"$f":"IF(ISBLANK('1-12-2.キャッシュフロー表 解決策導入後'!AQ38),\"\",'1-12-2.キャッシュフロー表 解決策導入後'!AQ38)","v":0},{"$f":"IF(ISBLANK('1-12-2.キャッシュフロー表 解決策導入後'!AR38),\"\",'1-12-2.キャッシュフロー表 解決策導入後'!AR38)","v":0},{"$f":"IF(ISBLANK('1-12-2.キャッシュフロー表 解決策導入後'!AS38),\"\",'1-12-2.キャッシュフロー表 解決策導入後'!AS38)","v":0},{"$f":"IF(ISBLANK('1-12-2.キャッシュフロー表 解決策導入後'!AT38),\"\",'1-12-2.キャッシュフロー表 解決策導入後'!AT38)","v":0},{"$f":"IF(ISBLANK('1-12-2.キャッシュフロー表 解決策導入後'!AU38),\"\",'1-12-2.キャッシュフロー表 解決策導入後'!AU38)","v":0},{"$f":"IF(ISBLANK('1-12-2.キャッシュフロー表 解決策導入後'!AV38),\"\",'1-12-2.キャッシュフロー表 解決策導入後'!AV38)","v":0},{"$f":"IF(ISBLANK('1-12-2.キャッシュフロー表 解決策導入後'!AW38),\"\",'1-12-2.キャッシュフロー表 解決策導入後'!AW38)","v":0},{"$f":"IF(ISBLANK('1-12-2.キャッシュフロー表 解決策導入後'!AX38),\"\",'1-12-2.キャッシュフロー表 解決策導入後'!AX38)","v":0},{"$f":"IF(ISBLANK('1-12-2.キャッシュフロー表 解決策導入後'!AY38),\"\",'1-12-2.キャッシュフロー表 解決策導入後'!AY38)","v":0},{"$f":"IF(ISBLANK('1-12-2.キャッシュフロー表 解決策導入後'!AZ38),\"\",'1-12-2.キャッシュフロー表 解決策導入後'!AZ38)","v":0},{"$f":"IF(ISBLANK('1-12-2.キャッシュフロー表 解決策導入後'!BA38),\"\",'1-12-2.キャッシュフロー表 解決策導入後'!BA38)","v":0},{"$f":"IF(ISBLANK('1-12-2.キャッシュフロー表 解決策導入後'!BB38),\"\",'1-12-2.キャッシュフロー表 解決策導入後'!BB38)","v":0},{"$f":"IF(ISBLANK('1-12-2.キャッシュフロー表 解決策導入後'!BC38),\"\",'1-12-2.キャッシュフロー表 解決策導入後'!BC38)","v":0},{"$f":"IF(ISBLANK('1-12-2.キャッシュフロー表 解決策導入後'!BD38),\"\",'1-12-2.キャッシュフロー表 解決策導入後'!BD38)","v":0},{"$f":"IF(ISBLANK('1-12-2.キャッシュフロー表 解決策導入後'!BE38),\"\",'1-12-2.キャッシュフロー表 解決策導入後'!BE38)","v":0},{"$f":"IF(ISBLANK('1-12-2.キャッシュフロー表 解決策導入後'!BF38),\"\",'1-12-2.キャッシュフロー表 解決策導入後'!BF38)","v":0},{"$f":"IF(ISBLANK('1-12-2.キャッシュフロー表 解決策導入後'!BG38),\"\",'1-12-2.キャッシュフロー表 解決策導入後'!BG38)","v":0},{"$f":"IF(ISBLANK('1-12-2.キャッシュフロー表 解決策導入後'!BH38),\"\",'1-12-2.キャッシュフロー表 解決策導入後'!BH38)","v":0},{"$f":"IF(ISBLANK('1-12-2.キャッシュフロー表 解決策導入後'!BI38),\"\",'1-12-2.キャッシュフロー表 解決策導入後'!BI38)","v":0},{"$f":"IF(ISBLANK('1-12-2.キャッシュフロー表 解決策導入後'!BJ38),\"\",'1-12-2.キャッシュフロー表 解決策導入後'!BJ38)","v":0},{"$f":"IF(ISBLANK('1-12-2.キャッシュフロー表 解決策導入後'!BK38),\"\",'1-12-2.キャッシュフロー表 解決策導入後'!BK38)","v":0},{"$f":"IF(ISBLANK('1-12-2.キャッシュフロー表 解決策導入後'!BL38),\"\",'1-12-2.キャッシュフロー表 解決策導入後'!BL38)","v":0},{"$f":"IF(ISBLANK('1-12-2.キャッシュフロー表 解決策導入後'!BM38),\"\",'1-12-2.キャッシュフロー表 解決策導入後'!BM38)","v":0},{"$f":"IF(ISBLANK('1-12-2.キャッシュフロー表 解決策導入後'!BN38),\"\",'1-12-2.キャッシュフロー表 解決策導入後'!BN38)","v":0},{"$f":"IF(ISBLANK('1-12-2.キャッシュフロー表 解決策導入後'!BO38),\"\",'1-12-2.キャッシュフロー表 解決策導入後'!BO38)","v":0},{"$f":"IF(ISBLANK('1-12-2.キャッシュフロー表 解決策導入後'!BP38),\"\",'1-12-2.キャッシュフロー表 解決策導入後'!BP38)","v":0},{"$f":"IF(ISBLANK('1-12-2.キャッシュフロー表 解決策導入後'!BQ38),\"\",'1-12-2.キャッシュフロー表 解決策導入後'!BQ38)","v":0},{"$f":"IF(ISBLANK('1-12-2.キャッシュフロー表 解決策導入後'!BR38),\"\",'1-12-2.キャッシュフロー表 解決策導入後'!BR38)","v":0},{"$f":"IF(ISBLANK('1-12-2.キャッシュフロー表 解決策導入後'!BS38),\"\",'1-12-2.キャッシュフロー表 解決策導入後'!BS38)","v":0},{"$f":"IF(ISBLANK('1-12-2.キャッシュフロー表 解決策導入後'!BT38),\"\",'1-12-2.キャッシュフロー表 解決策導入後'!BT38)","v":0},{"$f":"IF(ISBLANK('1-12-2.キャッシュフロー表 解決策導入後'!BU38),\"\",'1-12-2.キャッシュフロー表 解決策導入後'!BU38)","v":0},{"$f":"IF(ISBLANK('1-12-2.キャッシュフロー表 解決策導入後'!BV38),\"\",'1-12-2.キャッシュフロー表 解決策導入後'!BV38)","v":0},{"$f":"IF(ISBLANK('1-12-2.キャッシュフロー表 解決策導入後'!BW38),\"\",'1-12-2.キャッシュフロー表 解決策導入後'!BW38)","v":0},{"$f":"IF(ISBLANK('1-12-2.キャッシュフロー表 解決策導入後'!BX38),\"\",'1-12-2.キャッシュフロー表 解決策導入後'!BX38)","v":0},{"$f":"IF(ISBLANK('1-12-2.キャッシュフロー表 解決策導入後'!BY38),\"\",'1-12-2.キャッシュフロー表 解決策導入後'!BY38)","v":0},{"$f":"IF(ISBLANK('1-12-2.キャッシュフロー表 解決策導入後'!BZ38),\"\",'1-12-2.キャッシュフロー表 解決策導入後'!BZ38)","v":0}]
[null,null,null,"その他一時的支出",{"$f":"IF(ISBLANK('1-12-2.キャッシュフロー表 解決策導入後'!E39),\"\",'1-12-2.キャッシュフロー表 解決策導入後'!E39)","v":""},{"$f":"IF(ISBLANK('1-12-2.キャッシュフロー表 解決策導入後'!F39),\"\",'1-12-2.キャッシュフロー表 解決策導入後'!F39&\"年後\")","v":""},null,{"$f":"IF(ISBLANK('1-12-2.キャッシュフロー表 解決策導入後'!G39),\"\",'1-12-2.キャッシュフロー表 解決策導入後'!G39)","v":""},{"$f":"IF(ISBLANK('1-12-2.キャッシュフロー表 解決策導入後'!H39),\"\",'1-12-2.キャッシュフロー表 解決策導入後'!H39)","v":""},{"$f":"IF(ISBLANK('1-12-2.キャッシュフロー表 解決策導入後'!I39),\"\",'1-12-2.キャッシュフロー表 解決策導入後'!I39)","v":""},{"$f":"IF(ISBLANK('1-12-2.キャッシュフロー表 解決策導入後'!J39),\"\",'1-12-2.キャッシュフロー表 解決策導入後'!J39)","v":""},{"$f":"IF(ISBLANK('1-12-2.キャッシュフロー表 解決策導入後'!K39),\"\",'1-12-2.キャッシュフロー表 解決策導入後'!K39)","v":""},{"$f":"IF(ISBLANK('1-12-2.キャッシュフロー表 解決策導入後'!L39),\"\",'1-12-2.キャッシュフロー表 解決策導入後'!L39)","v":""},{"$f":"IF(ISBLANK('1-12-2.キャッシュフロー表 解決策導入後'!M39),\"\",'1-12-2.キャッシュフロー表 解決策導入後'!M39)","v":""},{"$f":"IF(ISBLANK('1-12-2.キャッシュフロー表 解決策導入後'!N39),\"\",'1-12-2.キャッシュフロー表 解決策導入後'!N39)","v":""},{"$f":"IF(ISBLANK('1-12-2.キャッシュフロー表 解決策導入後'!O39),\"\",'1-12-2.キャッシュフロー表 解決策導入後'!O39)","v":""},{"$f":"IF(ISBLANK('1-12-2.キャッシュフロー表 解決策導入後'!P39),\"\",'1-12-2.キャッシュフロー表 解決策導入後'!P39)","v":""},{"$f":"IF(ISBLANK('1-12-2.キャッシュフロー表 解決策導入後'!Q39),\"\",'1-12-2.キャッシュフロー表 解決策導入後'!Q39)","v":""},{"$f":"IF(ISBLANK('1-12-2.キャッシュフロー表 解決策導入後'!R39),\"\",'1-12-2.キャッシュフロー表 解決策導入後'!R39)","v":""},{"$f":"IF(ISBLANK('1-12-2.キャッシュフロー表 解決策導入後'!S39),\"\",'1-12-2.キャッシュフロー表 解決策導入後'!S39)","v":""},{"$f":"IF(ISBLANK('1-12-2.キャッシュフロー表 解決策導入後'!T39),\"\",'1-12-2.キャッシュフロー表 解決策導入後'!T39)","v":""},{"$f":"IF(ISBLANK('1-12-2.キャッシュフロー表 解決策導入後'!U39),\"\",'1-12-2.キャッシュフロー表 解決策導入後'!U39)","v":""},{"$f":"IF(ISBLANK('1-12-2.キャッシュフロー表 解決策導入後'!V39),\"\",'1-12-2.キャッシュフロー表 解決策導入後'!V39)","v":""},{"$f":"IF(ISBLANK('1-12-2.キャッシュフロー表 解決策導入後'!W39),\"\",'1-12-2.キャッシュフロー表 解決策導入後'!W39)","v":""},{"$f":"IF(ISBLANK('1-12-2.キャッシュフロー表 解決策導入後'!X39),\"\",'1-12-2.キャッシュフロー表 解決策導入後'!X39)","v":""},{"$f":"IF(ISBLANK('1-12-2.キャッシュフロー表 解決策導入後'!Y39),\"\",'1-12-2.キャッシュフロー表 解決策導入後'!Y39)","v":""},{"$f":"IF(ISBLANK('1-12-2.キャッシュフロー表 解決策導入後'!Z39),\"\",'1-12-2.キャッシュフロー表 解決策導入後'!Z39)","v":""},{"$f":"IF(ISBLANK('1-12-2.キャッシュフロー表 解決策導入後'!AA39),\"\",'1-12-2.キャッシュフロー表 解決策導入後'!AA39)","v":""},{"$f":"IF(ISBLANK('1-12-2.キャッシュフロー表 解決策導入後'!AB39),\"\",'1-12-2.キャッシュフロー表 解決策導入後'!AB39)","v":""},{"$f":"IF(ISBLANK('1-12-2.キャッシュフロー表 解決策導入後'!AC39),\"\",'1-12-2.キャッシュフロー表 解決策導入後'!AC39)","v":""},{"$f":"IF(ISBLANK('1-12-2.キャッシュフロー表 解決策導入後'!AD39),\"\",'1-12-2.キャッシュフロー表 解決策導入後'!AD39)","v":""},{"$f":"IF(ISBLANK('1-12-2.キャッシュフロー表 解決策導入後'!AE39),\"\",'1-12-2.キャッシュフロー表 解決策導入後'!AE39)","v":""},{"$f":"IF(ISBLANK('1-12-2.キャッシュフロー表 解決策導入後'!AF39),\"\",'1-12-2.キャッシュフロー表 解決策導入後'!AF39)","v":""},{"$f":"IF(ISBLANK('1-12-2.キャッシュフロー表 解決策導入後'!AG39),\"\",'1-12-2.キャッシュフロー表 解決策導入後'!AG39)","v":""},{"$f":"IF(ISBLANK('1-12-2.キャッシュフロー表 解決策導入後'!AH39),\"\",'1-12-2.キャッシュフロー表 解決策導入後'!AH39)","v":""},{"$f":"IF(ISBLANK('1-12-2.キャッシュフロー表 解決策導入後'!AI39),\"\",'1-12-2.キャッシュフロー表 解決策導入後'!AI39)","v":""},{"$f":"IF(ISBLANK('1-12-2.キャッシュフロー表 解決策導入後'!AJ39),\"\",'1-12-2.キャッシュフロー表 解決策導入後'!AJ39)","v":""},{"$f":"IF(ISBLANK('1-12-2.キャッシュフロー表 解決策導入後'!AK39),\"\",'1-12-2.キャッシュフロー表 解決策導入後'!AK39)","v":""},{"$f":"IF(ISBLANK('1-12-2.キャッシュフロー表 解決策導入後'!AL39),\"\",'1-12-2.キャッシュフロー表 解決策導入後'!AL39)","v":""},null,null,null,null,{"$f":"IF(ISBLANK('1-12-2.キャッシュフロー表 解決策導入後'!D39),\"\",'1-12-2.キャッシュフロー表 解決策導入後'!D39)","v":"その他一時的支出"},{"$f":"IF(ISBLANK('1-12-2.キャッシュフロー表 解決策導入後'!E39),\"\",'1-12-2.キャッシュフロー表 解決策導入後'!E39)","v":""},{"$f":"IF(ISBLANK('1-12-2.キャッシュフロー表 解決策導入後'!F39),\"\",'1-12-2.キャッシュフロー表 解決策導入後'!F39&\"年後\")","v":""},null,{"$f":"IF(ISBLANK('1-12-2.キャッシュフロー表 解決策導入後'!G39),\"\",'1-12-2.キャッシュフロー表 解決策導入後'!G39)","v":""},{"$f":"IF(ISBLANK('1-12-2.キャッシュフロー表 解決策導入後'!AM39),\"\",'1-12-2.キャッシュフロー表 解決策導入後'!AM39)","v":""},{"$f":"IF(ISBLANK('1-12-2.キャッシュフロー表 解決策導入後'!AN39),\"\",'1-12-2.キャッシュフロー表 解決策導入後'!AN39)","v":""},{"$f":"IF(ISBLANK('1-12-2.キャッシュフロー表 解決策導入後'!AO39),\"\",'1-12-2.キャッシュフロー表 解決策導入後'!AO39)","v":""},{"$f":"IF(ISBLANK('1-12-2.キャッシュフロー表 解決策導入後'!AP39),\"\",'1-12-2.キャッシュフロー表 解決策導入後'!AP39)","v":""},{"$f":"IF(ISBLANK('1-12-2.キャッシュフロー表 解決策導入後'!AQ39),\"\",'1-12-2.キャッシュフロー表 解決策導入後'!AQ39)","v":""},{"$f":"IF(ISBLANK('1-12-2.キャッシュフロー表 解決策導入後'!AR39),\"\",'1-12-2.キャッシュフロー表 解決策導入後'!AR39)","v":""},{"$f":"IF(ISBLANK('1-12-2.キャッシュフロー表 解決策導入後'!AS39),\"\",'1-12-2.キャッシュフロー表 解決策導入後'!AS39)","v":""},{"$f":"IF(ISBLANK('1-12-2.キャッシュフロー表 解決策導入後'!AT39),\"\",'1-12-2.キャッシュフロー表 解決策導入後'!AT39)","v":""},{"$f":"IF(ISBLANK('1-12-2.キャッシュフロー表 解決策導入後'!AU39),\"\",'1-12-2.キャッシュフロー表 解決策導入後'!AU39)","v":""},{"$f":"IF(ISBLANK('1-12-2.キャッシュフロー表 解決策導入後'!AV39),\"\",'1-12-2.キャッシュフロー表 解決策導入後'!AV39)","v":""},{"$f":"IF(ISBLANK('1-12-2.キャッシュフロー表 解決策導入後'!AW39),\"\",'1-12-2.キャッシュフロー表 解決策導入後'!AW39)","v":""},{"$f":"IF(ISBLANK('1-12-2.キャッシュフロー表 解決策導入後'!AX39),\"\",'1-12-2.キャッシュフロー表 解決策導入後'!AX39)","v":""},{"$f":"IF(ISBLANK('1-12-2.キャッシュフロー表 解決策導入後'!AY39),\"\",'1-12-2.キャッシュフロー表 解決策導入後'!AY39)","v":""},{"$f":"IF(ISBLANK('1-12-2.キャッシュフロー表 解決策導入後'!AZ39),\"\",'1-12-2.キャッシュフロー表 解決策導入後'!AZ39)","v":""},{"$f":"IF(ISBLANK('1-12-2.キャッシュフロー表 解決策導入後'!BA39),\"\",'1-12-2.キャッシュフロー表 解決策導入後'!BA39)","v":""},{"$f":"IF(ISBLANK('1-12-2.キャッシュフロー表 解決策導入後'!BB39),\"\",'1-12-2.キャッシュフロー表 解決策導入後'!BB39)","v":""},{"$f":"IF(ISBLANK('1-12-2.キャッシュフロー表 解決策導入後'!BC39),\"\",'1-12-2.キャッシュフロー表 解決策導入後'!BC39)","v":""},{"$f":"IF(ISBLANK('1-12-2.キャッシュフロー表 解決策導入後'!BD39),\"\",'1-12-2.キャッシュフロー表 解決策導入後'!BD39)","v":""},{"$f":"IF(ISBLANK('1-12-2.キャッシュフロー表 解決策導入後'!BE39),\"\",'1-12-2.キャッシュフロー表 解決策導入後'!BE39)","v":""},{"$f":"IF(ISBLANK('1-12-2.キャッシュフロー表 解決策導入後'!BF39),\"\",'1-12-2.キャッシュフロー表 解決策導入後'!BF39)","v":""},{"$f":"IF(ISBLANK('1-12-2.キャッシュフロー表 解決策導入後'!BG39),\"\",'1-12-2.キャッシュフロー表 解決策導入後'!BG39)","v":""},{"$f":"IF(ISBLANK('1-12-2.キャッシュフロー表 解決策導入後'!BH39),\"\",'1-12-2.キャッシュフロー表 解決策導入後'!BH39)","v":""},{"$f":"IF(ISBLANK('1-12-2.キャッシュフロー表 解決策導入後'!BI39),\"\",'1-12-2.キャッシュフロー表 解決策導入後'!BI39)","v":""},{"$f":"IF(ISBLANK('1-12-2.キャッシュフロー表 解決策導入後'!BJ39),\"\",'1-12-2.キャッシュフロー表 解決策導入後'!BJ39)","v":""},{"$f":"IF(ISBLANK('1-12-2.キャッシュフロー表 解決策導入後'!BK39),\"\",'1-12-2.キャッシュフロー表 解決策導入後'!BK39)","v":""},{"$f":"IF(ISBLANK('1-12-2.キャッシュフロー表 解決策導入後'!BL39),\"\",'1-12-2.キャッシュフロー表 解決策導入後'!BL39)","v":""},{"$f":"IF(ISBLANK('1-12-2.キャッシュフロー表 解決策導入後'!BM39),\"\",'1-12-2.キャッシュフロー表 解決策導入後'!BM39)","v":""},{"$f":"IF(ISBLANK('1-12-2.キャッシュフロー表 解決策導入後'!BN39),\"\",'1-12-2.キャッシュフロー表 解決策導入後'!BN39)","v":""},{"$f":"IF(ISBLANK('1-12-2.キャッシュフロー表 解決策導入後'!BO39),\"\",'1-12-2.キャッシュフロー表 解決策導入後'!BO39)","v":""},{"$f":"IF(ISBLANK('1-12-2.キャッシュフロー表 解決策導入後'!BP39),\"\",'1-12-2.キャッシュフロー表 解決策導入後'!BP39)","v":""},{"$f":"IF(ISBLANK('1-12-2.キャッシュフロー表 解決策導入後'!BQ39),\"\",'1-12-2.キャッシュフロー表 解決策導入後'!BQ39)","v":""},{"$f":"IF(ISBLANK('1-12-2.キャッシュフロー表 解決策導入後'!BR39),\"\",'1-12-2.キャッシュフロー表 解決策導入後'!BR39)","v":""},{"$f":"IF(ISBLANK('1-12-2.キャッシュフロー表 解決策導入後'!BS39),\"\",'1-12-2.キャッシュフロー表 解決策導入後'!BS39)","v":""},{"$f":"IF(ISBLANK('1-12-2.キャッシュフロー表 解決策導入後'!BT39),\"\",'1-12-2.キャッシュフロー表 解決策導入後'!BT39)","v":""},{"$f":"IF(ISBLANK('1-12-2.キャッシュフロー表 解決策導入後'!BU39),\"\",'1-12-2.キャッシュフロー表 解決策導入後'!BU39)","v":""},{"$f":"IF(ISBLANK('1-12-2.キャッシュフロー表 解決策導入後'!BV39),\"\",'1-12-2.キャッシュフロー表 解決策導入後'!BV39)","v":""},{"$f":"IF(ISBLANK('1-12-2.キャッシュフロー表 解決策導入後'!BW39),\"\",'1-12-2.キャッシュフロー表 解決策導入後'!BW39)","v":""},{"$f":"IF(ISBLANK('1-12-2.キャッシュフロー表 解決策導入後'!BX39),\"\",'1-12-2.キャッシュフロー表 解決策導入後'!BX39)","v":""},{"$f":"IF(ISBLANK('1-12-2.キャッシュフロー表 解決策導入後'!BY39),\"\",'1-12-2.キャッシュフロー表 解決策導入後'!BY39)","v":""},{"$f":"IF(ISBLANK('1-12-2.キャッシュフロー表 解決策導入後'!BZ39),\"\",'1-12-2.キャッシュフロー表 解決策導入後'!BZ39)","v":""}]
[null,null,null,"支出合計",null,null,null,null,{"$f":"IF(ISBLANK('1-12-2.キャッシュフロー表 解決策導入後'!H40),\"\",'1-12-2.キャッシュフロー表 解決策導入後'!H40)","v":0},{"$f":"IF(ISBLANK('1-12-2.キャッシュフロー表 解決策導入後'!I40),\"\",'1-12-2.キャッシュフロー表 解決策導入後'!I40)","v":0},{"$f":"IF(ISBLANK('1-12-2.キャッシュフロー表 解決策導入後'!J40),\"\",'1-12-2.キャッシュフロー表 解決策導入後'!J40)","v":0},{"$f":"IF(ISBLANK('1-12-2.キャッシュフロー表 解決策導入後'!K40),\"\",'1-12-2.キャッシュフロー表 解決策導入後'!K40)","v":0},{"$f":"IF(ISBLANK('1-12-2.キャッシュフロー表 解決策導入後'!L40),\"\",'1-12-2.キャッシュフロー表 解決策導入後'!L40)","v":0},{"$f":"IF(ISBLANK('1-12-2.キャッシュフロー表 解決策導入後'!M40),\"\",'1-12-2.キャッシュフロー表 解決策導入後'!M40)","v":0},{"$f":"IF(ISBLANK('1-12-2.キャッシュフロー表 解決策導入後'!N40),\"\",'1-12-2.キャッシュフロー表 解決策導入後'!N40)","v":0},{"$f":"IF(ISBLANK('1-12-2.キャッシュフロー表 解決策導入後'!O40),\"\",'1-12-2.キャッシュフロー表 解決策導入後'!O40)","v":0},{"$f":"IF(ISBLANK('1-12-2.キャッシュフロー表 解決策導入後'!P40),\"\",'1-12-2.キャッシュフロー表 解決策導入後'!P40)","v":0},{"$f":"IF(ISBLANK('1-12-2.キャッシュフロー表 解決策導入後'!Q40),\"\",'1-12-2.キャッシュフロー表 解決策導入後'!Q40)","v":0},{"$f":"IF(ISBLANK('1-12-2.キャッシュフロー表 解決策導入後'!R40),\"\",'1-12-2.キャッシュフロー表 解決策導入後'!R40)","v":0},{"$f":"IF(ISBLANK('1-12-2.キャッシュフロー表 解決策導入後'!S40),\"\",'1-12-2.キャッシュフロー表 解決策導入後'!S40)","v":0},{"$f":"IF(ISBLANK('1-12-2.キャッシュフロー表 解決策導入後'!T40),\"\",'1-12-2.キャッシュフロー表 解決策導入後'!T40)","v":0},{"$f":"IF(ISBLANK('1-12-2.キャッシュフロー表 解決策導入後'!U40),\"\",'1-12-2.キャッシュフロー表 解決策導入後'!U40)","v":0},{"$f":"IF(ISBLANK('1-12-2.キャッシュフロー表 解決策導入後'!V40),\"\",'1-12-2.キャッシュフロー表 解決策導入後'!V40)","v":0},{"$f":"IF(ISBLANK('1-12-2.キャッシュフロー表 解決策導入後'!W40),\"\",'1-12-2.キャッシュフロー表 解決策導入後'!W40)","v":0},{"$f":"IF(ISBLANK('1-12-2.キャッシュフロー表 解決策導入後'!X40),\"\",'1-12-2.キャッシュフロー表 解決策導入後'!X40)","v":0},{"$f":"IF(ISBLANK('1-12-2.キャッシュフロー表 解決策導入後'!Y40),\"\",'1-12-2.キャッシュフロー表 解決策導入後'!Y40)","v":0},{"$f":"IF(ISBLANK('1-12-2.キャッシュフロー表 解決策導入後'!Z40),\"\",'1-12-2.キャッシュフロー表 解決策導入後'!Z40)","v":0},{"$f":"IF(ISBLANK('1-12-2.キャッシュフロー表 解決策導入後'!AA40),\"\",'1-12-2.キャッシュフロー表 解決策導入後'!AA40)","v":0},{"$f":"IF(ISBLANK('1-12-2.キャッシュフロー表 解決策導入後'!AB40),\"\",'1-12-2.キャッシュフロー表 解決策導入後'!AB40)","v":0},{"$f":"IF(ISBLANK('1-12-2.キャッシュフロー表 解決策導入後'!AC40),\"\",'1-12-2.キャッシュフロー表 解決策導入後'!AC40)","v":0},{"$f":"IF(ISBLANK('1-12-2.キャッシュフロー表 解決策導入後'!AD40),\"\",'1-12-2.キャッシュフロー表 解決策導入後'!AD40)","v":0},{"$f":"IF(ISBLANK('1-12-2.キャッシュフロー表 解決策導入後'!AE40),\"\",'1-12-2.キャッシュフロー表 解決策導入後'!AE40)","v":0},{"$f":"IF(ISBLANK('1-12-2.キャッシュフロー表 解決策導入後'!AF40),\"\",'1-12-2.キャッシュフロー表 解決策導入後'!AF40)","v":0},{"$f":"IF(ISBLANK('1-12-2.キャッシュフロー表 解決策導入後'!AG40),\"\",'1-12-2.キャッシュフロー表 解決策導入後'!AG40)","v":0},{"$f":"IF(ISBLANK('1-12-2.キャッシュフロー表 解決策導入後'!AH40),\"\",'1-12-2.キャッシュフロー表 解決策導入後'!AH40)","v":0},{"$f":"IF(ISBLANK('1-12-2.キャッシュフロー表 解決策導入後'!AI40),\"\",'1-12-2.キャッシュフロー表 解決策導入後'!AI40)","v":0},{"$f":"IF(ISBLANK('1-12-2.キャッシュフロー表 解決策導入後'!AJ40),\"\",'1-12-2.キャッシュフロー表 解決策導入後'!AJ40)","v":0},{"$f":"IF(ISBLANK('1-12-2.キャッシュフロー表 解決策導入後'!AK40),\"\",'1-12-2.キャッシュフロー表 解決策導入後'!AK40)","v":0},{"$f":"IF(ISBLANK('1-12-2.キャッシュフロー表 解決策導入後'!AL40),\"\",'1-12-2.キャッシュフロー表 解決策導入後'!AL40)","v":0},null,null,null,null,"支出合計",null,null,null,null,{"$f":"IF(ISBLANK('1-12-2.キャッシュフロー表 解決策導入後'!AM40),\"\",'1-12-2.キャッシュフロー表 解決策導入後'!AM40)","v":0},{"$f":"IF(ISBLANK('1-12-2.キャッシュフロー表 解決策導入後'!AN40),\"\",'1-12-2.キャッシュフロー表 解決策導入後'!AN40)","v":0},{"$f":"IF(ISBLANK('1-12-2.キャッシュフロー表 解決策導入後'!AO40),\"\",'1-12-2.キャッシュフロー表 解決策導入後'!AO40)","v":0},{"$f":"IF(ISBLANK('1-12-2.キャッシュフロー表 解決策導入後'!AP40),\"\",'1-12-2.キャッシュフロー表 解決策導入後'!AP40)","v":0},{"$f":"IF(ISBLANK('1-12-2.キャッシュフロー表 解決策導入後'!AQ40),\"\",'1-12-2.キャッシュフロー表 解決策導入後'!AQ40)","v":0},{"$f":"IF(ISBLANK('1-12-2.キャッシュフロー表 解決策導入後'!AR40),\"\",'1-12-2.キャッシュフロー表 解決策導入後'!AR40)","v":0},{"$f":"IF(ISBLANK('1-12-2.キャッシュフロー表 解決策導入後'!AS40),\"\",'1-12-2.キャッシュフロー表 解決策導入後'!AS40)","v":0},{"$f":"IF(ISBLANK('1-12-2.キャッシュフロー表 解決策導入後'!AT40),\"\",'1-12-2.キャッシュフロー表 解決策導入後'!AT40)","v":0},{"$f":"IF(ISBLANK('1-12-2.キャッシュフロー表 解決策導入後'!AU40),\"\",'1-12-2.キャッシュフロー表 解決策導入後'!AU40)","v":0},{"$f":"IF(ISBLANK('1-12-2.キャッシュフロー表 解決策導入後'!AV40),\"\",'1-12-2.キャッシュフロー表 解決策導入後'!AV40)","v":0},{"$f":"IF(ISBLANK('1-12-2.キャッシュフロー表 解決策導入後'!AW40),\"\",'1-12-2.キャッシュフロー表 解決策導入後'!AW40)","v":0},{"$f":"IF(ISBLANK('1-12-2.キャッシュフロー表 解決策導入後'!AX40),\"\",'1-12-2.キャッシュフロー表 解決策導入後'!AX40)","v":0},{"$f":"IF(ISBLANK('1-12-2.キャッシュフロー表 解決策導入後'!AY40),\"\",'1-12-2.キャッシュフロー表 解決策導入後'!AY40)","v":0},{"$f":"IF(ISBLANK('1-12-2.キャッシュフロー表 解決策導入後'!AZ40),\"\",'1-12-2.キャッシュフロー表 解決策導入後'!AZ40)","v":0},{"$f":"IF(ISBLANK('1-12-2.キャッシュフロー表 解決策導入後'!BA40),\"\",'1-12-2.キャッシュフロー表 解決策導入後'!BA40)","v":0},{"$f":"IF(ISBLANK('1-12-2.キャッシュフロー表 解決策導入後'!BB40),\"\",'1-12-2.キャッシュフロー表 解決策導入後'!BB40)","v":0},{"$f":"IF(ISBLANK('1-12-2.キャッシュフロー表 解決策導入後'!BC40),\"\",'1-12-2.キャッシュフロー表 解決策導入後'!BC40)","v":0},{"$f":"IF(ISBLANK('1-12-2.キャッシュフロー表 解決策導入後'!BD40),\"\",'1-12-2.キャッシュフロー表 解決策導入後'!BD40)","v":0},{"$f":"IF(ISBLANK('1-12-2.キャッシュフロー表 解決策導入後'!BE40),\"\",'1-12-2.キャッシュフロー表 解決策導入後'!BE40)","v":0},{"$f":"IF(ISBLANK('1-12-2.キャッシュフロー表 解決策導入後'!BF40),\"\",'1-12-2.キャッシュフロー表 解決策導入後'!BF40)","v":0},{"$f":"IF(ISBLANK('1-12-2.キャッシュフロー表 解決策導入後'!BG40),\"\",'1-12-2.キャッシュフロー表 解決策導入後'!BG40)","v":0},{"$f":"IF(ISBLANK('1-12-2.キャッシュフロー表 解決策導入後'!BH40),\"\",'1-12-2.キャッシュフロー表 解決策導入後'!BH40)","v":0},{"$f":"IF(ISBLANK('1-12-2.キャッシュフロー表 解決策導入後'!BI40),\"\",'1-12-2.キャッシュフロー表 解決策導入後'!BI40)","v":0},{"$f":"IF(ISBLANK('1-12-2.キャッシュフロー表 解決策導入後'!BJ40),\"\",'1-12-2.キャッシュフロー表 解決策導入後'!BJ40)","v":0},{"$f":"IF(ISBLANK('1-12-2.キャッシュフロー表 解決策導入後'!BK40),\"\",'1-12-2.キャッシュフロー表 解決策導入後'!BK40)","v":0},{"$f":"IF(ISBLANK('1-12-2.キャッシュフロー表 解決策導入後'!BL40),\"\",'1-12-2.キャッシュフロー表 解決策導入後'!BL40)","v":0},{"$f":"IF(ISBLANK('1-12-2.キャッシュフロー表 解決策導入後'!BM40),\"\",'1-12-2.キャッシュフロー表 解決策導入後'!BM40)","v":0},{"$f":"IF(ISBLANK('1-12-2.キャッシュフロー表 解決策導入後'!BN40),\"\",'1-12-2.キャッシュフロー表 解決策導入後'!BN40)","v":0},{"$f":"IF(ISBLANK('1-12-2.キャッシュフロー表 解決策導入後'!BO40),\"\",'1-12-2.キャッシュフロー表 解決策導入後'!BO40)","v":0},{"$f":"IF(ISBLANK('1-12-2.キャッシュフロー表 解決策導入後'!BP40),\"\",'1-12-2.キャッシュフロー表 解決策導入後'!BP40)","v":0},{"$f":"IF(ISBLANK('1-12-2.キャッシュフロー表 解決策導入後'!BQ40),\"\",'1-12-2.キャッシュフロー表 解決策導入後'!BQ40)","v":0},{"$f":"IF(ISBLANK('1-12-2.キャッシュフロー表 解決策導入後'!BR40),\"\",'1-12-2.キャッシュフロー表 解決策導入後'!BR40)","v":0},{"$f":"IF(ISBLANK('1-12-2.キャッシュフロー表 解決策導入後'!BS40),\"\",'1-12-2.キャッシュフロー表 解決策導入後'!BS40)","v":0},{"$f":"IF(ISBLANK('1-12-2.キャッシュフロー表 解決策導入後'!BT40),\"\",'1-12-2.キャッシュフロー表 解決策導入後'!BT40)","v":0},{"$f":"IF(ISBLANK('1-12-2.キャッシュフロー表 解決策導入後'!BU40),\"\",'1-12-2.キャッシュフロー表 解決策導入後'!BU40)","v":0},{"$f":"IF(ISBLANK('1-12-2.キャッシュフロー表 解決策導入後'!BV40),\"\",'1-12-2.キャッシュフロー表 解決策導入後'!BV40)","v":0},{"$f":"IF(ISBLANK('1-12-2.キャッシュフロー表 解決策導入後'!BW40),\"\",'1-12-2.キャッシュフロー表 解決策導入後'!BW40)","v":0},{"$f":"IF(ISBLANK('1-12-2.キャッシュフロー表 解決策導入後'!BX40),\"\",'1-12-2.キャッシュフロー表 解決策導入後'!BX40)","v":0},{"$f":"IF(ISBLANK('1-12-2.キャッシュフロー表 解決策導入後'!BY40),\"\",'1-12-2.キャッシュフロー表 解決策導入後'!BY40)","v":0},{"$f":"IF(ISBLANK('1-12-2.キャッシュフロー表 解決策導入後'!BZ40),\"\",'1-12-2.キャッシュフロー表 解決策導入後'!BZ40)","v":0}]
[null,null,"　 年間収支",null,null,null,null,null,{"$f":"IF(ISBLANK('1-12-2.キャッシュフロー表 解決策導入後'!H41),\"\",'1-12-2.キャッシュフロー表 解決策導入後'!H41)","v":0},{"$f":"IF(ISBLANK('1-12-2.キャッシュフロー表 解決策導入後'!I41),\"\",'1-12-2.キャッシュフロー表 解決策導入後'!I41)","v":0},{"$f":"IF(ISBLANK('1-12-2.キャッシュフロー表 解決策導入後'!J41),\"\",'1-12-2.キャッシュフロー表 解決策導入後'!J41)","v":0},{"$f":"IF(ISBLANK('1-12-2.キャッシュフロー表 解決策導入後'!K41),\"\",'1-12-2.キャッシュフロー表 解決策導入後'!K41)","v":0},{"$f":"IF(ISBLANK('1-12-2.キャッシュフロー表 解決策導入後'!L41),\"\",'1-12-2.キャッシュフロー表 解決策導入後'!L41)","v":0},{"$f":"IF(ISBLANK('1-12-2.キャッシュフロー表 解決策導入後'!M41),\"\",'1-12-2.キャッシュフロー表 解決策導入後'!M41)","v":0},{"$f":"IF(ISBLANK('1-12-2.キャッシュフロー表 解決策導入後'!N41),\"\",'1-12-2.キャッシュフロー表 解決策導入後'!N41)","v":0},{"$f":"IF(ISBLANK('1-12-2.キャッシュフロー表 解決策導入後'!O41),\"\",'1-12-2.キャッシュフロー表 解決策導入後'!O41)","v":0},{"$f":"IF(ISBLANK('1-12-2.キャッシュフロー表 解決策導入後'!P41),\"\",'1-12-2.キャッシュフロー表 解決策導入後'!P41)","v":0},{"$f":"IF(ISBLANK('1-12-2.キャッシュフロー表 解決策導入後'!Q41),\"\",'1-12-2.キャッシュフロー表 解決策導入後'!Q41)","v":0},{"$f":"IF(ISBLANK('1-12-2.キャッシュフロー表 解決策導入後'!R41),\"\",'1-12-2.キャッシュフロー表 解決策導入後'!R41)","v":0},{"$f":"IF(ISBLANK('1-12-2.キャッシュフロー表 解決策導入後'!S41),\"\",'1-12-2.キャッシュフロー表 解決策導入後'!S41)","v":0},{"$f":"IF(ISBLANK('1-12-2.キャッシュフロー表 解決策導入後'!T41),\"\",'1-12-2.キャッシュフロー表 解決策導入後'!T41)","v":0},{"$f":"IF(ISBLANK('1-12-2.キャッシュフロー表 解決策導入後'!U41),\"\",'1-12-2.キャッシュフロー表 解決策導入後'!U41)","v":0},{"$f":"IF(ISBLANK('1-12-2.キャッシュフロー表 解決策導入後'!V41),\"\",'1-12-2.キャッシュフロー表 解決策導入後'!V41)","v":0},{"$f":"IF(ISBLANK('1-12-2.キャッシュフロー表 解決策導入後'!W41),\"\",'1-12-2.キャッシュフロー表 解決策導入後'!W41)","v":0},{"$f":"IF(ISBLANK('1-12-2.キャッシュフロー表 解決策導入後'!X41),\"\",'1-12-2.キャッシュフロー表 解決策導入後'!X41)","v":0},{"$f":"IF(ISBLANK('1-12-2.キャッシュフロー表 解決策導入後'!Y41),\"\",'1-12-2.キャッシュフロー表 解決策導入後'!Y41)","v":0},{"$f":"IF(ISBLANK('1-12-2.キャッシュフロー表 解決策導入後'!Z41),\"\",'1-12-2.キャッシュフロー表 解決策導入後'!Z41)","v":0},{"$f":"IF(ISBLANK('1-12-2.キャッシュフロー表 解決策導入後'!AA41),\"\",'1-12-2.キャッシュフロー表 解決策導入後'!AA41)","v":0},{"$f":"IF(ISBLANK('1-12-2.キャッシュフロー表 解決策導入後'!AB41),\"\",'1-12-2.キャッシュフロー表 解決策導入後'!AB41)","v":0},{"$f":"IF(ISBLANK('1-12-2.キャッシュフロー表 解決策導入後'!AC41),\"\",'1-12-2.キャッシュフロー表 解決策導入後'!AC41)","v":0},{"$f":"IF(ISBLANK('1-12-2.キャッシュフロー表 解決策導入後'!AD41),\"\",'1-12-2.キャッシュフロー表 解決策導入後'!AD41)","v":0},{"$f":"IF(ISBLANK('1-12-2.キャッシュフロー表 解決策導入後'!AE41),\"\",'1-12-2.キャッシュフロー表 解決策導入後'!AE41)","v":0},{"$f":"IF(ISBLANK('1-12-2.キャッシュフロー表 解決策導入後'!AF41),\"\",'1-12-2.キャッシュフロー表 解決策導入後'!AF41)","v":0},{"$f":"IF(ISBLANK('1-12-2.キャッシュフロー表 解決策導入後'!AG41),\"\",'1-12-2.キャッシュフロー表 解決策導入後'!AG41)","v":0},{"$f":"IF(ISBLANK('1-12-2.キャッシュフロー表 解決策導入後'!AH41),\"\",'1-12-2.キャッシュフロー表 解決策導入後'!AH41)","v":0},{"$f":"IF(ISBLANK('1-12-2.キャッシュフロー表 解決策導入後'!AI41),\"\",'1-12-2.キャッシュフロー表 解決策導入後'!AI41)","v":0},{"$f":"IF(ISBLANK('1-12-2.キャッシュフロー表 解決策導入後'!AJ41),\"\",'1-12-2.キャッシュフロー表 解決策導入後'!AJ41)","v":0},{"$f":"IF(ISBLANK('1-12-2.キャッシュフロー表 解決策導入後'!AK41),\"\",'1-12-2.キャッシュフロー表 解決策導入後'!AK41)","v":0},{"$f":"IF(ISBLANK('1-12-2.キャッシュフロー表 解決策導入後'!AL41),\"\",'1-12-2.キャッシュフロー表 解決策導入後'!AL41)","v":0},null,null,null,"　 年間収支",null,null,null,null,null,{"$f":"IF(ISBLANK('1-12-2.キャッシュフロー表 解決策導入後'!AM41),\"\",'1-12-2.キャッシュフロー表 解決策導入後'!AM41)","v":0},{"$f":"IF(ISBLANK('1-12-2.キャッシュフロー表 解決策導入後'!AN41),\"\",'1-12-2.キャッシュフロー表 解決策導入後'!AN41)","v":0},{"$f":"IF(ISBLANK('1-12-2.キャッシュフロー表 解決策導入後'!AO41),\"\",'1-12-2.キャッシュフロー表 解決策導入後'!AO41)","v":0},{"$f":"IF(ISBLANK('1-12-2.キャッシュフロー表 解決策導入後'!AP41),\"\",'1-12-2.キャッシュフロー表 解決策導入後'!AP41)","v":0},{"$f":"IF(ISBLANK('1-12-2.キャッシュフロー表 解決策導入後'!AQ41),\"\",'1-12-2.キャッシュフロー表 解決策導入後'!AQ41)","v":0},{"$f":"IF(ISBLANK('1-12-2.キャッシュフロー表 解決策導入後'!AR41),\"\",'1-12-2.キャッシュフロー表 解決策導入後'!AR41)","v":0},{"$f":"IF(ISBLANK('1-12-2.キャッシュフロー表 解決策導入後'!AS41),\"\",'1-12-2.キャッシュフロー表 解決策導入後'!AS41)","v":0},{"$f":"IF(ISBLANK('1-12-2.キャッシュフロー表 解決策導入後'!AT41),\"\",'1-12-2.キャッシュフロー表 解決策導入後'!AT41)","v":0},{"$f":"IF(ISBLANK('1-12-2.キャッシュフロー表 解決策導入後'!AU41),\"\",'1-12-2.キャッシュフロー表 解決策導入後'!AU41)","v":0},{"$f":"IF(ISBLANK('1-12-2.キャッシュフロー表 解決策導入後'!AV41),\"\",'1-12-2.キャッシュフロー表 解決策導入後'!AV41)","v":0},{"$f":"IF(ISBLANK('1-12-2.キャッシュフロー表 解決策導入後'!AW41),\"\",'1-12-2.キャッシュフロー表 解決策導入後'!AW41)","v":0},{"$f":"IF(ISBLANK('1-12-2.キャッシュフロー表 解決策導入後'!AX41),\"\",'1-12-2.キャッシュフロー表 解決策導入後'!AX41)","v":0},{"$f":"IF(ISBLANK('1-12-2.キャッシュフロー表 解決策導入後'!AY41),\"\",'1-12-2.キャッシュフロー表 解決策導入後'!AY41)","v":0},{"$f":"IF(ISBLANK('1-12-2.キャッシュフロー表 解決策導入後'!AZ41),\"\",'1-12-2.キャッシュフロー表 解決策導入後'!AZ41)","v":0},{"$f":"IF(ISBLANK('1-12-2.キャッシュフロー表 解決策導入後'!BA41),\"\",'1-12-2.キャッシュフロー表 解決策導入後'!BA41)","v":0},{"$f":"IF(ISBLANK('1-12-2.キャッシュフロー表 解決策導入後'!BB41),\"\",'1-12-2.キャッシュフロー表 解決策導入後'!BB41)","v":0},{"$f":"IF(ISBLANK('1-12-2.キャッシュフロー表 解決策導入後'!BC41),\"\",'1-12-2.キャッシュフロー表 解決策導入後'!BC41)","v":0},{"$f":"IF(ISBLANK('1-12-2.キャッシュフロー表 解決策導入後'!BD41),\"\",'1-12-2.キャッシュフロー表 解決策導入後'!BD41)","v":0},{"$f":"IF(ISBLANK('1-12-2.キャッシュフロー表 解決策導入後'!BE41),\"\",'1-12-2.キャッシュフロー表 解決策導入後'!BE41)","v":0},{"$f":"IF(ISBLANK('1-12-2.キャッシュフロー表 解決策導入後'!BF41),\"\",'1-12-2.キャッシュフロー表 解決策導入後'!BF41)","v":0},{"$f":"IF(ISBLANK('1-12-2.キャッシュフロー表 解決策導入後'!BG41),\"\",'1-12-2.キャッシュフロー表 解決策導入後'!BG41)","v":0},{"$f":"IF(ISBLANK('1-12-2.キャッシュフロー表 解決策導入後'!BH41),\"\",'1-12-2.キャッシュフロー表 解決策導入後'!BH41)","v":0},{"$f":"IF(ISBLANK('1-12-2.キャッシュフロー表 解決策導入後'!BI41),\"\",'1-12-2.キャッシュフロー表 解決策導入後'!BI41)","v":0},{"$f":"IF(ISBLANK('1-12-2.キャッシュフロー表 解決策導入後'!BJ41),\"\",'1-12-2.キャッシュフロー表 解決策導入後'!BJ41)","v":0},{"$f":"IF(ISBLANK('1-12-2.キャッシュフロー表 解決策導入後'!BK41),\"\",'1-12-2.キャッシュフロー表 解決策導入後'!BK41)","v":0},{"$f":"IF(ISBLANK('1-12-2.キャッシュフロー表 解決策導入後'!BL41),\"\",'1-12-2.キャッシュフロー表 解決策導入後'!BL41)","v":0},{"$f":"IF(ISBLANK('1-12-2.キャッシュフロー表 解決策導入後'!BM41),\"\",'1-12-2.キャッシュフロー表 解決策導入後'!BM41)","v":0},{"$f":"IF(ISBLANK('1-12-2.キャッシュフロー表 解決策導入後'!BN41),\"\",'1-12-2.キャッシュフロー表 解決策導入後'!BN41)","v":0},{"$f":"IF(ISBLANK('1-12-2.キャッシュフロー表 解決策導入後'!BO41),\"\",'1-12-2.キャッシュフロー表 解決策導入後'!BO41)","v":0},{"$f":"IF(ISBLANK('1-12-2.キャッシュフロー表 解決策導入後'!BP41),\"\",'1-12-2.キャッシュフロー表 解決策導入後'!BP41)","v":0},{"$f":"IF(ISBLANK('1-12-2.キャッシュフロー表 解決策導入後'!BQ41),\"\",'1-12-2.キャッシュフロー表 解決策導入後'!BQ41)","v":0},{"$f":"IF(ISBLANK('1-12-2.キャッシュフロー表 解決策導入後'!BR41),\"\",'1-12-2.キャッシュフロー表 解決策導入後'!BR41)","v":0},{"$f":"IF(ISBLANK('1-12-2.キャッシュフロー表 解決策導入後'!BS41),\"\",'1-12-2.キャッシュフロー表 解決策導入後'!BS41)","v":0},{"$f":"IF(ISBLANK('1-12-2.キャッシュフロー表 解決策導入後'!BT41),\"\",'1-12-2.キャッシュフロー表 解決策導入後'!BT41)","v":0},{"$f":"IF(ISBLANK('1-12-2.キャッシュフロー表 解決策導入後'!BU41),\"\",'1-12-2.キャッシュフロー表 解決策導入後'!BU41)","v":0},{"$f":"IF(ISBLANK('1-12-2.キャッシュフロー表 解決策導入後'!BV41),\"\",'1-12-2.キャッシュフロー表 解決策導入後'!BV41)","v":0},{"$f":"IF(ISBLANK('1-12-2.キャッシュフロー表 解決策導入後'!BW41),\"\",'1-12-2.キャッシュフロー表 解決策導入後'!BW41)","v":0},{"$f":"IF(ISBLANK('1-12-2.キャッシュフロー表 解決策導入後'!BX41),\"\",'1-12-2.キャッシュフロー表 解決策導入後'!BX41)","v":0},{"$f":"IF(ISBLANK('1-12-2.キャッシュフロー表 解決策導入後'!BY41),\"\",'1-12-2.キャッシュフロー表 解決策導入後'!BY41)","v":0},{"$f":"IF(ISBLANK('1-12-2.キャッシュフロー表 解決策導入後'!BZ41),\"\",'1-12-2.キャッシュフロー表 解決策導入後'!BZ41)","v":0}]
[null,null,"　　　　 貯蓄残高",null,null,null,null,{"$f":"IF(ISBLANK('1-12-2.キャッシュフロー表 解決策導入後'!E42),\"\",'1-12-2.キャッシュフロー表 解決策導入後'!E42)","v":0},{"$f":"IF(ISBLANK('1-12-2.キャッシュフロー表 解決策導入後'!H42),\"\",'1-12-2.キャッシュフロー表 解決策導入後'!H42)","v":0},{"$f":"IF(ISBLANK('1-12-2.キャッシュフロー表 解決策導入後'!I42),\"\",'1-12-2.キャッシュフロー表 解決策導入後'!I42)","v":0},{"$f":"IF(ISBLANK('1-12-2.キャッシュフロー表 解決策導入後'!J42),\"\",'1-12-2.キャッシュフロー表 解決策導入後'!J42)","v":0},{"$f":"IF(ISBLANK('1-12-2.キャッシュフロー表 解決策導入後'!K42),\"\",'1-12-2.キャッシュフロー表 解決策導入後'!K42)","v":0},{"$f":"IF(ISBLANK('1-12-2.キャッシュフロー表 解決策導入後'!L42),\"\",'1-12-2.キャッシュフロー表 解決策導入後'!L42)","v":0},{"$f":"IF(ISBLANK('1-12-2.キャッシュフロー表 解決策導入後'!M42),\"\",'1-12-2.キャッシュフロー表 解決策導入後'!M42)","v":0},{"$f":"IF(ISBLANK('1-12-2.キャッシュフロー表 解決策導入後'!N42),\"\",'1-12-2.キャッシュフロー表 解決策導入後'!N42)","v":0},{"$f":"IF(ISBLANK('1-12-2.キャッシュフロー表 解決策導入後'!O42),\"\",'1-12-2.キャッシュフロー表 解決策導入後'!O42)","v":0},{"$f":"IF(ISBLANK('1-12-2.キャッシュフロー表 解決策導入後'!P42),\"\",'1-12-2.キャッシュフロー表 解決策導入後'!P42)","v":0},{"$f":"IF(ISBLANK('1-12-2.キャッシュフロー表 解決策導入後'!Q42),\"\",'1-12-2.キャッシュフロー表 解決策導入後'!Q42)","v":0},{"$f":"IF(ISBLANK('1-12-2.キャッシュフロー表 解決策導入後'!R42),\"\",'1-12-2.キャッシュフロー表 解決策導入後'!R42)","v":0},{"$f":"IF(ISBLANK('1-12-2.キャッシュフロー表 解決策導入後'!S42),\"\",'1-12-2.キャッシュフロー表 解決策導入後'!S42)","v":0},{"$f":"IF(ISBLANK('1-12-2.キャッシュフロー表 解決策導入後'!T42),\"\",'1-12-2.キャッシュフロー表 解決策導入後'!T42)","v":0},{"$f":"IF(ISBLANK('1-12-2.キャッシュフロー表 解決策導入後'!U42),\"\",'1-12-2.キャッシュフロー表 解決策導入後'!U42)","v":0},{"$f":"IF(ISBLANK('1-12-2.キャッシュフロー表 解決策導入後'!V42),\"\",'1-12-2.キャッシュフロー表 解決策導入後'!V42)","v":0},{"$f":"IF(ISBLANK('1-12-2.キャッシュフロー表 解決策導入後'!W42),\"\",'1-12-2.キャッシュフロー表 解決策導入後'!W42)","v":0},{"$f":"IF(ISBLANK('1-12-2.キャッシュフロー表 解決策導入後'!X42),\"\",'1-12-2.キャッシュフロー表 解決策導入後'!X42)","v":0},{"$f":"IF(ISBLANK('1-12-2.キャッシュフロー表 解決策導入後'!Y42),\"\",'1-12-2.キャッシュフロー表 解決策導入後'!Y42)","v":0},{"$f":"IF(ISBLANK('1-12-2.キャッシュフロー表 解決策導入後'!Z42),\"\",'1-12-2.キャッシュフロー表 解決策導入後'!Z42)","v":0},{"$f":"IF(ISBLANK('1-12-2.キャッシュフロー表 解決策導入後'!AA42),\"\",'1-12-2.キャッシュフロー表 解決策導入後'!AA42)","v":0},{"$f":"IF(ISBLANK('1-12-2.キャッシュフロー表 解決策導入後'!AB42),\"\",'1-12-2.キャッシュフロー表 解決策導入後'!AB42)","v":0},{"$f":"IF(ISBLANK('1-12-2.キャッシュフロー表 解決策導入後'!AC42),\"\",'1-12-2.キャッシュフロー表 解決策導入後'!AC42)","v":0},{"$f":"IF(ISBLANK('1-12-2.キャッシュフロー表 解決策導入後'!AD42),\"\",'1-12-2.キャッシュフロー表 解決策導入後'!AD42)","v":0},{"$f":"IF(ISBLANK('1-12-2.キャッシュフロー表 解決策導入後'!AE42),\"\",'1-12-2.キャッシュフロー表 解決策導入後'!AE42)","v":0},{"$f":"IF(ISBLANK('1-12-2.キャッシュフロー表 解決策導入後'!AF42),\"\",'1-12-2.キャッシュフロー表 解決策導入後'!AF42)","v":0},{"$f":"IF(ISBLANK('1-12-2.キャッシュフロー表 解決策導入後'!AG42),\"\",'1-12-2.キャッシュフロー表 解決策導入後'!AG42)","v":0},{"$f":"IF(ISBLANK('1-12-2.キャッシュフロー表 解決策導入後'!AH42),\"\",'1-12-2.キャッシュフロー表 解決策導入後'!AH42)","v":0},{"$f":"IF(ISBLANK('1-12-2.キャッシュフロー表 解決策導入後'!AI42),\"\",'1-12-2.キャッシュフロー表 解決策導入後'!AI42)","v":0},{"$f":"IF(ISBLANK('1-12-2.キャッシュフロー表 解決策導入後'!AJ42),\"\",'1-12-2.キャッシュフロー表 解決策導入後'!AJ42)","v":0},{"$f":"IF(ISBLANK('1-12-2.キャッシュフロー表 解決策導入後'!AK42),\"\",'1-12-2.キャッシュフロー表 解決策導入後'!AK42)","v":0},{"$f":"IF(ISBLANK('1-12-2.キャッシュフロー表 解決策導入後'!AL42),\"\",'1-12-2.キャッシュフロー表 解決策導入後'!AL42)","v":0},null,null,null,"　　　　 貯蓄残高",null,null,null,null,{"$f":"IF(ISBLANK('1-12-2.キャッシュフロー表 解決策導入後'!E42),\"\",'1-12-2.キャッシュフロー表 解決策導入後'!E42)","v":0},{"$f":"IF(ISBLANK('1-12-2.キャッシュフロー表 解決策導入後'!AM42),\"\",'1-12-2.キャッシュフロー表 解決策導入後'!AM42)","v":0},{"$f":"IF(ISBLANK('1-12-2.キャッシュフロー表 解決策導入後'!AN42),\"\",'1-12-2.キャッシュフロー表 解決策導入後'!AN42)","v":0},{"$f":"IF(ISBLANK('1-12-2.キャッシュフロー表 解決策導入後'!AO42),\"\",'1-12-2.キャッシュフロー表 解決策導入後'!AO42)","v":0},{"$f":"IF(ISBLANK('1-12-2.キャッシュフロー表 解決策導入後'!AP42),\"\",'1-12-2.キャッシュフロー表 解決策導入後'!AP42)","v":0},{"$f":"IF(ISBLANK('1-12-2.キャッシュフロー表 解決策導入後'!AQ42),\"\",'1-12-2.キャッシュフロー表 解決策導入後'!AQ42)","v":0},{"$f":"IF(ISBLANK('1-12-2.キャッシュフロー表 解決策導入後'!AR42),\"\",'1-12-2.キャッシュフロー表 解決策導入後'!AR42)","v":0},{"$f":"IF(ISBLANK('1-12-2.キャッシュフロー表 解決策導入後'!AS42),\"\",'1-12-2.キャッシュフロー表 解決策導入後'!AS42)","v":0},{"$f":"IF(ISBLANK('1-12-2.キャッシュフロー表 解決策導入後'!AT42),\"\",'1-12-2.キャッシュフロー表 解決策導入後'!AT42)","v":0},{"$f":"IF(ISBLANK('1-12-2.キャッシュフロー表 解決策導入後'!AU42),\"\",'1-12-2.キャッシュフロー表 解決策導入後'!AU42)","v":0},{"$f":"IF(ISBLANK('1-12-2.キャッシュフロー表 解決策導入後'!AV42),\"\",'1-12-2.キャッシュフロー表 解決策導入後'!AV42)","v":0},{"$f":"IF(ISBLANK('1-12-2.キャッシュフロー表 解決策導入後'!AW42),\"\",'1-12-2.キャッシュフロー表 解決策導入後'!AW42)","v":0},{"$f":"IF(ISBLANK('1-12-2.キャッシュフロー表 解決策導入後'!AX42),\"\",'1-12-2.キャッシュフロー表 解決策導入後'!AX42)","v":0},{"$f":"IF(ISBLANK('1-12-2.キャッシュフロー表 解決策導入後'!AY42),\"\",'1-12-2.キャッシュフロー表 解決策導入後'!AY42)","v":0},{"$f":"IF(ISBLANK('1-12-2.キャッシュフロー表 解決策導入後'!AZ42),\"\",'1-12-2.キャッシュフロー表 解決策導入後'!AZ42)","v":0},{"$f":"IF(ISBLANK('1-12-2.キャッシュフロー表 解決策導入後'!BA42),\"\",'1-12-2.キャッシュフロー表 解決策導入後'!BA42)","v":0},{"$f":"IF(ISBLANK('1-12-2.キャッシュフロー表 解決策導入後'!BB42),\"\",'1-12-2.キャッシュフロー表 解決策導入後'!BB42)","v":0},{"$f":"IF(ISBLANK('1-12-2.キャッシュフロー表 解決策導入後'!BC42),\"\",'1-12-2.キャッシュフロー表 解決策導入後'!BC42)","v":0},{"$f":"IF(ISBLANK('1-12-2.キャッシュフロー表 解決策導入後'!BD42),\"\",'1-12-2.キャッシュフロー表 解決策導入後'!BD42)","v":0},{"$f":"IF(ISBLANK('1-12-2.キャッシュフロー表 解決策導入後'!BE42),\"\",'1-12-2.キャッシュフロー表 解決策導入後'!BE42)","v":0},{"$f":"IF(ISBLANK('1-12-2.キャッシュフロー表 解決策導入後'!BF42),\"\",'1-12-2.キャッシュフロー表 解決策導入後'!BF42)","v":0},{"$f":"IF(ISBLANK('1-12-2.キャッシュフロー表 解決策導入後'!BG42),\"\",'1-12-2.キャッシュフロー表 解決策導入後'!BG42)","v":0},{"$f":"IF(ISBLANK('1-12-2.キャッシュフロー表 解決策導入後'!BH42),\"\",'1-12-2.キャッシュフロー表 解決策導入後'!BH42)","v":0},{"$f":"IF(ISBLANK('1-12-2.キャッシュフロー表 解決策導入後'!BI42),\"\",'1-12-2.キャッシュフロー表 解決策導入後'!BI42)","v":0},{"$f":"IF(ISBLANK('1-12-2.キャッシュフロー表 解決策導入後'!BJ42),\"\",'1-12-2.キャッシュフロー表 解決策導入後'!BJ42)","v":0},{"$f":"IF(ISBLANK('1-12-2.キャッシュフロー表 解決策導入後'!BK42),\"\",'1-12-2.キャッシュフロー表 解決策導入後'!BK42)","v":0},{"$f":"IF(ISBLANK('1-12-2.キャッシュフロー表 解決策導入後'!BL42),\"\",'1-12-2.キャッシュフロー表 解決策導入後'!BL42)","v":0},{"$f":"IF(ISBLANK('1-12-2.キャッシュフロー表 解決策導入後'!BM42),\"\",'1-12-2.キャッシュフロー表 解決策導入後'!BM42)","v":0},{"$f":"IF(ISBLANK('1-12-2.キャッシュフロー表 解決策導入後'!BN42),\"\",'1-12-2.キャッシュフロー表 解決策導入後'!BN42)","v":0},{"$f":"IF(ISBLANK('1-12-2.キャッシュフロー表 解決策導入後'!BO42),\"\",'1-12-2.キャッシュフロー表 解決策導入後'!BO42)","v":0},{"$f":"IF(ISBLANK('1-12-2.キャッシュフロー表 解決策導入後'!BP42),\"\",'1-12-2.キャッシュフロー表 解決策導入後'!BP42)","v":0},{"$f":"IF(ISBLANK('1-12-2.キャッシュフロー表 解決策導入後'!BQ42),\"\",'1-12-2.キャッシュフロー表 解決策導入後'!BQ42)","v":0},{"$f":"IF(ISBLANK('1-12-2.キャッシュフロー表 解決策導入後'!BR42),\"\",'1-12-2.キャッシュフロー表 解決策導入後'!BR42)","v":0},{"$f":"IF(ISBLANK('1-12-2.キャッシュフロー表 解決策導入後'!BS42),\"\",'1-12-2.キャッシュフロー表 解決策導入後'!BS42)","v":0},{"$f":"IF(ISBLANK('1-12-2.キャッシュフロー表 解決策導入後'!BT42),\"\",'1-12-2.キャッシュフロー表 解決策導入後'!BT42)","v":0},{"$f":"IF(ISBLANK('1-12-2.キャッシュフロー表 解決策導入後'!BU42),\"\",'1-12-2.キャッシュフロー表 解決策導入後'!BU42)","v":0},{"$f":"IF(ISBLANK('1-12-2.キャッシュフロー表 解決策導入後'!BV42),\"\",'1-12-2.キャッシュフロー表 解決策導入後'!BV42)","v":0},{"$f":"IF(ISBLANK('1-12-2.キャッシュフロー表 解決策導入後'!BW42),\"\",'1-12-2.キャッシュフロー表 解決策導入後'!BW42)","v":0},{"$f":"IF(ISBLANK('1-12-2.キャッシュフロー表 解決策導入後'!BX42),\"\",'1-12-2.キャッシュフロー表 解決策導入後'!BX42)","v":0},{"$f":"IF(ISBLANK('1-12-2.キャッシュフロー表 解決策導入後'!BY42),\"\",'1-12-2.キャッシュフロー表 解決策導入後'!BY42)","v":0},{"$f":"IF(ISBLANK('1-12-2.キャッシュフロー表 解決策導入後'!BZ42),\"\",'1-12-2.キャッシュフロー表 解決策導入後'!BZ42)","v":0}]

{"sheet":"2-16.対策後の年間収支と貯蓄残高の推移","index":28,"n_rows":28,"n_cols":115,"rows_kept":28,"cut":false,"hidden":false,"merged":[[5,3,19,37],[25,3,39,37]]}
[]
[]
[null,null,"対策後の年間収支と貯蓄残高の推移"]
[]
[null,null,null,null,null,null,null,null,null,null,null,null,null,null,null,null,null,null,null,null,null,null,null,null,null,null,null,null,null,null,null,null,null,null,null,null,null,null,null,null,null,null,null,null,"[貯蓄残高]"]
[null,null,null,"グラフの出力中です",null,null,null,null,null,null,null,null,null,null,null,null,null,null,null,null,null,null,null,null,null,null,null,null,null,null,null,null,null,null,null,null,null,null,null,null,null,null,null,"西暦",{"$f":"IF(ISBLANK('1-12-2.キャッシュフロー表 解決策導入後'!H11),\"\",'1-12-2.キャッシュフロー表 解決策導入後'!H11)","v":""},{"$f":"IF(ISBLANK('1-12-2.キャッシュフロー表 解決策導入後'!I11),\"\",'1-12-2.キャッシュフロー表 解決策導入後'!I11)","v":""},{"$f":"IF(ISBLANK('1-12-2.キャッシュフロー表 解決策導入後'!J11),\"\",'1-12-2.キャッシュフロー表 解決策導入後'!J11)","v":""},{"$f":"IF(ISBLANK('1-12-2.キャッシュフロー表 解決策導入後'!K11),\"\",'1-12-2.キャッシュフロー表 解決策導入後'!K11)","v":""},{"$f":"IF(ISBLANK('1-12-2.キャッシュフロー表 解決策導入後'!L11),\"\",'1-12-2.キャッシュフロー表 解決策導入後'!L11)","v":""},{"$f":"IF(ISBLANK('1-12-2.キャッシュフロー表 解決策導入後'!M11),\"\",'1-12-2.キャッシュフロー表 解決策導入後'!M11)","v":""},{"$f":"IF(ISBLANK('1-12-2.キャッシュフロー表 解決策導入後'!N11),\"\",'1-12-2.キャッシュフロー表 解決策導入後'!N11)","v":""},{"$f":"IF(ISBLANK('1-12-2.キャッシュフロー表 解決策導入後'!O11),\"\",'1-12-2.キャッシュフロー表 解決策導入後'!O11)","v":""},{"$f":"IF(ISBLANK('1-12-2.キャッシュフロー表 解決策導入後'!P11),\"\",'1-12-2.キャッシュフロー表 解決策導入後'!P11)","v":""},{"$f":"IF(ISBLANK('1-12-2.キャッシュフロー表 解決策導入後'!Q11),\"\",'1-12-2.キャッシュフロー表 解決策導入後'!Q11)","v":""},{"$f":"IF(ISBLANK('1-12-2.キャッシュフロー表 解決策導入後'!R11),\"\",'1-12-2.キャッシュフロー表 解決策導入後'!R11)","v":""},{"$f":"IF(ISBLANK('1-12-2.キャッシュフロー表 解決策導入後'!S11),\"\",'1-12-2.キャッシュフロー表 解決策導入後'!S11)","v":""},{"$f":"IF(ISBLANK('1-12-2.キャッシュフロー表 解決策導入後'!T11),\"\",'1-12-2.キャッシュフロー表 解決策導入後'!T11)","v":""},{"$f":"IF(ISBLANK('1-12-2.キャッシュフロー表 解決策導入後'!U11),\"\",'1-12-2.キャッシュフロー表 解決策導入後'!U11)","v":""},{"$f":"IF(ISBLANK('1-12-2.キャッシュフロー表 解決策導入後'!V11),\"\",'1-12-2.キャッシュフロー表 解決策導入後'!V11)","v":""},{"$f":"IF(ISBLANK('1-12-2.キャッシュフロー表 解決策導入後'!W11),\"\",'1-12-2.キャッシュフロー表 解決策導入後'!W11)","v":""},{"$f":"IF(ISBLANK('1-12-2.キャッシュフロー表 解決策導入後'!X11),\"\",'1-12-2.キャッシュフロー表 解決策導入後'!X11)","v":""},{"$f":"IF(ISBLANK('1-12-2.キャッシュフロー表 解決策導入後'!Y11),\"\",'1-12-2.キャッシュフロー表 解決策導入後'!Y11)","v":""},{"$f":"IF(ISBLANK('1-12-2.キャッシュフロー表 解決策導入後'!Z11),\"\",'1-12-2.キャッシュフロー表 解決策導入後'!Z11)","v":""},{"$f":"IF(ISBLANK('1-12-2.キャッシュフロー表 解決策導入後'!AA11),\"\",'1-12-2.キャッシュフロー表 解決策導入後'!AA11)","v":""},{"$f":"IF(ISBLANK('1-12-2.キャッシュフロー表 解決策導入後'!AB11),\"\",'1-12-2.キャッシュフロー表 解決策導入後'!AB11)","v":""},{"$f":"IF(ISBLANK('1-12-2.キャッシュフロー表 解決策導入後'!AC11),\"\",'1-12-2.キャッシュフロー表 解決策導入後'!AC11)","v":""},{"$f":"IF(ISBLANK('1-12-2.キャッシュフロー表 解決策導入後'!AD11),\"\",'1-12-2.キャッシュフロー表 解決策導入後'!AD11)","v":""},{"$f":"IF(ISBLANK('1-12-2.キャッシュフロー表 解決策導入後'!AE11),\"\",'1-12-2.キャッシュフロー表 解決策導入後'!AE11)","v":""},{"$f":"IF(ISBLANK('1-12-2.キャッシュフロー表 解決策導入後'!AF11),\"\",'1-12-2.キャッシュフロー表 解決策導入後'!AF11)","v":""},{"$f":"IF(ISBLANK('1-12-2.キャッシュフロー表 解決策導入後'!AG11),\"\",'1-12-2.キャッシュフロー表 解決策導入後'!AG11)","v":""},{"$f":"IF(ISBLANK('1-12-2.キャッシュフロー表 解決策導入後'!AH11),\"\",'1-12-2.キャッシュフロー表 解決策導入後'!AH11)","v":""},{"$f":"IF(ISBLANK('1-12-2.キャッシュフロー表 解決策導入後'!AI11),\"\",'1-12-2.キャッシュフロー表 解決策導入後'!AI11)","v":""},{"$f":"IF(ISBLANK('1-12-2.キャッシュフロー表 解決策導入後'!AJ11),\"\",'1-12-2.キャッシュフロー表 解決策導入後'!AJ11)","v":""},{"$f":"IF(ISBLANK('1-12-2.キャッシュフロー表 解決策導入後'!AK11),\"\",'1-12-2.キャッシュフロー表 解決策導入後'!AK11)","v":""},{"$f":"IF(ISBLANK('1-12-2.キャッシュフロー表 解決策導入後'!AL11),\"\",'1-12-2.キャッシュフロー表 解決策導入後'!AL11)","v":""},{"$f":"IF(ISBLANK('1-12-2.キャッシュフロー表 解決策導入後'!AM11),\"\",'1-12-2.キャッシュフロー表 解決策導入後'!AM11)","v":""},{"$f":"IF(ISBLANK('1-12-2.キャッシュフロー表 解決策導入後'!AN11),\"\",'1-12-2.キャッシュフロー表 解決策導入後'!AN11)","v":""},{"$f":"IF(ISBLANK('1-12-2.キャッシュフロー表 解決策導入後'!AO11),\"\",'1-12-2.キャッシュフロー表 解決策導入後'!AO11)","v":""},{"$f":"IF(ISBLANK('1-12-2.キャッシュフロー表 解決策導入後'!AP11),\"\",'1-12-2.キャッシュフロー表 解決策導入後'!AP11)","v":""},{"$f":"IF(ISBLANK('1-12-2.キャッシュフロー表 解決策導入後'!AQ11),\"\",'1-12-2.キャッシュフロー表 解決策導入後'!AQ11)","v":""},{"$f":"IF(ISBLANK('1-12-2.キャッシュフロー表 解決策導入後'!AR11),\"\",'1-12-2.キャッシュフロー表 解決策導入後'!AR11)","v":""},{"$f":"IF(ISBLANK('1-12-2.キャッシュフロー表 解決策導入後'!AS11),\"\",'1-12-2.キャッシュフロー表 解決策導入後'!AS11)","v":""},{"$f":"IF(ISBLANK('1-12-2.キャッシュフロー表 解決策導入後'!AT11),\"\",'1-12-2.キャッシュフロー表 解決策導入後'!AT11)","v":""},{"$f":"IF(ISBLANK('1-12-2.キャッシュフロー表 解決策導入後'!AU11),\"\",'1-12-2.キャッシュフロー表 解決策導入後'!AU11)","v":""},{"$f":"IF(ISBLANK('1-12-2.キャッシュフロー表 解決策導入後'!AV11),\"\",'1-12-2.キャッシュフロー表 解決策導入後'!AV11)","v":""},{"$f":"IF(ISBLANK('1-12-2.キャッシュフロー表 解決策導入後'!AW11),\"\",'1-12-2.キャッシュフロー表 解決策導入後'!AW11)","v":""},{"$f":"IF(ISBLANK('1-12-2.キャッシュフロー表 解決策導入後'!AX11),\"\",'1-12-2.キャッシュフロー表 解決策導入後'!AX11)","v":""},{"$f":"IF(ISBLANK('1-12-2.キャッシュフロー表 解決策導入後'!AY11),\"\",'1-12-2.キャッシュフロー表 解決策導入後'!AY11)","v":""},{"$f":"IF(ISBLANK('1-12-2.キャッシュフロー表 解決策導入後'!AZ11),\"\",'1-12-2.キャッシュフロー表 解決策導入後'!AZ11)","v":""},{"$f":"IF(ISBLANK('1-12-2.キャッシュフロー表 解決策導入後'!BA11),\"\",'1-12-2.キャッシュフロー表 解決策導入後'!BA11)","v":""},{"$f":"IF(ISBLANK('1-12-2.キャッシュフロー表 解決策導入後'!BB11),\"\",'1-12-2.キャッシュフロー表 解決策導入後'!BB11)","v":""},{"$f":"IF(ISBLANK('1-12-2.キャッシュフロー表 解決策導入後'!BC11),\"\",'1-12-2.キャッシュフロー表 解決策導入後'!BC11)","v":""},{"$f":"IF(ISBLANK('1-12-2.キャッシュフロー表 解決策導入後'!BD11),\"\",'1-12-2.キャッシュフロー表 解決策導入後'!BD11)","v":""},{"$f":"IF(ISBLANK('1-12-2.キャッシュフロー表 解決策導入後'!BE11),\"\",'1-12-2.キャッシュフロー表 解決策導入後'!BE11)","v":""},{"$f":"IF(ISBLANK('1-12-2.キャッシュフロー表 解決策導入後'!BF11),\"\",'1-12-2.キャッシュフロー表 解決策導入後'!BF11)","v":""},{"$f":"IF(ISBLANK('1-12-2.キャッシュフロー表 解決策導入後'!BG11),\"\",'1-12-2.キャッシュフロー表 解決策導入後'!BG11)","v":""},{"$f":"IF(ISBLANK('1-12-2.キャッシュフロー表 解決策導入後'!BH11),\"\",'1-12-2.キャッシュフロー表 解決策導入後'!BH11)","v":""},{"$f":"IF(ISBLANK('1-12-2.キャッシュフロー表 解決策導入後'!BI11),\"\",'1-12-2.キャッシュフロー表 解決策導入後'!BI11)","v":""},{"$f":"IF(ISBLANK('1-12-2.キャッシュフロー表 解決策導入後'!BJ11),\"\",'1-12-2.キャッシュフロー表 解決策導入後'!BJ11)","v":""},{"$f":"IF(ISBLANK('1-12-2.キャッシュフロー表 解決策導入後'!BK11),\"\",'1-12-2.キャッシュフロー表 解決策導入後'!BK11)","v":""},{"$f":"IF(ISBLANK('1-12-2.キャッシュフロー表 解決策導入後'!BL11),\"\",'1-12-2.キャッシュフロー表 解決策導入後'!BL11)","v":""},{"$f":"IF(ISBLANK('1-12-2.キャッシュフロー表 解決策導入後'!BM11),\"\",'1-12-2.キャッシュフロー表 解決策導入後'!BM11)","v":""},{"$f":"IF(ISBLANK('1-12-2.キャッシュフロー表 解決策導入後'!BN11),\"\",'1-12-2.キャッシュフロー表 解決策導入後'!BN11)","v":""},{"$f":"IF(ISBLANK('1-12-2.キャッシュフロー表 解決策導入後'!BO11),\"\",'1-12-2.キャッシュフロー表 解決策導入後'!BO11)","v":""},{"$f":"IF(ISBLANK('1-12-2.キャッシュフロー表 解決策導入後'!BP11),\"\",'1-12-2.キャッシュフロー表 解決策導入後'!BP11)","v":""},{"$f":"IF(ISBLANK('1-12-2.キャッシュフロー表 解決策導入後'!BQ11),\"\",'1-12-2.キャッシュフロー表 解決策導入後'!BQ11)","v":""},{"$f":"IF(ISBLANK('1-12-2.キャッシュフロー表 解決策導入後'!BR11),\"\",'1-12-2.キャッシュフロー表 解決策導入後'!BR11)","v":""},{"$f":"IF(ISBLANK('1-12-2.キャッシュフロー表 解決策導入後'!BS11),\"\",'1-12-2.キャッシュフロー表 解決策導入後'!BS11)","v":""},{"$f":"IF(ISBLANK('1-12-2.キャッシュフロー表 解決策導入後'!BT11),\"\",'1-12-2.キャッシュフロー表 解決策導入後'!BT11)","v":""},{"$f":"IF(ISBLANK('1-12-2.キャッシュフロー表 解決策導入後'!BU11),\"\",'1-12-2.キャッシュフロー表 解決策導入後'!BU11)","v":""},{"$f":"IF(ISBLANK('1-12-2.キャッシュフロー表 解決策導入後'!BV11),\"\",'1-12-2.キャッシュフロー表 解決策導入後'!BV11)","v":""},{"$f":"IF(ISBLANK('1-12-2.キャッシュフロー表 解決策導入後'!BW11),\"\",'1-12-2.キャッシュフロー表 解決策導入後'!BW11)","v":""},{"$f":"IF(ISBLANK('1-12-2.キャッシュフロー表 解決策導入後'!BX11),\"\",'1-12-2.キャッシュフロー表 解決策導入後'!BX11)","v":""},{"$f":"IF(ISBLANK('1-12-2.キャッシュフロー表 解決策導入後'!BY11),\"\",'1-12-2.キャッシュフロー表 解決策導入後'!BY11)","v":""},{"$f":"IF(ISBLANK('1-12-2.キャッシュフロー表 解決策導入後'!BZ11),\"\",'1-12-2.キャッシュフロー表 解決策導入後'!BZ11)","v":""}]
[null,null,null,null,null,null,null,null,null,null,null,null,null,null,null,null,null,null,null,null,null,null,null,null,null,null,null,null,null,null,null,null,null,null,null,null,null,null,null,null,null,null,null,"西暦（下2桁）",{"$f":"IF(TRIM(AS6)=\"\",\"\",\"'\"&RIGHT(AS6,2))","v":""},"","","","","","","","","","","","","","","","","","","","","","","","","","","","","","",{"$f":"IF(TRIM(BX6)=\"\",\"\",\"'\"&RIGHT(BX6,2))","v":""},"","","","","","","","","","","","","","","","","","","",{"$f":"IF(TRIM(CR6)=\"\",\"\",\"'\"&RIGHT(CR6,2))","v":""},"","","","","","","","","","","","","","","","","","",""]
[null,null,null,null,null,null,null,null,null,null,null,null,null,null,null,null,null,null,null,null,null,null,null,null,null,null,null,null,null,null,null,null,null,null,null,null,null,null,null,null,null,null,null,"貯蓄残高",{"$f":"IF(ISBLANK('1-12-2.キャッシュフロー表 解決策導入後'!H42),0,'1-12-2.キャッシュフロー表 解決策導入後'!H42)","v":0},{"$f":"IF(ISBLANK('1-12-2.キャッシュフロー表 解決策導入後'!I42),0,'1-12-2.キャッシュフロー表 解決策導入後'!I42)","v":0},{"$f":"IF(ISBLANK('1-12-2.キャッシュフロー表 解決策導入後'!J42),0,'1-12-2.キャッシュフロー表 解決策導入後'!J42)","v":0},{"$f":"IF(ISBLANK('1-12-2.キャッシュフロー表 解決策導入後'!K42),0,'1-12-2.キャッシュフロー表 解決策導入後'!K42)","v":0},{"$f":"IF(ISBLANK('1-12-2.キャッシュフロー表 解決策導入後'!L42),0,'1-12-2.キャッシュフロー表 解決策導入後'!L42)","v":0},{"$f":"IF(ISBLANK('1-12-2.キャッシュフロー表 解決策導入後'!M42),0,'1-12-2.キャッシュフロー表 解決策導入後'!M42)","v":0},{"$f":"IF(ISBLANK('1-12-2.キャッシュフロー表 解決策導入後'!N42),0,'1-12-2.キャッシュフロー表 解決策導入後'!N42)","v":0},{"$f":"IF(ISBLANK('1-12-2.キャッシュフロー表 解決策導入後'!O42),0,'1-12-2.キャッシュフロー表 解決策導入後'!O42)","v":0},{"$f":"IF(ISBLANK('1-12-2.キャッシュフロー表 解決策導入後'!P42),0,'1-12-2.キャッシュフロー表 解決策導入後'!P42)","v":0},{"$f":"IF(ISBLANK('1-12-2.キャッシュフロー表 解決策導入後'!Q42),0,'1-12-2.キャッシュフロー表 解決策導入後'!Q42)","v":0},{"$f":"IF(ISBLANK('1-12-2.キャッシュフロー表 解決策導入後'!R42),0,'1-12-2.キャッシュフロー表 解決策導入後'!R42)","v":0},{"$f":"IF(ISBLANK('1-12-2.キャッシュフロー表 解決策導入後'!S42),0,'1-12-2.キャッシュフロー表 解決策導入後'!S42)","v":0},{"$f":"IF(ISBLANK('1-12-2.キャッシュフロー表 解決策導入後'!T42),0,'1-12-2.キャッシュフロー表 解決策導入後'!T42)","v":0},{"$f":"IF(ISBLANK('1-12-2.キャッシュフロー表 解決策導入後'!U42),0,'1-12-2.キャッシュフロー表 解決策導入後'!U42)","v":0},{"$f":"IF(ISBLANK('1-12-2.キャッシュフロー表 解決策導入後'!V42),0,'1-12-2.キャッシュフロー表 解決策導入後'!V42)","v":0},{"$f":"IF(ISBLANK('1-12-2.キャッシュフロー表 解決策導入後'!W42),0,'1-12-2.キャッシュフロー表 解決策導入後'!W42)","v":0},{"$f":"IF(ISBLANK('1-12-2.キャッシュフロー表 解決策導入後'!X42),0,'1-12-2.キャッシュフロー表 解決策導入後'!X42)","v":0},{"$f":"IF(ISBLANK('1-12-2.キャッシュフロー表 解決策導入後'!Y42),0,'1-12-2.キャッシュフロー表 解決策導入後'!Y42)","v":0},{"$f":"IF(ISBLANK('1-12-2.キャッシュフロー表 解決策導入後'!Z42),0,'1-12-2.キャッシュフロー表 解決策導入後'!Z42)","v":0},{"$f":"IF(ISBLANK('1-12-2.キャッシュフロー表 解決策導入後'!AA42),0,'1-12-2.キャッシュフロー表 解決策導入後'!AA42)","v":0},{"$f":"IF(ISBLANK('1-12-2.キャッシュフロー表 解決策導入後'!AB42),0,'1-12-2.キャッシュフロー表 解決策導入後'!AB42)","v":0},{"$f":"IF(ISBLANK('1-12-2.キャッシュフロー表 解決策導入後'!AC42),0,'1-12-2.キャッシュフロー表 解決策導入後'!AC42)","v":0},{"$f":"IF(ISBLANK('1-12-2.キャッシュフロー表 解決策導入後'!AD42),0,'1-12-2.キャッシュフロー表 解決策導入後'!AD42)","v":0},{"$f":"IF(ISBLANK('1-12-2.キャッシュフロー表 解決策導入後'!AE42),0,'1-12-2.キャッシュフロー表 解決策導入後'!AE42)","v":0},{"$f":"IF(ISBLANK('1-12-2.キャッシュフロー表 解決策導入後'!AF42),0,'1-12-2.キャッシュフロー表 解決策導入後'!AF42)","v":0},{"$f":"IF(ISBLANK('1-12-2.キャッシュフロー表 解決策導入後'!AG42),0,'1-12-2.キャッシュフロー表 解決策導入後'!AG42)","v":0},{"$f":"IF(ISBLANK('1-12-2.キャッシュフロー表 解決策導入後'!AH42),0,'1-12-2.キャッシュフロー表 解決策導入後'!AH42)","v":0},{"$f":"IF(ISBLANK('1-12-2.キャッシュフロー表 解決策導入後'!AI42),0,'1-12-2.キャッシュフロー表 解決策導入後'!AI42)","v":0},{"$f":"IF(ISBLANK('1-12-2.キャッシュフロー表 解決策導入後'!AJ42),0,'1-12-2.キャッシュフロー表 解決策導入後'!AJ42)","v":0},{"$f":"IF(ISBLANK('1-12-2.キャッシュフロー表 解決策導入後'!AK42),0,'1-12-2.キャッシュフロー表 解決策導入後'!AK42)","v":0},{"$f":"IF(ISBLANK('1-12-2.キャッシュフロー表 解決策導入後'!AL42),0,'1-12-2.キャッシュフロー表 解決策導入後'!AL42)","v":0},{"$f":"IF(ISBLANK('1-12-2.キャッシュフロー表 解決策導入後'!AM42),0,'1-12-2.キャッシュフロー表 解決策導入後'!AM42)","v":0},{"$f":"IF(ISBLANK('1-12-2.キャッシュフロー表 解決策導入後'!AN42),0,'1-12-2.キャッシュフロー表 解決策導入後'!AN42)","v":0},{"$f":"IF(ISBLANK('1-12-2.キャッシュフロー表 解決策導入後'!AO42),0,'1-12-2.キャッシュフロー表 解決策導入後'!AO42)","v":0},{"$f":"IF(ISBLANK('1-12-2.キャッシュフロー表 解決策導入後'!AP42),0,'1-12-2.キャッシュフロー表 解決策導入後'!AP42)","v":0},{"$f":"IF(ISBLANK('1-12-2.キャッシュフロー表 解決策導入後'!AQ42),0,'1-12-2.キャッシュフロー表 解決策導入後'!AQ42)","v":0},{"$f":"IF(ISBLANK('1-12-2.キャッシュフロー表 解決策導入後'!AR42),0,'1-12-2.キャッシュフロー表 解決策導入後'!AR42)","v":0},{"$f":"IF(ISBLANK('1-12-2.キャッシュフロー表 解決策導入後'!AS42),0,'1-12-2.キャッシュフロー表 解決策導入後'!AS42)","v":0},{"$f":"IF(ISBLANK('1-12-2.キャッシュフロー表 解決策導入後'!AT42),0,'1-12-2.キャッシュフロー表 解決策導入後'!AT42)","v":0},{"$f":"IF(ISBLANK('1-12-2.キャッシュフロー表 解決策導入後'!AU42),0,'1-12-2.キャッシュフロー表 解決策導入後'!AU42)","v":0},{"$f":"IF(ISBLANK('1-12-2.キャッシュフロー表 解決策導入後'!AV42),0,'1-12-2.キャッシュフロー表 解決策導入後'!AV42)","v":0},{"$f":"IF(ISBLANK('1-12-2.キャッシュフロー表 解決策導入後'!AW42),0,'1-12-2.キャッシュフロー表 解決策導入後'!AW42)","v":0},{"$f":"IF(ISBLANK('1-12-2.キャッシュフロー表 解決策導入後'!AX42),0,'1-12-2.キャッシュフロー表 解決策導入後'!AX42)","v":0},{"$f":"IF(ISBLANK('1-12-2.キャッシュフロー表 解決策導入後'!AY42),0,'1-12-2.キャッシュフロー表 解決策導入後'!AY42)","v":0},{"$f":"IF(ISBLANK('1-12-2.キャッシュフロー表 解決策導入後'!AZ42),0,'1-12-2.キャッシュフロー表 解決策導入後'!AZ42)","v":0},{"$f":"IF(ISBLANK('1-12-2.キャッシュフロー表 解決策導入後'!BA42),0,'1-12-2.キャッシュフロー表 解決策導入後'!BA42)","v":0},{"$f":"IF(ISBLANK('1-12-2.キャッシュフロー表 解決策導入後'!BB42),0,'1-12-2.キャッシュフロー表 解決策導入後'!BB42)","v":0},{"$f":"IF(ISBLANK('1-12-2.キャッシュフロー表 解決策導入後'!BC42),0,'1-12-2.キャッシュフロー表 解決策導入後'!BC42)","v":0},{"$f":"IF(ISBLANK('1-12-2.キャッシュフロー表 解決策導入後'!BD42),0,'1-12-2.キャッシュフロー表 解決策導入後'!BD42)","v":0},{"$f":"IF(ISBLANK('1-12-2.キャッシュフロー表 解決策導入後'!BE42),0,'1-12-2.キャッシュフロー表 解決策導入後'!BE42)","v":0},{"$f":"IF(ISBLANK('1-12-2.キャッシュフロー表 解決策導入後'!BF42),0,'1-12-2.キャッシュフロー表 解決策導入後'!BF42)","v":0},{"$f":"IF(ISBLANK('1-12-2.キャッシュフロー表 解決策導入後'!BG42),0,'1-12-2.キャッシュフロー表 解決策導入後'!BG42)","v":0},{"$f":"IF(ISBLANK('1-12-2.キャッシュフロー表 解決策導入後'!BH42),0,'1-12-2.キャッシュフロー表 解決策導入後'!BH42)","v":0},{"$f":"IF(ISBLANK('1-12-2.キャッシュフロー表 解決策導入後'!BI42),0,'1-12-2.キャッシュフロー表 解決策導入後'!BI42)","v":0},{"$f":"IF(ISBLANK('1-12-2.キャッシュフロー表 解決策導入後'!BJ42),0,'1-12-2.キャッシュフロー表 解決策導入後'!BJ42)","v":0},{"$f":"IF(ISBLANK('1-12-2.キャッシュフロー表 解決策導入後'!BK42),0,'1-12-2.キャッシュフロー表 解決策導入後'!BK42)","v":0},{"$f":"IF(ISBLANK('1-12-2.キャッシュフロー表 解決策導入後'!BL42),0,'1-12-2.キャッシュフロー表 解決策導入後'!BL42)","v":0},{"$f":"IF(ISBLANK('1-12-2.キャッシュフロー表 解決策導入後'!BM42),0,'1-12-2.キャッシュフロー表 解決策導入後'!BM42)","v":0},{"$f":"IF(ISBLANK('1-12-2.キャッシュフロー表 解決策導入後'!BN42),0,'1-12-2.キャッシュフロー表 解決策導入後'!BN42)","v":0},{"$f":"IF(ISBLANK('1-12-2.キャッシュフロー表 解決策導入後'!BO42),0,'1-12-2.キャッシュフロー表 解決策導入後'!BO42)","v":0},{"$f":"IF(ISBLANK('1-12-2.キャッシュフロー表 解決策導入後'!BP42),0,'1-12-2.キャッシュフロー表 解決策導入後'!BP42)","v":0},{"$f":"IF(ISBLANK('1-12-2.キャッシュフロー表 解決策導入後'!BQ42),0,'1-12-2.キャッシュフロー表 解決策導入後'!BQ42)","v":0},{"$f":"IF(ISBLANK('1-12-2.キャッシュフロー表 解決策導入後'!BR42),0,'1-12-2.キャッシュフロー表 解決策導入後'!BR42)","v":0},{"$f":"IF(ISBLANK('1-12-2.キャッシュフロー表 解決策導入後'!BS42),0,'1-12-2.キャッシュフロー表 解決策導入後'!BS42)","v":0},{"$f":"IF(ISBLANK('1-12-2.キャッシュフロー表 解決策導入後'!BT42),0,'1-12-2.キャッシュフロー表 解決策導入後'!BT42)","v":0},{"$f":"IF(ISBLANK('1-12-2.キャッシュフロー表 解決策導入後'!BU42),0,'1-12-2.キャッシュフロー表 解決策導入後'!BU42)","v":0},{"$f":"IF(ISBLANK('1-12-2.キャッシュフロー表 解決策導入後'!BV42),0,'1-12-2.キャッシュフロー表 解決策導入後'!BV42)","v":0},{"$f":"IF(ISBLANK('1-12-2.キャッシュフロー表 解決策導入後'!BW42),0,'1-12-2.キャッシュフロー表 解決策導入後'!BW42)","v":0},{"$f":"IF(ISBLANK('1-12-2.キャッシュフロー表 解決策導入後'!BX42),0,'1-12-2.キャッシュフロー表 解決策導入後'!BX42)","v":0},{"$f":"IF(ISBLANK('1-12-2.キャッシュフロー表 解決策導入後'!BY42),0,'1-12-2.キャッシュフロー表 解決策導入後'!BY42)","v":0},{"$f":"IF(ISBLANK('1-12-2.キャッシュフロー表 解決策導入後'!BZ42),0,'1-12-2.キャッシュフロー表 解決策導入後'!BZ42)","v":0}]
[]
[]
[]
[]
[]
[]
[]
[]
[]
[]
[]
[]
[]
[]
[]
[]
[null,null,null,null,null,null,null,null,null,null,null,null,null,null,null,null,null,null,null,null,null,null,null,null,null,null,null,null,null,null,null,null,null,null,null,null,null,null,null,null,null,null,null,null,"[単年ごとの収入と支出]"]
[null,null,null,"グラフの出力中です",null,null,null,null,null,null,null,null,null,null,null,null,null,null,null,null,null,null,null,null,null,null,null,null,null,null,null,null,null,null,null,null,null,null,null,null,null,null,null,"西暦（下2桁）",{"$f":"AS7","v":""},"","","","","","","","","","","","","","","","","","","","","","","","","","","","","","",{"$f":"BX7","v":""},"","","","","","","","","","","","","","","","","","","",{"$f":"CR7","v":""},"","","","","","","","","","","","","","","","","","",""]
[null,null,null,null,null,null,null,null,null,null,null,null,null,null,null,null,null,null,null,null,null,null,null,null,null,null,null,null,null,null,null,null,null,null,null,null,null,null,null,null,null,null,null,"収入合計",{"$f":"IF(ISBLANK('1-12-2.キャッシュフロー表 解決策導入後'!H30),0,'1-12-2.キャッシュフロー表 解決策導入後'!H30)","v":0},{"$f":"IF(ISBLANK('1-12-2.キャッシュフロー表 解決策導入後'!I30),0,'1-12-2.キャッシュフロー表 解決策導入後'!I30)","v":0},{"$f":"IF(ISBLANK('1-12-2.キャッシュフロー表 解決策導入後'!J30),0,'1-12-2.キャッシュフロー表 解決策導入後'!J30)","v":0},{"$f":"IF(ISBLANK('1-12-2.キャッシュフロー表 解決策導入後'!K30),0,'1-12-2.キャッシュフロー表 解決策導入後'!K30)","v":0},{"$f":"IF(ISBLANK('1-12-2.キャッシュフロー表 解決策導入後'!L30),0,'1-12-2.キャッシュフロー表 解決策導入後'!L30)","v":0},{"$f":"IF(ISBLANK('1-12-2.キャッシュフロー表 解決策導入後'!M30),0,'1-12-2.キャッシュフロー表 解決策導入後'!M30)","v":0},{"$f":"IF(ISBLANK('1-12-2.キャッシュフロー表 解決策導入後'!N30),0,'1-12-2.キャッシュフロー表 解決策導入後'!N30)","v":0},{"$f":"IF(ISBLANK('1-12-2.キャッシュフロー表 解決策導入後'!O30),0,'1-12-2.キャッシュフロー表 解決策導入後'!O30)","v":0},{"$f":"IF(ISBLANK('1-12-2.キャッシュフロー表 解決策導入後'!P30),0,'1-12-2.キャッシュフロー表 解決策導入後'!P30)","v":0},{"$f":"IF(ISBLANK('1-12-2.キャッシュフロー表 解決策導入後'!Q30),0,'1-12-2.キャッシュフロー表 解決策導入後'!Q30)","v":0},{"$f":"IF(ISBLANK('1-12-2.キャッシュフロー表 解決策導入後'!R30),0,'1-12-2.キャッシュフロー表 解決策導入後'!R30)","v":0},{"$f":"IF(ISBLANK('1-12-2.キャッシュフロー表 解決策導入後'!S30),0,'1-12-2.キャッシュフロー表 解決策導入後'!S30)","v":0},{"$f":"IF(ISBLANK('1-12-2.キャッシュフロー表 解決策導入後'!T30),0,'1-12-2.キャッシュフロー表 解決策導入後'!T30)","v":0},{"$f":"IF(ISBLANK('1-12-2.キャッシュフロー表 解決策導入後'!U30),0,'1-12-2.キャッシュフロー表 解決策導入後'!U30)","v":0},{"$f":"IF(ISBLANK('1-12-2.キャッシュフロー表 解決策導入後'!V30),0,'1-12-2.キャッシュフロー表 解決策導入後'!V30)","v":0},{"$f":"IF(ISBLANK('1-12-2.キャッシュフロー表 解決策導入後'!W30),0,'1-12-2.キャッシュフロー表 解決策導入後'!W30)","v":0},{"$f":"IF(ISBLANK('1-12-2.キャッシュフロー表 解決策導入後'!X30),0,'1-12-2.キャッシュフロー表 解決策導入後'!X30)","v":0},{"$f":"IF(ISBLANK('1-12-2.キャッシュフロー表 解決策導入後'!Y30),0,'1-12-2.キャッシュフロー表 解決策導入後'!Y30)","v":0},{"$f":"IF(ISBLANK('1-12-2.キャッシュフロー表 解決策導入後'!Z30),0,'1-12-2.キャッシュフロー表 解決策導入後'!Z30)","v":0},{"$f":"IF(ISBLANK('1-12-2.キャッシュフロー表 解決策導入後'!AA30),0,'1-12-2.キャッシュフロー表 解決策導入後'!AA30)","v":0},{"$f":"IF(ISBLANK('1-12-2.キャッシュフロー表 解決策導入後'!AB30),0,'1-12-2.キャッシュフロー表 解決策導入後'!AB30)","v":0},{"$f":"IF(ISBLANK('1-12-2.キャッシュフロー表 解決策導入後'!AC30),0,'1-12-2.キャッシュフロー表 解決策導入後'!AC30)","v":0},{"$f":"IF(ISBLANK('1-12-2.キャッシュフロー表 解決策導入後'!AD30),0,'1-12-2.キャッシュフロー表 解決策導入後'!AD30)","v":0},{"$f":"IF(ISBLANK('1-12-2.キャッシュフロー表 解決策導入後'!AE30),0,'1-12-2.キャッシュフロー表 解決策導入後'!AE30)","v":0},{"$f":"IF(ISBLANK('1-12-2.キャッシュフロー表 解決策導入後'!AF30),0,'1-12-2.キャッシュフロー表 解決策導入後'!AF30)","v":0},{"$f":"IF(ISBLANK('1-12-2.キャッシュフロー表 解決策導入後'!AG30),0,'1-12-2.キャッシュフロー表 解決策導入後'!AG30)","v":0},{"$f":"IF(ISBLANK('1-12-2.キャッシュフロー表 解決策導入後'!AH30),0,'1-12-2.キャッシュフロー表 解決策導入後'!AH30)","v":0},{"$f":"IF(ISBLANK('1-12-2.キャッシュフロー表 解決策導入後'!AI30),0,'1-12-2.キャッシュフロー表 解決策導入後'!AI30)","v":0},{"$f":"IF(ISBLANK('1-12-2.キャッシュフロー表 解決策導入後'!AJ30),0,'1-12-2.キャッシュフロー表 解決策導入後'!AJ30)","v":0},{"$f":"IF(ISBLANK('1-12-2.キャッシュフロー表 解決策導入後'!AK30),0,'1-12-2.キャッシュフロー表 解決策導入後'!AK30)","v":0},{"$f":"IF(ISBLANK('1-12-2.キャッシュフロー表 解決策導入後'!AL30),0,'1-12-2.キャッシュフロー表 解決策導入後'!AL30)","v":0},{"$f":"IF(ISBLANK('1-12-2.キャッシュフロー表 解決策導入後'!AM30),0,'1-12-2.キャッシュフロー表 解決策導入後'!AM30)","v":0},{"$f":"IF(ISBLANK('1-12-2.キャッシュフロー表 解決策導入後'!AN30),0,'1-12-2.キャッシュフロー表 解決策導入後'!AN30)","v":0},{"$f":"IF(ISBLANK('1-12-2.キャッシュフロー表 解決策導入後'!AO30),0,'1-12-2.キャッシュフロー表 解決策導入後'!AO30)","v":0},{"$f":"IF(ISBLANK('1-12-2.キャッシュフロー表 解決策導入後'!AP30),0,'1-12-2.キャッシュフロー表 解決策導入後'!AP30)","v":0},{"$f":"IF(ISBLANK('1-12-2.キャッシュフロー表 解決策導入後'!AQ30),0,'1-12-2.キャッシュフロー表 解決策導入後'!AQ30)","v":0},{"$f":"IF(ISBLANK('1-12-2.キャッシュフロー表 解決策導入後'!AR30),0,'1-12-2.キャッシュフロー表 解決策導入後'!AR30)","v":0},{"$f":"IF(ISBLANK('1-12-2.キャッシュフロー表 解決策導入後'!AS30),0,'1-12-2.キャッシュフロー表 解決策導入後'!AS30)","v":0},{"$f":"IF(ISBLANK('1-12-2.キャッシュフロー表 解決策導入後'!AT30),0,'1-12-2.キャッシュフロー表 解決策導入後'!AT30)","v":0},{"$f":"IF(ISBLANK('1-12-2.キャッシュフロー表 解決策導入後'!AU30),0,'1-12-2.キャッシュフロー表 解決策導入後'!AU30)","v":0},{"$f":"IF(ISBLANK('1-12-2.キャッシュフロー表 解決策導入後'!AV30),0,'1-12-2.キャッシュフロー表 解決策導入後'!AV30)","v":0},{"$f":"IF(ISBLANK('1-12-2.キャッシュフロー表 解決策導入後'!AW30),0,'1-12-2.キャッシュフロー表 解決策導入後'!AW30)","v":0},{"$f":"IF(ISBLANK('1-12-2.キャッシュフロー表 解決策導入後'!AX30),0,'1-12-2.キャッシュフロー表 解決策導入後'!AX30)","v":0},{"$f":"IF(ISBLANK('1-12-2.キャッシュフロー表 解決策導入後'!AY30),0,'1-12-2.キャッシュフロー表 解決策導入後'!AY30)","v":0},{"$f":"IF(ISBLANK('1-12-2.キャッシュフロー表 解決策導入後'!AZ30),0,'1-12-2.キャッシュフロー表 解決策導入後'!AZ30)","v":0},{"$f":"IF(ISBLANK('1-12-2.キャッシュフロー表 解決策導入後'!BA30),0,'1-12-2.キャッシュフロー表 解決策導入後'!BA30)","v":0},{"$f":"IF(ISBLANK('1-12-2.キャッシュフロー表 解決策導入後'!BB30),0,'1-12-2.キャッシュフロー表 解決策導入後'!BB30)","v":0},{"$f":"IF(ISBLANK('1-12-2.キャッシュフロー表 解決策導入後'!BC30),0,'1-12-2.キャッシュフロー表 解決策導入後'!BC30)","v":0},{"$f":"IF(ISBLANK('1-12-2.キャッシュフロー表 解決策導入後'!BD30),0,'1-12-2.キャッシュフロー表 解決策導入後'!BD30)","v":0},{"$f":"IF(ISBLANK('1-12-2.キャッシュフロー表 解決策導入後'!BE30),0,'1-12-2.キャッシュフロー表 解決策導入後'!BE30)","v":0},{"$f":"IF(ISBLANK('1-12-2.キャッシュフロー表 解決策導入後'!BF30),0,'1-12-2.キャッシュフロー表 解決策導入後'!BF30)","v":0},{"$f":"IF(ISBLANK('1-12-2.キャッシュフロー表 解決策導入後'!BG30),0,'1-12-2.キャッシュフロー表 解決策導入後'!BG30)","v":0},{"$f":"IF(ISBLANK('1-12-2.キャッシュフロー表 解決策導入後'!BH30),0,'1-12-2.キャッシュフロー表 解決策導入後'!BH30)","v":0},{"$f":"IF(ISBLANK('1-12-2.キャッシュフロー表 解決策導入後'!BI30),0,'1-12-2.キャッシュフロー表 解決策導入後'!BI30)","v":0},{"$f":"IF(ISBLANK('1-12-2.キャッシュフロー表 解決策導入後'!BJ30),0,'1-12-2.キャッシュフロー表 解決策導入後'!BJ30)","v":0},{"$f":"IF(ISBLANK('1-12-2.キャッシュフロー表 解決策導入後'!BK30),0,'1-12-2.キャッシュフロー表 解決策導入後'!BK30)","v":0},{"$f":"IF(ISBLANK('1-12-2.キャッシュフロー表 解決策導入後'!BL30),0,'1-12-2.キャッシュフロー表 解決策導入後'!BL30)","v":0},{"$f":"IF(ISBLANK('1-12-2.キャッシュフロー表 解決策導入後'!BM30),0,'1-12-2.キャッシュフロー表 解決策導入後'!BM30)","v":0},{"$f":"IF(ISBLANK('1-12-2.キャッシュフロー表 解決策導入後'!BN30),0,'1-12-2.キャッシュフロー表 解決策導入後'!BN30)","v":0},{"$f":"IF(ISBLANK('1-12-2.キャッシュフロー表 解決策導入後'!BO30),0,'1-12-2.キャッシュフロー表 解決策導入後'!BO30)","v":0},{"$f":"IF(ISBLANK('1-12-2.キャッシュフロー表 解決策導入後'!BP30),0,'1-12-2.キャッシュフロー表 解決策導入後'!BP30)","v":0},{"$f":"IF(ISBLANK('1-12-2.キャッシュフロー表 解決策導入後'!BQ30),0,'1-12-2.キャッシュフロー表 解決策導入後'!BQ30)","v":0},{"$f":"IF(ISBLANK('1-12-2.キャッシュフロー表 解決策導入後'!BR30),0,'1-12-2.キャッシュフロー表 解決策導入後'!BR30)","v":0},{"$f":"IF(ISBLANK('1-12-2.キャッシュフロー表 解決策導入後'!BS30),0,'1-12-2.キャッシュフロー表 解決策導入後'!BS30)","v":0},{"$f":"IF(ISBLANK('1-12-2.キャッシュフロー表 解決策導入後'!BT30),0,'1-12-2.キャッシュフロー表 解決策導入後'!BT30)","v":0},{"$f":"IF(ISBLANK('1-12-2.キャッシュフロー表 解決策導入後'!BU30),0,'1-12-2.キャッシュフロー表 解決策導入後'!BU30)","v":0},{"$f":"IF(ISBLANK('1-12-2.キャッシュフロー表 解決策導入後'!BV30),0,'1-12-2.キャッシュフロー表 解決策導入後'!BV30)","v":0},{"$f":"IF(ISBLANK('1-12-2.キャッシュフロー表 解決策導入後'!BW30),0,'1-12-2.キャッシュフロー表 解決策導入後'!BW30)","v":0},{"$f":"IF(ISBLANK('1-12-2.キャッシュフロー表 解決策導入後'!BX30),0,'1-12-2.キャッシュフロー表 解決策導入後'!BX30)","v":0},{"$f":"IF(ISBLANK('1-12-2.キャッシュフロー表 解決策導入後'!BY30),0,'1-12-2.キャッシュフロー表 解決策導入後'!BY30)","v":0},{"$f":"IF(ISBLANK('1-12-2.キャッシュフロー表 解決策導入後'!BZ30),0,'1-12-2.キャッシュフロー表 解決策導入後'!BZ30)","v":0}]
[null,null,null,null,null,null,null,null,null,null,null,null,null,null,null,null,null,null,null,null,null,null,null,null,null,null,null,null,null,null,null,null,null,null,null,null,null,null,null,null,null,null,null,"支出合計",{"$f":"IF(ISBLANK('1-12-2.キャッシュフロー表 解決策導入後'!H40),0,'1-12-2.キャッシュフロー表 解決策導入後'!H40)","v":0},{"$f":"IF(ISBLANK('1-12-2.キャッシュフロー表 解決策導入後'!I40),0,'1-12-2.キャッシュフロー表 解決策導入後'!I40)","v":0},{"$f":"IF(ISBLANK('1-12-2.キャッシュフロー表 解決策導入後'!J40),0,'1-12-2.キャッシュフロー表 解決策導入後'!J40)","v":0},{"$f":"IF(ISBLANK('1-12-2.キャッシュフロー表 解決策導入後'!K40),0,'1-12-2.キャッシュフロー表 解決策導入後'!K40)","v":0},{"$f":"IF(ISBLANK('1-12-2.キャッシュフロー表 解決策導入後'!L40),0,'1-12-2.キャッシュフロー表 解決策導入後'!L40)","v":0},{"$f":"IF(ISBLANK('1-12-2.キャッシュフロー表 解決策導入後'!M40),0,'1-12-2.キャッシュフロー表 解決策導入後'!M40)","v":0},{"$f":"IF(ISBLANK('1-12-2.キャッシュフロー表 解決策導入後'!N40),0,'1-12-2.キャッシュフロー表 解決策導入後'!N40)","v":0},{"$f":"IF(ISBLANK('1-12-2.キャッシュフロー表 解決策導入後'!O40),0,'1-12-2.キャッシュフロー表 解決策導入後'!O40)","v":0},{"$f":"IF(ISBLANK('1-12-2.キャッシュフロー表 解決策導入後'!P40),0,'1-12-2.キャッシュフロー表 解決策導入後'!P40)","v":0},{"$f":"IF(ISBLANK('1-12-2.キャッシュフロー表 解決策導入後'!Q40),0,'1-12-2.キャッシュフロー表 解決策導入後'!Q40)","v":0},{"$f":"IF(ISBLANK('1-12-2.キャッシュフロー表 解決策導入後'!R40),0,'1-12-2.キャッシュフロー表 解決策導入後'!R40)","v":0},{"$f":"IF(ISBLANK('1-12-2.キャッシュフロー表 解決策導入後'!S40),0,'1-12-2.キャッシュフロー表 解決策導入後'!S40)","v":0},{"$f":"IF(ISBLANK('1-12-2.キャッシュフロー表 解決策導入後'!T40),0,'1-12-2.キャッシュフロー表 解決策導入後'!T40)","v":0},{"$f":"IF(ISBLANK('1-12-2.キャッシュフロー表 解決策導入後'!U40),0,'1-12-2.キャッシュフロー表 解決策導入後'!U40)","v":0},{"$f":"IF(ISBLANK('1-12-2.キャッシュフロー表 解決策導入後'!V40),0,'1-12-2.キャッシュフロー表 解決策導入後'!V40)","v":0},{"$f":"IF(ISBLANK('1-12-2.キャッシュフロー表 解決策導入後'!W40),0,'1-12-2.キャッシュフロー表 解決策導入後'!W40)","v":0},{"$f":"IF(ISBLANK('1-12-2.キャッシュフロー表 解決策導入後'!X40),0,'1-12-2.キャッシュフロー表 解決策導入後'!X40)","v":0},{"$f":"IF(ISBLANK('1-12-2.キャッシュフロー表 解決策導入後'!Y40),0,'1-12-2.キャッシュフロー表 解決策導入後'!Y40)","v":0},{"$f":"IF(ISBLANK('1-12-2.キャッシュフロー表 解決策導入後'!Z40),0,'1-12-2.キャッシュフロー表 解決策導入後'!Z40)","v":0},{"$f":"IF(ISBLANK('1-12-2.キャッシュフロー表 解決策導入後'!AA40),0,'1-12-2.キャッシュフロー表 解決策導入後'!AA40)","v":0},{"$f":"IF(ISBLANK('1-12-2.キャッシュフロー表 解決策導入後'!AB40),0,'1-12-2.キャッシュフロー表 解決策導入後'!AB40)","v":0},{"$f":"IF(ISBLANK('1-12-2.キャッシュフロー表 解決策導入後'!AC40),0,'1-12-2.キャッシュフロー表 解決策導入後'!AC40)","v":0},{"$f":"IF(ISBLANK('1-12-2.キャッシュフロー表 解決策導入後'!AD40),0,'1-12-2.キャッシュフロー表 解決策導入後'!AD40)","v":0},{"$f":"IF(ISBLANK('1-12-2.キャッシュフロー表 解決策導入後'!AE40),0,'1-12-2.キャッシュフロー表 解決策導入後'!AE40)","v":0},{"$f":"IF(ISBLANK('1-12-2.キャッシュフロー表 解決策導入後'!AF40),0,'1-12-2.キャッシュフロー表 解決策導入後'!AF40)","v":0},{"$f":"IF(ISBLANK('1-12-2.キャッシュフロー表 解決策導入後'!AG40),0,'1-12-2.キャッシュフロー表 解決策導入後'!AG40)","v":0},{"$f":"IF(ISBLANK('1-12-2.キャッシュフロー表 解決策導入後'!AH40),0,'1-12-2.キャッシュフロー表 解決策導入後'!AH40)","v":0},{"$f":"IF(ISBLANK('1-12-2.キャッシュフロー表 解決策導入後'!AI40),0,'1-12-2.キャッシュフロー表 解決策導入後'!AI40)","v":0},{"$f":"IF(ISBLANK('1-12-2.キャッシュフロー表 解決策導入後'!AJ40),0,'1-12-2.キャッシュフロー表 解決策導入後'!AJ40)","v":0},{"$f":"IF(ISBLANK('1-12-2.キャッシュフロー表 解決策導入後'!AK40),0,'1-12-2.キャッシュフロー表 解決策導入後'!AK40)","v":0},{"$f":"IF(ISBLANK('1-12-2.キャッシュフロー表 解決策導入後'!AL40),0,'1-12-2.キャッシュフロー表 解決策導入後'!AL40)","v":0},{"$f":"IF(ISBLANK('1-12-2.キャッシュフロー表 解決策導入後'!AM40),0,'1-12-2.キャッシュフロー表 解決策導入後'!AM40)","v":0},{"$f":"IF(ISBLANK('1-12-2.キャッシュフロー表 解決策導入後'!AN40),0,'1-12-2.キャッシュフロー表 解決策導入後'!AN40)","v":0},{"$f":"IF(ISBLANK('1-12-2.キャッシュフロー表 解決策導入後'!AO40),0,'1-12-2.キャッシュフロー表 解決策導入後'!AO40)","v":0},{"$f":"IF(ISBLANK('1-12-2.キャッシュフロー表 解決策導入後'!AP40),0,'1-12-2.キャッシュフロー表 解決策導入後'!AP40)","v":0},{"$f":"IF(ISBLANK('1-12-2.キャッシュフロー表 解決策導入後'!AQ40),0,'1-12-2.キャッシュフロー表 解決策導入後'!AQ40)","v":0},{"$f":"IF(ISBLANK('1-12-2.キャッシュフロー表 解決策導入後'!AR40),0,'1-12-2.キャッシュフロー表 解決策導入後'!AR40)","v":0},{"$f":"IF(ISBLANK('1-12-2.キャッシュフロー表 解決策導入後'!AS40),0,'1-12-2.キャッシュフロー表 解決策導入後'!AS40)","v":0},{"$f":"IF(ISBLANK('1-12-2.キャッシュフロー表 解決策導入後'!AT40),0,'1-12-2.キャッシュフロー表 解決策導入後'!AT40)","v":0},{"$f":"IF(ISBLANK('1-12-2.キャッシュフロー表 解決策導入後'!AU40),0,'1-12-2.キャッシュフロー表 解決策導入後'!AU40)","v":0},{"$f":"IF(ISBLANK('1-12-2.キャッシュフロー表 解決策導入後'!AV40),0,'1-12-2.キャッシュフロー表 解決策導入後'!AV40)","v":0},{"$f":"IF(ISBLANK('1-12-2.キャッシュフロー表 解決策導入後'!AW40),0,'1-12-2.キャッシュフロー表 解決策導入後'!AW40)","v":0},{"$f":"IF(ISBLANK('1-12-2.キャッシュフロー表 解決策導入後'!AX40),0,'1-12-2.キャッシュフロー表 解決策導入後'!AX40)","v":0},{"$f":"IF(ISBLANK('1-12-2.キャッシュフロー表 解決策導入後'!AY40),0,'1-12-2.キャッシュフロー表 解決策導入後'!AY40)","v":0},{"$f":"IF(ISBLANK('1-12-2.キャッシュフロー表 解決策導入後'!AZ40),0,'1-12-2.キャッシュフロー表 解決策導入後'!AZ40)","v":0},{"$f":"IF(ISBLANK('1-12-2.キャッシュフロー表 解決策導入後'!BA40),0,'1-12-2.キャッシュフロー表 解決策導入後'!BA40)","v":0},{"$f":"IF(ISBLANK('1-12-2.キャッシュフロー表 解決策導入後'!BB40),0,'1-12-2.キャッシュフロー表 解決策導入後'!BB40)","v":0},{"$f":"IF(ISBLANK('1-12-2.キャッシュフロー表 解決策導入後'!BC40),0,'1-12-2.キャッシュフロー表 解決策導入後'!BC40)","v":0},{"$f":"IF(ISBLANK('1-12-2.キャッシュフロー表 解決策導入後'!BD40),0,'1-12-2.キャッシュフロー表 解決策導入後'!BD40)","v":0},{"$f":"IF(ISBLANK('1-12-2.キャッシュフロー表 解決策導入後'!BE40),0,'1-12-2.キャッシュフロー表 解決策導入後'!BE40)","v":0},{"$f":"IF(ISBLANK('1-12-2.キャッシュフロー表 解決策導入後'!BF40),0,'1-12-2.キャッシュフロー表 解決策導入後'!BF40)","v":0},{"$f":"IF(ISBLANK('1-12-2.キャッシュフロー表 解決策導入後'!BG40),0,'1-12-2.キャッシュフロー表 解決策導入後'!BG40)","v":0},{"$f":"IF(ISBLANK('1-12-2.キャッシュフロー表 解決策導入後'!BH40),0,'1-12-2.キャッシュフロー表 解決策導入後'!BH40)","v":0},{"$f":"IF(ISBLANK('1-12-2.キャッシュフロー表 解決策導入後'!BI40),0,'1-12-2.キャッシュフロー表 解決策導入後'!BI40)","v":0},{"$f":"IF(ISBLANK('1-12-2.キャッシュフロー表 解決策導入後'!BJ40),0,'1-12-2.キャッシュフロー表 解決策導入後'!BJ40)","v":0},{"$f":"IF(ISBLANK('1-12-2.キャッシュフロー表 解決策導入後'!BK40),0,'1-12-2.キャッシュフロー表 解決策導入後'!BK40)","v":0},{"$f":"IF(ISBLANK('1-12-2.キャッシュフロー表 解決策導入後'!BL40),0,'1-12-2.キャッシュフロー表 解決策導入後'!BL40)","v":0},{"$f":"IF(ISBLANK('1-12-2.キャッシュフロー表 解決策導入後'!BM40),0,'1-12-2.キャッシュフロー表 解決策導入後'!BM40)","v":0},{"$f":"IF(ISBLANK('1-12-2.キャッシュフロー表 解決策導入後'!BN40),0,'1-12-2.キャッシュフロー表 解決策導入後'!BN40)","v":0},{"$f":"IF(ISBLANK('1-12-2.キャッシュフロー表 解決策導入後'!BO40),0,'1-12-2.キャッシュフロー表 解決策導入後'!BO40)","v":0},{"$f":"IF(ISBLANK('1-12-2.キャッシュフロー表 解決策導入後'!BP40),0,'1-12-2.キャッシュフロー表 解決策導入後'!BP40)","v":0},{"$f":"IF(ISBLANK('1-12-2.キャッシュフロー表 解決策導入後'!BQ40),0,'1-12-2.キャッシュフロー表 解決策導入後'!BQ40)","v":0},{"$f":"IF(ISBLANK('1-12-2.キャッシュフロー表 解決策導入後'!BR40),0,'1-12-2.キャッシュフロー表 解決策導入後'!BR40)","v":0},{"$f":"IF(ISBLANK('1-12-2.キャッシュフロー表 解決策導入後'!BS40),0,'1-12-2.キャッシュフロー表 解決策導入後'!BS40)","v":0},{"$f":"IF(ISBLANK('1-12-2.キャッシュフロー表 解決策導入後'!BT40),0,'1-12-2.キャッシュフロー表 解決策導入後'!BT40)","v":0},{"$f":"IF(ISBLANK('1-12-2.キャッシュフロー表 解決策導入後'!BU40),0,'1-12-2.キャッシュフロー表 解決策導入後'!BU40)","v":0},{"$f":"IF(ISBLANK('1-12-2.キャッシュフロー表 解決策導入後'!BV40),0,'1-12-2.キャッシュフロー表 解決策導入後'!BV40)","v":0},{"$f":"IF(ISBLANK('1-12-2.キャッシュフロー表 解決策導入後'!BW40),0,'1-12-2.キャッシュフロー表 解決策導入後'!BW40)","v":0},{"$f":"IF(ISBLANK('1-12-2.キャッシュフロー表 解決策導入後'!BX40),0,'1-12-2.キャッシュフロー表 解決策導入後'!BX40)","v":0},{"$f":"IF(ISBLANK('1-12-2.キャッシュフロー表 解決策導入後'!BY40),0,'1-12-2.キャッシュフロー表 解決策導入後'!BY40)","v":0},{"$f":"IF(ISBLANK('1-12-2.キャッシュフロー表 解決策導入後'!BZ40),0,'1-12-2.キャッシュフロー表 解決策導入後'!BZ40)","v":0}]

{"sheet":"1-12-3.キャッシュフロー表 解決策導入後②","index":29,"n_rows":42,"n_cols":84,"rows_kept":42,"cut":false,"hidden":false,"merged":[[9,2,9,6],[10,2,10,6],[11,2,18,2],[19,2,19,3],[19,5,19,6],[11,3,11,5],[12,3,12,5],[13,3,13,5],[14,3,14,5],[15,3,15,5],[16,3,16,5],[17,3,17,5],[18,3,18,5],[19,7,19,37],[20,2,29,2],[30,2,39,2],[40,2,40,3],[41,2,41,3]]}
[]
[]
[]
[]
[]
[]
[]
[null,null,"Ⅷ．解決策導入後のキャッシュフロー表②",null,null,null,null,null,null,null,null,null,null,null,null,null,null,null,null,null,null,null,null,null,null,null,null,null,null,null,null,null,null,null,null,null,null,null,null,null,null,null,null,null,null,null,null,null,null,null,null,null,null,null,null,null,null,null,null,null,null,null,null,null,null,null,null,null,null,null,null,null,null,null,null,null,null,null,null,null,null,null,null,false]
[null,null,null,null,null,null,null,null,null,null,null,null,null,null,null,null,null,null,null,null,null,null,null,null,null,null,null,null,null,null,null,null,null,null,null,"（金額の単位：万円）",null,null,null,null,null,null,null,null,null,"",null,null,null,null,null,null,null,null,null,"",null,null,null,null,null,null,null,null,null,"",null,null,null,null,null,null,null,null,null,null,null,""]
[null,null,"経過年数",null,null,null,null,"現在",1,2,3,4,5,6,7,8,9,10,11,12,13,14,15,16,17,18,19,20,21,22,23,24,25,26,27,28,29,30,31,32,33,34,35,36,37,38,39,40,41,42,43,44,45,46,47,48,49,50,51,52,53,54,55,56,57,58,59,60,61,62,63,64,65,66,67,68,69,70]
[null,null,"西暦",null,null,null,null,null,{"$f":"IF(TRIM(H11)=\"\",\"\",H11+1)","v":""},"","","","","","","","","","","","","","","",{"$f":"IF(TRIM(X11)=\"\",\"\",X11+1)","v":""},"","","","","","","","","","","","","",{"$f":"IF(TRIM(AL11)=\"\",\"\",AL11+1)","v":""},{"$f":"IF(TRIM(AM11)=\"\",\"\",AM11+1)","v":""},{"$f":"IF(TRIM(AN11)=\"\",\"\",AN11+1)","v":""},{"$f":"IF(TRIM(AO11)=\"\",\"\",AO11+1)","v":""},{"$f":"IF(TRIM(AP11)=\"\",\"\",AP11+1)","v":""},{"$f":"IF(TRIM(AQ11)=\"\",\"\",AQ11+1)","v":""},{"$f":"IF(TRIM(AR11)=\"\",\"\",AR11+1)","v":""},{"$f":"IF(TRIM(AS11)=\"\",\"\",AS11+1)","v":""},{"$f":"IF(TRIM(AT11)=\"\",\"\",AT11+1)","v":""},{"$f":"IF(TRIM(AU11)=\"\",\"\",AU11+1)","v":""},{"$f":"IF(TRIM(AV11)=\"\",\"\",AV11+1)","v":""},{"$f":"IF(TRIM(AW11)=\"\",\"\",AW11+1)","v":""},{"$f":"IF(TRIM(AX11)=\"\",\"\",AX11+1)","v":""},{"$f":"IF(TRIM(AY11)=\"\",\"\",AY11+1)","v":""},{"$f":"IF(TRIM(AZ11)=\"\",\"\",AZ11+1)","v":""},{"$f":"IF(TRIM(BA11)=\"\",\"\",BA11+1)","v":""},{"$f":"IF(TRIM(BB11)=\"\",\"\",BB11+1)","v":""},{"$f":"IF(TRIM(BC11)=\"\",\"\",BC11+1)","v":""},{"$f":"IF(TRIM(BD11)=\"\",\"\",BD11+1)","v":""},{"$f":"IF(TRIM(BE11)=\"\",\"\",BE11+1)","v":""},{"$f":"IF(TRIM(BF11)=\"\",\"\",BF11+1)","v":""},{"$f":"IF(TRIM(BG11)=\"\",\"\",BG11+1)","v":""},{"$f":"IF(TRIM(BH11)=\"\",\"\",BH11+1)","v":""},{"$f":"IF(TRIM(BI11)=\"\",\"\",BI11+1)","v":""},{"$f":"IF(TRIM(BJ11)=\"\",\"\",BJ11+1)","v":""},{"$f":"IF(TRIM(BK11)=\"\",\"\",BK11+1)","v":""},{"$f":"IF(TRIM(BL11)=\"\",\"\",BL11+1)","v":""},{"$f":"IF(TRIM(BM11)=\"\",\"\",BM11+1)","v":""},{"$f":"IF(TRIM(BN11)=\"\",\"\",BN11+1)","v":""},{"$f":"IF(TRIM(BO11)=\"\",\"\",BO11+1)","v":""},{"$f":"IF(TRIM(BP11)=\"\",\"\",BP11+1)","v":""},{"$f":"IF(TRIM(BQ11)=\"\",\"\",BQ11+1)","v":""},{"$f":"IF(TRIM(BR11)=\"\",\"\",BR11+1)","v":""},{"$f":"IF(TRIM(BS11)=\"\",\"\",BS11+1)","v":""},{"$f":"IF(TRIM(BT11)=\"\",\"\",BT11+1)","v":""},{"$f":"IF(TRIM(BU11)=\"\",\"\",BU11+1)","v":""},{"$f":"IF(TRIM(BV11)=\"\",\"\",BV11+1)","v":""},{"$f":"IF(TRIM(BW11)=\"\",\"\",BW11+1)","v":""},{"$f":"IF(TRIM(BX11)=\"\",\"\",BX11+1)","v":""},{"$f":"IF(TRIM(BY11)=\"\",\"\",BY11+1)","v":""}]
[null,null,"家族構成と年齢","",null,null,"","","","","","","","","","","","","","","","","","","","","","","","","","","","","","","","","","","","","","","","","","","","","","","","","","","","","","","","","","","","","","","","","","","","","","","",""]
[null,null,null,"",null,null,"","","","","","","","","","","","","","","","","","","","","","","","","","","","","","","","","","","","","","","","","","","","","","","","","","","","","","","","","","","","","","","","","","","","","","","",""]
[null,null,null,"",null,null,"","","","","","","","","","","","","","","","","","","","","","","","","","","","","","","","","","","","","","","","","","","","","","","","","","","","","","","","","","","","","","","","","","","","","","","",""]
[null,null,null,"",null,null,"","","","","","","","","","","","","","","","","","","","","","","","","","","","","","","","","","","","","","","","","","","","","","","","","","","","","","","","","","","","","","","","","","","","","","","",""]
[null,null,null,"",null,null,"","","","","","","","","","","","","","","","","","","","","","","","","","","","","","","","","","","","","","","","","","","","","","","","","","","","","","","","","","","","","","","","","","","","","","","",""]
[null,null,null,"",null,null,"","","","","","","","","","","","","","","","","","","","","","","","","","","","","","","","","","","","","","","","","","","","","","","","","","","","","","","","","","","","","","","","","","","","","","","",""]
[null,null,null,"",null,null,"","","","","","","","","","","","","","","","","","","","","","","","","","","","","","","","","","","","","","","","","","","","","","","","","","","","","","","","","","","","","","","","","","","","","","","",""]
[null,null,null,"",null,null,"","","","","","","","","","","","","","","","","","","","","","","","","","","","","","","","","","","","","","","","","","","","","","","","","","","","","","","","","","","","","","","","","","","","","","","",""]
[null,null,"収入支出項目",null,"変動率","変動率○年後～"]
[null,null,"収　入",null,0,null,0,null,{"$f":"IF(TRIM(H21)=\"\",0,IF(I10<IF(OR($F21=\"\",$F21=0),99,$F21),H21*(1+$E21),H21*(1+$G21)))","v":0},0,0,0,0,0,0,0,0,0,0,0,0,0,0,0,0,0,0,0,0,0,0,0,0,0,0,0,0,0,0,0,{"$f":"IF(TRIM(AN21)=\"\",0,IF(AO10<IF(OR($F21=\"\",$F21=0),99,$F21),AN21*(1+$E21),AN21*(1+$G21)))","v":0},0,0,0,0,0,0,0,0,0,0,0,0,0,0,0,0,0,0,0,0,0,0,0,0,0,0,0,0,0,0,0,{"$f":"IF(TRIM(BT21)=\"\",0,IF(BU10<IF(OR($F21=\"\",$F21=0),99,$F21),BT21*(1+$E21),BT21*(1+$G21)))","v":0},0,0,0,0,0]
[null,null,null,null,0,null,0,null,{"$f":"IF(TRIM(H22)=\"\",0,IF(I10<IF(OR($F22=\"\",$F22=0),99,$F22),H22*(1+$E22),H22*(1+$G22)))","v":0},0,0,0,0,0,0,0,0,0,0,0,0,0,0,0,0,0,0,0,0,0,0,0,0,0,0,0,0,0,0,0,{"$f":"IF(TRIM(AN22)=\"\",0,IF(AO10<IF(OR($F22=\"\",$F22=0),99,$F22),AN22*(1+$E22),AN22*(1+$G22)))","v":0},0,0,0,0,0,0,0,0,0,0,0,0,0,0,0,0,0,0,0,0,0,0,0,0,0,0,0,0,0,0,0,{"$f":"IF(TRIM(BT22)=\"\",0,IF(BU10<IF(OR($F22=\"\",$F22=0),99,$F22),BT22*(1+$E22),BT22*(1+$G22)))","v":0},0,0,0,0,0]
[null,null,null,null,0,null,0,null,{"$f":"IF(TRIM(H23)=\"\",0,IF(I10<IF(OR($F23=\"\",$F23=0),99,$F23),H23*(1+$E23),H23*(1+$G23)))","v":0},0,0,0,0,0,0,0,0,0,0,0,0,0,0,0,0,0,0,0,0,0,0,0,0,0,0,0,0,0,0,0,{"$f":"IF(TRIM(AN23)=\"\",0,IF(AO10<IF(OR($F23=\"\",$F23=0),99,$F23),AN23*(1+$E23),AN23*(1+$G23)))","v":0},0,0,0,0,0,0,0,0,0,0,0,0,0,0,0,0,0,0,0,0,0,0,0,0,0,0,0,0,0,0,0,{"$f":"IF(TRIM(BT23)=\"\",0,IF(BU10<IF(OR($F23=\"\",$F23=0),99,$F23),BT23*(1+$E23),BT23*(1+$G23)))","v":0},0,0,0,0,0]
[null,null,null,null,0,null,0,null,{"$f":"IF(TRIM(H24)=\"\",0,IF(I10<IF(OR($F24=\"\",$F24=0),99,$F24),H24*(1+$E24),H24*(1+$G24)))","v":0},0,0,0,0,0,0,0,0,0,0,0,0,0,0,0,0,0,0,0,0,0,0,0,0,0,0,0,0,0,0,0,{"$f":"IF(TRIM(AN24)=\"\",0,IF(AO10<IF(OR($F24=\"\",$F24=0),99,$F24),AN24*(1+$E24),AN24*(1+$G24)))","v":0},0,0,0,0,0,0,0,0,0,0,0,0,0,0,0,0,0,0,0,0,0,0,0,0,0,0,0,0,0,0,0,{"$f":"IF(TRIM(BT24)=\"\",0,IF(BU10<IF(OR($F24=\"\",$F24=0),99,$F24),BT24*(1+$E24),BT24*(1+$G24)))","v":0},0,0,0,0,0]
[null,null,null,null,0,null,0,null,{"$f":"IF(TRIM(H25)=\"\",0,IF(I10<IF(OR($F25=\"\",$F25=0),99,$F25),H25*(1+$E25),H25*(1+$G25)))","v":0},0,0,0,0,0,0,0,0,0,0,0,0,0,0,0,0,0,0,0,0,0,0,0,0,0,0,0,0,0,0,0,{"$f":"IF(TRIM(AN25)=\"\",0,IF(AO10<IF(OR($F25=\"\",$F25=0),99,$F25),AN25*(1+$E25),AN25*(1+$G25)))","v":0},0,0,0,0,0,0,0,0,0,0,0,0,0,0,0,0,0,0,0,0,0,0,0,0,0,0,0,0,0,0,0,{"$f":"IF(TRIM(BT25)=\"\",0,IF(BU10<IF(OR($F25=\"\",$F25=0),99,$F25),BT25*(1+$E25),BT25*(1+$G25)))","v":0},0,0,0,0,0]
[null,null,null,null,0,null,0,null,{"$f":"IF(TRIM(H26)=\"\",0,IF(I10<IF(OR($F26=\"\",$F26=0),99,$F26),H26*(1+$E26),H26*(1+$G26)))","v":0},0,0,0,0,0,0,0,0,0,0,0,0,0,0,0,0,0,0,0,0,0,0,0,0,0,0,0,0,0,0,0,{"$f":"IF(TRIM(AN26)=\"\",0,IF(AO10<IF(OR($F26=\"\",$F26=0),99,$F26),AN26*(1+$E26),AN26*(1+$G26)))","v":0},0,0,0,0,0,0,0,0,0,0,0,0,0,0,0,0,0,0,0,0,0,0,0,0,0,0,0,0,0,0,0,{"$f":"IF(TRIM(BT26)=\"\",0,IF(BU10<IF(OR($F26=\"\",$F26=0),99,$F26),BT26*(1+$E26),BT26*(1+$G26)))","v":0},0,0,0,0,0]
[null,null,null,null,0,null,0,null,{"$f":"IF(TRIM(H27)=\"\",0,IF(I10<IF(OR($F27=\"\",$F27=0),99,$F27),H27*(1+$E27),H27*(1+$G27)))","v":0},0,0,0,0,0,0,0,0,0,0,0,0,0,0,0,0,0,0,0,0,0,0,0,0,0,0,0,0,0,0,0,{"$f":"IF(TRIM(AN27)=\"\",0,IF(AO10<IF(OR($F27=\"\",$F27=0),99,$F27),AN27*(1+$E27),AN27*(1+$G27)))","v":0},0,0,0,0,0,0,0,0,0,0,0,0,0,0,0,0,0,0,0,0,0,0,0,0,0,0,0,0,0,0,0,{"$f":"IF(TRIM(BT27)=\"\",0,IF(BU10<IF(OR($F27=\"\",$F27=0),99,$F27),BT27*(1+$E27),BT27*(1+$G27)))","v":0},0,0,0,0,0]
[null,null,null,null,0,null,0,null,{"$f":"IF(TRIM(H28)=\"\",0,IF(I10<IF(OR(F28=\"\",F28=0),99,F28),H28*(1+$E28),H28*(1+$G28)))","v":0},{"$f":"IF(TRIM(I28)=\"\",0,IF(J10<IF(OR(F28=\"\",F28=0),99,F28),I28*(1+$E28),I28*(1+$G28)))","v":0},{"$f":"IF(TRIM(J28)=\"\",0,IF(K10<IF(OR(F28=\"\",F28=0),99,F28),J28*(1+$E28),J28*(1+$G28)))","v":0},{"$f":"IF(TRIM(K28)=\"\",0,IF(L10<IF(OR(F28=\"\",F28=0),99,F28),K28*(1+$E28),K28*(1+$G28)))","v":0},{"$f":"IF(TRIM(L28)=\"\",0,IF(M10<IF(OR(F28=\"\",F28=0),99,F28),L28*(1+$E28),L28*(1+$G28)))","v":0},{"$f":"IF(TRIM(M28)=\"\",0,IF(N10<IF(OR(F28=\"\",F28=0),99,F28),M28*(1+$E28),M28*(1+$G28)))","v":0},{"$f":"IF(TRIM(N28)=\"\",0,IF(O10<IF(OR(F28=\"\",F28=0),99,F28),N28*(1+$E28),N28*(1+$G28)))","v":0},{"$f":"IF(TRIM(O28)=\"\",0,IF(P10<IF(OR(F28=\"\",F28=0),99,F28),O28*(1+$E28),O28*(1+$G28)))","v":0},{"$f":"IF(TRIM(P28)=\"\",0,IF(Q10<IF(OR(F28=\"\",F28=0),99,F28),P28*(1+$E28),P28*(1+$G28)))","v":0},{"$f":"IF(TRIM(Q28)=\"\",0,IF(R10<IF(OR(F28=\"\",F28=0),99,F28),Q28*(1+$E28),Q28*(1+$G28)))","v":0},{"$f":"IF(TRIM(R28)=\"\",0,IF(S10<IF(OR(F28=\"\",F28=0),99,F28),R28*(1+$E28),R28*(1+$G28)))","v":0},{"$f":"IF(TRIM(S28)=\"\",0,IF(T10<IF(OR(F28=\"\",F28=0),99,F28),S28*(1+$E28),S28*(1+$G28)))","v":0},{"$f":"IF(TRIM(T28)=\"\",0,IF(U10<IF(OR(F28=\"\",F28=0),99,F28),T28*(1+$E28),T28*(1+$G28)))","v":0},{"$f":"IF(TRIM(U28)=\"\",0,IF(V10<IF(OR(F28=\"\",F28=0),99,F28),U28*(1+$E28),U28*(1+$G28)))","v":0},{"$f":"IF(TRIM(V28)=\"\",0,IF(W10<IF(OR(F28=\"\",F28=0),99,F28),V28*(1+$E28),V28*(1+$G28)))","v":0},{"$f":"IF(TRIM(W28)=\"\",0,IF(X10<IF(OR(F28=\"\",F28=0),99,F28),W28*(1+$E28),W28*(1+$G28)))","v":0},{"$f":"IF(TRIM(X28)=\"\",0,IF(Y10<IF(OR(F28=\"\",F28=0),99,F28),X28*(1+$E28),X28*(1+$G28)))","v":0},{"$f":"IF(TRIM(Y28)=\"\",0,IF(Z10<IF(OR(F28=\"\",F28=0),99,F28),Y28*(1+$E28),Y28*(1+$G28)))","v":0},{"$f":"IF(TRIM(Z28)=\"\",0,IF(AA10<IF(OR(F28=\"\",F28=0),99,F28),Z28*(1+$E28),Z28*(1+$G28)))","v":0},{"$f":"IF(TRIM(AA28)=\"\",0,IF(AB10<IF(OR(F28=\"\",F28=0),99,F28),AA28*(1+$E28),AA28*(1+$G28)))","v":0},{"$f":"IF(TRIM(AB28)=\"\",0,IF(AC10<IF(OR(F28=\"\",F28=0),99,F28),AB28*(1+$E28),AB28*(1+$G28)))","v":0},{"$f":"IF(TRIM(AC28)=\"\",0,IF(AD10<IF(OR(F28=\"\",F28=0),99,F28),AC28*(1+$E28),AC28*(1+$G28)))","v":0},{"$f":"IF(TRIM(AD28)=\"\",0,IF(AE10<IF(OR(F28=\"\",F28=0),99,F28),AD28*(1+$E28),AD28*(1+$G28)))","v":0},{"$f":"IF(TRIM(AE28)=\"\",0,IF(AF10<IF(OR(F28=\"\",F28=0),99,F28),AE28*(1+$E28),AE28*(1+$G28)))","v":0},{"$f":"IF(TRIM(AF28)=\"\",0,IF(AG10<IF(OR(F28=\"\",F28=0),99,F28),AF28*(1+$E28),AF28*(1+$G28)))","v":0},{"$f":"IF(TRIM(AG28)=\"\",0,IF(AH10<IF(OR(F28=\"\",F28=0),99,F28),AG28*(1+$E28),AG28*(1+$G28)))","v":0},{"$f":"IF(TRIM(AH28)=\"\",0,IF(AI10<IF(OR(F28=\"\",F28=0),99,F28),AH28*(1+$E28),AH28*(1+$G28)))","v":0},{"$f":"IF(TRIM(AI28)=\"\",0,IF(AJ10<IF(OR(F28=\"\",F28=0),99,F28),AI28*(1+$E28),AI28*(1+$G28)))","v":0},{"$f":"IF(TRIM(AJ28)=\"\",0,IF(AK10<IF(OR(F28=\"\",F28=0),99,F28),AJ28*(1+$E28),AJ28*(1+$G28)))","v":0},{"$f":"IF(TRIM(AK28)=\"\",0,IF(AL10<IF(OR(F28=\"\",F28=0),99,F28),AK28*(1+$E28),AK28*(1+$G28)))","v":0},{"$f":"IF(TRIM(AL28)=\"\",0,IF(AM10<IF(OR(P28=\"\",P28=0),99,P28),AL28*(1+$E28),AL28*(1+$G28)))","v":0},{"$f":"IF(TRIM(AM28)=\"\",0,IF(AN10<IF(OR(P28=\"\",P28=0),99,P28),AM28*(1+$E28),AM28*(1+$G28)))","v":0},{"$f":"IF(TRIM(AN28)=\"\",0,IF(AO10<IF(OR(P28=\"\",P28=0),99,P28),AN28*(1+$E28),AN28*(1+$G28)))","v":0},{"$f":"IF(TRIM(AO28)=\"\",0,IF(AP10<IF(OR(P28=\"\",P28=0),99,P28),AO28*(1+$E28),AO28*(1+$G28)))","v":0},{"$f":"IF(TRIM(AP28)=\"\",0,IF(AQ10<IF(OR(P28=\"\",P28=0),99,P28),AP28*(1+$E28),AP28*(1+$G28)))","v":0},{"$f":"IF(TRIM(AQ28)=\"\",0,IF(AR10<IF(OR(P28=\"\",P28=0),99,P28),AQ28*(1+$E28),AQ28*(1+$G28)))","v":0},{"$f":"IF(TRIM(AR28)=\"\",0,IF(AS10<IF(OR(P28=\"\",P28=0),99,P28),AR28*(1+$E28),AR28*(1+$G28)))","v":0},{"$f":"IF(TRIM(AS28)=\"\",0,IF(AT10<IF(OR(P28=\"\",P28=0),99,P28),AS28*(1+$E28),AS28*(1+$G28)))","v":0},{"$f":"IF(TRIM(AT28)=\"\",0,IF(AU10<IF(OR(P28=\"\",P28=0),99,P28),AT28*(1+$E28),AT28*(1+$G28)))","v":0},{"$f":"IF(TRIM(AU28)=\"\",0,IF(AV10<IF(OR(P28=\"\",P28=0),99,P28),AU28*(1+$E28),AU28*(1+$G28)))","v":0},{"$f":"IF(TRIM(AV28)=\"\",0,IF(AW10<IF(OR(Z28=\"\",Z28=0),99,Z28),AV28*(1+$E28),AV28*(1+$G28)))","v":0},{"$f":"IF(TRIM(AW28)=\"\",0,IF(AX10<IF(OR(Z28=\"\",Z28=0),99,Z28),AW28*(1+$E28),AW28*(1+$G28)))","v":0},{"$f":"IF(TRIM(AX28)=\"\",0,IF(AY10<IF(OR(Z28=\"\",Z28=0),99,Z28),AX28*(1+$E28),AX28*(1+$G28)))","v":0},{"$f":"IF(TRIM(AY28)=\"\",0,IF(AZ10<IF(OR(Z28=\"\",Z28=0),99,Z28),AY28*(1+$E28),AY28*(1+$G28)))","v":0},{"$f":"IF(TRIM(AZ28)=\"\",0,IF(BA10<IF(OR(Z28=\"\",Z28=0),99,Z28),AZ28*(1+$E28),AZ28*(1+$G28)))","v":0},{"$f":"IF(TRIM(BA28)=\"\",0,IF(BB10<IF(OR(Z28=\"\",Z28=0),99,Z28),BA28*(1+$E28),BA28*(1+$G28)))","v":0},{"$f":"IF(TRIM(BB28)=\"\",0,IF(BC10<IF(OR(Z28=\"\",Z28=0),99,Z28),BB28*(1+$E28),BB28*(1+$G28)))","v":0},{"$f":"IF(TRIM(BC28)=\"\",0,IF(BD10<IF(OR(Z28=\"\",Z28=0),99,Z28),BC28*(1+$E28),BC28*(1+$G28)))","v":0},{"$f":"IF(TRIM(BD28)=\"\",0,IF(BE10<IF(OR(Z28=\"\",Z28=0),99,Z28),BD28*(1+$E28),BD28*(1+$G28)))","v":0},{"$f":"IF(TRIM(BE28)=\"\",0,IF(BF10<IF(OR(Z28=\"\",Z28=0),99,Z28),BE28*(1+$E28),BE28*(1+$G28)))","v":0},{"$f":"IF(TRIM(BF28)=\"\",0,IF(BG10<IF(OR(AJ28=\"\",AJ28=0),99,AJ28),BF28*(1+$E28),BF28*(1+$G28)))","v":0},{"$f":"IF(TRIM(BG28)=\"\",0,IF(BH10<IF(OR(AJ28=\"\",AJ28=0),99,AJ28),BG28*(1+$E28),BG28*(1+$G28)))","v":0},{"$f":"IF(TRIM(BH28)=\"\",0,IF(BI10<IF(OR(AJ28=\"\",AJ28=0),99,AJ28),BH28*(1+$E28),BH28*(1+$G28)))","v":0},{"$f":"IF(TRIM(BI28)=\"\",0,IF(BJ10<IF(OR(AJ28=\"\",AJ28=0),99,AJ28),BI28*(1+$E28),BI28*(1+$G28)))","v":0},{"$f":"IF(TRIM(BJ28)=\"\",0,IF(BK10<IF(OR(AJ28=\"\",AJ28=0),99,AJ28),BJ28*(1+$E28),BJ28*(1+$G28)))","v":0},{"$f":"IF(TRIM(BK28)=\"\",0,IF(BL10<IF(OR(AJ28=\"\",AJ28=0),99,AJ28),BK28*(1+$E28),BK28*(1+$G28)))","v":0},{"$f":"IF(TRIM(BL28)=\"\",0,IF(BM10<IF(OR(AJ28=\"\",AJ28=0),99,AJ28),BL28*(1+$E28),BL28*(1+$G28)))","v":0},{"$f":"IF(TRIM(BM28)=\"\",0,IF(BN10<IF(OR(AJ28=\"\",AJ28=0),99,AJ28),BM28*(1+$E28),BM28*(1+$G28)))","v":0},{"$f":"IF(TRIM(BN28)=\"\",0,IF(BO10<IF(OR(AJ28=\"\",AJ28=0),99,AJ28),BN28*(1+$E28),BN28*(1+$G28)))","v":0},{"$f":"IF(TRIM(BO28)=\"\",0,IF(BP10<IF(OR(AJ28=\"\",AJ28=0),99,AJ28),BO28*(1+$E28),BO28*(1+$G28)))","v":0},{"$f":"IF(TRIM(BP28)=\"\",0,IF(BQ10<IF(OR(AT28=\"\",AT28=0),99,AT28),BP28*(1+$E28),BP28*(1+$G28)))","v":0},{"$f":"IF(TRIM(BQ28)=\"\",0,IF(BR10<IF(OR(AT28=\"\",AT28=0),99,AT28),BQ28*(1+$E28),BQ28*(1+$G28)))","v":0},{"$f":"IF(TRIM(BR28)=\"\",0,IF(BS10<IF(OR(AT28=\"\",AT28=0),99,AT28),BR28*(1+$E28),BR28*(1+$G28)))","v":0},{"$f":"IF(TRIM(BS28)=\"\",0,IF(BT10<IF(OR(AT28=\"\",AT28=0),99,AT28),BS28*(1+$E28),BS28*(1+$G28)))","v":0},{"$f":"IF(TRIM(BT28)=\"\",0,IF(BU10<IF(OR(AT28=\"\",AT28=0),99,AT28),BT28*(1+$E28),BT28*(1+$G28)))","v":0},{"$f":"IF(TRIM(BU28)=\"\",0,IF(BV10<IF(OR(AT28=\"\",AT28=0),99,AT28),BU28*(1+$E28),BU28*(1+$G28)))","v":0},{"$f":"IF(TRIM(BV28)=\"\",0,IF(BW10<IF(OR(AT28=\"\",AT28=0),99,AT28),BV28*(1+$E28),BV28*(1+$G28)))","v":0},{"$f":"IF(TRIM(BW28)=\"\",0,IF(BX10<IF(OR(AT28=\"\",AT28=0),99,AT28),BW28*(1+$E28),BW28*(1+$G28)))","v":0},{"$f":"IF(TRIM(BX28)=\"\",0,IF(BY10<IF(OR(AT28=\"\",AT28=0),99,AT28),BX28*(1+$E28),BX28*(1+$G28)))","v":0},{"$f":"IF(TRIM(BY28)=\"\",0,IF(BZ10<IF(OR(AT28=\"\",AT28=0),99,AT28),BY28*(1+$E28),BY28*(1+$G28)))","v":0}]
[null,null,null,"その他一時的収入"]
[null,null,null,"収入合計",null,null,null,{"$f":"SUM(H21:H29)","v":0},{"$f":"SUM(I21:I29)","v":0},0,0,0,0,0,0,0,0,0,0,0,0,0,0,0,0,0,0,0,0,0,0,0,0,0,0,0,0,{"$f":"SUM(AL21:AL29)","v":0},{"$f":"SUM(AM21:AM29)","v":0},0,0,0,0,0,0,0,0,0,0,0,0,0,0,0,0,0,0,0,0,0,0,0,0,0,0,0,0,0,0,0,0,0,0,0,0,0,0,{"$f":"SUM(BZ21:BZ29)","v":0}]
[null,null,"支　出",null,0,null,0,null,{"$f":"IF(TRIM(H31)=\"\",0,IF(I10<IF(OR($F31=\"\",$F31=0),99,$F31),H31*(1+$E31),H31*(1+$G31)))","v":0},0,0,0,0,0,0,0,0,0,0,0,0,0,0,0,0,0,0,0,0,0,0,0,0,0,0,0,0,0,0,0,{"$f":"IF(TRIM(AN31)=\"\",0,IF(AO10<IF(OR($F31=\"\",$F31=0),99,$F31),AN31*(1+$E31),AN31*(1+$G31)))","v":0},0,0,0,0,0,0,0,0,0,0,0,0,0,0,0,0,0,0,0,0,0,0,0,0,0,0,0,0,0,0,0,{"$f":"IF(TRIM(BT31)=\"\",0,IF(BU10<IF(OR($F31=\"\",$F31=0),99,$F31),BT31*(1+$E31),BT31*(1+$G31)))","v":0},0,0,0,0,0]
[null,null,null,null,0,null,0,null,{"$f":"IF(TRIM(H32)=\"\",0,IF(I10<IF(OR($F32=\"\",$F32=0),99,$F32),H32*(1+$E32),H32*(1+$G32)))","v":0},0,0,0,0,0,0,0,0,0,0,0,0,0,0,0,0,0,0,0,0,0,0,0,0,0,0,0,0,0,0,0,{"$f":"IF(TRIM(AN32)=\"\",0,IF(AO10<IF(OR($F32=\"\",$F32=0),99,$F32),AN32*(1+$E32),AN32*(1+$G32)))","v":0},0,0,0,0,0,0,0,0,0,0,0,0,0,0,0,0,0,0,0,0,0,0,0,0,0,0,0,0,0,0,0,{"$f":"IF(TRIM(BT32)=\"\",0,IF(BU10<IF(OR($F32=\"\",$F32=0),99,$F32),BT32*(1+$E32),BT32*(1+$G32)))","v":0},0,0,0,0,0]
[null,null,null,null,0,null,0,null,{"$f":"IF(TRIM(H33)=\"\",0,IF(I10<IF(OR($F33=\"\",$F33=0),99,$F33),H33*(1+$E33),H33*(1+$G33)))","v":0},0,0,0,0,0,0,0,0,0,0,0,0,0,0,0,0,0,0,0,0,0,0,0,0,0,0,0,0,0,0,0,{"$f":"IF(TRIM(AN33)=\"\",0,IF(AO10<IF(OR($F33=\"\",$F33=0),99,$F33),AN33*(1+$E33),AN33*(1+$G33)))","v":0},0,0,0,0,0,0,0,0,0,0,0,0,0,0,0,0,0,0,0,0,0,0,0,0,0,0,0,0,0,0,0,{"$f":"IF(TRIM(BT33)=\"\",0,IF(BU10<IF(OR($F33=\"\",$F33=0),99,$F33),BT33*(1+$E33),BT33*(1+$G33)))","v":0},0,0,0,0,0]
[null,null,null,null,0,null,0,null,{"$f":"IF(TRIM(H34)=\"\",0,IF(I10<IF(OR($F34=\"\",$F34=0),99,$F34),H34*(1+$E34),H34*(1+$G34)))","v":0},0,0,0,0,0,0,0,0,0,0,0,0,0,0,0,0,0,0,0,0,0,0,0,0,0,0,0,0,0,0,0,{"$f":"IF(TRIM(AN34)=\"\",0,IF(AO10<IF(OR($F34=\"\",$F34=0),99,$F34),AN34*(1+$E34),AN34*(1+$G34)))","v":0},0,0,0,0,0,0,0,0,0,0,0,0,0,0,0,0,0,0,0,0,0,0,0,0,0,0,0,0,0,0,0,{"$f":"IF(TRIM(BT34)=\"\",0,IF(BU10<IF(OR($F34=\"\",$F34=0),99,$F34),BT34*(1+$E34),BT34*(1+$G34)))","v":0},0,0,0,0,0]
[null,null,null,null,0,null,0,null,{"$f":"IF(TRIM(H35)=\"\",0,IF(I10<IF(OR($F35=\"\",$F35=0),99,$F35),H35*(1+$E35),H35*(1+$G35)))","v":0},0,0,0,0,0,0,0,0,0,0,0,0,0,0,0,0,0,0,0,0,0,0,0,0,0,0,0,0,0,0,0,{"$f":"IF(TRIM(AN35)=\"\",0,IF(AO10<IF(OR($F35=\"\",$F35=0),99,$F35),AN35*(1+$E35),AN35*(1+$G35)))","v":0},0,0,0,0,0,0,0,0,0,0,0,0,0,0,0,0,0,0,0,0,0,0,0,0,0,0,0,0,0,0,0,{"$f":"IF(TRIM(BT35)=\"\",0,IF(BU10<IF(OR($F35=\"\",$F35=0),99,$F35),BT35*(1+$E35),BT35*(1+$G35)))","v":0},0,0,0,0,0]
[null,null,null,null,0,null,0,null,{"$f":"IF(TRIM(H36)=\"\",0,IF(I10<IF(OR($F36=\"\",$F36=0),99,$F36),H36*(1+$E36),H36*(1+$G36)))","v":0},0,0,0,0,0,0,0,0,0,0,0,0,0,0,0,0,0,0,0,0,0,0,0,0,0,0,0,0,0,0,0,{"$f":"IF(TRIM(AN36)=\"\",0,IF(AO10<IF(OR($F36=\"\",$F36=0),99,$F36),AN36*(1+$E36),AN36*(1+$G36)))","v":0},0,0,0,0,0,0,0,0,0,0,0,0,0,0,0,0,0,0,0,0,0,0,0,0,0,0,0,0,0,0,0,{"$f":"IF(TRIM(BT36)=\"\",0,IF(BU10<IF(OR($F36=\"\",$F36=0),99,$F36),BT36*(1+$E36),BT36*(1+$G36)))","v":0},0,0,0,0,0]
[null,null,null,null,0,null,0,null,{"$f":"IF(TRIM(H37)=\"\",0,IF(I10<IF(OR($F37=\"\",$F37=0),99,$F37),H37*(1+$E37),H37*(1+$G37)))","v":0},0,0,0,0,0,0,0,0,0,0,0,0,0,0,0,0,0,0,0,0,0,0,0,0,0,0,0,0,0,0,0,{"$f":"IF(TRIM(AN37)=\"\",0,IF(AO10<IF(OR($F37=\"\",$F37=0),99,$F37),AN37*(1+$E37),AN37*(1+$G37)))","v":0},0,0,0,0,0,0,0,0,0,0,0,0,0,0,0,0,0,0,0,0,0,0,0,0,0,0,0,0,0,0,0,{"$f":"IF(TRIM(BT37)=\"\",0,IF(BU10<IF(OR($F37=\"\",$F37=0),99,$F37),BT37*(1+$E37),BT37*(1+$G37)))","v":0},0,0,0,0,0]
[null,null,null,null,0,null,0,null,{"$f":"IF(TRIM(H38)=\"\",0,IF(I10<IF(OR($F38=\"\",$F38=0),99,$F38),H38*(1+$E38),H38*(1+$G38)))","v":0},0,0,0,0,0,0,0,0,0,0,0,0,0,0,0,0,0,0,0,0,0,0,0,0,0,0,0,0,0,0,0,{"$f":"IF(TRIM(AN38)=\"\",0,IF(AO10<IF(OR($F38=\"\",$F38=0),99,$F38),AN38*(1+$E38),AN38*(1+$G38)))","v":0},0,0,0,0,0,0,0,0,0,0,0,0,0,0,0,0,0,0,0,0,0,0,0,0,0,0,0,0,0,0,0,{"$f":"IF(TRIM(BT38)=\"\",0,IF(BU10<IF(OR($F38=\"\",$F38=0),99,$F38),BT38*(1+$E38),BT38*(1+$G38)))","v":0},0,0,0,0,0]
[null,null,null,"その他一時的支出"]
[null,null,null,"支出合計",null,null,null,{"$f":"SUM(H31:H39)","v":0},{"$f":"SUM(I31:I39)","v":0},0,0,0,0,0,0,0,0,0,0,0,0,0,0,0,0,0,0,0,0,0,0,0,0,0,0,0,0,{"$f":"SUM(AL31:AL39)","v":0},{"$f":"SUM(AM31:AM39)","v":0},0,0,0,0,0,0,0,0,0,0,0,0,0,0,0,0,0,0,0,0,0,0,0,0,0,0,0,0,0,0,0,0,0,0,0,0,0,0,{"$f":"SUM(BZ31:BZ39)","v":0}]
[null,null,"年間収支",null,null,null,null,{"$f":"H30-H40","v":0},{"$f":"I30-I40","v":0},0,0,0,0,0,0,0,0,0,0,0,0,0,0,0,0,0,0,0,0,0,0,0,0,0,0,0,0,{"$f":"AL30-AL40","v":0},{"$f":"AM30-AM40","v":0},0,0,0,0,0,0,0,0,0,0,0,0,0,0,0,0,0,0,0,0,0,0,0,0,0,0,0,0,0,0,0,0,0,0,0,0,0,0,{"$f":"BZ30-BZ40","v":0}]
[null,null,"貯蓄残高",null,0,null,null,{"$f":"IF(ISBLANK('1-8-2.保有している金融商品、不動産 解決策導入後'!$E$27),0,'1-8-2.保有している金融商品、不動産 解決策導入後'!$E$27)+H41","v":0},{"$f":"IF(H42<0,H42+I41,H42*(1+$E42)+I41)","v":0},{"$f":"IF(I42<0,I42+J41,I42*(1+$E42)+J41)","v":0},0,0,0,0,0,0,0,0,0,0,0,0,0,0,0,0,0,0,0,0,0,0,0,0,0,0,0,0,{"$f":"IF(AL42<0,AL42+AM41,AL42*(1+$E42)+AM41)","v":0},{"$f":"IF(AM42<0,AM42+AN41,AM42*(1+$E42)+AN41)","v":0},{"$f":"IF(AN42<0,AN42+AO41,AN42*(1+$E42)+AO41)","v":0},{"$f":"IF(AO42<0,AO42+AP41,AO42*(1+$E42)+AP41)","v":0},{"$f":"IF(AP42<0,AP42+AQ41,AP42*(1+$E42)+AQ41)","v":0},{"$f":"IF(AQ42<0,AQ42+AR41,AQ42*(1+$E42)+AR41)","v":0},{"$f":"IF(AR42<0,AR42+AS41,AR42*(1+$E42)+AS41)","v":0},{"$f":"IF(AS42<0,AS42+AT41,AS42*(1+$E42)+AT41)","v":0},{"$f":"IF(AT42<0,AT42+AU41,AT42*(1+$E42)+AU41)","v":0},{"$f":"IF(AU42<0,AU42+AV41,AU42*(1+$E42)+AV41)","v":0},{"$f":"IF(AV42<0,AV42+AW41,AV42*(1+$E42)+AW41)","v":0},{"$f":"IF(AW42<0,AW42+AX41,AW42*(1+$E42)+AX41)","v":0},{"$f":"IF(AX42<0,AX42+AY41,AX42*(1+$E42)+AY41)","v":0},{"$f":"IF(AY42<0,AY42+AZ41,AY42*(1+$E42)+AZ41)","v":0},{"$f":"IF(AZ42<0,AZ42+BA41,AZ42*(1+$E42)+BA41)","v":0},{"$f":"IF(BA42<0,BA42+BB41,BA42*(1+$E42)+BB41)","v":0},{"$f":"IF(BB42<0,BB42+BC41,BB42*(1+$E42)+BC41)","v":0},{"$f":"IF(BC42<0,BC42+BD41,BC42*(1+$E42)+BD41)","v":0},{"$f":"IF(BD42<0,BD42+BE41,BD42*(1+$E42)+BE41)","v":0},{"$f":"IF(BE42<0,BE42+BF41,BE42*(1+$E42)+BF41)","v":0},{"$f":"IF(BF42<0,BF42+BG41,BF42*(1+$E42)+BG41)","v":0},{"$f":"IF(BG42<0,BG42+BH41,BG42*(1+$E42)+BH41)","v":0},{"$f":"IF(BH42<0,BH42+BI41,BH42*(1+$E42)+BI41)","v":0},{"$f":"IF(BI42<0,BI42+BJ41,BI42*(1+$E42)+BJ41)","v":0},{"$f":"IF(BJ42<0,BJ42+BK41,BJ42*(1+$E42)+BK41)","v":0},{"$f":"IF(BK42<0,BK42+BL41,BK42*(1+$E42)+BL41)","v":0},{"$f":"IF(BL42<0,BL42+BM41,BL42*(1+$E42)+BM41)","v":0},{"$f":"IF(BM42<0,BM42+BN41,BM42*(1+$E42)+BN41)","v":0},{"$f":"IF(BN42<0,BN42+BO41,BN42*(1+$E42)+BO41)","v":0},{"$f":"IF(BO42<0,BO42+BP41,BO42*(1+$E42)+BP41)","v":0},{"$f":"IF(BP42<0,BP42+BQ41,BP42*(1+$E42)+BQ41)","v":0},{"$f":"IF(BQ42<0,BQ42+BR41,BQ42*(1+$E42)+BR41)","v":0},{"$f":"IF(BR42<0,BR42+BS41,BR42*(1+$E42)+BS41)","v":0},{"$f":"IF(BS42<0,BS42+BT41,BS42*(1+$E42)+BT41)","v":0},{"$f":"IF(BT42<0,BT42+BU41,BT42*(1+$E42)+BU41)","v":0},{"$f":"IF(BU42<0,BU42+BV41,BU42*(1+$E42)+BV41)","v":0},{"$f":"IF(BV42<0,BV42+BW41,BV42*(1+$E42)+BW41)","v":0},{"$f":"IF(BW42<0,BW42+BX41,BW42*(1+$E42)+BX41)","v":0},{"$f":"IF(BX42<0,BX42+BY41,BX42*(1+$E42)+BY41)","v":0},{"$f":"IF(BY42<0,BY42+BZ41,BY42*(1+$E42)+BZ41)","v":0}]

{"sheet":"2-17.キャッシュフロー表 解決策導入後②","index":30,"n_rows":37,"n_cols":88,"rows_kept":37,"cut":false,"hidden":false,"merged":[[14,58,14,87],[14,8,14,38],[4,2,4,7],[5,2,5,7],[6,2,13,2],[6,3,6,6],[7,3,7,6],[8,3,8,6],[9,3,9,6],[10,3,10,6],[11,3,11,6],[12,3,12,6],[13,3,13,6],[14,2,14,3],[14,5,14,7],[4,42,4,47],[15,2,24,2],[15,5,15,6],[16,5,16,6],[17,5,17,6],[18,5,18,6],[19,5,19,6],[20,5,20,6],[21,5,21,6],[22,5,22,6],[23,5,23,6],[24,3,24,7],[33,5,33,6],[34,3,34,7],[35,2,35,7],[36,2,36,6],[25,2,34,2],[25,5,25,6],[26,5,26,6],[27,5,27,6],[28,5,28,6],[29,5,29,6],[32,5,32,6],[30,5,30,6],[31,5,31,6],[5,42,5,47],[6,42,13,42],[6,43,6,46],[7,43,7,46],[8,43,8,46],[9,43,9,46],[10,43,10,46],[11,43,11,46],[12,43,12,46],[13,43,13,46],[14,42,14,43],[14,45,14,47],[15,42,24,42],[15,45,15,46],[16,45,16,46],[17,45,17,46],[18,45,18,46],[19,45,19,46],[20,45,20,46],[21,45,21,46],[22,45,22,46],[23,45,23,46],[24,43,24,47],[35,42,35,47],[36,42,36,46],[25,42,34,42],[25,45,25,46],[26,45,26,46],[27,45,27,46],[28,45,28,46],[29,45,29,46],[30,45,30,46],[31,45,31,46],[32,45,32,46],[33,45,33,46],[34,43,34,47]]}
[]
[]
[null,null,{"$f":"'1-12-3.キャッシュフロー表 解決策導入後②'!C8","v":"Ⅷ．解決策導入後のキャッシュフロー表②"},null,null,null,null,null,null,null,null,null,null,null,null,null,null,null,null,null,null,null,null,null,null,null,null,null,null,null,null,null,null,null,null,null,null,null,null,null,null,null,{"$f":"'1-12-1.キャッシュフロー表 現状'!AP8","v":0}]
[null,null,null,null,null,null,null,null,null,null,null,null,null,null,null,null,null,null,null,null,null,null,null,null,null,null,null,null,null,null,null,null,null,null,null,null,null,null,"（金額の単位：万円）",null,null,null,null,null,null,null,null,null,null,null,null,null,null,null,null,null,null,{"$f":"IF('1-12-2.キャッシュフロー表 解決策導入後'!AT9<>\"\",\"（金額の単位：万円）\",\"\")","v":""},null,null,null,null,null,null,null,null,null,{"$f":"IF('1-12-2.キャッシュフロー表 解決策導入後'!BD9<>\"\",\"（金額の単位：万円）\",\"\")","v":""},null,null,null,null,null,null,null,null,null,{"$f":"IF('1-12-2.キャッシュフロー表 解決策導入後'!BN9<>\"\",\"（金額の単位：万円）\",\"\")","v":""},null,null,null,null,null,null,null,null,null,{"$f":"IF('1-12-2.キャッシュフロー表 解決策導入後'!BZ9<>\"\",\"（金額の単位：万円）\",\"\")","v":""}]
[null,null,"経過年数",null,null,null,null,null,"現在",1,2,3,4,5,6,7,8,9,10,11,12,13,14,15,16,17,18,19,20,21,22,23,24,25,26,27,28,29,30,null,null,null,"経過年数",null,null,null,null,null,31,32,33,34,35,36,37,38,39,40,41,42,43,44,45,46,47,48,49,50,51,52,53,54,55,56,57,58,59,60,61,62,63,64,65,66,67,68,69,70]
[null,null,"西暦",null,null,null,null,null,{"$f":"IF(ISBLANK('1-12-3.キャッシュフロー表 解決策導入後②'!H11),\"\",'1-12-3.キャッシュフロー表 解決策導入後②'!H11)","v":""},{"$f":"IF(ISBLANK('1-12-3.キャッシュフロー表 解決策導入後②'!I11),\"\",'1-12-3.キャッシュフロー表 解決策導入後②'!I11)","v":""},{"$f":"IF(ISBLANK('1-12-3.キャッシュフロー表 解決策導入後②'!J11),\"\",'1-12-3.キャッシュフロー表 解決策導入後②'!J11)","v":""},{"$f":"IF(ISBLANK('1-12-3.キャッシュフロー表 解決策導入後②'!K11),\"\",'1-12-3.キャッシュフロー表 解決策導入後②'!K11)","v":""},{"$f":"IF(ISBLANK('1-12-3.キャッシュフロー表 解決策導入後②'!L11),\"\",'1-12-3.キャッシュフロー表 解決策導入後②'!L11)","v":""},{"$f":"IF(ISBLANK('1-12-3.キャッシュフロー表 解決策導入後②'!M11),\"\",'1-12-3.キャッシュフロー表 解決策導入後②'!M11)","v":""},{"$f":"IF(ISBLANK('1-12-3.キャッシュフロー表 解決策導入後②'!N11),\"\",'1-12-3.キャッシュフロー表 解決策導入後②'!N11)","v":""},{"$f":"IF(ISBLANK('1-12-3.キャッシュフロー表 解決策導入後②'!O11),\"\",'1-12-3.キャッシュフロー表 解決策導入後②'!O11)","v":""},{"$f":"IF(ISBLANK('1-12-3.キャッシュフロー表 解決策導入後②'!P11),\"\",'1-12-3.キャッシュフロー表 解決策導入後②'!P11)","v":""},{"$f":"IF(ISBLANK('1-12-3.キャッシュフロー表 解決策導入後②'!Q11),\"\",'1-12-3.キャッシュフロー表 解決策導入後②'!Q11)","v":""},{"$f":"IF(ISBLANK('1-12-3.キャッシュフロー表 解決策導入後②'!R11),\"\",'1-12-3.キャッシュフロー表 解決策導入後②'!R11)","v":""},{"$f":"IF(ISBLANK('1-12-3.キャッシュフロー表 解決策導入後②'!S11),\"\",'1-12-3.キャッシュフロー表 解決策導入後②'!S11)","v":""},{"$f":"IF(ISBLANK('1-12-3.キャッシュフロー表 解決策導入後②'!T11),\"\",'1-12-3.キャッシュフロー表 解決策導入後②'!T11)","v":""},{"$f":"IF(ISBLANK('1-12-3.キャッシュフロー表 解決策導入後②'!U11),\"\",'1-12-3.キャッシュフロー表 解決策導入後②'!U11)","v":""},{"$f":"IF(ISBLANK('1-12-3.キャッシュフロー表 解決策導入後②'!V11),\"\",'1-12-3.キャッシュフロー表 解決策導入後②'!V11)","v":""},{"$f":"IF(ISBLANK('1-12-3.キャッシュフロー表 解決策導入後②'!W11),\"\",'1-12-3.キャッシュフロー表 解決策導入後②'!W11)","v":""},{"$f":"IF(ISBLANK('1-12-3.キャッシュフロー表 解決策導入後②'!X11),\"\",'1-12-3.キャッシュフロー表 解決策導入後②'!X11)","v":""},{"$f":"IF(ISBLANK('1-12-3.キャッシュフロー表 解決策導入後②'!Y11),\"\",'1-12-3.キャッシュフロー表 解決策導入後②'!Y11)","v":""},{"$f":"IF(ISBLANK('1-12-3.キャッシュフロー表 解決策導入後②'!Z11),\"\",'1-12-3.キャッシュフロー表 解決策導入後②'!Z11)","v":""},{"$f":"IF(ISBLANK('1-12-3.キャッシュフロー表 解決策導入後②'!AA11),\"\",'1-12-3.キャッシュフロー表 解決策導入後②'!AA11)","v":""},{"$f":"IF(ISBLANK('1-12-3.キャッシュフロー表 解決策導入後②'!AB11),\"\",'1-12-3.キャッシュフロー表 解決策導入後②'!AB11)","v":""},{"$f":"IF(ISBLANK('1-12-3.キャッシュフロー表 解決策導入後②'!AC11),\"\",'1-12-3.キャッシュフロー表 解決策導入後②'!AC11)","v":""},{"$f":"IF(ISBLANK('1-12-3.キャッシュフロー表 解決策導入後②'!AD11),\"\",'1-12-3.キャッシュフロー表 解決策導入後②'!AD11)","v":""},{"$f":"IF(ISBLANK('1-12-3.キャッシュフロー表 解決策導入後②'!AE11),\"\",'1-12-3.キャッシュフロー表 解決策導入後②'!AE11)","v":""},{"$f":"IF(ISBLANK('1-12-3.キャッシュフロー表 解決策導入後②'!AF11),\"\",'1-12-3.キャッシュフロー表 解決策導入後②'!AF11)","v":""},{"$f":"IF(ISBLANK('1-12-3.キャッシュフロー表 解決策導入後②'!AG11),\"\",'1-12-3.キャッシュフロー表 解決策導入後②'!AG11)","v":""},{"$f":"IF(ISBLANK('1-12-3.キャッシュフロー表 解決策導入後②'!AH11),\"\",'1-12-3.キャッシュフロー表 解決策導入後②'!AH11)","v":""},{"$f":"IF(ISBLANK('1-12-3.キャッシュフロー表 解決策導入後②'!AI11),\"\",'1-12-3.キャッシュフロー表 解決策導入後②'!AI11)","v":""},{"$f":"IF(ISBLANK('1-12-3.キャッシュフロー表 解決策導入後②'!AJ11),\"\",'1-12-3.キャッシュフロー表 解決策導入後②'!AJ11)","v":""},{"$f":"IF(ISBLANK('1-12-3.キャッシュフロー表 解決策導入後②'!AK11),\"\",'1-12-3.キャッシュフロー表 解決策導入後②'!AK11)","v":""},{"$f":"IF(ISBLANK('1-12-3.キャッシュフロー表 解決策導入後②'!AL11),\"\",'1-12-3.キャッシュフロー表 解決策導入後②'!AL11)","v":""},null,null,null,"西暦",null,null,null,null,null,{"$f":"IF(ISBLANK('1-12-1.キャッシュフロー表 現状'!AM11),\"\",'1-12-1.キャッシュフロー表 現状'!AM11)","v":""},{"$f":"IF(ISBLANK('1-12-1.キャッシュフロー表 現状'!AN11),\"\",'1-12-1.キャッシュフロー表 現状'!AN11)","v":""},{"$f":"IF(ISBLANK('1-12-1.キャッシュフロー表 現状'!AO11),\"\",'1-12-1.キャッシュフロー表 現状'!AO11)","v":""},{"$f":"IF(ISBLANK('1-12-1.キャッシュフロー表 現状'!AP11),\"\",'1-12-1.キャッシュフロー表 現状'!AP11)","v":""},{"$f":"IF(ISBLANK('1-12-1.キャッシュフロー表 現状'!AQ11),\"\",'1-12-1.キャッシュフロー表 現状'!AQ11)","v":""},{"$f":"IF(ISBLANK('1-12-1.キャッシュフロー表 現状'!AR11),\"\",'1-12-1.キャッシュフロー表 現状'!AR11)","v":""},{"$f":"IF(ISBLANK('1-12-1.キャッシュフロー表 現状'!AS11),\"\",'1-12-1.キャッシュフロー表 現状'!AS11)","v":""},{"$f":"IF(ISBLANK('1-12-1.キャッシュフロー表 現状'!AT11),\"\",'1-12-1.キャッシュフロー表 現状'!AT11)","v":""},{"$f":"IF(ISBLANK('1-12-1.キャッシュフロー表 現状'!AU11),\"\",'1-12-1.キャッシュフロー表 現状'!AU11)","v":""},{"$f":"IF(ISBLANK('1-12-1.キャッシュフロー表 現状'!AV11),\"\",'1-12-1.キャッシュフロー表 現状'!AV11)","v":""},{"$f":"IF(ISBLANK('1-12-1.キャッシュフロー表 現状'!AW11),\"\",'1-12-1.キャッシュフロー表 現状'!AW11)","v":""},{"$f":"IF(ISBLANK('1-12-1.キャッシュフロー表 現状'!AX11),\"\",'1-12-1.キャッシュフロー表 現状'!AX11)","v":""},{"$f":"IF(ISBLANK('1-12-1.キャッシュフロー表 現状'!AY11),\"\",'1-12-1.キャッシュフロー表 現状'!AY11)","v":""},{"$f":"IF(ISBLANK('1-12-1.キャッシュフロー表 現状'!AZ11),\"\",'1-12-1.キャッシュフロー表 現状'!AZ11)","v":""},{"$f":"IF(ISBLANK('1-12-1.キャッシュフロー表 現状'!BA11),\"\",'1-12-1.キャッシュフロー表 現状'!BA11)","v":""},{"$f":"IF(ISBLANK('1-12-1.キャッシュフロー表 現状'!BB11),\"\",'1-12-1.キャッシュフロー表 現状'!BB11)","v":""},{"$f":"IF(ISBLANK('1-12-1.キャッシュフロー表 現状'!BC11),\"\",'1-12-1.キャッシュフロー表 現状'!BC11)","v":""},{"$f":"IF(ISBLANK('1-12-1.キャッシュフロー表 現状'!BD11),\"\",'1-12-1.キャッシュフロー表 現状'!BD11)","v":""},{"$f":"IF(ISBLANK('1-12-1.キャッシュフロー表 現状'!BE11),\"\",'1-12-1.キャッシュフロー表 現状'!BE11)","v":""},{"$f":"IF(ISBLANK('1-12-1.キャッシュフロー表 現状'!BF11),\"\",'1-12-1.キャッシュフロー表 現状'!BF11)","v":""},{"$f":"IF(ISBLANK('1-12-1.キャッシュフロー表 現状'!BG11),\"\",'1-12-1.キャッシュフロー表 現状'!BG11)","v":""},{"$f":"IF(ISBLANK('1-12-1.キャッシュフロー表 現状'!BH11),\"\",'1-12-1.キャッシュフロー表 現状'!BH11)","v":""},{"$f":"IF(ISBLANK('1-12-1.キャッシュフロー表 現状'!BI11),\"\",'1-12-1.キャッシュフロー表 現状'!BI11)","v":""},{"$f":"IF(ISBLANK('1-12-1.キャッシュフロー表 現状'!BJ11),\"\",'1-12-1.キャッシュフロー表 現状'!BJ11)","v":""},{"$f":"IF(ISBLANK('1-12-1.キャッシュフロー表 現状'!BK11),\"\",'1-12-1.キャッシュフロー表 現状'!BK11)","v":""},{"$f":"IF(ISBLANK('1-12-1.キャッシュフロー表 現状'!BL11),\"\",'1-12-1.キャッシュフロー表 現状'!BL11)","v":""},{"$f":"IF(ISBLANK('1-12-1.キャッシュフロー表 現状'!BM11),\"\",'1-12-1.キャッシュフロー表 現状'!BM11)","v":""},{"$f":"IF(ISBLANK('1-12-1.キャッシュフロー表 現状'!BN11),\"\",'1-12-1.キャッシュフロー表 現状'!BN11)","v":""},{"$f":"IF(ISBLANK('1-12-1.キャッシュフロー表 現状'!BO11),\"\",'1-12-1.キャッシュフロー表 現状'!BO11)","v":""},{"$f":"IF(ISBLANK('1-12-1.キャッシュフロー表 現状'!BP11),\"\",'1-12-1.キャッシュフロー表 現状'!BP11)","v":""},{"$f":"IF(ISBLANK('1-12-1.キャッシュフロー表 現状'!BQ11),\"\",'1-12-1.キャッシュフロー表 現状'!BQ11)","v":""},{"$f":"IF(ISBLANK('1-12-1.キャッシュフロー表 現状'!BR11),\"\",'1-12-1.キャッシュフロー表 現状'!BR11)","v":""},{"$f":"IF(ISBLANK('1-12-1.キャッシュフロー表 現状'!BS11),\"\",'1-12-1.キャッシュフロー表 現状'!BS11)","v":""},{"$f":"IF(ISBLANK('1-12-1.キャッシュフロー表 現状'!BT11),\"\",'1-12-1.キャッシュフロー表 現状'!BT11)","v":""},{"$f":"IF(ISBLANK('1-12-1.キャッシュフロー表 現状'!BU11),\"\",'1-12-1.キャッシュフロー表 現状'!BU11)","v":""},{"$f":"IF(ISBLANK('1-12-1.キャッシュフロー表 現状'!BV11),\"\",'1-12-1.キャッシュフロー表 現状'!BV11)","v":""},{"$f":"IF(ISBLANK('1-12-1.キャッシュフロー表 現状'!BW11),\"\",'1-12-1.キャッシュフロー表 現状'!BW11)","v":""},{"$f":"IF(ISBLANK('1-12-1.キャッシュフロー表 現状'!BX11),\"\",'1-12-1.キャッシュフロー表 現状'!BX11)","v":""},{"$f":"IF(ISBLANK('1-12-1.キャッシュフロー表 現状'!BY11),\"\",'1-12-1.キャッシュフロー表 現状'!BY11)","v":""},{"$f":"IF(ISBLANK('1-12-1.キャッシュフロー表 現状'!BZ11),\"\",'1-12-1.キャッシュフロー表 現状'!BZ11)","v":""}]
[null,null,"家族構成と年齢",{"$f":"IF(ISBLANK('1-12-3.キャッシュフロー表 解決策導入後②'!D12),\"\",'1-12-3.キャッシュフロー表 解決策導入後②'!D12)","v":""},null,null,null,{"$f":"IF(ISBLANK('1-12-3.キャッシュフロー表 解決策導入後②'!G12),\"\",'1-12-3.キャッシュフロー表 解決策導入後②'!G12)","v":""},{"$f":"IF(ISBLANK('1-12-3.キャッシュフロー表 解決策導入後②'!H12),\"\",'1-12-3.キャッシュフロー表 解決策導入後②'!H12)","v":""},{"$f":"IF(ISBLANK('1-12-3.キャッシュフロー表 解決策導入後②'!I12),\"\",'1-12-3.キャッシュフロー表 解決策導入後②'!I12)","v":""},{"$f":"IF(ISBLANK('1-12-3.キャッシュフロー表 解決策導入後②'!J12),\"\",'1-12-3.キャッシュフロー表 解決策導入後②'!J12)","v":""},{"$f":"IF(ISBLANK('1-12-3.キャッシュフロー表 解決策導入後②'!K12),\"\",'1-12-3.キャッシュフロー表 解決策導入後②'!K12)","v":""},{"$f":"IF(ISBLANK('1-12-3.キャッシュフロー表 解決策導入後②'!L12),\"\",'1-12-3.キャッシュフロー表 解決策導入後②'!L12)","v":""},{"$f":"IF(ISBLANK('1-12-3.キャッシュフロー表 解決策導入後②'!M12),\"\",'1-12-3.キャッシュフロー表 解決策導入後②'!M12)","v":""},{"$f":"IF(ISBLANK('1-12-3.キャッシュフロー表 解決策導入後②'!N12),\"\",'1-12-3.キャッシュフロー表 解決策導入後②'!N12)","v":""},{"$f":"IF(ISBLANK('1-12-3.キャッシュフロー表 解決策導入後②'!O12),\"\",'1-12-3.キャッシュフロー表 解決策導入後②'!O12)","v":""},{"$f":"IF(ISBLANK('1-12-3.キャッシュフロー表 解決策導入後②'!P12),\"\",'1-12-3.キャッシュフロー表 解決策導入後②'!P12)","v":""},{"$f":"IF(ISBLANK('1-12-3.キャッシュフロー表 解決策導入後②'!Q12),\"\",'1-12-3.キャッシュフロー表 解決策導入後②'!Q12)","v":""},{"$f":"IF(ISBLANK('1-12-3.キャッシュフロー表 解決策導入後②'!R12),\"\",'1-12-3.キャッシュフロー表 解決策導入後②'!R12)","v":""},{"$f":"IF(ISBLANK('1-12-3.キャッシュフロー表 解決策導入後②'!S12),\"\",'1-12-3.キャッシュフロー表 解決策導入後②'!S12)","v":""},{"$f":"IF(ISBLANK('1-12-3.キャッシュフロー表 解決策導入後②'!T12),\"\",'1-12-3.キャッシュフロー表 解決策導入後②'!T12)","v":""},{"$f":"IF(ISBLANK('1-12-3.キャッシュフロー表 解決策導入後②'!U12),\"\",'1-12-3.キャッシュフロー表 解決策導入後②'!U12)","v":""},{"$f":"IF(ISBLANK('1-12-3.キャッシュフロー表 解決策導入後②'!V12),\"\",'1-12-3.キャッシュフロー表 解決策導入後②'!V12)","v":""},{"$f":"IF(ISBLANK('1-12-3.キャッシュフロー表 解決策導入後②'!W12),\"\",'1-12-3.キャッシュフロー表 解決策導入後②'!W12)","v":""},{"$f":"IF(ISBLANK('1-12-3.キャッシュフロー表 解決策導入後②'!X12),\"\",'1-12-3.キャッシュフロー表 解決策導入後②'!X12)","v":""},{"$f":"IF(ISBLANK('1-12-3.キャッシュフロー表 解決策導入後②'!Y12),\"\",'1-12-3.キャッシュフロー表 解決策導入後②'!Y12)","v":""},{"$f":"IF(ISBLANK('1-12-3.キャッシュフロー表 解決策導入後②'!Z12),\"\",'1-12-3.キャッシュフロー表 解決策導入後②'!Z12)","v":""},{"$f":"IF(ISBLANK('1-12-3.キャッシュフロー表 解決策導入後②'!AA12),\"\",'1-12-3.キャッシュフロー表 解決策導入後②'!AA12)","v":""},{"$f":"IF(ISBLANK('1-12-3.キャッシュフロー表 解決策導入後②'!AB12),\"\",'1-12-3.キャッシュフロー表 解決策導入後②'!AB12)","v":""},{"$f":"IF(ISBLANK('1-12-3.キャッシュフロー表 解決策導入後②'!AC12),\"\",'1-12-3.キャッシュフロー表 解決策導入後②'!AC12)","v":""},{"$f":"IF(ISBLANK('1-12-3.キャッシュフロー表 解決策導入後②'!AD12),\"\",'1-12-3.キャッシュフロー表 解決策導入後②'!AD12)","v":""},{"$f":"IF(ISBLANK('1-12-3.キャッシュフロー表 解決策導入後②'!AE12),\"\",'1-12-3.キャッシュフロー表 解決策導入後②'!AE12)","v":""},{"$f":"IF(ISBLANK('1-12-3.キャッシュフロー表 解決策導入後②'!AF12),\"\",'1-12-3.キャッシュフロー表 解決策導入後②'!AF12)","v":""},{"$f":"IF(ISBLANK('1-12-3.キャッシュフロー表 解決策導入後②'!AG12),\"\",'1-12-3.キャッシュフロー表 解決策導入後②'!AG12)","v":""},{"$f":"IF(ISBLANK('1-12-3.キャッシュフロー表 解決策導入後②'!AH12),\"\",'1-12-3.キャッシュフロー表 解決策導入後②'!AH12)","v":""},{"$f":"IF(ISBLANK('1-12-3.キャッシュフロー表 解決策導入後②'!AI12),\"\",'1-12-3.キャッシュフロー表 解決策導入後②'!AI12)","v":""},{"$f":"IF(ISBLANK('1-12-3.キャッシュフロー表 解決策導入後②'!AJ12),\"\",'1-12-3.キャッシュフロー表 解決策導入後②'!AJ12)","v":""},{"$f":"IF(ISBLANK('1-12-3.キャッシュフロー表 解決策導入後②'!AK12),\"\",'1-12-3.キャッシュフロー表 解決策導入後②'!AK12)","v":""},{"$f":"IF(ISBLANK('1-12-3.キャッシュフロー表 解決策導入後②'!AL12),\"\",'1-12-3.キャッシュフロー表 解決策導入後②'!AL12)","v":""},null,null,null,"家族構成と年齢",{"$f":"IF(ISBLANK('1-12-2.キャッシュフロー表 解決策導入後'!D12),\"\",'1-12-2.キャッシュフロー表 解決策導入後'!D12)","v":""},null,null,null,{"$f":"IF(ISBLANK('1-12-2.キャッシュフロー表 解決策導入後'!G12),\"\",'1-12-2.キャッシュフロー表 解決策導入後'!G12)","v":""},{"$f":"IF(ISBLANK('1-12-3.キャッシュフロー表 解決策導入後②'!AM12),\"\",'1-12-3.キャッシュフロー表 解決策導入後②'!AM12)","v":""},{"$f":"IF(ISBLANK('1-12-3.キャッシュフロー表 解決策導入後②'!AN12),\"\",'1-12-3.キャッシュフロー表 解決策導入後②'!AN12)","v":""},{"$f":"IF(ISBLANK('1-12-3.キャッシュフロー表 解決策導入後②'!AO12),\"\",'1-12-3.キャッシュフロー表 解決策導入後②'!AO12)","v":""},{"$f":"IF(ISBLANK('1-12-3.キャッシュフロー表 解決策導入後②'!AP12),\"\",'1-12-3.キャッシュフロー表 解決策導入後②'!AP12)","v":""},{"$f":"IF(ISBLANK('1-12-3.キャッシュフロー表 解決策導入後②'!AQ12),\"\",'1-12-3.キャッシュフロー表 解決策導入後②'!AQ12)","v":""},{"$f":"IF(ISBLANK('1-12-3.キャッシュフロー表 解決策導入後②'!AR12),\"\",'1-12-3.キャッシュフロー表 解決策導入後②'!AR12)","v":""},{"$f":"IF(ISBLANK('1-12-3.キャッシュフロー表 解決策導入後②'!AS12),\"\",'1-12-3.キャッシュフロー表 解決策導入後②'!AS12)","v":""},{"$f":"IF(ISBLANK('1-12-3.キャッシュフロー表 解決策導入後②'!AT12),\"\",'1-12-3.キャッシュフロー表 解決策導入後②'!AT12)","v":""},{"$f":"IF(ISBLANK('1-12-3.キャッシュフロー表 解決策導入後②'!AU12),\"\",'1-12-3.キャッシュフロー表 解決策導入後②'!AU12)","v":""},{"$f":"IF(ISBLANK('1-12-3.キャッシュフロー表 解決策導入後②'!AV12),\"\",'1-12-3.キャッシュフロー表 解決策導入後②'!AV12)","v":""},{"$f":"IF(ISBLANK('1-12-3.キャッシュフロー表 解決策導入後②'!AW12),\"\",'1-12-3.キャッシュフロー表 解決策導入後②'!AW12)","v":""},{"$f":"IF(ISBLANK('1-12-3.キャッシュフロー表 解決策導入後②'!AX12),\"\",'1-12-3.キャッシュフロー表 解決策導入後②'!AX12)","v":""},{"$f":"IF(ISBLANK('1-12-3.キャッシュフロー表 解決策導入後②'!AY12),\"\",'1-12-3.キャッシュフロー表 解決策導入後②'!AY12)","v":""},{"$f":"IF(ISBLANK('1-12-3.キャッシュフロー表 解決策導入後②'!AZ12),\"\",'1-12-3.キャッシュフロー表 解決策導入後②'!AZ12)","v":""},{"$f":"IF(ISBLANK('1-12-3.キャッシュフロー表 解決策導入後②'!BA12),\"\",'1-12-3.キャッシュフロー表 解決策導入後②'!BA12)","v":""},{"$f":"IF(ISBLANK('1-12-3.キャッシュフロー表 解決策導入後②'!BB12),\"\",'1-12-3.キャッシュフロー表 解決策導入後②'!BB12)","v":""},{"$f":"IF(ISBLANK('1-12-3.キャッシュフロー表 解決策導入後②'!BC12),\"\",'1-12-3.キャッシュフロー表 解決策導入後②'!BC12)","v":""},{"$f":"IF(ISBLANK('1-12-3.キャッシュフロー表 解決策導入後②'!BD12),\"\",'1-12-3.キャッシュフロー表 解決策導入後②'!BD12)","v":""},{"$f":"IF(ISBLANK('1-12-3.キャッシュフロー表 解決策導入後②'!BE12),\"\",'1-12-3.キャッシュフロー表 解決策導入後②'!BE12)","v":""},{"$f":"IF(ISBLANK('1-12-3.キャッシュフロー表 解決策導入後②'!BF12),\"\",'1-12-3.キャッシュフロー表 解決策導入後②'!BF12)","v":""},{"$f":"IF(ISBLANK('1-12-3.キャッシュフロー表 解決策導入後②'!BG12),\"\",'1-12-3.キャッシュフロー表 解決策導入後②'!BG12)","v":""},{"$f":"IF(ISBLANK('1-12-3.キャッシュフロー表 解決策導入後②'!BH12),\"\",'1-12-3.キャッシュフロー表 解決策導入後②'!BH12)","v":""},{"$f":"IF(ISBLANK('1-12-3.キャッシュフロー表 解決策導入後②'!BI12),\"\",'1-12-3.キャッシュフロー表 解決策導入後②'!BI12)","v":""},{"$f":"IF(ISBLANK('1-12-3.キャッシュフロー表 解決策導入後②'!BJ12),\"\",'1-12-3.キャッシュフロー表 解決策導入後②'!BJ12)","v":""},{"$f":"IF(ISBLANK('1-12-3.キャッシュフロー表 解決策導入後②'!BK12),\"\",'1-12-3.キャッシュフロー表 解決策導入後②'!BK12)","v":""},{"$f":"IF(ISBLANK('1-12-3.キャッシュフロー表 解決策導入後②'!BL12),\"\",'1-12-3.キャッシュフロー表 解決策導入後②'!BL12)","v":""},{"$f":"IF(ISBLANK('1-12-3.キャッシュフロー表 解決策導入後②'!BM12),\"\",'1-12-3.キャッシュフロー表 解決策導入後②'!BM12)","v":""},{"$f":"IF(ISBLANK('1-12-3.キャッシュフロー表 解決策導入後②'!BN12),\"\",'1-12-3.キャッシュフロー表 解決策導入後②'!BN12)","v":""},{"$f":"IF(ISBLANK('1-12-3.キャッシュフロー表 解決策導入後②'!BO12),\"\",'1-12-3.キャッシュフロー表 解決策導入後②'!BO12)","v":""},{"$f":"IF(ISBLANK('1-12-3.キャッシュフロー表 解決策導入後②'!BP12),\"\",'1-12-3.キャッシュフロー表 解決策導入後②'!BP12)","v":""},{"$f":"IF(ISBLANK('1-12-3.キャッシュフロー表 解決策導入後②'!BQ12),\"\",'1-12-3.キャッシュフロー表 解決策導入後②'!BQ12)","v":""},{"$f":"IF(ISBLANK('1-12-3.キャッシュフロー表 解決策導入後②'!BR12),\"\",'1-12-3.キャッシュフロー表 解決策導入後②'!BR12)","v":""},{"$f":"IF(ISBLANK('1-12-3.キャッシュフロー表 解決策導入後②'!BS12),\"\",'1-12-3.キャッシュフロー表 解決策導入後②'!BS12)","v":""},{"$f":"IF(ISBLANK('1-12-3.キャッシュフロー表 解決策導入後②'!BT12),\"\",'1-12-3.キャッシュフロー表 解決策導入後②'!BT12)","v":""},{"$f":"IF(ISBLANK('1-12-3.キャッシュフロー表 解決策導入後②'!BU12),\"\",'1-12-3.キャッシュフロー表 解決策導入後②'!BU12)","v":""},{"$f":"IF(ISBLANK('1-12-3.キャッシュフロー表 解決策導入後②'!BV12),\"\",'1-12-3.キャッシュフロー表 解決策導入後②'!BV12)","v":""},{"$f":"IF(ISBLANK('1-12-3.キャッシュフロー表 解決策導入後②'!BW12),\"\",'1-12-3.キャッシュフロー表 解決策導入後②'!BW12)","v":""},{"$f":"IF(ISBLANK('1-12-3.キャッシュフロー表 解決策導入後②'!BX12),\"\",'1-12-3.キャッシュフロー表 解決策導入後②'!BX12)","v":""},{"$f":"IF(ISBLANK('1-12-3.キャッシュフロー表 解決策導入後②'!BY12),\"\",'1-12-3.キャッシュフロー表 解決策導入後②'!BY12)","v":""},{"$f":"IF(ISBLANK('1-12-3.キャッシュフロー表 解決策導入後②'!BZ12),\"\",'1-12-3.キャッシュフロー表 解決策導入後②'!BZ12)","v":""}]
[null,null,null,{"$f":"IF(ISBLANK('1-12-3.キャッシュフロー表 解決策導入後②'!D13),\"\",'1-12-3.キャッシュフロー表 解決策導入後②'!D13)","v":""},null,null,null,{"$f":"IF(ISBLANK('1-12-3.キャッシュフロー表 解決策導入後②'!G13),\"\",'1-12-3.キャッシュフロー表 解決策導入後②'!G13)","v":""},{"$f":"IF(ISBLANK('1-12-3.キャッシュフロー表 解決策導入後②'!H13),\"\",'1-12-3.キャッシュフロー表 解決策導入後②'!H13)","v":""},{"$f":"IF(ISBLANK('1-12-3.キャッシュフロー表 解決策導入後②'!I13),\"\",'1-12-3.キャッシュフロー表 解決策導入後②'!I13)","v":""},{"$f":"IF(ISBLANK('1-12-3.キャッシュフロー表 解決策導入後②'!J13),\"\",'1-12-3.キャッシュフロー表 解決策導入後②'!J13)","v":""},{"$f":"IF(ISBLANK('1-12-3.キャッシュフロー表 解決策導入後②'!K13),\"\",'1-12-3.キャッシュフロー表 解決策導入後②'!K13)","v":""},{"$f":"IF(ISBLANK('1-12-3.キャッシュフロー表 解決策導入後②'!L13),\"\",'1-12-3.キャッシュフロー表 解決策導入後②'!L13)","v":""},{"$f":"IF(ISBLANK('1-12-3.キャッシュフロー表 解決策導入後②'!M13),\"\",'1-12-3.キャッシュフロー表 解決策導入後②'!M13)","v":""},{"$f":"IF(ISBLANK('1-12-3.キャッシュフロー表 解決策導入後②'!N13),\"\",'1-12-3.キャッシュフロー表 解決策導入後②'!N13)","v":""},{"$f":"IF(ISBLANK('1-12-3.キャッシュフロー表 解決策導入後②'!O13),\"\",'1-12-3.キャッシュフロー表 解決策導入後②'!O13)","v":""},{"$f":"IF(ISBLANK('1-12-3.キャッシュフロー表 解決策導入後②'!P13),\"\",'1-12-3.キャッシュフロー表 解決策導入後②'!P13)","v":""},{"$f":"IF(ISBLANK('1-12-3.キャッシュフロー表 解決策導入後②'!Q13),\"\",'1-12-3.キャッシュフロー表 解決策導入後②'!Q13)","v":""},{"$f":"IF(ISBLANK('1-12-3.キャッシュフロー表 解決策導入後②'!R13),\"\",'1-12-3.キャッシュフロー表 解決策導入後②'!R13)","v":""},{"$f":"IF(ISBLANK('1-12-3.キャッシュフロー表 解決策導入後②'!S13),\"\",'1-12-3.キャッシュフロー表 解決策導入後②'!S13)","v":""},{"$f":"IF(ISBLANK('1-12-3.キャッシュフロー表 解決策導入後②'!T13),\"\",'1-12-3.キャッシュフロー表 解決策導入後②'!T13)","v":""},{"$f":"IF(ISBLANK('1-12-3.キャッシュフロー表 解決策導入後②'!U13),\"\",'1-12-3.キャッシュフロー表 解決策導入後②'!U13)","v":""},{"$f":"IF(ISBLANK('1-12-3.キャッシュフロー表 解決策導入後②'!V13),\"\",'1-12-3.キャッシュフロー表 解決策導入後②'!V13)","v":""},{"$f":"IF(ISBLANK('1-12-3.キャッシュフロー表 解決策導入後②'!W13),\"\",'1-12-3.キャッシュフロー表 解決策導入後②'!W13)","v":""},{"$f":"IF(ISBLANK('1-12-3.キャッシュフロー表 解決策導入後②'!X13),\"\",'1-12-3.キャッシュフロー表 解決策導入後②'!X13)","v":""},{"$f":"IF(ISBLANK('1-12-3.キャッシュフロー表 解決策導入後②'!Y13),\"\",'1-12-3.キャッシュフロー表 解決策導入後②'!Y13)","v":""},{"$f":"IF(ISBLANK('1-12-3.キャッシュフロー表 解決策導入後②'!Z13),\"\",'1-12-3.キャッシュフロー表 解決策導入後②'!Z13)","v":""},{"$f":"IF(ISBLANK('1-12-3.キャッシュフロー表 解決策導入後②'!AA13),\"\",'1-12-3.キャッシュフロー表 解決策導入後②'!AA13)","v":""},{"$f":"IF(ISBLANK('1-12-3.キャッシュフロー表 解決策導入後②'!AB13),\"\",'1-12-3.キャッシュフロー表 解決策導入後②'!AB13)","v":""},{"$f":"IF(ISBLANK('1-12-3.キャッシュフロー表 解決策導入後②'!AC13),\"\",'1-12-3.キャッシュフロー表 解決策導入後②'!AC13)","v":""},{"$f":"IF(ISBLANK('1-12-3.キャッシュフロー表 解決策導入後②'!AD13),\"\",'1-12-3.キャッシュフロー表 解決策導入後②'!AD13)","v":""},{"$f":"IF(ISBLANK('1-12-3.キャッシュフロー表 解決策導入後②'!AE13),\"\",'1-12-3.キャッシュフロー表 解決策導入後②'!AE13)","v":""},{"$f":"IF(ISBLANK('1-12-3.キャッシュフロー表 解決策導入後②'!AF13),\"\",'1-12-3.キャッシュフロー表 解決策導入後②'!AF13)","v":""},{"$f":"IF(ISBLANK('1-12-3.キャッシュフロー表 解決策導入後②'!AG13),\"\",'1-12-3.キャッシュフロー表 解決策導入後②'!AG13)","v":""},{"$f":"IF(ISBLANK('1-12-3.キャッシュフロー表 解決策導入後②'!AH13),\"\",'1-12-3.キャッシュフロー表 解決策導入後②'!AH13)","v":""},{"$f":"IF(ISBLANK('1-12-3.キャッシュフロー表 解決策導入後②'!AI13),\"\",'1-12-3.キャッシュフロー表 解決策導入後②'!AI13)","v":""},{"$f":"IF(ISBLANK('1-12-3.キャッシュフロー表 解決策導入後②'!AJ13),\"\",'1-12-3.キャッシュフロー表 解決策導入後②'!AJ13)","v":""},{"$f":"IF(ISBLANK('1-12-3.キャッシュフロー表 解決策導入後②'!AK13),\"\",'1-12-3.キャッシュフロー表 解決策導入後②'!AK13)","v":""},{"$f":"IF(ISBLANK('1-12-3.キャッシュフロー表 解決策導入後②'!AL13),\"\",'1-12-3.キャッシュフロー表 解決策導入後②'!AL13)","v":""},null,null,null,null,{"$f":"IF(ISBLANK('1-12-2.キャッシュフロー表 解決策導入後'!D13),\"\",'1-12-2.キャッシュフロー表 解決策導入後'!D13)","v":""},null,null,null,{"$f":"IF(ISBLANK('1-12-2.キャッシュフロー表 解決策導入後'!G13),\"\",'1-12-2.キャッシュフロー表 解決策導入後'!G13)","v":""},{"$f":"IF(ISBLANK('1-12-3.キャッシュフロー表 解決策導入後②'!AM13),\"\",'1-12-3.キャッシュフロー表 解決策導入後②'!AM13)","v":""},{"$f":"IF(ISBLANK('1-12-3.キャッシュフロー表 解決策導入後②'!AN13),\"\",'1-12-3.キャッシュフロー表 解決策導入後②'!AN13)","v":""},{"$f":"IF(ISBLANK('1-12-3.キャッシュフロー表 解決策導入後②'!AO13),\"\",'1-12-3.キャッシュフロー表 解決策導入後②'!AO13)","v":""},{"$f":"IF(ISBLANK('1-12-3.キャッシュフロー表 解決策導入後②'!AP13),\"\",'1-12-3.キャッシュフロー表 解決策導入後②'!AP13)","v":""},{"$f":"IF(ISBLANK('1-12-3.キャッシュフロー表 解決策導入後②'!AQ13),\"\",'1-12-3.キャッシュフロー表 解決策導入後②'!AQ13)","v":""},{"$f":"IF(ISBLANK('1-12-3.キャッシュフロー表 解決策導入後②'!AR13),\"\",'1-12-3.キャッシュフロー表 解決策導入後②'!AR13)","v":""},{"$f":"IF(ISBLANK('1-12-3.キャッシュフロー表 解決策導入後②'!AS13),\"\",'1-12-3.キャッシュフロー表 解決策導入後②'!AS13)","v":""},{"$f":"IF(ISBLANK('1-12-3.キャッシュフロー表 解決策導入後②'!AT13),\"\",'1-12-3.キャッシュフロー表 解決策導入後②'!AT13)","v":""},{"$f":"IF(ISBLANK('1-12-3.キャッシュフロー表 解決策導入後②'!AU13),\"\",'1-12-3.キャッシュフロー表 解決策導入後②'!AU13)","v":""},{"$f":"IF(ISBLANK('1-12-3.キャッシュフロー表 解決策導入後②'!AV13),\"\",'1-12-3.キャッシュフロー表 解決策導入後②'!AV13)","v":""},{"$f":"IF(ISBLANK('1-12-3.キャッシュフロー表 解決策導入後②'!AW13),\"\",'1-12-3.キャッシュフロー表 解決策導入後②'!AW13)","v":""},{"$f":"IF(ISBLANK('1-12-3.キャッシュフロー表 解決策導入後②'!AX13),\"\",'1-12-3.キャッシュフロー表 解決策導入後②'!AX13)","v":""},{"$f":"IF(ISBLANK('1-12-3.キャッシュフロー表 解決策導入後②'!AY13),\"\",'1-12-3.キャッシュフロー表 解決策導入後②'!AY13)","v":""},{"$f":"IF(ISBLANK('1-12-3.キャッシュフロー表 解決策導入後②'!AZ13),\"\",'1-12-3.キャッシュフロー表 解決策導入後②'!AZ13)","v":""},{"$f":"IF(ISBLANK('1-12-3.キャッシュフロー表 解決策導入後②'!BA13),\"\",'1-12-3.キャッシュフロー表 解決策導入後②'!BA13)","v":""},{"$f":"IF(ISBLANK('1-12-3.キャッシュフロー表 解決策導入後②'!BB13),\"\",'1-12-3.キャッシュフロー表 解決策導入後②'!BB13)","v":""},{"$f":"IF(ISBLANK('1-12-3.キャッシュフロー表 解決策導入後②'!BC13),\"\",'1-12-3.キャッシュフロー表 解決策導入後②'!BC13)","v":""},{"$f":"IF(ISBLANK('1-12-3.キャッシュフロー表 解決策導入後②'!BD13),\"\",'1-12-3.キャッシュフロー表 解決策導入後②'!BD13)","v":""},{"$f":"IF(ISBLANK('1-12-3.キャッシュフロー表 解決策導入後②'!BE13),\"\",'1-12-3.キャッシュフロー表 解決策導入後②'!BE13)","v":""},{"$f":"IF(ISBLANK('1-12-3.キャッシュフロー表 解決策導入後②'!BF13),\"\",'1-12-3.キャッシュフロー表 解決策導入後②'!BF13)","v":""},{"$f":"IF(ISBLANK('1-12-3.キャッシュフロー表 解決策導入後②'!BG13),\"\",'1-12-3.キャッシュフロー表 解決策導入後②'!BG13)","v":""},{"$f":"IF(ISBLANK('1-12-3.キャッシュフロー表 解決策導入後②'!BH13),\"\",'1-12-3.キャッシュフロー表 解決策導入後②'!BH13)","v":""},{"$f":"IF(ISBLANK('1-12-3.キャッシュフロー表 解決策導入後②'!BI13),\"\",'1-12-3.キャッシュフロー表 解決策導入後②'!BI13)","v":""},{"$f":"IF(ISBLANK('1-12-3.キャッシュフロー表 解決策導入後②'!BJ13),\"\",'1-12-3.キャッシュフロー表 解決策導入後②'!BJ13)","v":""},{"$f":"IF(ISBLANK('1-12-3.キャッシュフロー表 解決策導入後②'!BK13),\"\",'1-12-3.キャッシュフロー表 解決策導入後②'!BK13)","v":""},{"$f":"IF(ISBLANK('1-12-3.キャッシュフロー表 解決策導入後②'!BL13),\"\",'1-12-3.キャッシュフロー表 解決策導入後②'!BL13)","v":""},{"$f":"IF(ISBLANK('1-12-3.キャッシュフロー表 解決策導入後②'!BM13),\"\",'1-12-3.キャッシュフロー表 解決策導入後②'!BM13)","v":""},{"$f":"IF(ISBLANK('1-12-3.キャッシュフロー表 解決策導入後②'!BN13),\"\",'1-12-3.キャッシュフロー表 解決策導入後②'!BN13)","v":""},{"$f":"IF(ISBLANK('1-12-3.キャッシュフロー表 解決策導入後②'!BO13),\"\",'1-12-3.キャッシュフロー表 解決策導入後②'!BO13)","v":""},{"$f":"IF(ISBLANK('1-12-3.キャッシュフロー表 解決策導入後②'!BP13),\"\",'1-12-3.キャッシュフロー表 解決策導入後②'!BP13)","v":""},{"$f":"IF(ISBLANK('1-12-3.キャッシュフロー表 解決策導入後②'!BQ13),\"\",'1-12-3.キャッシュフロー表 解決策導入後②'!BQ13)","v":""},{"$f":"IF(ISBLANK('1-12-3.キャッシュフロー表 解決策導入後②'!BR13),\"\",'1-12-3.キャッシュフロー表 解決策導入後②'!BR13)","v":""},{"$f":"IF(ISBLANK('1-12-3.キャッシュフロー表 解決策導入後②'!BS13),\"\",'1-12-3.キャッシュフロー表 解決策導入後②'!BS13)","v":""},{"$f":"IF(ISBLANK('1-12-3.キャッシュフロー表 解決策導入後②'!BT13),\"\",'1-12-3.キャッシュフロー表 解決策導入後②'!BT13)","v":""},{"$f":"IF(ISBLANK('1-12-3.キャッシュフロー表 解決策導入後②'!BU13),\"\",'1-12-3.キャッシュフロー表 解決策導入後②'!BU13)","v":""},{"$f":"IF(ISBLANK('1-12-3.キャッシュフロー表 解決策導入後②'!BV13),\"\",'1-12-3.キャッシュフロー表 解決策導入後②'!BV13)","v":""},{"$f":"IF(ISBLANK('1-12-3.キャッシュフロー表 解決策導入後②'!BW13),\"\",'1-12-3.キャッシュフロー表 解決策導入後②'!BW13)","v":""},{"$f":"IF(ISBLANK('1-12-3.キャッシュフロー表 解決策導入後②'!BX13),\"\",'1-12-3.キャッシュフロー表 解決策導入後②'!BX13)","v":""},{"$f":"IF(ISBLANK('1-12-3.キャッシュフロー表 解決策導入後②'!BY13),\"\",'1-12-3.キャッシュフロー表 解決策導入後②'!BY13)","v":""},{"$f":"IF(ISBLANK('1-12-3.キャッシュフロー表 解決策導入後②'!BZ13),\"\",'1-12-3.キャッシュフロー表 解決策導入後②'!BZ13)","v":""}]
[null,null,null,{"$f":"IF(ISBLANK('1-12-3.キャッシュフロー表 解決策導入後②'!D14),\"\",'1-12-3.キャッシュフロー表 解決策導入後②'!D14)","v":""},null,null,null,{"$f":"IF(ISBLANK('1-12-3.キャッシュフロー表 解決策導入後②'!G14),\"\",'1-12-3.キャッシュフロー表 解決策導入後②'!G14)","v":""},{"$f":"IF(ISBLANK('1-12-3.キャッシュフロー表 解決策導入後②'!H14),\"\",'1-12-3.キャッシュフロー表 解決策導入後②'!H14)","v":""},{"$f":"IF(ISBLANK('1-12-3.キャッシュフロー表 解決策導入後②'!I14),\"\",'1-12-3.キャッシュフロー表 解決策導入後②'!I14)","v":""},{"$f":"IF(ISBLANK('1-12-3.キャッシュフロー表 解決策導入後②'!J14),\"\",'1-12-3.キャッシュフロー表 解決策導入後②'!J14)","v":""},{"$f":"IF(ISBLANK('1-12-3.キャッシュフロー表 解決策導入後②'!K14),\"\",'1-12-3.キャッシュフロー表 解決策導入後②'!K14)","v":""},{"$f":"IF(ISBLANK('1-12-3.キャッシュフロー表 解決策導入後②'!L14),\"\",'1-12-3.キャッシュフロー表 解決策導入後②'!L14)","v":""},{"$f":"IF(ISBLANK('1-12-3.キャッシュフロー表 解決策導入後②'!M14),\"\",'1-12-3.キャッシュフロー表 解決策導入後②'!M14)","v":""},{"$f":"IF(ISBLANK('1-12-3.キャッシュフロー表 解決策導入後②'!N14),\"\",'1-12-3.キャッシュフロー表 解決策導入後②'!N14)","v":""},{"$f":"IF(ISBLANK('1-12-3.キャッシュフロー表 解決策導入後②'!O14),\"\",'1-12-3.キャッシュフロー表 解決策導入後②'!O14)","v":""},{"$f":"IF(ISBLANK('1-12-3.キャッシュフロー表 解決策導入後②'!P14),\"\",'1-12-3.キャッシュフロー表 解決策導入後②'!P14)","v":""},{"$f":"IF(ISBLANK('1-12-3.キャッシュフロー表 解決策導入後②'!Q14),\"\",'1-12-3.キャッシュフロー表 解決策導入後②'!Q14)","v":""},{"$f":"IF(ISBLANK('1-12-3.キャッシュフロー表 解決策導入後②'!R14),\"\",'1-12-3.キャッシュフロー表 解決策導入後②'!R14)","v":""},{"$f":"IF(ISBLANK('1-12-3.キャッシュフロー表 解決策導入後②'!S14),\"\",'1-12-3.キャッシュフロー表 解決策導入後②'!S14)","v":""},{"$f":"IF(ISBLANK('1-12-3.キャッシュフロー表 解決策導入後②'!T14),\"\",'1-12-3.キャッシュフロー表 解決策導入後②'!T14)","v":""},{"$f":"IF(ISBLANK('1-12-3.キャッシュフロー表 解決策導入後②'!U14),\"\",'1-12-3.キャッシュフロー表 解決策導入後②'!U14)","v":""},{"$f":"IF(ISBLANK('1-12-3.キャッシュフロー表 解決策導入後②'!V14),\"\",'1-12-3.キャッシュフロー表 解決策導入後②'!V14)","v":""},{"$f":"IF(ISBLANK('1-12-3.キャッシュフロー表 解決策導入後②'!W14),\"\",'1-12-3.キャッシュフロー表 解決策導入後②'!W14)","v":""},{"$f":"IF(ISBLANK('1-12-3.キャッシュフロー表 解決策導入後②'!X14),\"\",'1-12-3.キャッシュフロー表 解決策導入後②'!X14)","v":""},{"$f":"IF(ISBLANK('1-12-3.キャッシュフロー表 解決策導入後②'!Y14),\"\",'1-12-3.キャッシュフロー表 解決策導入後②'!Y14)","v":""},{"$f":"IF(ISBLANK('1-12-3.キャッシュフロー表 解決策導入後②'!Z14),\"\",'1-12-3.キャッシュフロー表 解決策導入後②'!Z14)","v":""},{"$f":"IF(ISBLANK('1-12-3.キャッシュフロー表 解決策導入後②'!AA14),\"\",'1-12-3.キャッシュフロー表 解決策導入後②'!AA14)","v":""},{"$f":"IF(ISBLANK('1-12-3.キャッシュフロー表 解決策導入後②'!AB14),\"\",'1-12-3.キャッシュフロー表 解決策導入後②'!AB14)","v":""},{"$f":"IF(ISBLANK('1-12-3.キャッシュフロー表 解決策導入後②'!AC14),\"\",'1-12-3.キャッシュフロー表 解決策導入後②'!AC14)","v":""},{"$f":"IF(ISBLANK('1-12-3.キャッシュフロー表 解決策導入後②'!AD14),\"\",'1-12-3.キャッシュフロー表 解決策導入後②'!AD14)","v":""},{"$f":"IF(ISBLANK('1-12-3.キャッシュフロー表 解決策導入後②'!AE14),\"\",'1-12-3.キャッシュフロー表 解決策導入後②'!AE14)","v":""},{"$f":"IF(ISBLANK('1-12-3.キャッシュフロー表 解決策導入後②'!AF14),\"\",'1-12-3.キャッシュフロー表 解決策導入後②'!AF14)","v":""},{"$f":"IF(ISBLANK('1-12-3.キャッシュフロー表 解決策導入後②'!AG14),\"\",'1-12-3.キャッシュフロー表 解決策導入後②'!AG14)","v":""},{"$f":"IF(ISBLANK('1-12-3.キャッシュフロー表 解決策導入後②'!AH14),\"\",'1-12-3.キャッシュフロー表 解決策導入後②'!AH14)","v":""},{"$f":"IF(ISBLANK('1-12-3.キャッシュフロー表 解決策導入後②'!AI14),\"\",'1-12-3.キャッシュフロー表 解決策導入後②'!AI14)","v":""},{"$f":"IF(ISBLANK('1-12-3.キャッシュフロー表 解決策導入後②'!AJ14),\"\",'1-12-3.キャッシュフロー表 解決策導入後②'!AJ14)","v":""},{"$f":"IF(ISBLANK('1-12-3.キャッシュフロー表 解決策導入後②'!AK14),\"\",'1-12-3.キャッシュフロー表 解決策導入後②'!AK14)","v":""},{"$f":"IF(ISBLANK('1-12-3.キャッシュフロー表 解決策導入後②'!AL14),\"\",'1-12-3.キャッシュフロー表 解決策導入後②'!AL14)","v":""},null,null,null,null,{"$f":"IF(ISBLANK('1-12-2.キャッシュフロー表 解決策導入後'!D14),\"\",'1-12-2.キャッシュフロー表 解決策導入後'!D14)","v":""},null,null,null,{"$f":"IF(ISBLANK('1-12-2.キャッシュフロー表 解決策導入後'!G14),\"\",'1-12-2.キャッシュフロー表 解決策導入後'!G14)","v":""},{"$f":"IF(ISBLANK('1-12-3.キャッシュフロー表 解決策導入後②'!AM14),\"\",'1-12-3.キャッシュフロー表 解決策導入後②'!AM14)","v":""},{"$f":"IF(ISBLANK('1-12-3.キャッシュフロー表 解決策導入後②'!AN14),\"\",'1-12-3.キャッシュフロー表 解決策導入後②'!AN14)","v":""},{"$f":"IF(ISBLANK('1-12-3.キャッシュフロー表 解決策導入後②'!AO14),\"\",'1-12-3.キャッシュフロー表 解決策導入後②'!AO14)","v":""},{"$f":"IF(ISBLANK('1-12-3.キャッシュフロー表 解決策導入後②'!AP14),\"\",'1-12-3.キャッシュフロー表 解決策導入後②'!AP14)","v":""},{"$f":"IF(ISBLANK('1-12-3.キャッシュフロー表 解決策導入後②'!AQ14),\"\",'1-12-3.キャッシュフロー表 解決策導入後②'!AQ14)","v":""},{"$f":"IF(ISBLANK('1-12-3.キャッシュフロー表 解決策導入後②'!AR14),\"\",'1-12-3.キャッシュフロー表 解決策導入後②'!AR14)","v":""},{"$f":"IF(ISBLANK('1-12-3.キャッシュフロー表 解決策導入後②'!AS14),\"\",'1-12-3.キャッシュフロー表 解決策導入後②'!AS14)","v":""},{"$f":"IF(ISBLANK('1-12-3.キャッシュフロー表 解決策導入後②'!AT14),\"\",'1-12-3.キャッシュフロー表 解決策導入後②'!AT14)","v":""},{"$f":"IF(ISBLANK('1-12-3.キャッシュフロー表 解決策導入後②'!AU14),\"\",'1-12-3.キャッシュフロー表 解決策導入後②'!AU14)","v":""},{"$f":"IF(ISBLANK('1-12-3.キャッシュフロー表 解決策導入後②'!AV14),\"\",'1-12-3.キャッシュフロー表 解決策導入後②'!AV14)","v":""},{"$f":"IF(ISBLANK('1-12-3.キャッシュフロー表 解決策導入後②'!AW14),\"\",'1-12-3.キャッシュフロー表 解決策導入後②'!AW14)","v":""},{"$f":"IF(ISBLANK('1-12-3.キャッシュフロー表 解決策導入後②'!AX14),\"\",'1-12-3.キャッシュフロー表 解決策導入後②'!AX14)","v":""},{"$f":"IF(ISBLANK('1-12-3.キャッシュフロー表 解決策導入後②'!AY14),\"\",'1-12-3.キャッシュフロー表 解決策導入後②'!AY14)","v":""},{"$f":"IF(ISBLANK('1-12-3.キャッシュフロー表 解決策導入後②'!AZ14),\"\",'1-12-3.キャッシュフロー表 解決策導入後②'!AZ14)","v":""},{"$f":"IF(ISBLANK('1-12-3.キャッシュフロー表 解決策導入後②'!BA14),\"\",'1-12-3.キャッシュフロー表 解決策導入後②'!BA14)","v":""},{"$f":"IF(ISBLANK('1-12-3.キャッシュフロー表 解決策導入後②'!BB14),\"\",'1-12-3.キャッシュフロー表 解決策導入後②'!BB14)","v":""},{"$f":"IF(ISBLANK('1-12-3.キャッシュフロー表 解決策導入後②'!BC14),\"\",'1-12-3.キャッシュフロー表 解決策導入後②'!BC14)","v":""},{"$f":"IF(ISBLANK('1-12-3.キャッシュフロー表 解決策導入後②'!BD14),\"\",'1-12-3.キャッシュフロー表 解決策導入後②'!BD14)","v":""},{"$f":"IF(ISBLANK('1-12-3.キャッシュフロー表 解決策導入後②'!BE14),\"\",'1-12-3.キャッシュフロー表 解決策導入後②'!BE14)","v":""},{"$f":"IF(ISBLANK('1-12-3.キャッシュフロー表 解決策導入後②'!BF14),\"\",'1-12-3.キャッシュフロー表 解決策導入後②'!BF14)","v":""},{"$f":"IF(ISBLANK('1-12-3.キャッシュフロー表 解決策導入後②'!BG14),\"\",'1-12-3.キャッシュフロー表 解決策導入後②'!BG14)","v":""},{"$f":"IF(ISBLANK('1-12-3.キャッシュフロー表 解決策導入後②'!BH14),\"\",'1-12-3.キャッシュフロー表 解決策導入後②'!BH14)","v":""},{"$f":"IF(ISBLANK('1-12-3.キャッシュフロー表 解決策導入後②'!BI14),\"\",'1-12-3.キャッシュフロー表 解決策導入後②'!BI14)","v":""},{"$f":"IF(ISBLANK('1-12-3.キャッシュフロー表 解決策導入後②'!BJ14),\"\",'1-12-3.キャッシュフロー表 解決策導入後②'!BJ14)","v":""},{"$f":"IF(ISBLANK('1-12-3.キャッシュフロー表 解決策導入後②'!BK14),\"\",'1-12-3.キャッシュフロー表 解決策導入後②'!BK14)","v":""},{"$f":"IF(ISBLANK('1-12-3.キャッシュフロー表 解決策導入後②'!BL14),\"\",'1-12-3.キャッシュフロー表 解決策導入後②'!BL14)","v":""},{"$f":"IF(ISBLANK('1-12-3.キャッシュフロー表 解決策導入後②'!BM14),\"\",'1-12-3.キャッシュフロー表 解決策導入後②'!BM14)","v":""},{"$f":"IF(ISBLANK('1-12-3.キャッシュフロー表 解決策導入後②'!BN14),\"\",'1-12-3.キャッシュフロー表 解決策導入後②'!BN14)","v":""},{"$f":"IF(ISBLANK('1-12-3.キャッシュフロー表 解決策導入後②'!BO14),\"\",'1-12-3.キャッシュフロー表 解決策導入後②'!BO14)","v":""},{"$f":"IF(ISBLANK('1-12-3.キャッシュフロー表 解決策導入後②'!BP14),\"\",'1-12-3.キャッシュフロー表 解決策導入後②'!BP14)","v":""},{"$f":"IF(ISBLANK('1-12-3.キャッシュフロー表 解決策導入後②'!BQ14),\"\",'1-12-3.キャッシュフロー表 解決策導入後②'!BQ14)","v":""},{"$f":"IF(ISBLANK('1-12-3.キャッシュフロー表 解決策導入後②'!BR14),\"\",'1-12-3.キャッシュフロー表 解決策導入後②'!BR14)","v":""},{"$f":"IF(ISBLANK('1-12-3.キャッシュフロー表 解決策導入後②'!BS14),\"\",'1-12-3.キャッシュフロー表 解決策導入後②'!BS14)","v":""},{"$f":"IF(ISBLANK('1-12-3.キャッシュフロー表 解決策導入後②'!BT14),\"\",'1-12-3.キャッシュフロー表 解決策導入後②'!BT14)","v":""},{"$f":"IF(ISBLANK('1-12-3.キャッシュフロー表 解決策導入後②'!BU14),\"\",'1-12-3.キャッシュフロー表 解決策導入後②'!BU14)","v":""},{"$f":"IF(ISBLANK('1-12-3.キャッシュフロー表 解決策導入後②'!BV14),\"\",'1-12-3.キャッシュフロー表 解決策導入後②'!BV14)","v":""},{"$f":"IF(ISBLANK('1-12-3.キャッシュフロー表 解決策導入後②'!BW14),\"\",'1-12-3.キャッシュフロー表 解決策導入後②'!BW14)","v":""},{"$f":"IF(ISBLANK('1-12-3.キャッシュフロー表 解決策導入後②'!BX14),\"\",'1-12-3.キャッシュフロー表 解決策導入後②'!BX14)","v":""},{"$f":"IF(ISBLANK('1-12-3.キャッシュフロー表 解決策導入後②'!BY14),\"\",'1-12-3.キャッシュフロー表 解決策導入後②'!BY14)","v":""},{"$f":"IF(ISBLANK('1-12-3.キャッシュフロー表 解決策導入後②'!BZ14),\"\",'1-12-3.キャッシュフロー表 解決策導入後②'!BZ14)","v":""}]
[null,null,null,{"$f":"IF(ISBLANK('1-12-3.キャッシュフロー表 解決策導入後②'!D15),\"\",'1-12-3.キャッシュフロー表 解決策導入後②'!D15)","v":""},null,null,null,{"$f":"IF(ISBLANK('1-12-3.キャッシュフロー表 解決策導入後②'!G15),\"\",'1-12-3.キャッシュフロー表 解決策導入後②'!G15)","v":""},{"$f":"IF(ISBLANK('1-12-3.キャッシュフロー表 解決策導入後②'!H15),\"\",'1-12-3.キャッシュフロー表 解決策導入後②'!H15)","v":""},{"$f":"IF(ISBLANK('1-12-3.キャッシュフロー表 解決策導入後②'!I15),\"\",'1-12-3.キャッシュフロー表 解決策導入後②'!I15)","v":""},{"$f":"IF(ISBLANK('1-12-3.キャッシュフロー表 解決策導入後②'!J15),\"\",'1-12-3.キャッシュフロー表 解決策導入後②'!J15)","v":""},{"$f":"IF(ISBLANK('1-12-3.キャッシュフロー表 解決策導入後②'!K15),\"\",'1-12-3.キャッシュフロー表 解決策導入後②'!K15)","v":""},{"$f":"IF(ISBLANK('1-12-3.キャッシュフロー表 解決策導入後②'!L15),\"\",'1-12-3.キャッシュフロー表 解決策導入後②'!L15)","v":""},{"$f":"IF(ISBLANK('1-12-3.キャッシュフロー表 解決策導入後②'!M15),\"\",'1-12-3.キャッシュフロー表 解決策導入後②'!M15)","v":""},{"$f":"IF(ISBLANK('1-12-3.キャッシュフロー表 解決策導入後②'!N15),\"\",'1-12-3.キャッシュフロー表 解決策導入後②'!N15)","v":""},{"$f":"IF(ISBLANK('1-12-3.キャッシュフロー表 解決策導入後②'!O15),\"\",'1-12-3.キャッシュフロー表 解決策導入後②'!O15)","v":""},{"$f":"IF(ISBLANK('1-12-3.キャッシュフロー表 解決策導入後②'!P15),\"\",'1-12-3.キャッシュフロー表 解決策導入後②'!P15)","v":""},{"$f":"IF(ISBLANK('1-12-3.キャッシュフロー表 解決策導入後②'!Q15),\"\",'1-12-3.キャッシュフロー表 解決策導入後②'!Q15)","v":""},{"$f":"IF(ISBLANK('1-12-3.キャッシュフロー表 解決策導入後②'!R15),\"\",'1-12-3.キャッシュフロー表 解決策導入後②'!R15)","v":""},{"$f":"IF(ISBLANK('1-12-3.キャッシュフロー表 解決策導入後②'!S15),\"\",'1-12-3.キャッシュフロー表 解決策導入後②'!S15)","v":""},{"$f":"IF(ISBLANK('1-12-3.キャッシュフロー表 解決策導入後②'!T15),\"\",'1-12-3.キャッシュフロー表 解決策導入後②'!T15)","v":""},{"$f":"IF(ISBLANK('1-12-3.キャッシュフロー表 解決策導入後②'!U15),\"\",'1-12-3.キャッシュフロー表 解決策導入後②'!U15)","v":""},{"$f":"IF(ISBLANK('1-12-3.キャッシュフロー表 解決策導入後②'!V15),\"\",'1-12-3.キャッシュフロー表 解決策導入後②'!V15)","v":""},{"$f":"IF(ISBLANK('1-12-3.キャッシュフロー表 解決策導入後②'!W15),\"\",'1-12-3.キャッシュフロー表 解決策導入後②'!W15)","v":""},{"$f":"IF(ISBLANK('1-12-3.キャッシュフロー表 解決策導入後②'!X15),\"\",'1-12-3.キャッシュフロー表 解決策導入後②'!X15)","v":""},{"$f":"IF(ISBLANK('1-12-3.キャッシュフロー表 解決策導入後②'!Y15),\"\",'1-12-3.キャッシュフロー表 解決策導入後②'!Y15)","v":""},{"$f":"IF(ISBLANK('1-12-3.キャッシュフロー表 解決策導入後②'!Z15),\"\",'1-12-3.キャッシュフロー表 解決策導入後②'!Z15)","v":""},{"$f":"IF(ISBLANK('1-12-3.キャッシュフロー表 解決策導入後②'!AA15),\"\",'1-12-3.キャッシュフロー表 解決策導入後②'!AA15)","v":""},{"$f":"IF(ISBLANK('1-12-3.キャッシュフロー表 解決策導入後②'!AB15),\"\",'1-12-3.キャッシュフロー表 解決策導入後②'!AB15)","v":""},{"$f":"IF(ISBLANK('1-12-3.キャッシュフロー表 解決策導入後②'!AC15),\"\",'1-12-3.キャッシュフロー表 解決策導入後②'!AC15)","v":""},{"$f":"IF(ISBLANK('1-12-3.キャッシュフロー表 解決策導入後②'!AD15),\"\",'1-12-3.キャッシュフロー表 解決策導入後②'!AD15)","v":""},{"$f":"IF(ISBLANK('1-12-3.キャッシュフロー表 解決策導入後②'!AE15),\"\",'1-12-3.キャッシュフロー表 解決策導入後②'!AE15)","v":""},{"$f":"IF(ISBLANK('1-12-3.キャッシュフロー表 解決策導入後②'!AF15),\"\",'1-12-3.キャッシュフロー表 解決策導入後②'!AF15)","v":""},{"$f":"IF(ISBLANK('1-12-3.キャッシュフロー表 解決策導入後②'!AG15),\"\",'1-12-3.キャッシュフロー表 解決策導入後②'!AG15)","v":""},{"$f":"IF(ISBLANK('1-12-3.キャッシュフロー表 解決策導入後②'!AH15),\"\",'1-12-3.キャッシュフロー表 解決策導入後②'!AH15)","v":""},{"$f":"IF(ISBLANK('1-12-3.キャッシュフロー表 解決策導入後②'!AI15),\"\",'1-12-3.キャッシュフロー表 解決策導入後②'!AI15)","v":""},{"$f":"IF(ISBLANK('1-12-3.キャッシュフロー表 解決策導入後②'!AJ15),\"\",'1-12-3.キャッシュフロー表 解決策導入後②'!AJ15)","v":""},{"$f":"IF(ISBLANK('1-12-3.キャッシュフロー表 解決策導入後②'!AK15),\"\",'1-12-3.キャッシュフロー表 解決策導入後②'!AK15)","v":""},{"$f":"IF(ISBLANK('1-12-3.キャッシュフロー表 解決策導入後②'!AL15),\"\",'1-12-3.キャッシュフロー表 解決策導入後②'!AL15)","v":""},null,null,null,null,{"$f":"IF(ISBLANK('1-12-2.キャッシュフロー表 解決策導入後'!D15),\"\",'1-12-2.キャッシュフロー表 解決策導入後'!D15)","v":""},null,null,null,{"$f":"IF(ISBLANK('1-12-2.キャッシュフロー表 解決策導入後'!G15),\"\",'1-12-2.キャッシュフロー表 解決策導入後'!G15)","v":""},{"$f":"IF(ISBLANK('1-12-3.キャッシュフロー表 解決策導入後②'!AM15),\"\",'1-12-3.キャッシュフロー表 解決策導入後②'!AM15)","v":""},{"$f":"IF(ISBLANK('1-12-3.キャッシュフロー表 解決策導入後②'!AN15),\"\",'1-12-3.キャッシュフロー表 解決策導入後②'!AN15)","v":""},{"$f":"IF(ISBLANK('1-12-3.キャッシュフロー表 解決策導入後②'!AO15),\"\",'1-12-3.キャッシュフロー表 解決策導入後②'!AO15)","v":""},{"$f":"IF(ISBLANK('1-12-3.キャッシュフロー表 解決策導入後②'!AP15),\"\",'1-12-3.キャッシュフロー表 解決策導入後②'!AP15)","v":""},{"$f":"IF(ISBLANK('1-12-3.キャッシュフロー表 解決策導入後②'!AQ15),\"\",'1-12-3.キャッシュフロー表 解決策導入後②'!AQ15)","v":""},{"$f":"IF(ISBLANK('1-12-3.キャッシュフロー表 解決策導入後②'!AR15),\"\",'1-12-3.キャッシュフロー表 解決策導入後②'!AR15)","v":""},{"$f":"IF(ISBLANK('1-12-3.キャッシュフロー表 解決策導入後②'!AS15),\"\",'1-12-3.キャッシュフロー表 解決策導入後②'!AS15)","v":""},{"$f":"IF(ISBLANK('1-12-3.キャッシュフロー表 解決策導入後②'!AT15),\"\",'1-12-3.キャッシュフロー表 解決策導入後②'!AT15)","v":""},{"$f":"IF(ISBLANK('1-12-3.キャッシュフロー表 解決策導入後②'!AU15),\"\",'1-12-3.キャッシュフロー表 解決策導入後②'!AU15)","v":""},{"$f":"IF(ISBLANK('1-12-3.キャッシュフロー表 解決策導入後②'!AV15),\"\",'1-12-3.キャッシュフロー表 解決策導入後②'!AV15)","v":""},{"$f":"IF(ISBLANK('1-12-3.キャッシュフロー表 解決策導入後②'!AW15),\"\",'1-12-3.キャッシュフロー表 解決策導入後②'!AW15)","v":""},{"$f":"IF(ISBLANK('1-12-3.キャッシュフロー表 解決策導入後②'!AX15),\"\",'1-12-3.キャッシュフロー表 解決策導入後②'!AX15)","v":""},{"$f":"IF(ISBLANK('1-12-3.キャッシュフロー表 解決策導入後②'!AY15),\"\",'1-12-3.キャッシュフロー表 解決策導入後②'!AY15)","v":""},{"$f":"IF(ISBLANK('1-12-3.キャッシュフロー表 解決策導入後②'!AZ15),\"\",'1-12-3.キャッシュフロー表 解決策導入後②'!AZ15)","v":""},{"$f":"IF(ISBLANK('1-12-3.キャッシュフロー表 解決策導入後②'!BA15),\"\",'1-12-3.キャッシュフロー表 解決策導入後②'!BA15)","v":""},{"$f":"IF(ISBLANK('1-12-3.キャッシュフロー表 解決策導入後②'!BB15),\"\",'1-12-3.キャッシュフロー表 解決策導入後②'!BB15)","v":""},{"$f":"IF(ISBLANK('1-12-3.キャッシュフロー表 解決策導入後②'!BC15),\"\",'1-12-3.キャッシュフロー表 解決策導入後②'!BC15)","v":""},{"$f":"IF(ISBLANK('1-12-3.キャッシュフロー表 解決策導入後②'!BD15),\"\",'1-12-3.キャッシュフロー表 解決策導入後②'!BD15)","v":""},{"$f":"IF(ISBLANK('1-12-3.キャッシュフロー表 解決策導入後②'!BE15),\"\",'1-12-3.キャッシュフロー表 解決策導入後②'!BE15)","v":""},{"$f":"IF(ISBLANK('1-12-3.キャッシュフロー表 解決策導入後②'!BF15),\"\",'1-12-3.キャッシュフロー表 解決策導入後②'!BF15)","v":""},{"$f":"IF(ISBLANK('1-12-3.キャッシュフロー表 解決策導入後②'!BG15),\"\",'1-12-3.キャッシュフロー表 解決策導入後②'!BG15)","v":""},{"$f":"IF(ISBLANK('1-12-3.キャッシュフロー表 解決策導入後②'!BH15),\"\",'1-12-3.キャッシュフロー表 解決策導入後②'!BH15)","v":""},{"$f":"IF(ISBLANK('1-12-3.キャッシュフロー表 解決策導入後②'!BI15),\"\",'1-12-3.キャッシュフロー表 解決策導入後②'!BI15)","v":""},{"$f":"IF(ISBLANK('1-12-3.キャッシュフロー表 解決策導入後②'!BJ15),\"\",'1-12-3.キャッシュフロー表 解決策導入後②'!BJ15)","v":""},{"$f":"IF(ISBLANK('1-12-3.キャッシュフロー表 解決策導入後②'!BK15),\"\",'1-12-3.キャッシュフロー表 解決策導入後②'!BK15)","v":""},{"$f":"IF(ISBLANK('1-12-3.キャッシュフロー表 解決策導入後②'!BL15),\"\",'1-12-3.キャッシュフロー表 解決策導入後②'!BL15)","v":""},{"$f":"IF(ISBLANK('1-12-3.キャッシュフロー表 解決策導入後②'!BM15),\"\",'1-12-3.キャッシュフロー表 解決策導入後②'!BM15)","v":""},{"$f":"IF(ISBLANK('1-12-3.キャッシュフロー表 解決策導入後②'!BN15),\"\",'1-12-3.キャッシュフロー表 解決策導入後②'!BN15)","v":""},{"$f":"IF(ISBLANK('1-12-3.キャッシュフロー表 解決策導入後②'!BO15),\"\",'1-12-3.キャッシュフロー表 解決策導入後②'!BO15)","v":""},{"$f":"IF(ISBLANK('1-12-3.キャッシュフロー表 解決策導入後②'!BP15),\"\",'1-12-3.キャッシュフロー表 解決策導入後②'!BP15)","v":""},{"$f":"IF(ISBLANK('1-12-3.キャッシュフロー表 解決策導入後②'!BQ15),\"\",'1-12-3.キャッシュフロー表 解決策導入後②'!BQ15)","v":""},{"$f":"IF(ISBLANK('1-12-3.キャッシュフロー表 解決策導入後②'!BR15),\"\",'1-12-3.キャッシュフロー表 解決策導入後②'!BR15)","v":""},{"$f":"IF(ISBLANK('1-12-3.キャッシュフロー表 解決策導入後②'!BS15),\"\",'1-12-3.キャッシュフロー表 解決策導入後②'!BS15)","v":""},{"$f":"IF(ISBLANK('1-12-3.キャッシュフロー表 解決策導入後②'!BT15),\"\",'1-12-3.キャッシュフロー表 解決策導入後②'!BT15)","v":""},{"$f":"IF(ISBLANK('1-12-3.キャッシュフロー表 解決策導入後②'!BU15),\"\",'1-12-3.キャッシュフロー表 解決策導入後②'!BU15)","v":""},{"$f":"IF(ISBLANK('1-12-3.キャッシュフロー表 解決策導入後②'!BV15),\"\",'1-12-3.キャッシュフロー表 解決策導入後②'!BV15)","v":""},{"$f":"IF(ISBLANK('1-12-3.キャッシュフロー表 解決策導入後②'!BW15),\"\",'1-12-3.キャッシュフロー表 解決策導入後②'!BW15)","v":""},{"$f":"IF(ISBLANK('1-12-3.キャッシュフロー表 解決策導入後②'!BX15),\"\",'1-12-3.キャッシュフロー表 解決策導入後②'!BX15)","v":""},{"$f":"IF(ISBLANK('1-12-3.キャッシュフロー表 解決策導入後②'!BY15),\"\",'1-12-3.キャッシュフロー表 解決策導入後②'!BY15)","v":""},{"$f":"IF(ISBLANK('1-12-3.キャッシュフロー表 解決策導入後②'!BZ15),\"\",'1-12-3.キャッシュフロー表 解決策導入後②'!BZ15)","v":""}]
[null,null,null,{"$f":"IF(ISBLANK('1-12-3.キャッシュフロー表 解決策導入後②'!D16),\"\",'1-12-3.キャッシュフロー表 解決策導入後②'!D16)","v":""},null,null,null,{"$f":"IF(ISBLANK('1-12-3.キャッシュフロー表 解決策導入後②'!G16),\"\",'1-12-3.キャッシュフロー表 解決策導入後②'!G16)","v":""},{"$f":"IF(ISBLANK('1-12-3.キャッシュフロー表 解決策導入後②'!H16),\"\",'1-12-3.キャッシュフロー表 解決策導入後②'!H16)","v":""},{"$f":"IF(ISBLANK('1-12-3.キャッシュフロー表 解決策導入後②'!I16),\"\",'1-12-3.キャッシュフロー表 解決策導入後②'!I16)","v":""},{"$f":"IF(ISBLANK('1-12-3.キャッシュフロー表 解決策導入後②'!J16),\"\",'1-12-3.キャッシュフロー表 解決策導入後②'!J16)","v":""},{"$f":"IF(ISBLANK('1-12-3.キャッシュフロー表 解決策導入後②'!K16),\"\",'1-12-3.キャッシュフロー表 解決策導入後②'!K16)","v":""},{"$f":"IF(ISBLANK('1-12-3.キャッシュフロー表 解決策導入後②'!L16),\"\",'1-12-3.キャッシュフロー表 解決策導入後②'!L16)","v":""},{"$f":"IF(ISBLANK('1-12-3.キャッシュフロー表 解決策導入後②'!M16),\"\",'1-12-3.キャッシュフロー表 解決策導入後②'!M16)","v":""},{"$f":"IF(ISBLANK('1-12-3.キャッシュフロー表 解決策導入後②'!N16),\"\",'1-12-3.キャッシュフロー表 解決策導入後②'!N16)","v":""},{"$f":"IF(ISBLANK('1-12-3.キャッシュフロー表 解決策導入後②'!O16),\"\",'1-12-3.キャッシュフロー表 解決策導入後②'!O16)","v":""},{"$f":"IF(ISBLANK('1-12-3.キャッシュフロー表 解決策導入後②'!P16),\"\",'1-12-3.キャッシュフロー表 解決策導入後②'!P16)","v":""},{"$f":"IF(ISBLANK('1-12-3.キャッシュフロー表 解決策導入後②'!Q16),\"\",'1-12-3.キャッシュフロー表 解決策導入後②'!Q16)","v":""},{"$f":"IF(ISBLANK('1-12-3.キャッシュフロー表 解決策導入後②'!R16),\"\",'1-12-3.キャッシュフロー表 解決策導入後②'!R16)","v":""},{"$f":"IF(ISBLANK('1-12-3.キャッシュフロー表 解決策導入後②'!S16),\"\",'1-12-3.キャッシュフロー表 解決策導入後②'!S16)","v":""},{"$f":"IF(ISBLANK('1-12-3.キャッシュフロー表 解決策導入後②'!T16),\"\",'1-12-3.キャッシュフロー表 解決策導入後②'!T16)","v":""},{"$f":"IF(ISBLANK('1-12-3.キャッシュフロー表 解決策導入後②'!U16),\"\",'1-12-3.キャッシュフロー表 解決策導入後②'!U16)","v":""},{"$f":"IF(ISBLANK('1-12-3.キャッシュフロー表 解決策導入後②'!V16),\"\",'1-12-3.キャッシュフロー表 解決策導入後②'!V16)","v":""},{"$f":"IF(ISBLANK('1-12-3.キャッシュフロー表 解決策導入後②'!W16),\"\",'1-12-3.キャッシュフロー表 解決策導入後②'!W16)","v":""},{"$f":"IF(ISBLANK('1-12-3.キャッシュフロー表 解決策導入後②'!X16),\"\",'1-12-3.キャッシュフロー表 解決策導入後②'!X16)","v":""},{"$f":"IF(ISBLANK('1-12-3.キャッシュフロー表 解決策導入後②'!Y16),\"\",'1-12-3.キャッシュフロー表 解決策導入後②'!Y16)","v":""},{"$f":"IF(ISBLANK('1-12-3.キャッシュフロー表 解決策導入後②'!Z16),\"\",'1-12-3.キャッシュフロー表 解決策導入後②'!Z16)","v":""},{"$f":"IF(ISBLANK('1-12-3.キャッシュフロー表 解決策導入後②'!AA16),\"\",'1-12-3.キャッシュフロー表 解決策導入後②'!AA16)","v":""},{"$f":"IF(ISBLANK('1-12-3.キャッシュフロー表 解決策導入後②'!AB16),\"\",'1-12-3.キャッシュフロー表 解決策導入後②'!AB16)","v":""},{"$f":"IF(ISBLANK('1-12-3.キャッシュフロー表 解決策導入後②'!AC16),\"\",'1-12-3.キャッシュフロー表 解決策導入後②'!AC16)","v":""},{"$f":"IF(ISBLANK('1-12-3.キャッシュフロー表 解決策導入後②'!AD16),\"\",'1-12-3.キャッシュフロー表 解決策導入後②'!AD16)","v":""},{"$f":"IF(ISBLANK('1-12-3.キャッシュフロー表 解決策導入後②'!AE16),\"\",'1-12-3.キャッシュフロー表 解決策導入後②'!AE16)","v":""},{"$f":"IF(ISBLANK('1-12-3.キャッシュフロー表 解決策導入後②'!AF16),\"\",'1-12-3.キャッシュフロー表 解決策導入後②'!AF16)","v":""},{"$f":"IF(ISBLANK('1-12-3.キャッシュフロー表 解決策導入後②'!AG16),\"\",'1-12-3.キャッシュフロー表 解決策導入後②'!AG16)","v":""},{"$f":"IF(ISBLANK('1-12-3.キャッシュフロー表 解決策導入後②'!AH16),\"\",'1-12-3.キャッシュフロー表 解決策導入後②'!AH16)","v":""},{"$f":"IF(ISBLANK('1-12-3.キャッシュフロー表 解決策導入後②'!AI16),\"\",'1-12-3.キャッシュフロー表 解決策導入後②'!AI16)","v":""},{"$f":"IF(ISBLANK('1-12-3.キャッシュフロー表 解決策導入後②'!AJ16),\"\",'1-12-3.キャッシュフロー表 解決策導入後②'!AJ16)","v":""},{"$f":"IF(ISBLANK('1-12-3.キャッシュフロー表 解決策導入後②'!AK16),\"\",'1-12-3.キャッシュフロー表 解決策導入後②'!AK16)","v":""},{"$f":"IF(ISBLANK('1-12-3.キャッシュフロー表 解決策導入後②'!AL16),\"\",'1-12-3.キャッシュフロー表 解決策導入後②'!AL16)","v":""},null,null,null,null,{"$f":"IF(ISBLANK('1-12-2.キャッシュフロー表 解決策導入後'!D16),\"\",'1-12-2.キャッシュフロー表 解決策導入後'!D16)","v":""},null,null,null,{"$f":"IF(ISBLANK('1-12-2.キャッシュフロー表 解決策導入後'!G16),\"\",'1-12-2.キャッシュフロー表 解決策導入後'!G16)","v":""},{"$f":"IF(ISBLANK('1-12-3.キャッシュフロー表 解決策導入後②'!AM16),\"\",'1-12-3.キャッシュフロー表 解決策導入後②'!AM16)","v":""},{"$f":"IF(ISBLANK('1-12-3.キャッシュフロー表 解決策導入後②'!AN16),\"\",'1-12-3.キャッシュフロー表 解決策導入後②'!AN16)","v":""},{"$f":"IF(ISBLANK('1-12-3.キャッシュフロー表 解決策導入後②'!AO16),\"\",'1-12-3.キャッシュフロー表 解決策導入後②'!AO16)","v":""},{"$f":"IF(ISBLANK('1-12-3.キャッシュフロー表 解決策導入後②'!AP16),\"\",'1-12-3.キャッシュフロー表 解決策導入後②'!AP16)","v":""},{"$f":"IF(ISBLANK('1-12-3.キャッシュフロー表 解決策導入後②'!AQ16),\"\",'1-12-3.キャッシュフロー表 解決策導入後②'!AQ16)","v":""},{"$f":"IF(ISBLANK('1-12-3.キャッシュフロー表 解決策導入後②'!AR16),\"\",'1-12-3.キャッシュフロー表 解決策導入後②'!AR16)","v":""},{"$f":"IF(ISBLANK('1-12-3.キャッシュフロー表 解決策導入後②'!AS16),\"\",'1-12-3.キャッシュフロー表 解決策導入後②'!AS16)","v":""},{"$f":"IF(ISBLANK('1-12-3.キャッシュフロー表 解決策導入後②'!AT16),\"\",'1-12-3.キャッシュフロー表 解決策導入後②'!AT16)","v":""},{"$f":"IF(ISBLANK('1-12-3.キャッシュフロー表 解決策導入後②'!AU16),\"\",'1-12-3.キャッシュフロー表 解決策導入後②'!AU16)","v":""},{"$f":"IF(ISBLANK('1-12-3.キャッシュフロー表 解決策導入後②'!AV16),\"\",'1-12-3.キャッシュフロー表 解決策導入後②'!AV16)","v":""},{"$f":"IF(ISBLANK('1-12-3.キャッシュフロー表 解決策導入後②'!AW16),\"\",'1-12-3.キャッシュフロー表 解決策導入後②'!AW16)","v":""},{"$f":"IF(ISBLANK('1-12-3.キャッシュフロー表 解決策導入後②'!AX16),\"\",'1-12-3.キャッシュフロー表 解決策導入後②'!AX16)","v":""},{"$f":"IF(ISBLANK('1-12-3.キャッシュフロー表 解決策導入後②'!AY16),\"\",'1-12-3.キャッシュフロー表 解決策導入後②'!AY16)","v":""},{"$f":"IF(ISBLANK('1-12-3.キャッシュフロー表 解決策導入後②'!AZ16),\"\",'1-12-3.キャッシュフロー表 解決策導入後②'!AZ16)","v":""},{"$f":"IF(ISBLANK('1-12-3.キャッシュフロー表 解決策導入後②'!BA16),\"\",'1-12-3.キャッシュフロー表 解決策導入後②'!BA16)","v":""},{"$f":"IF(ISBLANK('1-12-3.キャッシュフロー表 解決策導入後②'!BB16),\"\",'1-12-3.キャッシュフロー表 解決策導入後②'!BB16)","v":""},{"$f":"IF(ISBLANK('1-12-3.キャッシュフロー表 解決策導入後②'!BC16),\"\",'1-12-3.キャッシュフロー表 解決策導入後②'!BC16)","v":""},{"$f":"IF(ISBLANK('1-12-3.キャッシュフロー表 解決策導入後②'!BD16),\"\",'1-12-3.キャッシュフロー表 解決策導入後②'!BD16)","v":""},{"$f":"IF(ISBLANK('1-12-3.キャッシュフロー表 解決策導入後②'!BE16),\"\",'1-12-3.キャッシュフロー表 解決策導入後②'!BE16)","v":""},{"$f":"IF(ISBLANK('1-12-3.キャッシュフロー表 解決策導入後②'!BF16),\"\",'1-12-3.キャッシュフロー表 解決策導入後②'!BF16)","v":""},{"$f":"IF(ISBLANK('1-12-3.キャッシュフロー表 解決策導入後②'!BG16),\"\",'1-12-3.キャッシュフロー表 解決策導入後②'!BG16)","v":""},{"$f":"IF(ISBLANK('1-12-3.キャッシュフロー表 解決策導入後②'!BH16),\"\",'1-12-3.キャッシュフロー表 解決策導入後②'!BH16)","v":""},{"$f":"IF(ISBLANK('1-12-3.キャッシュフロー表 解決策導入後②'!BI16),\"\",'1-12-3.キャッシュフロー表 解決策導入後②'!BI16)","v":""},{"$f":"IF(ISBLANK('1-12-3.キャッシュフロー表 解決策導入後②'!BJ16),\"\",'1-12-3.キャッシュフロー表 解決策導入後②'!BJ16)","v":""},{"$f":"IF(ISBLANK('1-12-3.キャッシュフロー表 解決策導入後②'!BK16),\"\",'1-12-3.キャッシュフロー表 解決策導入後②'!BK16)","v":""},{"$f":"IF(ISBLANK('1-12-3.キャッシュフロー表 解決策導入後②'!BL16),\"\",'1-12-3.キャッシュフロー表 解決策導入後②'!BL16)","v":""},{"$f":"IF(ISBLANK('1-12-3.キャッシュフロー表 解決策導入後②'!BM16),\"\",'1-12-3.キャッシュフロー表 解決策導入後②'!BM16)","v":""},{"$f":"IF(ISBLANK('1-12-3.キャッシュフロー表 解決策導入後②'!BN16),\"\",'1-12-3.キャッシュフロー表 解決策導入後②'!BN16)","v":""},{"$f":"IF(ISBLANK('1-12-3.キャッシュフロー表 解決策導入後②'!BO16),\"\",'1-12-3.キャッシュフロー表 解決策導入後②'!BO16)","v":""},{"$f":"IF(ISBLANK('1-12-3.キャッシュフロー表 解決策導入後②'!BP16),\"\",'1-12-3.キャッシュフロー表 解決策導入後②'!BP16)","v":""},{"$f":"IF(ISBLANK('1-12-3.キャッシュフロー表 解決策導入後②'!BQ16),\"\",'1-12-3.キャッシュフロー表 解決策導入後②'!BQ16)","v":""},{"$f":"IF(ISBLANK('1-12-3.キャッシュフロー表 解決策導入後②'!BR16),\"\",'1-12-3.キャッシュフロー表 解決策導入後②'!BR16)","v":""},{"$f":"IF(ISBLANK('1-12-3.キャッシュフロー表 解決策導入後②'!BS16),\"\",'1-12-3.キャッシュフロー表 解決策導入後②'!BS16)","v":""},{"$f":"IF(ISBLANK('1-12-3.キャッシュフロー表 解決策導入後②'!BT16),\"\",'1-12-3.キャッシュフロー表 解決策導入後②'!BT16)","v":""},{"$f":"IF(ISBLANK('1-12-3.キャッシュフロー表 解決策導入後②'!BU16),\"\",'1-12-3.キャッシュフロー表 解決策導入後②'!BU16)","v":""},{"$f":"IF(ISBLANK('1-12-3.キャッシュフロー表 解決策導入後②'!BV16),\"\",'1-12-3.キャッシュフロー表 解決策導入後②'!BV16)","v":""},{"$f":"IF(ISBLANK('1-12-3.キャッシュフロー表 解決策導入後②'!BW16),\"\",'1-12-3.キャッシュフロー表 解決策導入後②'!BW16)","v":""},{"$f":"IF(ISBLANK('1-12-3.キャッシュフロー表 解決策導入後②'!BX16),\"\",'1-12-3.キャッシュフロー表 解決策導入後②'!BX16)","v":""},{"$f":"IF(ISBLANK('1-12-3.キャッシュフロー表 解決策導入後②'!BY16),\"\",'1-12-3.キャッシュフロー表 解決策導入後②'!BY16)","v":""},{"$f":"IF(ISBLANK('1-12-3.キャッシュフロー表 解決策導入後②'!BZ16),\"\",'1-12-3.キャッシュフロー表 解決策導入後②'!BZ16)","v":""}]
[null,null,null,{"$f":"IF(ISBLANK('1-12-3.キャッシュフロー表 解決策導入後②'!D17),\"\",'1-12-3.キャッシュフロー表 解決策導入後②'!D17)","v":""},null,null,null,{"$f":"IF(ISBLANK('1-12-3.キャッシュフロー表 解決策導入後②'!G17),\"\",'1-12-3.キャッシュフロー表 解決策導入後②'!G17)","v":""},{"$f":"IF(ISBLANK('1-12-3.キャッシュフロー表 解決策導入後②'!H17),\"\",'1-12-3.キャッシュフロー表 解決策導入後②'!H17)","v":""},{"$f":"IF(ISBLANK('1-12-3.キャッシュフロー表 解決策導入後②'!I17),\"\",'1-12-3.キャッシュフロー表 解決策導入後②'!I17)","v":""},{"$f":"IF(ISBLANK('1-12-3.キャッシュフロー表 解決策導入後②'!J17),\"\",'1-12-3.キャッシュフロー表 解決策導入後②'!J17)","v":""},{"$f":"IF(ISBLANK('1-12-3.キャッシュフロー表 解決策導入後②'!K17),\"\",'1-12-3.キャッシュフロー表 解決策導入後②'!K17)","v":""},{"$f":"IF(ISBLANK('1-12-3.キャッシュフロー表 解決策導入後②'!L17),\"\",'1-12-3.キャッシュフロー表 解決策導入後②'!L17)","v":""},{"$f":"IF(ISBLANK('1-12-3.キャッシュフロー表 解決策導入後②'!M17),\"\",'1-12-3.キャッシュフロー表 解決策導入後②'!M17)","v":""},{"$f":"IF(ISBLANK('1-12-3.キャッシュフロー表 解決策導入後②'!N17),\"\",'1-12-3.キャッシュフロー表 解決策導入後②'!N17)","v":""},{"$f":"IF(ISBLANK('1-12-3.キャッシュフロー表 解決策導入後②'!O17),\"\",'1-12-3.キャッシュフロー表 解決策導入後②'!O17)","v":""},{"$f":"IF(ISBLANK('1-12-3.キャッシュフロー表 解決策導入後②'!P17),\"\",'1-12-3.キャッシュフロー表 解決策導入後②'!P17)","v":""},{"$f":"IF(ISBLANK('1-12-3.キャッシュフロー表 解決策導入後②'!Q17),\"\",'1-12-3.キャッシュフロー表 解決策導入後②'!Q17)","v":""},{"$f":"IF(ISBLANK('1-12-3.キャッシュフロー表 解決策導入後②'!R17),\"\",'1-12-3.キャッシュフロー表 解決策導入後②'!R17)","v":""},{"$f":"IF(ISBLANK('1-12-3.キャッシュフロー表 解決策導入後②'!S17),\"\",'1-12-3.キャッシュフロー表 解決策導入後②'!S17)","v":""},{"$f":"IF(ISBLANK('1-12-3.キャッシュフロー表 解決策導入後②'!T17),\"\",'1-12-3.キャッシュフロー表 解決策導入後②'!T17)","v":""},{"$f":"IF(ISBLANK('1-12-3.キャッシュフロー表 解決策導入後②'!U17),\"\",'1-12-3.キャッシュフロー表 解決策導入後②'!U17)","v":""},{"$f":"IF(ISBLANK('1-12-3.キャッシュフロー表 解決策導入後②'!V17),\"\",'1-12-3.キャッシュフロー表 解決策導入後②'!V17)","v":""},{"$f":"IF(ISBLANK('1-12-3.キャッシュフロー表 解決策導入後②'!W17),\"\",'1-12-3.キャッシュフロー表 解決策導入後②'!W17)","v":""},{"$f":"IF(ISBLANK('1-12-3.キャッシュフロー表 解決策導入後②'!X17),\"\",'1-12-3.キャッシュフロー表 解決策導入後②'!X17)","v":""},{"$f":"IF(ISBLANK('1-12-3.キャッシュフロー表 解決策導入後②'!Y17),\"\",'1-12-3.キャッシュフロー表 解決策導入後②'!Y17)","v":""},{"$f":"IF(ISBLANK('1-12-3.キャッシュフロー表 解決策導入後②'!Z17),\"\",'1-12-3.キャッシュフロー表 解決策導入後②'!Z17)","v":""},{"$f":"IF(ISBLANK('1-12-3.キャッシュフロー表 解決策導入後②'!AA17),\"\",'1-12-3.キャッシュフロー表 解決策導入後②'!AA17)","v":""},{"$f":"IF(ISBLANK('1-12-3.キャッシュフロー表 解決策導入後②'!AB17),\"\",'1-12-3.キャッシュフロー表 解決策導入後②'!AB17)","v":""},{"$f":"IF(ISBLANK('1-12-3.キャッシュフロー表 解決策導入後②'!AC17),\"\",'1-12-3.キャッシュフロー表 解決策導入後②'!AC17)","v":""},{"$f":"IF(ISBLANK('1-12-3.キャッシュフロー表 解決策導入後②'!AD17),\"\",'1-12-3.キャッシュフロー表 解決策導入後②'!AD17)","v":""},{"$f":"IF(ISBLANK('1-12-3.キャッシュフロー表 解決策導入後②'!AE17),\"\",'1-12-3.キャッシュフロー表 解決策導入後②'!AE17)","v":""},{"$f":"IF(ISBLANK('1-12-3.キャッシュフロー表 解決策導入後②'!AF17),\"\",'1-12-3.キャッシュフロー表 解決策導入後②'!AF17)","v":""},{"$f":"IF(ISBLANK('1-12-3.キャッシュフロー表 解決策導入後②'!AG17),\"\",'1-12-3.キャッシュフロー表 解決策導入後②'!AG17)","v":""},{"$f":"IF(ISBLANK('1-12-3.キャッシュフロー表 解決策導入後②'!AH17),\"\",'1-12-3.キャッシュフロー表 解決策導入後②'!AH17)","v":""},{"$f":"IF(ISBLANK('1-12-3.キャッシュフロー表 解決策導入後②'!AI17),\"\",'1-12-3.キャッシュフロー表 解決策導入後②'!AI17)","v":""},{"$f":"IF(ISBLANK('1-12-3.キャッシュフロー表 解決策導入後②'!AJ17),\"\",'1-12-3.キャッシュフロー表 解決策導入後②'!AJ17)","v":""},{"$f":"IF(ISBLANK('1-12-3.キャッシュフロー表 解決策導入後②'!AK17),\"\",'1-12-3.キャッシュフロー表 解決策導入後②'!AK17)","v":""},{"$f":"IF(ISBLANK('1-12-3.キャッシュフロー表 解決策導入後②'!AL17),\"\",'1-12-3.キャッシュフロー表 解決策導入後②'!AL17)","v":""},null,null,null,null,{"$f":"IF(ISBLANK('1-12-2.キャッシュフロー表 解決策導入後'!D17),\"\",'1-12-2.キャッシュフロー表 解決策導入後'!D17)","v":""},null,null,null,{"$f":"IF(ISBLANK('1-12-2.キャッシュフロー表 解決策導入後'!G17),\"\",'1-12-2.キャッシュフロー表 解決策導入後'!G17)","v":""},{"$f":"IF(ISBLANK('1-12-3.キャッシュフロー表 解決策導入後②'!AM17),\"\",'1-12-3.キャッシュフロー表 解決策導入後②'!AM17)","v":""},{"$f":"IF(ISBLANK('1-12-3.キャッシュフロー表 解決策導入後②'!AN17),\"\",'1-12-3.キャッシュフロー表 解決策導入後②'!AN17)","v":""},{"$f":"IF(ISBLANK('1-12-3.キャッシュフロー表 解決策導入後②'!AO17),\"\",'1-12-3.キャッシュフロー表 解決策導入後②'!AO17)","v":""},{"$f":"IF(ISBLANK('1-12-3.キャッシュフロー表 解決策導入後②'!AP17),\"\",'1-12-3.キャッシュフロー表 解決策導入後②'!AP17)","v":""},{"$f":"IF(ISBLANK('1-12-3.キャッシュフロー表 解決策導入後②'!AQ17),\"\",'1-12-3.キャッシュフロー表 解決策導入後②'!AQ17)","v":""},{"$f":"IF(ISBLANK('1-12-3.キャッシュフロー表 解決策導入後②'!AR17),\"\",'1-12-3.キャッシュフロー表 解決策導入後②'!AR17)","v":""},{"$f":"IF(ISBLANK('1-12-3.キャッシュフロー表 解決策導入後②'!AS17),\"\",'1-12-3.キャッシュフロー表 解決策導入後②'!AS17)","v":""},{"$f":"IF(ISBLANK('1-12-3.キャッシュフロー表 解決策導入後②'!AT17),\"\",'1-12-3.キャッシュフロー表 解決策導入後②'!AT17)","v":""},{"$f":"IF(ISBLANK('1-12-3.キャッシュフロー表 解決策導入後②'!AU17),\"\",'1-12-3.キャッシュフロー表 解決策導入後②'!AU17)","v":""},{"$f":"IF(ISBLANK('1-12-3.キャッシュフロー表 解決策導入後②'!AV17),\"\",'1-12-3.キャッシュフロー表 解決策導入後②'!AV17)","v":""},{"$f":"IF(ISBLANK('1-12-3.キャッシュフロー表 解決策導入後②'!AW17),\"\",'1-12-3.キャッシュフロー表 解決策導入後②'!AW17)","v":""},{"$f":"IF(ISBLANK('1-12-3.キャッシュフロー表 解決策導入後②'!AX17),\"\",'1-12-3.キャッシュフロー表 解決策導入後②'!AX17)","v":""},{"$f":"IF(ISBLANK('1-12-3.キャッシュフロー表 解決策導入後②'!AY17),\"\",'1-12-3.キャッシュフロー表 解決策導入後②'!AY17)","v":""},{"$f":"IF(ISBLANK('1-12-3.キャッシュフロー表 解決策導入後②'!AZ17),\"\",'1-12-3.キャッシュフロー表 解決策導入後②'!AZ17)","v":""},{"$f":"IF(ISBLANK('1-12-3.キャッシュフロー表 解決策導入後②'!BA17),\"\",'1-12-3.キャッシュフロー表 解決策導入後②'!BA17)","v":""},{"$f":"IF(ISBLANK('1-12-3.キャッシュフロー表 解決策導入後②'!BB17),\"\",'1-12-3.キャッシュフロー表 解決策導入後②'!BB17)","v":""},{"$f":"IF(ISBLANK('1-12-3.キャッシュフロー表 解決策導入後②'!BC17),\"\",'1-12-3.キャッシュフロー表 解決策導入後②'!BC17)","v":""},{"$f":"IF(ISBLANK('1-12-3.キャッシュフロー表 解決策導入後②'!BD17),\"\",'1-12-3.キャッシュフロー表 解決策導入後②'!BD17)","v":""},{"$f":"IF(ISBLANK('1-12-3.キャッシュフロー表 解決策導入後②'!BE17),\"\",'1-12-3.キャッシュフロー表 解決策導入後②'!BE17)","v":""},{"$f":"IF(ISBLANK('1-12-3.キャッシュフロー表 解決策導入後②'!BF17),\"\",'1-12-3.キャッシュフロー表 解決策導入後②'!BF17)","v":""},{"$f":"IF(ISBLANK('1-12-3.キャッシュフロー表 解決策導入後②'!BG17),\"\",'1-12-3.キャッシュフロー表 解決策導入後②'!BG17)","v":""},{"$f":"IF(ISBLANK('1-12-3.キャッシュフロー表 解決策導入後②'!BH17),\"\",'1-12-3.キャッシュフロー表 解決策導入後②'!BH17)","v":""},{"$f":"IF(ISBLANK('1-12-3.キャッシュフロー表 解決策導入後②'!BI17),\"\",'1-12-3.キャッシュフロー表 解決策導入後②'!BI17)","v":""},{"$f":"IF(ISBLANK('1-12-3.キャッシュフロー表 解決策導入後②'!BJ17),\"\",'1-12-3.キャッシュフロー表 解決策導入後②'!BJ17)","v":""},{"$f":"IF(ISBLANK('1-12-3.キャッシュフロー表 解決策導入後②'!BK17),\"\",'1-12-3.キャッシュフロー表 解決策導入後②'!BK17)","v":""},{"$f":"IF(ISBLANK('1-12-3.キャッシュフロー表 解決策導入後②'!BL17),\"\",'1-12-3.キャッシュフロー表 解決策導入後②'!BL17)","v":""},{"$f":"IF(ISBLANK('1-12-3.キャッシュフロー表 解決策導入後②'!BM17),\"\",'1-12-3.キャッシュフロー表 解決策導入後②'!BM17)","v":""},{"$f":"IF(ISBLANK('1-12-3.キャッシュフロー表 解決策導入後②'!BN17),\"\",'1-12-3.キャッシュフロー表 解決策導入後②'!BN17)","v":""},{"$f":"IF(ISBLANK('1-12-3.キャッシュフロー表 解決策導入後②'!BO17),\"\",'1-12-3.キャッシュフロー表 解決策導入後②'!BO17)","v":""},{"$f":"IF(ISBLANK('1-12-3.キャッシュフロー表 解決策導入後②'!BP17),\"\",'1-12-3.キャッシュフロー表 解決策導入後②'!BP17)","v":""},{"$f":"IF(ISBLANK('1-12-3.キャッシュフロー表 解決策導入後②'!BQ17),\"\",'1-12-3.キャッシュフロー表 解決策導入後②'!BQ17)","v":""},{"$f":"IF(ISBLANK('1-12-3.キャッシュフロー表 解決策導入後②'!BR17),\"\",'1-12-3.キャッシュフロー表 解決策導入後②'!BR17)","v":""},{"$f":"IF(ISBLANK('1-12-3.キャッシュフロー表 解決策導入後②'!BS17),\"\",'1-12-3.キャッシュフロー表 解決策導入後②'!BS17)","v":""},{"$f":"IF(ISBLANK('1-12-3.キャッシュフロー表 解決策導入後②'!BT17),\"\",'1-12-3.キャッシュフロー表 解決策導入後②'!BT17)","v":""},{"$f":"IF(ISBLANK('1-12-3.キャッシュフロー表 解決策導入後②'!BU17),\"\",'1-12-3.キャッシュフロー表 解決策導入後②'!BU17)","v":""},{"$f":"IF(ISBLANK('1-12-3.キャッシュフロー表 解決策導入後②'!BV17),\"\",'1-12-3.キャッシュフロー表 解決策導入後②'!BV17)","v":""},{"$f":"IF(ISBLANK('1-12-3.キャッシュフロー表 解決策導入後②'!BW17),\"\",'1-12-3.キャッシュフロー表 解決策導入後②'!BW17)","v":""},{"$f":"IF(ISBLANK('1-12-3.キャッシュフロー表 解決策導入後②'!BX17),\"\",'1-12-3.キャッシュフロー表 解決策導入後②'!BX17)","v":""},{"$f":"IF(ISBLANK('1-12-3.キャッシュフロー表 解決策導入後②'!BY17),\"\",'1-12-3.キャッシュフロー表 解決策導入後②'!BY17)","v":""},{"$f":"IF(ISBLANK('1-12-3.キャッシュフロー表 解決策導入後②'!BZ17),\"\",'1-12-3.キャッシュフロー表 解決策導入後②'!BZ17)","v":""}]
[null,null,null,{"$f":"IF(ISBLANK('1-12-3.キャッシュフロー表 解決策導入後②'!D18),\"\",'1-12-3.キャッシュフロー表 解決策導入後②'!D18)","v":""},null,null,null,{"$f":"IF(ISBLANK('1-12-3.キャッシュフロー表 解決策導入後②'!G18),\"\",'1-12-3.キャッシュフロー表 解決策導入後②'!G18)","v":""},{"$f":"IF(ISBLANK('1-12-3.キャッシュフロー表 解決策導入後②'!H18),\"\",'1-12-3.キャッシュフロー表 解決策導入後②'!H18)","v":""},{"$f":"IF(ISBLANK('1-12-3.キャッシュフロー表 解決策導入後②'!I18),\"\",'1-12-3.キャッシュフロー表 解決策導入後②'!I18)","v":""},{"$f":"IF(ISBLANK('1-12-3.キャッシュフロー表 解決策導入後②'!J18),\"\",'1-12-3.キャッシュフロー表 解決策導入後②'!J18)","v":""},{"$f":"IF(ISBLANK('1-12-3.キャッシュフロー表 解決策導入後②'!K18),\"\",'1-12-3.キャッシュフロー表 解決策導入後②'!K18)","v":""},{"$f":"IF(ISBLANK('1-12-3.キャッシュフロー表 解決策導入後②'!L18),\"\",'1-12-3.キャッシュフロー表 解決策導入後②'!L18)","v":""},{"$f":"IF(ISBLANK('1-12-3.キャッシュフロー表 解決策導入後②'!M18),\"\",'1-12-3.キャッシュフロー表 解決策導入後②'!M18)","v":""},{"$f":"IF(ISBLANK('1-12-3.キャッシュフロー表 解決策導入後②'!N18),\"\",'1-12-3.キャッシュフロー表 解決策導入後②'!N18)","v":""},{"$f":"IF(ISBLANK('1-12-3.キャッシュフロー表 解決策導入後②'!O18),\"\",'1-12-3.キャッシュフロー表 解決策導入後②'!O18)","v":""},{"$f":"IF(ISBLANK('1-12-3.キャッシュフロー表 解決策導入後②'!P18),\"\",'1-12-3.キャッシュフロー表 解決策導入後②'!P18)","v":""},{"$f":"IF(ISBLANK('1-12-3.キャッシュフロー表 解決策導入後②'!Q18),\"\",'1-12-3.キャッシュフロー表 解決策導入後②'!Q18)","v":""},{"$f":"IF(ISBLANK('1-12-3.キャッシュフロー表 解決策導入後②'!R18),\"\",'1-12-3.キャッシュフロー表 解決策導入後②'!R18)","v":""},{"$f":"IF(ISBLANK('1-12-3.キャッシュフロー表 解決策導入後②'!S18),\"\",'1-12-3.キャッシュフロー表 解決策導入後②'!S18)","v":""},{"$f":"IF(ISBLANK('1-12-3.キャッシュフロー表 解決策導入後②'!T18),\"\",'1-12-3.キャッシュフロー表 解決策導入後②'!T18)","v":""},{"$f":"IF(ISBLANK('1-12-3.キャッシュフロー表 解決策導入後②'!U18),\"\",'1-12-3.キャッシュフロー表 解決策導入後②'!U18)","v":""},{"$f":"IF(ISBLANK('1-12-3.キャッシュフロー表 解決策導入後②'!V18),\"\",'1-12-3.キャッシュフロー表 解決策導入後②'!V18)","v":""},{"$f":"IF(ISBLANK('1-12-3.キャッシュフロー表 解決策導入後②'!W18),\"\",'1-12-3.キャッシュフロー表 解決策導入後②'!W18)","v":""},{"$f":"IF(ISBLANK('1-12-3.キャッシュフロー表 解決策導入後②'!X18),\"\",'1-12-3.キャッシュフロー表 解決策導入後②'!X18)","v":""},{"$f":"IF(ISBLANK('1-12-3.キャッシュフロー表 解決策導入後②'!Y18),\"\",'1-12-3.キャッシュフロー表 解決策導入後②'!Y18)","v":""},{"$f":"IF(ISBLANK('1-12-3.キャッシュフロー表 解決策導入後②'!Z18),\"\",'1-12-3.キャッシュフロー表 解決策導入後②'!Z18)","v":""},{"$f":"IF(ISBLANK('1-12-3.キャッシュフロー表 解決策導入後②'!AA18),\"\",'1-12-3.キャッシュフロー表 解決策導入後②'!AA18)","v":""},{"$f":"IF(ISBLANK('1-12-3.キャッシュフロー表 解決策導入後②'!AB18),\"\",'1-12-3.キャッシュフロー表 解決策導入後②'!AB18)","v":""},{"$f":"IF(ISBLANK('1-12-3.キャッシュフロー表 解決策導入後②'!AC18),\"\",'1-12-3.キャッシュフロー表 解決策導入後②'!AC18)","v":""},{"$f":"IF(ISBLANK('1-12-3.キャッシュフロー表 解決策導入後②'!AD18),\"\",'1-12-3.キャッシュフロー表 解決策導入後②'!AD18)","v":""},{"$f":"IF(ISBLANK('1-12-3.キャッシュフロー表 解決策導入後②'!AE18),\"\",'1-12-3.キャッシュフロー表 解決策導入後②'!AE18)","v":""},{"$f":"IF(ISBLANK('1-12-3.キャッシュフロー表 解決策導入後②'!AF18),\"\",'1-12-3.キャッシュフロー表 解決策導入後②'!AF18)","v":""},{"$f":"IF(ISBLANK('1-12-3.キャッシュフロー表 解決策導入後②'!AG18),\"\",'1-12-3.キャッシュフロー表 解決策導入後②'!AG18)","v":""},{"$f":"IF(ISBLANK('1-12-3.キャッシュフロー表 解決策導入後②'!AH18),\"\",'1-12-3.キャッシュフロー表 解決策導入後②'!AH18)","v":""},{"$f":"IF(ISBLANK('1-12-3.キャッシュフロー表 解決策導入後②'!AI18),\"\",'1-12-3.キャッシュフロー表 解決策導入後②'!AI18)","v":""},{"$f":"IF(ISBLANK('1-12-3.キャッシュフロー表 解決策導入後②'!AJ18),\"\",'1-12-3.キャッシュフロー表 解決策導入後②'!AJ18)","v":""},{"$f":"IF(ISBLANK('1-12-3.キャッシュフロー表 解決策導入後②'!AK18),\"\",'1-12-3.キャッシュフロー表 解決策導入後②'!AK18)","v":""},{"$f":"IF(ISBLANK('1-12-3.キャッシュフロー表 解決策導入後②'!AL18),\"\",'1-12-3.キャッシュフロー表 解決策導入後②'!AL18)","v":""},null,null,null,null,{"$f":"IF(ISBLANK('1-12-2.キャッシュフロー表 解決策導入後'!D18),\"\",'1-12-2.キャッシュフロー表 解決策導入後'!D18)","v":""},null,null,null,{"$f":"IF(ISBLANK('1-12-2.キャッシュフロー表 解決策導入後'!G18),\"\",'1-12-2.キャッシュフロー表 解決策導入後'!G18)","v":""},{"$f":"IF(ISBLANK('1-12-3.キャッシュフロー表 解決策導入後②'!AM18),\"\",'1-12-3.キャッシュフロー表 解決策導入後②'!AM18)","v":""},{"$f":"IF(ISBLANK('1-12-3.キャッシュフロー表 解決策導入後②'!AN18),\"\",'1-12-3.キャッシュフロー表 解決策導入後②'!AN18)","v":""},{"$f":"IF(ISBLANK('1-12-3.キャッシュフロー表 解決策導入後②'!AO18),\"\",'1-12-3.キャッシュフロー表 解決策導入後②'!AO18)","v":""},{"$f":"IF(ISBLANK('1-12-3.キャッシュフロー表 解決策導入後②'!AP18),\"\",'1-12-3.キャッシュフロー表 解決策導入後②'!AP18)","v":""},{"$f":"IF(ISBLANK('1-12-3.キャッシュフロー表 解決策導入後②'!AQ18),\"\",'1-12-3.キャッシュフロー表 解決策導入後②'!AQ18)","v":""},{"$f":"IF(ISBLANK('1-12-3.キャッシュフロー表 解決策導入後②'!AR18),\"\",'1-12-3.キャッシュフロー表 解決策導入後②'!AR18)","v":""},{"$f":"IF(ISBLANK('1-12-3.キャッシュフロー表 解決策導入後②'!AS18),\"\",'1-12-3.キャッシュフロー表 解決策導入後②'!AS18)","v":""},{"$f":"IF(ISBLANK('1-12-3.キャッシュフロー表 解決策導入後②'!AT18),\"\",'1-12-3.キャッシュフロー表 解決策導入後②'!AT18)","v":""},{"$f":"IF(ISBLANK('1-12-3.キャッシュフロー表 解決策導入後②'!AU18),\"\",'1-12-3.キャッシュフロー表 解決策導入後②'!AU18)","v":""},{"$f":"IF(ISBLANK('1-12-3.キャッシュフロー表 解決策導入後②'!AV18),\"\",'1-12-3.キャッシュフロー表 解決策導入後②'!AV18)","v":""},{"$f":"IF(ISBLANK('1-12-3.キャッシュフロー表 解決策導入後②'!AW18),\"\",'1-12-3.キャッシュフロー表 解決策導入後②'!AW18)","v":""},{"$f":"IF(ISBLANK('1-12-3.キャッシュフロー表 解決策導入後②'!AX18),\"\",'1-12-3.キャッシュフロー表 解決策導入後②'!AX18)","v":""},{"$f":"IF(ISBLANK('1-12-3.キャッシュフロー表 解決策導入後②'!AY18),\"\",'1-12-3.キャッシュフロー表 解決策導入後②'!AY18)","v":""},{"$f":"IF(ISBLANK('1-12-3.キャッシュフロー表 解決策導入後②'!AZ18),\"\",'1-12-3.キャッシュフロー表 解決策導入後②'!AZ18)","v":""},{"$f":"IF(ISBLANK('1-12-3.キャッシュフロー表 解決策導入後②'!BA18),\"\",'1-12-3.キャッシュフロー表 解決策導入後②'!BA18)","v":""},{"$f":"IF(ISBLANK('1-12-3.キャッシュフロー表 解決策導入後②'!BB18),\"\",'1-12-3.キャッシュフロー表 解決策導入後②'!BB18)","v":""},{"$f":"IF(ISBLANK('1-12-3.キャッシュフロー表 解決策導入後②'!BC18),\"\",'1-12-3.キャッシュフロー表 解決策導入後②'!BC18)","v":""},{"$f":"IF(ISBLANK('1-12-3.キャッシュフロー表 解決策導入後②'!BD18),\"\",'1-12-3.キャッシュフロー表 解決策導入後②'!BD18)","v":""},{"$f":"IF(ISBLANK('1-12-3.キャッシュフロー表 解決策導入後②'!BE18),\"\",'1-12-3.キャッシュフロー表 解決策導入後②'!BE18)","v":""},{"$f":"IF(ISBLANK('1-12-3.キャッシュフロー表 解決策導入後②'!BF18),\"\",'1-12-3.キャッシュフロー表 解決策導入後②'!BF18)","v":""},{"$f":"IF(ISBLANK('1-12-3.キャッシュフロー表 解決策導入後②'!BG18),\"\",'1-12-3.キャッシュフロー表 解決策導入後②'!BG18)","v":""},{"$f":"IF(ISBLANK('1-12-3.キャッシュフロー表 解決策導入後②'!BH18),\"\",'1-12-3.キャッシュフロー表 解決策導入後②'!BH18)","v":""},{"$f":"IF(ISBLANK('1-12-3.キャッシュフロー表 解決策導入後②'!BI18),\"\",'1-12-3.キャッシュフロー表 解決策導入後②'!BI18)","v":""},{"$f":"IF(ISBLANK('1-12-3.キャッシュフロー表 解決策導入後②'!BJ18),\"\",'1-12-3.キャッシュフロー表 解決策導入後②'!BJ18)","v":""},{"$f":"IF(ISBLANK('1-12-3.キャッシュフロー表 解決策導入後②'!BK18),\"\",'1-12-3.キャッシュフロー表 解決策導入後②'!BK18)","v":""},{"$f":"IF(ISBLANK('1-12-3.キャッシュフロー表 解決策導入後②'!BL18),\"\",'1-12-3.キャッシュフロー表 解決策導入後②'!BL18)","v":""},{"$f":"IF(ISBLANK('1-12-3.キャッシュフロー表 解決策導入後②'!BM18),\"\",'1-12-3.キャッシュフロー表 解決策導入後②'!BM18)","v":""},{"$f":"IF(ISBLANK('1-12-3.キャッシュフロー表 解決策導入後②'!BN18),\"\",'1-12-3.キャッシュフロー表 解決策導入後②'!BN18)","v":""},{"$f":"IF(ISBLANK('1-12-3.キャッシュフロー表 解決策導入後②'!BO18),\"\",'1-12-3.キャッシュフロー表 解決策導入後②'!BO18)","v":""},{"$f":"IF(ISBLANK('1-12-3.キャッシュフロー表 解決策導入後②'!BP18),\"\",'1-12-3.キャッシュフロー表 解決策導入後②'!BP18)","v":""},{"$f":"IF(ISBLANK('1-12-3.キャッシュフロー表 解決策導入後②'!BQ18),\"\",'1-12-3.キャッシュフロー表 解決策導入後②'!BQ18)","v":""},{"$f":"IF(ISBLANK('1-12-3.キャッシュフロー表 解決策導入後②'!BR18),\"\",'1-12-3.キャッシュフロー表 解決策導入後②'!BR18)","v":""},{"$f":"IF(ISBLANK('1-12-3.キャッシュフロー表 解決策導入後②'!BS18),\"\",'1-12-3.キャッシュフロー表 解決策導入後②'!BS18)","v":""},{"$f":"IF(ISBLANK('1-12-3.キャッシュフロー表 解決策導入後②'!BT18),\"\",'1-12-3.キャッシュフロー表 解決策導入後②'!BT18)","v":""},{"$f":"IF(ISBLANK('1-12-3.キャッシュフロー表 解決策導入後②'!BU18),\"\",'1-12-3.キャッシュフロー表 解決策導入後②'!BU18)","v":""},{"$f":"IF(ISBLANK('1-12-3.キャッシュフロー表 解決策導入後②'!BV18),\"\",'1-12-3.キャッシュフロー表 解決策導入後②'!BV18)","v":""},{"$f":"IF(ISBLANK('1-12-3.キャッシュフロー表 解決策導入後②'!BW18),\"\",'1-12-3.キャッシュフロー表 解決策導入後②'!BW18)","v":""},{"$f":"IF(ISBLANK('1-12-3.キャッシュフロー表 解決策導入後②'!BX18),\"\",'1-12-3.キャッシュフロー表 解決策導入後②'!BX18)","v":""},{"$f":"IF(ISBLANK('1-12-3.キャッシュフロー表 解決策導入後②'!BY18),\"\",'1-12-3.キャッシュフロー表 解決策導入後②'!BY18)","v":""},{"$f":"IF(ISBLANK('1-12-3.キャッシュフロー表 解決策導入後②'!BZ18),\"\",'1-12-3.キャッシュフロー表 解決策導入後②'!BZ18)","v":""}]
[null,null,null,{"$f":"IF(ISBLANK('1-12-3.キャッシュフロー表 解決策導入後②'!D19),\"\",'1-12-3.キャッシュフロー表 解決策導入後②'!D19)","v":""},null,null,null,{"$f":"IF(ISBLANK('1-12-3.キャッシュフロー表 解決策導入後②'!G19),\"\",'1-12-3.キャッシュフロー表 解決策導入後②'!G19)","v":""},{"$f":"IF(ISBLANK('1-12-3.キャッシュフロー表 解決策導入後②'!H19),\"\",'1-12-3.キャッシュフロー表 解決策導入後②'!H19)","v":""},{"$f":"IF(ISBLANK('1-12-3.キャッシュフロー表 解決策導入後②'!I19),\"\",'1-12-3.キャッシュフロー表 解決策導入後②'!I19)","v":""},{"$f":"IF(ISBLANK('1-12-3.キャッシュフロー表 解決策導入後②'!J19),\"\",'1-12-3.キャッシュフロー表 解決策導入後②'!J19)","v":""},{"$f":"IF(ISBLANK('1-12-3.キャッシュフロー表 解決策導入後②'!K19),\"\",'1-12-3.キャッシュフロー表 解決策導入後②'!K19)","v":""},{"$f":"IF(ISBLANK('1-12-3.キャッシュフロー表 解決策導入後②'!L19),\"\",'1-12-3.キャッシュフロー表 解決策導入後②'!L19)","v":""},{"$f":"IF(ISBLANK('1-12-3.キャッシュフロー表 解決策導入後②'!M19),\"\",'1-12-3.キャッシュフロー表 解決策導入後②'!M19)","v":""},{"$f":"IF(ISBLANK('1-12-3.キャッシュフロー表 解決策導入後②'!N19),\"\",'1-12-3.キャッシュフロー表 解決策導入後②'!N19)","v":""},{"$f":"IF(ISBLANK('1-12-3.キャッシュフロー表 解決策導入後②'!O19),\"\",'1-12-3.キャッシュフロー表 解決策導入後②'!O19)","v":""},{"$f":"IF(ISBLANK('1-12-3.キャッシュフロー表 解決策導入後②'!P19),\"\",'1-12-3.キャッシュフロー表 解決策導入後②'!P19)","v":""},{"$f":"IF(ISBLANK('1-12-3.キャッシュフロー表 解決策導入後②'!Q19),\"\",'1-12-3.キャッシュフロー表 解決策導入後②'!Q19)","v":""},{"$f":"IF(ISBLANK('1-12-3.キャッシュフロー表 解決策導入後②'!R19),\"\",'1-12-3.キャッシュフロー表 解決策導入後②'!R19)","v":""},{"$f":"IF(ISBLANK('1-12-3.キャッシュフロー表 解決策導入後②'!S19),\"\",'1-12-3.キャッシュフロー表 解決策導入後②'!S19)","v":""},{"$f":"IF(ISBLANK('1-12-3.キャッシュフロー表 解決策導入後②'!T19),\"\",'1-12-3.キャッシュフロー表 解決策導入後②'!T19)","v":""},{"$f":"IF(ISBLANK('1-12-3.キャッシュフロー表 解決策導入後②'!U19),\"\",'1-12-3.キャッシュフロー表 解決策導入後②'!U19)","v":""},{"$f":"IF(ISBLANK('1-12-3.キャッシュフロー表 解決策導入後②'!V19),\"\",'1-12-3.キャッシュフロー表 解決策導入後②'!V19)","v":""},{"$f":"IF(ISBLANK('1-12-3.キャッシュフロー表 解決策導入後②'!W19),\"\",'1-12-3.キャッシュフロー表 解決策導入後②'!W19)","v":""},{"$f":"IF(ISBLANK('1-12-3.キャッシュフロー表 解決策導入後②'!X19),\"\",'1-12-3.キャッシュフロー表 解決策導入後②'!X19)","v":""},{"$f":"IF(ISBLANK('1-12-3.キャッシュフロー表 解決策導入後②'!Y19),\"\",'1-12-3.キャッシュフロー表 解決策導入後②'!Y19)","v":""},{"$f":"IF(ISBLANK('1-12-3.キャッシュフロー表 解決策導入後②'!Z19),\"\",'1-12-3.キャッシュフロー表 解決策導入後②'!Z19)","v":""},{"$f":"IF(ISBLANK('1-12-3.キャッシュフロー表 解決策導入後②'!AA19),\"\",'1-12-3.キャッシュフロー表 解決策導入後②'!AA19)","v":""},{"$f":"IF(ISBLANK('1-12-3.キャッシュフロー表 解決策導入後②'!AB19),\"\",'1-12-3.キャッシュフロー表 解決策導入後②'!AB19)","v":""},{"$f":"IF(ISBLANK('1-12-3.キャッシュフロー表 解決策導入後②'!AC19),\"\",'1-12-3.キャッシュフロー表 解決策導入後②'!AC19)","v":""},{"$f":"IF(ISBLANK('1-12-3.キャッシュフロー表 解決策導入後②'!AD19),\"\",'1-12-3.キャッシュフロー表 解決策導入後②'!AD19)","v":""},{"$f":"IF(ISBLANK('1-12-3.キャッシュフロー表 解決策導入後②'!AE19),\"\",'1-12-3.キャッシュフロー表 解決策導入後②'!AE19)","v":""},{"$f":"IF(ISBLANK('1-12-3.キャッシュフロー表 解決策導入後②'!AF19),\"\",'1-12-3.キャッシュフロー表 解決策導入後②'!AF19)","v":""},{"$f":"IF(ISBLANK('1-12-3.キャッシュフロー表 解決策導入後②'!AG19),\"\",'1-12-3.キャッシュフロー表 解決策導入後②'!AG19)","v":""},{"$f":"IF(ISBLANK('1-12-3.キャッシュフロー表 解決策導入後②'!AH19),\"\",'1-12-3.キャッシュフロー表 解決策導入後②'!AH19)","v":""},{"$f":"IF(ISBLANK('1-12-3.キャッシュフロー表 解決策導入後②'!AI19),\"\",'1-12-3.キャッシュフロー表 解決策導入後②'!AI19)","v":""},{"$f":"IF(ISBLANK('1-12-3.キャッシュフロー表 解決策導入後②'!AJ19),\"\",'1-12-3.キャッシュフロー表 解決策導入後②'!AJ19)","v":""},{"$f":"IF(ISBLANK('1-12-3.キャッシュフロー表 解決策導入後②'!AK19),\"\",'1-12-3.キャッシュフロー表 解決策導入後②'!AK19)","v":""},{"$f":"IF(ISBLANK('1-12-3.キャッシュフロー表 解決策導入後②'!AL19),\"\",'1-12-3.キャッシュフロー表 解決策導入後②'!AL19)","v":""},null,null,null,null,{"$f":"IF(ISBLANK('1-12-2.キャッシュフロー表 解決策導入後'!D19),\"\",'1-12-2.キャッシュフロー表 解決策導入後'!D19)","v":""},null,null,null,{"$f":"IF(ISBLANK('1-12-2.キャッシュフロー表 解決策導入後'!G19),\"\",'1-12-2.キャッシュフロー表 解決策導入後'!G19)","v":""},{"$f":"IF(ISBLANK('1-12-3.キャッシュフロー表 解決策導入後②'!AM19),\"\",'1-12-3.キャッシュフロー表 解決策導入後②'!AM19)","v":""},{"$f":"IF(ISBLANK('1-12-3.キャッシュフロー表 解決策導入後②'!AN19),\"\",'1-12-3.キャッシュフロー表 解決策導入後②'!AN19)","v":""},{"$f":"IF(ISBLANK('1-12-3.キャッシュフロー表 解決策導入後②'!AO19),\"\",'1-12-3.キャッシュフロー表 解決策導入後②'!AO19)","v":""},{"$f":"IF(ISBLANK('1-12-3.キャッシュフロー表 解決策導入後②'!AP19),\"\",'1-12-3.キャッシュフロー表 解決策導入後②'!AP19)","v":""},{"$f":"IF(ISBLANK('1-12-3.キャッシュフロー表 解決策導入後②'!AQ19),\"\",'1-12-3.キャッシュフロー表 解決策導入後②'!AQ19)","v":""},{"$f":"IF(ISBLANK('1-12-3.キャッシュフロー表 解決策導入後②'!AR19),\"\",'1-12-3.キャッシュフロー表 解決策導入後②'!AR19)","v":""},{"$f":"IF(ISBLANK('1-12-3.キャッシュフロー表 解決策導入後②'!AS19),\"\",'1-12-3.キャッシュフロー表 解決策導入後②'!AS19)","v":""},{"$f":"IF(ISBLANK('1-12-3.キャッシュフロー表 解決策導入後②'!AT19),\"\",'1-12-3.キャッシュフロー表 解決策導入後②'!AT19)","v":""},{"$f":"IF(ISBLANK('1-12-3.キャッシュフロー表 解決策導入後②'!AU19),\"\",'1-12-3.キャッシュフロー表 解決策導入後②'!AU19)","v":""},{"$f":"IF(ISBLANK('1-12-3.キャッシュフロー表 解決策導入後②'!AV19),\"\",'1-12-3.キャッシュフロー表 解決策導入後②'!AV19)","v":""},{"$f":"IF(ISBLANK('1-12-3.キャッシュフロー表 解決策導入後②'!AW19),\"\",'1-12-3.キャッシュフロー表 解決策導入後②'!AW19)","v":""},{"$f":"IF(ISBLANK('1-12-3.キャッシュフロー表 解決策導入後②'!AX19),\"\",'1-12-3.キャッシュフロー表 解決策導入後②'!AX19)","v":""},{"$f":"IF(ISBLANK('1-12-3.キャッシュフロー表 解決策導入後②'!AY19),\"\",'1-12-3.キャッシュフロー表 解決策導入後②'!AY19)","v":""},{"$f":"IF(ISBLANK('1-12-3.キャッシュフロー表 解決策導入後②'!AZ19),\"\",'1-12-3.キャッシュフロー表 解決策導入後②'!AZ19)","v":""},{"$f":"IF(ISBLANK('1-12-3.キャッシュフロー表 解決策導入後②'!BA19),\"\",'1-12-3.キャッシュフロー表 解決策導入後②'!BA19)","v":""},{"$f":"IF(ISBLANK('1-12-3.キャッシュフロー表 解決策導入後②'!BB19),\"\",'1-12-3.キャッシュフロー表 解決策導入後②'!BB19)","v":""},{"$f":"IF(ISBLANK('1-12-3.キャッシュフロー表 解決策導入後②'!BC19),\"\",'1-12-3.キャッシュフロー表 解決策導入後②'!BC19)","v":""},{"$f":"IF(ISBLANK('1-12-3.キャッシュフロー表 解決策導入後②'!BD19),\"\",'1-12-3.キャッシュフロー表 解決策導入後②'!BD19)","v":""},{"$f":"IF(ISBLANK('1-12-3.キャッシュフロー表 解決策導入後②'!BE19),\"\",'1-12-3.キャッシュフロー表 解決策導入後②'!BE19)","v":""},{"$f":"IF(ISBLANK('1-12-3.キャッシュフロー表 解決策導入後②'!BF19),\"\",'1-12-3.キャッシュフロー表 解決策導入後②'!BF19)","v":""},{"$f":"IF(ISBLANK('1-12-3.キャッシュフロー表 解決策導入後②'!BG19),\"\",'1-12-3.キャッシュフロー表 解決策導入後②'!BG19)","v":""},{"$f":"IF(ISBLANK('1-12-3.キャッシュフロー表 解決策導入後②'!BH19),\"\",'1-12-3.キャッシュフロー表 解決策導入後②'!BH19)","v":""},{"$f":"IF(ISBLANK('1-12-3.キャッシュフロー表 解決策導入後②'!BI19),\"\",'1-12-3.キャッシュフロー表 解決策導入後②'!BI19)","v":""},{"$f":"IF(ISBLANK('1-12-3.キャッシュフロー表 解決策導入後②'!BJ19),\"\",'1-12-3.キャッシュフロー表 解決策導入後②'!BJ19)","v":""},{"$f":"IF(ISBLANK('1-12-3.キャッシュフロー表 解決策導入後②'!BK19),\"\",'1-12-3.キャッシュフロー表 解決策導入後②'!BK19)","v":""},{"$f":"IF(ISBLANK('1-12-3.キャッシュフロー表 解決策導入後②'!BL19),\"\",'1-12-3.キャッシュフロー表 解決策導入後②'!BL19)","v":""},{"$f":"IF(ISBLANK('1-12-3.キャッシュフロー表 解決策導入後②'!BM19),\"\",'1-12-3.キャッシュフロー表 解決策導入後②'!BM19)","v":""},{"$f":"IF(ISBLANK('1-12-3.キャッシュフロー表 解決策導入後②'!BN19),\"\",'1-12-3.キャッシュフロー表 解決策導入後②'!BN19)","v":""},{"$f":"IF(ISBLANK('1-12-3.キャッシュフロー表 解決策導入後②'!BO19),\"\",'1-12-3.キャッシュフロー表 解決策導入後②'!BO19)","v":""},{"$f":"IF(ISBLANK('1-12-3.キャッシュフロー表 解決策導入後②'!BP19),\"\",'1-12-3.キャッシュフロー表 解決策導入後②'!BP19)","v":""},{"$f":"IF(ISBLANK('1-12-3.キャッシュフロー表 解決策導入後②'!BQ19),\"\",'1-12-3.キャッシュフロー表 解決策導入後②'!BQ19)","v":""},{"$f":"IF(ISBLANK('1-12-3.キャッシュフロー表 解決策導入後②'!BR19),\"\",'1-12-3.キャッシュフロー表 解決策導入後②'!BR19)","v":""},{"$f":"IF(ISBLANK('1-12-3.キャッシュフロー表 解決策導入後②'!BS19),\"\",'1-12-3.キャッシュフロー表 解決策導入後②'!BS19)","v":""},{"$f":"IF(ISBLANK('1-12-3.キャッシュフロー表 解決策導入後②'!BT19),\"\",'1-12-3.キャッシュフロー表 解決策導入後②'!BT19)","v":""},{"$f":"IF(ISBLANK('1-12-3.キャッシュフロー表 解決策導入後②'!BU19),\"\",'1-12-3.キャッシュフロー表 解決策導入後②'!BU19)","v":""},{"$f":"IF(ISBLANK('1-12-3.キャッシュフロー表 解決策導入後②'!BV19),\"\",'1-12-3.キャッシュフロー表 解決策導入後②'!BV19)","v":""},{"$f":"IF(ISBLANK('1-12-3.キャッシュフロー表 解決策導入後②'!BW19),\"\",'1-12-3.キャッシュフロー表 解決策導入後②'!BW19)","v":""},{"$f":"IF(ISBLANK('1-12-3.キャッシュフロー表 解決策導入後②'!BX19),\"\",'1-12-3.キャッシュフロー表 解決策導入後②'!BX19)","v":""},{"$f":"IF(ISBLANK('1-12-3.キャッシュフロー表 解決策導入後②'!BY19),\"\",'1-12-3.キャッシュフロー表 解決策導入後②'!BY19)","v":""},{"$f":"IF(ISBLANK('1-12-3.キャッシュフロー表 解決策導入後②'!BZ19),\"\",'1-12-3.キャッシュフロー表 解決策導入後②'!BZ19)","v":""}]
[null,null,"収支支出項目",null,"変動率","変動率○年後～",null,null,null,null,null,null,null,null,null,null,null,null,null,null,null,null,null,null,null,null,null,null,null,null,null,null,null,null,null,null,null,null,null,null,null,null,"収支支出項目",null,"変動率","変動率○年後～"]
[null,null,"収　入",{"$f":"IF(ISBLANK('1-12-3.キャッシュフロー表 解決策導入後②'!D21),\"\",'1-12-3.キャッシュフロー表 解決策導入後②'!D21)","v":""},{"$f":"IF(ISBLANK('1-12-3.キャッシュフロー表 解決策導入後②'!E21),\"\",'1-12-3.キャッシュフロー表 解決策導入後②'!E21)","v":0},{"$f":"IF(ISBLANK('1-12-3.キャッシュフロー表 解決策導入後②'!F21),\"\",'1-12-3.キャッシュフロー表 解決策導入後②'!F21&\"年後\")","v":""},null,{"$f":"IF(ISBLANK('1-12-3.キャッシュフロー表 解決策導入後②'!G21),\"\",'1-12-3.キャッシュフロー表 解決策導入後②'!G21)","v":0},{"$f":"IF(ISBLANK('1-12-3.キャッシュフロー表 解決策導入後②'!H21),\"\",'1-12-3.キャッシュフロー表 解決策導入後②'!H21)","v":""},{"$f":"IF(ISBLANK('1-12-3.キャッシュフロー表 解決策導入後②'!I21),\"\",'1-12-3.キャッシュフロー表 解決策導入後②'!I21)","v":0},{"$f":"IF(ISBLANK('1-12-3.キャッシュフロー表 解決策導入後②'!J21),\"\",'1-12-3.キャッシュフロー表 解決策導入後②'!J21)","v":0},{"$f":"IF(ISBLANK('1-12-3.キャッシュフロー表 解決策導入後②'!K21),\"\",'1-12-3.キャッシュフロー表 解決策導入後②'!K21)","v":0},{"$f":"IF(ISBLANK('1-12-3.キャッシュフロー表 解決策導入後②'!L21),\"\",'1-12-3.キャッシュフロー表 解決策導入後②'!L21)","v":0},{"$f":"IF(ISBLANK('1-12-3.キャッシュフロー表 解決策導入後②'!M21),\"\",'1-12-3.キャッシュフロー表 解決策導入後②'!M21)","v":0},{"$f":"IF(ISBLANK('1-12-3.キャッシュフロー表 解決策導入後②'!N21),\"\",'1-12-3.キャッシュフロー表 解決策導入後②'!N21)","v":0},{"$f":"IF(ISBLANK('1-12-3.キャッシュフロー表 解決策導入後②'!O21),\"\",'1-12-3.キャッシュフロー表 解決策導入後②'!O21)","v":0},{"$f":"IF(ISBLANK('1-12-3.キャッシュフロー表 解決策導入後②'!P21),\"\",'1-12-3.キャッシュフロー表 解決策導入後②'!P21)","v":0},{"$f":"IF(ISBLANK('1-12-3.キャッシュフロー表 解決策導入後②'!Q21),\"\",'1-12-3.キャッシュフロー表 解決策導入後②'!Q21)","v":0},{"$f":"IF(ISBLANK('1-12-3.キャッシュフロー表 解決策導入後②'!R21),\"\",'1-12-3.キャッシュフロー表 解決策導入後②'!R21)","v":0},{"$f":"IF(ISBLANK('1-12-3.キャッシュフロー表 解決策導入後②'!S21),\"\",'1-12-3.キャッシュフロー表 解決策導入後②'!S21)","v":0},{"$f":"IF(ISBLANK('1-12-3.キャッシュフロー表 解決策導入後②'!T21),\"\",'1-12-3.キャッシュフロー表 解決策導入後②'!T21)","v":0},{"$f":"IF(ISBLANK('1-12-3.キャッシュフロー表 解決策導入後②'!U21),\"\",'1-12-3.キャッシュフロー表 解決策導入後②'!U21)","v":0},{"$f":"IF(ISBLANK('1-12-3.キャッシュフロー表 解決策導入後②'!V21),\"\",'1-12-3.キャッシュフロー表 解決策導入後②'!V21)","v":0},{"$f":"IF(ISBLANK('1-12-3.キャッシュフロー表 解決策導入後②'!W21),\"\",'1-12-3.キャッシュフロー表 解決策導入後②'!W21)","v":0},{"$f":"IF(ISBLANK('1-12-3.キャッシュフロー表 解決策導入後②'!X21),\"\",'1-12-3.キャッシュフロー表 解決策導入後②'!X21)","v":0},{"$f":"IF(ISBLANK('1-12-3.キャッシュフロー表 解決策導入後②'!Y21),\"\",'1-12-3.キャッシュフロー表 解決策導入後②'!Y21)","v":0},{"$f":"IF(ISBLANK('1-12-3.キャッシュフロー表 解決策導入後②'!Z21),\"\",'1-12-3.キャッシュフロー表 解決策導入後②'!Z21)","v":0},{"$f":"IF(ISBLANK('1-12-3.キャッシュフロー表 解決策導入後②'!AA21),\"\",'1-12-3.キャッシュフロー表 解決策導入後②'!AA21)","v":0},{"$f":"IF(ISBLANK('1-12-3.キャッシュフロー表 解決策導入後②'!AB21),\"\",'1-12-3.キャッシュフロー表 解決策導入後②'!AB21)","v":0},{"$f":"IF(ISBLANK('1-12-3.キャッシュフロー表 解決策導入後②'!AC21),\"\",'1-12-3.キャッシュフロー表 解決策導入後②'!AC21)","v":0},{"$f":"IF(ISBLANK('1-12-3.キャッシュフロー表 解決策導入後②'!AD21),\"\",'1-12-3.キャッシュフロー表 解決策導入後②'!AD21)","v":0},{"$f":"IF(ISBLANK('1-12-3.キャッシュフロー表 解決策導入後②'!AE21),\"\",'1-12-3.キャッシュフロー表 解決策導入後②'!AE21)","v":0},{"$f":"IF(ISBLANK('1-12-3.キャッシュフロー表 解決策導入後②'!AF21),\"\",'1-12-3.キャッシュフロー表 解決策導入後②'!AF21)","v":0},{"$f":"IF(ISBLANK('1-12-3.キャッシュフロー表 解決策導入後②'!AG21),\"\",'1-12-3.キャッシュフロー表 解決策導入後②'!AG21)","v":0},{"$f":"IF(ISBLANK('1-12-3.キャッシュフロー表 解決策導入後②'!AH21),\"\",'1-12-3.キャッシュフロー表 解決策導入後②'!AH21)","v":0},{"$f":"IF(ISBLANK('1-12-3.キャッシュフロー表 解決策導入後②'!AI21),\"\",'1-12-3.キャッシュフロー表 解決策導入後②'!AI21)","v":0},{"$f":"IF(ISBLANK('1-12-3.キャッシュフロー表 解決策導入後②'!AJ21),\"\",'1-12-3.キャッシュフロー表 解決策導入後②'!AJ21)","v":0},{"$f":"IF(ISBLANK('1-12-3.キャッシュフロー表 解決策導入後②'!AK21),\"\",'1-12-3.キャッシュフロー表 解決策導入後②'!AK21)","v":0},{"$f":"IF(ISBLANK('1-12-3.キャッシュフロー表 解決策導入後②'!AL21),\"\",'1-12-3.キャッシュフロー表 解決策導入後②'!AL21)","v":0},null,null,null,"収　入",{"$f":"IF(ISBLANK('1-12-2.キャッシュフロー表 解決策導入後'!D21),\"\",'1-12-2.キャッシュフロー表 解決策導入後'!D21)","v":""},{"$f":"IF(ISBLANK('1-12-2.キャッシュフロー表 解決策導入後'!E21),\"\",'1-12-2.キャッシュフロー表 解決策導入後'!E21)","v":0},{"$f":"IF(ISBLANK('1-12-2.キャッシュフロー表 解決策導入後'!F21),\"\",'1-12-2.キャッシュフロー表 解決策導入後'!F21&\"年後\")","v":""},null,{"$f":"IF(ISBLANK('1-12-2.キャッシュフロー表 解決策導入後'!G21),\"\",'1-12-2.キャッシュフロー表 解決策導入後'!G21)","v":0},{"$f":"IF(ISBLANK('1-12-1.キャッシュフロー表 現状'!AM21),\"\",'1-12-1.キャッシュフロー表 現状'!AM21)","v":0},{"$f":"IF(ISBLANK('1-12-1.キャッシュフロー表 現状'!AN21),\"\",'1-12-1.キャッシュフロー表 現状'!AN21)","v":0},{"$f":"IF(ISBLANK('1-12-1.キャッシュフロー表 現状'!AO21),\"\",'1-12-1.キャッシュフロー表 現状'!AO21)","v":0},{"$f":"IF(ISBLANK('1-12-1.キャッシュフロー表 現状'!AP21),\"\",'1-12-1.キャッシュフロー表 現状'!AP21)","v":0},{"$f":"IF(ISBLANK('1-12-1.キャッシュフロー表 現状'!AQ21),\"\",'1-12-1.キャッシュフロー表 現状'!AQ21)","v":0},{"$f":"IF(ISBLANK('1-12-1.キャッシュフロー表 現状'!AR21),\"\",'1-12-1.キャッシュフロー表 現状'!AR21)","v":0},{"$f":"IF(ISBLANK('1-12-1.キャッシュフロー表 現状'!AS21),\"\",'1-12-1.キャッシュフロー表 現状'!AS21)","v":0},{"$f":"IF(ISBLANK('1-12-1.キャッシュフロー表 現状'!AT21),\"\",'1-12-1.キャッシュフロー表 現状'!AT21)","v":0},{"$f":"IF(ISBLANK('1-12-1.キャッシュフロー表 現状'!AU21),\"\",'1-12-1.キャッシュフロー表 現状'!AU21)","v":0},{"$f":"IF(ISBLANK('1-12-1.キャッシュフロー表 現状'!AV21),\"\",'1-12-1.キャッシュフロー表 現状'!AV21)","v":0},{"$f":"IF(ISBLANK('1-12-1.キャッシュフロー表 現状'!AW21),\"\",'1-12-1.キャッシュフロー表 現状'!AW21)","v":0},{"$f":"IF(ISBLANK('1-12-1.キャッシュフロー表 現状'!AX21),\"\",'1-12-1.キャッシュフロー表 現状'!AX21)","v":0},{"$f":"IF(ISBLANK('1-12-1.キャッシュフロー表 現状'!AY21),\"\",'1-12-1.キャッシュフロー表 現状'!AY21)","v":0},{"$f":"IF(ISBLANK('1-12-1.キャッシュフロー表 現状'!AZ21),\"\",'1-12-1.キャッシュフロー表 現状'!AZ21)","v":0},{"$f":"IF(ISBLANK('1-12-1.キャッシュフロー表 現状'!BA21),\"\",'1-12-1.キャッシュフロー表 現状'!BA21)","v":0},{"$f":"IF(ISBLANK('1-12-1.キャッシュフロー表 現状'!BB21),\"\",'1-12-1.キャッシュフロー表 現状'!BB21)","v":0},{"$f":"IF(ISBLANK('1-12-1.キャッシュフロー表 現状'!BC21),\"\",'1-12-1.キャッシュフロー表 現状'!BC21)","v":0},{"$f":"IF(ISBLANK('1-12-1.キャッシュフロー表 現状'!BD21),\"\",'1-12-1.キャッシュフロー表 現状'!BD21)","v":0},{"$f":"IF(ISBLANK('1-12-1.キャッシュフロー表 現状'!BE21),\"\",'1-12-1.キャッシュフロー表 現状'!BE21)","v":0},{"$f":"IF(ISBLANK('1-12-1.キャッシュフロー表 現状'!BF21),\"\",'1-12-1.キャッシュフロー表 現状'!BF21)","v":0},{"$f":"IF(ISBLANK('1-12-1.キャッシュフロー表 現状'!BG21),\"\",'1-12-1.キャッシュフロー表 現状'!BG21)","v":0},{"$f":"IF(ISBLANK('1-12-1.キャッシュフロー表 現状'!BH21),\"\",'1-12-1.キャッシュフロー表 現状'!BH21)","v":0},{"$f":"IF(ISBLANK('1-12-1.キャッシュフロー表 現状'!BI21),\"\",'1-12-1.キャッシュフロー表 現状'!BI21)","v":0},{"$f":"IF(ISBLANK('1-12-1.キャッシュフロー表 現状'!BJ21),\"\",'1-12-1.キャッシュフロー表 現状'!BJ21)","v":0},{"$f":"IF(ISBLANK('1-12-1.キャッシュフロー表 現状'!BK21),\"\",'1-12-1.キャッシュフロー表 現状'!BK21)","v":0},{"$f":"IF(ISBLANK('1-12-1.キャッシュフロー表 現状'!BL21),\"\",'1-12-1.キャッシュフロー表 現状'!BL21)","v":0},{"$f":"IF(ISBLANK('1-12-1.キャッシュフロー表 現状'!BM21),\"\",'1-12-1.キャッシュフロー表 現状'!BM21)","v":0},{"$f":"IF(ISBLANK('1-12-1.キャッシュフロー表 現状'!BN21),\"\",'1-12-1.キャッシュフロー表 現状'!BN21)","v":0},{"$f":"IF(ISBLANK('1-12-1.キャッシュフロー表 現状'!BO21),\"\",'1-12-1.キャッシュフロー表 現状'!BO21)","v":0},{"$f":"IF(ISBLANK('1-12-1.キャッシュフロー表 現状'!BP21),\"\",'1-12-1.キャッシュフロー表 現状'!BP21)","v":0},{"$f":"IF(ISBLANK('1-12-1.キャッシュフロー表 現状'!BQ21),\"\",'1-12-1.キャッシュフロー表 現状'!BQ21)","v":0},{"$f":"IF(ISBLANK('1-12-1.キャッシュフロー表 現状'!BR21),\"\",'1-12-1.キャッシュフロー表 現状'!BR21)","v":0},{"$f":"IF(ISBLANK('1-12-1.キャッシュフロー表 現状'!BS21),\"\",'1-12-1.キャッシュフロー表 現状'!BS21)","v":0},{"$f":"IF(ISBLANK('1-12-1.キャッシュフロー表 現状'!BT21),\"\",'1-12-1.キャッシュフロー表 現状'!BT21)","v":0},{"$f":"IF(ISBLANK('1-12-1.キャッシュフロー表 現状'!BU21),\"\",'1-12-1.キャッシュフロー表 現状'!BU21)","v":0},{"$f":"IF(ISBLANK('1-12-1.キャッシュフロー表 現状'!BV21),\"\",'1-12-1.キャッシュフロー表 現状'!BV21)","v":0},{"$f":"IF(ISBLANK('1-12-1.キャッシュフロー表 現状'!BW21),\"\",'1-12-1.キャッシュフロー表 現状'!BW21)","v":0},{"$f":"IF(ISBLANK('1-12-1.キャッシュフロー表 現状'!BX21),\"\",'1-12-1.キャッシュフロー表 現状'!BX21)","v":0},{"$f":"IF(ISBLANK('1-12-1.キャッシュフロー表 現状'!BY21),\"\",'1-12-1.キャッシュフロー表 現状'!BY21)","v":0},{"$f":"IF(ISBLANK('1-12-1.キャッシュフロー表 現状'!BZ21),\"\",'1-12-1.キャッシュフロー表 現状'!BZ21)","v":0}]
[null,null,null,{"$f":"IF(ISBLANK('1-12-3.キャッシュフロー表 解決策導入後②'!D22),\"\",'1-12-3.キャッシュフロー表 解決策導入後②'!D22)","v":""},{"$f":"IF(ISBLANK('1-12-3.キャッシュフロー表 解決策導入後②'!E22),\"\",'1-12-3.キャッシュフロー表 解決策導入後②'!E22)","v":0},{"$f":"IF(ISBLANK('1-12-3.キャッシュフロー表 解決策導入後②'!F22),\"\",'1-12-3.キャッシュフロー表 解決策導入後②'!F22&\"年後\")","v":""},null,{"$f":"IF(ISBLANK('1-12-3.キャッシュフロー表 解決策導入後②'!G22),\"\",'1-12-3.キャッシュフロー表 解決策導入後②'!G22)","v":0},{"$f":"IF(ISBLANK('1-12-3.キャッシュフロー表 解決策導入後②'!H22),\"\",'1-12-3.キャッシュフロー表 解決策導入後②'!H22)","v":""},{"$f":"IF(ISBLANK('1-12-3.キャッシュフロー表 解決策導入後②'!I22),\"\",'1-12-3.キャッシュフロー表 解決策導入後②'!I22)","v":0},{"$f":"IF(ISBLANK('1-12-3.キャッシュフロー表 解決策導入後②'!J22),\"\",'1-12-3.キャッシュフロー表 解決策導入後②'!J22)","v":0},{"$f":"IF(ISBLANK('1-12-3.キャッシュフロー表 解決策導入後②'!K22),\"\",'1-12-3.キャッシュフロー表 解決策導入後②'!K22)","v":0},{"$f":"IF(ISBLANK('1-12-3.キャッシュフロー表 解決策導入後②'!L22),\"\",'1-12-3.キャッシュフロー表 解決策導入後②'!L22)","v":0},{"$f":"IF(ISBLANK('1-12-3.キャッシュフロー表 解決策導入後②'!M22),\"\",'1-12-3.キャッシュフロー表 解決策導入後②'!M22)","v":0},{"$f":"IF(ISBLANK('1-12-3.キャッシュフロー表 解決策導入後②'!N22),\"\",'1-12-3.キャッシュフロー表 解決策導入後②'!N22)","v":0},{"$f":"IF(ISBLANK('1-12-3.キャッシュフロー表 解決策導入後②'!O22),\"\",'1-12-3.キャッシュフロー表 解決策導入後②'!O22)","v":0},{"$f":"IF(ISBLANK('1-12-3.キャッシュフロー表 解決策導入後②'!P22),\"\",'1-12-3.キャッシュフロー表 解決策導入後②'!P22)","v":0},{"$f":"IF(ISBLANK('1-12-3.キャッシュフロー表 解決策導入後②'!Q22),\"\",'1-12-3.キャッシュフロー表 解決策導入後②'!Q22)","v":0},{"$f":"IF(ISBLANK('1-12-3.キャッシュフロー表 解決策導入後②'!R22),\"\",'1-12-3.キャッシュフロー表 解決策導入後②'!R22)","v":0},{"$f":"IF(ISBLANK('1-12-3.キャッシュフロー表 解決策導入後②'!S22),\"\",'1-12-3.キャッシュフロー表 解決策導入後②'!S22)","v":0},{"$f":"IF(ISBLANK('1-12-3.キャッシュフロー表 解決策導入後②'!T22),\"\",'1-12-3.キャッシュフロー表 解決策導入後②'!T22)","v":0},{"$f":"IF(ISBLANK('1-12-3.キャッシュフロー表 解決策導入後②'!U22),\"\",'1-12-3.キャッシュフロー表 解決策導入後②'!U22)","v":0},{"$f":"IF(ISBLANK('1-12-3.キャッシュフロー表 解決策導入後②'!V22),\"\",'1-12-3.キャッシュフロー表 解決策導入後②'!V22)","v":0},{"$f":"IF(ISBLANK('1-12-3.キャッシュフロー表 解決策導入後②'!W22),\"\",'1-12-3.キャッシュフロー表 解決策導入後②'!W22)","v":0},{"$f":"IF(ISBLANK('1-12-3.キャッシュフロー表 解決策導入後②'!X22),\"\",'1-12-3.キャッシュフロー表 解決策導入後②'!X22)","v":0},{"$f":"IF(ISBLANK('1-12-3.キャッシュフロー表 解決策導入後②'!Y22),\"\",'1-12-3.キャッシュフロー表 解決策導入後②'!Y22)","v":0},{"$f":"IF(ISBLANK('1-12-3.キャッシュフロー表 解決策導入後②'!Z22),\"\",'1-12-3.キャッシュフロー表 解決策導入後②'!Z22)","v":0},{"$f":"IF(ISBLANK('1-12-3.キャッシュフロー表 解決策導入後②'!AA22),\"\",'1-12-3.キャッシュフロー表 解決策導入後②'!AA22)","v":0},{"$f":"IF(ISBLANK('1-12-3.キャッシュフロー表 解決策導入後②'!AB22),\"\",'1-12-3.キャッシュフロー表 解決策導入後②'!AB22)","v":0},{"$f":"IF(ISBLANK('1-12-3.キャッシュフロー表 解決策導入後②'!AC22),\"\",'1-12-3.キャッシュフロー表 解決策導入後②'!AC22)","v":0},{"$f":"IF(ISBLANK('1-12-3.キャッシュフロー表 解決策導入後②'!AD22),\"\",'1-12-3.キャッシュフロー表 解決策導入後②'!AD22)","v":0},{"$f":"IF(ISBLANK('1-12-3.キャッシュフロー表 解決策導入後②'!AE22),\"\",'1-12-3.キャッシュフロー表 解決策導入後②'!AE22)","v":0},{"$f":"IF(ISBLANK('1-12-3.キャッシュフロー表 解決策導入後②'!AF22),\"\",'1-12-3.キャッシュフロー表 解決策導入後②'!AF22)","v":0},{"$f":"IF(ISBLANK('1-12-3.キャッシュフロー表 解決策導入後②'!AG22),\"\",'1-12-3.キャッシュフロー表 解決策導入後②'!AG22)","v":0},{"$f":"IF(ISBLANK('1-12-3.キャッシュフロー表 解決策導入後②'!AH22),\"\",'1-12-3.キャッシュフロー表 解決策導入後②'!AH22)","v":0},{"$f":"IF(ISBLANK('1-12-3.キャッシュフロー表 解決策導入後②'!AI22),\"\",'1-12-3.キャッシュフロー表 解決策導入後②'!AI22)","v":0},{"$f":"IF(ISBLANK('1-12-3.キャッシュフロー表 解決策導入後②'!AJ22),\"\",'1-12-3.キャッシュフロー表 解決策導入後②'!AJ22)","v":0},{"$f":"IF(ISBLANK('1-12-3.キャッシュフロー表 解決策導入後②'!AK22),\"\",'1-12-3.キャッシュフロー表 解決策導入後②'!AK22)","v":0},{"$f":"IF(ISBLANK('1-12-3.キャッシュフロー表 解決策導入後②'!AL22),\"\",'1-12-3.キャッシュフロー表 解決策導入後②'!AL22)","v":0},null,null,null,null,{"$f":"IF(ISBLANK('1-12-2.キャッシュフロー表 解決策導入後'!D22),\"\",'1-12-2.キャッシュフロー表 解決策導入後'!D22)","v":""},{"$f":"IF(ISBLANK('1-12-2.キャッシュフロー表 解決策導入後'!E22),\"\",'1-12-2.キャッシュフロー表 解決策導入後'!E22)","v":0},{"$f":"IF(ISBLANK('1-12-2.キャッシュフロー表 解決策導入後'!F22),\"\",'1-12-2.キャッシュフロー表 解決策導入後'!F22&\"年後\")","v":""},null,{"$f":"IF(ISBLANK('1-12-2.キャッシュフロー表 解決策導入後'!G22),\"\",'1-12-2.キャッシュフロー表 解決策導入後'!G22)","v":0},{"$f":"IF(ISBLANK('1-12-1.キャッシュフロー表 現状'!AM22),\"\",'1-12-1.キャッシュフロー表 現状'!AM22)","v":0},{"$f":"IF(ISBLANK('1-12-1.キャッシュフロー表 現状'!AN22),\"\",'1-12-1.キャッシュフロー表 現状'!AN22)","v":0},{"$f":"IF(ISBLANK('1-12-1.キャッシュフロー表 現状'!AO22),\"\",'1-12-1.キャッシュフロー表 現状'!AO22)","v":0},{"$f":"IF(ISBLANK('1-12-1.キャッシュフロー表 現状'!AP22),\"\",'1-12-1.キャッシュフロー表 現状'!AP22)","v":0},{"$f":"IF(ISBLANK('1-12-1.キャッシュフロー表 現状'!AQ22),\"\",'1-12-1.キャッシュフロー表 現状'!AQ22)","v":0},{"$f":"IF(ISBLANK('1-12-1.キャッシュフロー表 現状'!AR22),\"\",'1-12-1.キャッシュフロー表 現状'!AR22)","v":0},{"$f":"IF(ISBLANK('1-12-1.キャッシュフロー表 現状'!AS22),\"\",'1-12-1.キャッシュフロー表 現状'!AS22)","v":0},{"$f":"IF(ISBLANK('1-12-1.キャッシュフロー表 現状'!AT22),\"\",'1-12-1.キャッシュフロー表 現状'!AT22)","v":0},{"$f":"IF(ISBLANK('1-12-1.キャッシュフロー表 現状'!AU22),\"\",'1-12-1.キャッシュフロー表 現状'!AU22)","v":0},{"$f":"IF(ISBLANK('1-12-1.キャッシュフロー表 現状'!AV22),\"\",'1-12-1.キャッシュフロー表 現状'!AV22)","v":0},{"$f":"IF(ISBLANK('1-12-1.キャッシュフロー表 現状'!AW22),\"\",'1-12-1.キャッシュフロー表 現状'!AW22)","v":0},{"$f":"IF(ISBLANK('1-12-1.キャッシュフロー表 現状'!AX22),\"\",'1-12-1.キャッシュフロー表 現状'!AX22)","v":0},{"$f":"IF(ISBLANK('1-12-1.キャッシュフロー表 現状'!AY22),\"\",'1-12-1.キャッシュフロー表 現状'!AY22)","v":0},{"$f":"IF(ISBLANK('1-12-1.キャッシュフロー表 現状'!AZ22),\"\",'1-12-1.キャッシュフロー表 現状'!AZ22)","v":0},{"$f":"IF(ISBLANK('1-12-1.キャッシュフロー表 現状'!BA22),\"\",'1-12-1.キャッシュフロー表 現状'!BA22)","v":0},{"$f":"IF(ISBLANK('1-12-1.キャッシュフロー表 現状'!BB22),\"\",'1-12-1.キャッシュフロー表 現状'!BB22)","v":0},{"$f":"IF(ISBLANK('1-12-1.キャッシュフロー表 現状'!BC22),\"\",'1-12-1.キャッシュフロー表 現状'!BC22)","v":0},{"$f":"IF(ISBLANK('1-12-1.キャッシュフロー表 現状'!BD22),\"\",'1-12-1.キャッシュフロー表 現状'!BD22)","v":0},{"$f":"IF(ISBLANK('1-12-1.キャッシュフロー表 現状'!BE22),\"\",'1-12-1.キャッシュフロー表 現状'!BE22)","v":0},{"$f":"IF(ISBLANK('1-12-1.キャッシュフロー表 現状'!BF22),\"\",'1-12-1.キャッシュフロー表 現状'!BF22)","v":0},{"$f":"IF(ISBLANK('1-12-1.キャッシュフロー表 現状'!BG22),\"\",'1-12-1.キャッシュフロー表 現状'!BG22)","v":0},{"$f":"IF(ISBLANK('1-12-1.キャッシュフロー表 現状'!BH22),\"\",'1-12-1.キャッシュフロー表 現状'!BH22)","v":0},{"$f":"IF(ISBLANK('1-12-1.キャッシュフロー表 現状'!BI22),\"\",'1-12-1.キャッシュフロー表 現状'!BI22)","v":0},{"$f":"IF(ISBLANK('1-12-1.キャッシュフロー表 現状'!BJ22),\"\",'1-12-1.キャッシュフロー表 現状'!BJ22)","v":0},{"$f":"IF(ISBLANK('1-12-1.キャッシュフロー表 現状'!BK22),\"\",'1-12-1.キャッシュフロー表 現状'!BK22)","v":0},{"$f":"IF(ISBLANK('1-12-1.キャッシュフロー表 現状'!BL22),\"\",'1-12-1.キャッシュフロー表 現状'!BL22)","v":0},{"$f":"IF(ISBLANK('1-12-1.キャッシュフロー表 現状'!BM22),\"\",'1-12-1.キャッシュフロー表 現状'!BM22)","v":0},{"$f":"IF(ISBLANK('1-12-1.キャッシュフロー表 現状'!BN22),\"\",'1-12-1.キャッシュフロー表 現状'!BN22)","v":0},{"$f":"IF(ISBLANK('1-12-1.キャッシュフロー表 現状'!BO22),\"\",'1-12-1.キャッシュフロー表 現状'!BO22)","v":0},{"$f":"IF(ISBLANK('1-12-1.キャッシュフロー表 現状'!BP22),\"\",'1-12-1.キャッシュフロー表 現状'!BP22)","v":0},{"$f":"IF(ISBLANK('1-12-1.キャッシュフロー表 現状'!BQ22),\"\",'1-12-1.キャッシュフロー表 現状'!BQ22)","v":0},{"$f":"IF(ISBLANK('1-12-1.キャッシュフロー表 現状'!BR22),\"\",'1-12-1.キャッシュフロー表 現状'!BR22)","v":0},{"$f":"IF(ISBLANK('1-12-1.キャッシュフロー表 現状'!BS22),\"\",'1-12-1.キャッシュフロー表 現状'!BS22)","v":0},{"$f":"IF(ISBLANK('1-12-1.キャッシュフロー表 現状'!BT22),\"\",'1-12-1.キャッシュフロー表 現状'!BT22)","v":0},{"$f":"IF(ISBLANK('1-12-1.キャッシュフロー表 現状'!BU22),\"\",'1-12-1.キャッシュフロー表 現状'!BU22)","v":0},{"$f":"IF(ISBLANK('1-12-1.キャッシュフロー表 現状'!BV22),\"\",'1-12-1.キャッシュフロー表 現状'!BV22)","v":0},{"$f":"IF(ISBLANK('1-12-1.キャッシュフロー表 現状'!BW22),\"\",'1-12-1.キャッシュフロー表 現状'!BW22)","v":0},{"$f":"IF(ISBLANK('1-12-1.キャッシュフロー表 現状'!BX22),\"\",'1-12-1.キャッシュフロー表 現状'!BX22)","v":0},{"$f":"IF(ISBLANK('1-12-1.キャッシュフロー表 現状'!BY22),\"\",'1-12-1.キャッシュフロー表 現状'!BY22)","v":0},{"$f":"IF(ISBLANK('1-12-1.キャッシュフロー表 現状'!BZ22),\"\",'1-12-1.キャッシュフロー表 現状'!BZ22)","v":0}]
[null,null,null,{"$f":"IF(ISBLANK('1-12-3.キャッシュフロー表 解決策導入後②'!D23),\"\",'1-12-3.キャッシュフロー表 解決策導入後②'!D23)","v":""},{"$f":"IF(ISBLANK('1-12-3.キャッシュフロー表 解決策導入後②'!E23),\"\",'1-12-3.キャッシュフロー表 解決策導入後②'!E23)","v":0},{"$f":"IF(ISBLANK('1-12-3.キャッシュフロー表 解決策導入後②'!F23),\"\",'1-12-3.キャッシュフロー表 解決策導入後②'!F23&\"年後\")","v":""},null,{"$f":"IF(ISBLANK('1-12-3.キャッシュフロー表 解決策導入後②'!G23),\"\",'1-12-3.キャッシュフロー表 解決策導入後②'!G23)","v":0},{"$f":"IF(ISBLANK('1-12-3.キャッシュフロー表 解決策導入後②'!H23),\"\",'1-12-3.キャッシュフロー表 解決策導入後②'!H23)","v":""},{"$f":"IF(ISBLANK('1-12-3.キャッシュフロー表 解決策導入後②'!I23),\"\",'1-12-3.キャッシュフロー表 解決策導入後②'!I23)","v":0},{"$f":"IF(ISBLANK('1-12-3.キャッシュフロー表 解決策導入後②'!J23),\"\",'1-12-3.キャッシュフロー表 解決策導入後②'!J23)","v":0},{"$f":"IF(ISBLANK('1-12-3.キャッシュフロー表 解決策導入後②'!K23),\"\",'1-12-3.キャッシュフロー表 解決策導入後②'!K23)","v":0},{"$f":"IF(ISBLANK('1-12-3.キャッシュフロー表 解決策導入後②'!L23),\"\",'1-12-3.キャッシュフロー表 解決策導入後②'!L23)","v":0},{"$f":"IF(ISBLANK('1-12-3.キャッシュフロー表 解決策導入後②'!M23),\"\",'1-12-3.キャッシュフロー表 解決策導入後②'!M23)","v":0},{"$f":"IF(ISBLANK('1-12-3.キャッシュフロー表 解決策導入後②'!N23),\"\",'1-12-3.キャッシュフロー表 解決策導入後②'!N23)","v":0},{"$f":"IF(ISBLANK('1-12-3.キャッシュフロー表 解決策導入後②'!O23),\"\",'1-12-3.キャッシュフロー表 解決策導入後②'!O23)","v":0},{"$f":"IF(ISBLANK('1-12-3.キャッシュフロー表 解決策導入後②'!P23),\"\",'1-12-3.キャッシュフロー表 解決策導入後②'!P23)","v":0},{"$f":"IF(ISBLANK('1-12-3.キャッシュフロー表 解決策導入後②'!Q23),\"\",'1-12-3.キャッシュフロー表 解決策導入後②'!Q23)","v":0},{"$f":"IF(ISBLANK('1-12-3.キャッシュフロー表 解決策導入後②'!R23),\"\",'1-12-3.キャッシュフロー表 解決策導入後②'!R23)","v":0},{"$f":"IF(ISBLANK('1-12-3.キャッシュフロー表 解決策導入後②'!S23),\"\",'1-12-3.キャッシュフロー表 解決策導入後②'!S23)","v":0},{"$f":"IF(ISBLANK('1-12-3.キャッシュフロー表 解決策導入後②'!T23),\"\",'1-12-3.キャッシュフロー表 解決策導入後②'!T23)","v":0},{"$f":"IF(ISBLANK('1-12-3.キャッシュフロー表 解決策導入後②'!U23),\"\",'1-12-3.キャッシュフロー表 解決策導入後②'!U23)","v":0},{"$f":"IF(ISBLANK('1-12-3.キャッシュフロー表 解決策導入後②'!V23),\"\",'1-12-3.キャッシュフロー表 解決策導入後②'!V23)","v":0},{"$f":"IF(ISBLANK('1-12-3.キャッシュフロー表 解決策導入後②'!W23),\"\",'1-12-3.キャッシュフロー表 解決策導入後②'!W23)","v":0},{"$f":"IF(ISBLANK('1-12-3.キャッシュフロー表 解決策導入後②'!X23),\"\",'1-12-3.キャッシュフロー表 解決策導入後②'!X23)","v":0},{"$f":"IF(ISBLANK('1-12-3.キャッシュフロー表 解決策導入後②'!Y23),\"\",'1-12-3.キャッシュフロー表 解決策導入後②'!Y23)","v":0},{"$f":"IF(ISBLANK('1-12-3.キャッシュフロー表 解決策導入後②'!Z23),\"\",'1-12-3.キャッシュフロー表 解決策導入後②'!Z23)","v":0},{"$f":"IF(ISBLANK('1-12-3.キャッシュフロー表 解決策導入後②'!AA23),\"\",'1-12-3.キャッシュフロー表 解決策導入後②'!AA23)","v":0},{"$f":"IF(ISBLANK('1-12-3.キャッシュフロー表 解決策導入後②'!AB23),\"\",'1-12-3.キャッシュフロー表 解決策導入後②'!AB23)","v":0},{"$f":"IF(ISBLANK('1-12-3.キャッシュフロー表 解決策導入後②'!AC23),\"\",'1-12-3.キャッシュフロー表 解決策導入後②'!AC23)","v":0},{"$f":"IF(ISBLANK('1-12-3.キャッシュフロー表 解決策導入後②'!AD23),\"\",'1-12-3.キャッシュフロー表 解決策導入後②'!AD23)","v":0},{"$f":"IF(ISBLANK('1-12-3.キャッシュフロー表 解決策導入後②'!AE23),\"\",'1-12-3.キャッシュフロー表 解決策導入後②'!AE23)","v":0},{"$f":"IF(ISBLANK('1-12-3.キャッシュフロー表 解決策導入後②'!AF23),\"\",'1-12-3.キャッシュフロー表 解決策導入後②'!AF23)","v":0},{"$f":"IF(ISBLANK('1-12-3.キャッシュフロー表 解決策導入後②'!AG23),\"\",'1-12-3.キャッシュフロー表 解決策導入後②'!AG23)","v":0},{"$f":"IF(ISBLANK('1-12-3.キャッシュフロー表 解決策導入後②'!AH23),\"\",'1-12-3.キャッシュフロー表 解決策導入後②'!AH23)","v":0},{"$f":"IF(ISBLANK('1-12-3.キャッシュフロー表 解決策導入後②'!AI23),\"\",'1-12-3.キャッシュフロー表 解決策導入後②'!AI23)","v":0},{"$f":"IF(ISBLANK('1-12-3.キャッシュフロー表 解決策導入後②'!AJ23),\"\",'1-12-3.キャッシュフロー表 解決策導入後②'!AJ23)","v":0},{"$f":"IF(ISBLANK('1-12-3.キャッシュフロー表 解決策導入後②'!AK23),\"\",'1-12-3.キャッシュフロー表 解決策導入後②'!AK23)","v":0},{"$f":"IF(ISBLANK('1-12-3.キャッシュフロー表 解決策導入後②'!AL23),\"\",'1-12-3.キャッシュフロー表 解決策導入後②'!AL23)","v":0},null,null,null,null,{"$f":"IF(ISBLANK('1-12-2.キャッシュフロー表 解決策導入後'!D23),\"\",'1-12-2.キャッシュフロー表 解決策導入後'!D23)","v":""},{"$f":"IF(ISBLANK('1-12-2.キャッシュフロー表 解決策導入後'!E23),\"\",'1-12-2.キャッシュフロー表 解決策導入後'!E23)","v":0},{"$f":"IF(ISBLANK('1-12-2.キャッシュフロー表 解決策導入後'!F23),\"\",'1-12-2.キャッシュフロー表 解決策導入後'!F23&\"年後\")","v":""},null,{"$f":"IF(ISBLANK('1-12-2.キャッシュフロー表 解決策導入後'!G23),\"\",'1-12-2.キャッシュフロー表 解決策導入後'!G23)","v":0},{"$f":"IF(ISBLANK('1-12-1.キャッシュフロー表 現状'!AM23),\"\",'1-12-1.キャッシュフロー表 現状'!AM23)","v":0},{"$f":"IF(ISBLANK('1-12-1.キャッシュフロー表 現状'!AN23),\"\",'1-12-1.キャッシュフロー表 現状'!AN23)","v":0},{"$f":"IF(ISBLANK('1-12-1.キャッシュフロー表 現状'!AO23),\"\",'1-12-1.キャッシュフロー表 現状'!AO23)","v":0},{"$f":"IF(ISBLANK('1-12-1.キャッシュフロー表 現状'!AP23),\"\",'1-12-1.キャッシュフロー表 現状'!AP23)","v":0},{"$f":"IF(ISBLANK('1-12-1.キャッシュフロー表 現状'!AQ23),\"\",'1-12-1.キャッシュフロー表 現状'!AQ23)","v":0},{"$f":"IF(ISBLANK('1-12-1.キャッシュフロー表 現状'!AR23),\"\",'1-12-1.キャッシュフロー表 現状'!AR23)","v":0},{"$f":"IF(ISBLANK('1-12-1.キャッシュフロー表 現状'!AS23),\"\",'1-12-1.キャッシュフロー表 現状'!AS23)","v":0},{"$f":"IF(ISBLANK('1-12-1.キャッシュフロー表 現状'!AT23),\"\",'1-12-1.キャッシュフロー表 現状'!AT23)","v":0},{"$f":"IF(ISBLANK('1-12-1.キャッシュフロー表 現状'!AU23),\"\",'1-12-1.キャッシュフロー表 現状'!AU23)","v":0},{"$f":"IF(ISBLANK('1-12-1.キャッシュフロー表 現状'!AV23),\"\",'1-12-1.キャッシュフロー表 現状'!AV23)","v":0},{"$f":"IF(ISBLANK('1-12-1.キャッシュフロー表 現状'!AW23),\"\",'1-12-1.キャッシュフロー表 現状'!AW23)","v":0},{"$f":"IF(ISBLANK('1-12-1.キャッシュフロー表 現状'!AX23),\"\",'1-12-1.キャッシュフロー表 現状'!AX23)","v":0},{"$f":"IF(ISBLANK('1-12-1.キャッシュフロー表 現状'!AY23),\"\",'1-12-1.キャッシュフロー表 現状'!AY23)","v":0},{"$f":"IF(ISBLANK('1-12-1.キャッシュフロー表 現状'!AZ23),\"\",'1-12-1.キャッシュフロー表 現状'!AZ23)","v":0},{"$f":"IF(ISBLANK('1-12-1.キャッシュフロー表 現状'!BA23),\"\",'1-12-1.キャッシュフロー表 現状'!BA23)","v":0},{"$f":"IF(ISBLANK('1-12-1.キャッシュフロー表 現状'!BB23),\"\",'1-12-1.キャッシュフロー表 現状'!BB23)","v":0},{"$f":"IF(ISBLANK('1-12-1.キャッシュフロー表 現状'!BC23),\"\",'1-12-1.キャッシュフロー表 現状'!BC23)","v":0},{"$f":"IF(ISBLANK('1-12-1.キャッシュフロー表 現状'!BD23),\"\",'1-12-1.キャッシュフロー表 現状'!BD23)","v":0},{"$f":"IF(ISBLANK('1-12-1.キャッシュフロー表 現状'!BE23),\"\",'1-12-1.キャッシュフロー表 現状'!BE23)","v":0},{"$f":"IF(ISBLANK('1-12-1.キャッシュフロー表 現状'!BF23),\"\",'1-12-1.キャッシュフロー表 現状'!BF23)","v":0},{"$f":"IF(ISBLANK('1-12-1.キャッシュフロー表 現状'!BG23),\"\",'1-12-1.キャッシュフロー表 現状'!BG23)","v":0},{"$f":"IF(ISBLANK('1-12-1.キャッシュフロー表 現状'!BH23),\"\",'1-12-1.キャッシュフロー表 現状'!BH23)","v":0},{"$f":"IF(ISBLANK('1-12-1.キャッシュフロー表 現状'!BI23),\"\",'1-12-1.キャッシュフロー表 現状'!BI23)","v":0},{"$f":"IF(ISBLANK('1-12-1.キャッシュフロー表 現状'!BJ23),\"\",'1-12-1.キャッシュフロー表 現状'!BJ23)","v":0},{"$f":"IF(ISBLANK('1-12-1.キャッシュフロー表 現状'!BK23),\"\",'1-12-1.キャッシュフロー表 現状'!BK23)","v":0},{"$f":"IF(ISBLANK('1-12-1.キャッシュフロー表 現状'!BL23),\"\",'1-12-1.キャッシュフロー表 現状'!BL23)","v":0},{"$f":"IF(ISBLANK('1-12-1.キャッシュフロー表 現状'!BM23),\"\",'1-12-1.キャッシュフロー表 現状'!BM23)","v":0},{"$f":"IF(ISBLANK('1-12-1.キャッシュフロー表 現状'!BN23),\"\",'1-12-1.キャッシュフロー表 現状'!BN23)","v":0},{"$f":"IF(ISBLANK('1-12-1.キャッシュフロー表 現状'!BO23),\"\",'1-12-1.キャッシュフロー表 現状'!BO23)","v":0},{"$f":"IF(ISBLANK('1-12-1.キャッシュフロー表 現状'!BP23),\"\",'1-12-1.キャッシュフロー表 現状'!BP23)","v":0},{"$f":"IF(ISBLANK('1-12-1.キャッシュフロー表 現状'!BQ23),\"\",'1-12-1.キャッシュフロー表 現状'!BQ23)","v":0},{"$f":"IF(ISBLANK('1-12-1.キャッシュフロー表 現状'!BR23),\"\",'1-12-1.キャッシュフロー表 現状'!BR23)","v":0},{"$f":"IF(ISBLANK('1-12-1.キャッシュフロー表 現状'!BS23),\"\",'1-12-1.キャッシュフロー表 現状'!BS23)","v":0},{"$f":"IF(ISBLANK('1-12-1.キャッシュフロー表 現状'!BT23),\"\",'1-12-1.キャッシュフロー表 現状'!BT23)","v":0},{"$f":"IF(ISBLANK('1-12-1.キャッシュフロー表 現状'!BU23),\"\",'1-12-1.キャッシュフロー表 現状'!BU23)","v":0},{"$f":"IF(ISBLANK('1-12-1.キャッシュフロー表 現状'!BV23),\"\",'1-12-1.キャッシュフロー表 現状'!BV23)","v":0},{"$f":"IF(ISBLANK('1-12-1.キャッシュフロー表 現状'!BW23),\"\",'1-12-1.キャッシュフロー表 現状'!BW23)","v":0},{"$f":"IF(ISBLANK('1-12-1.キャッシュフロー表 現状'!BX23),\"\",'1-12-1.キャッシュフロー表 現状'!BX23)","v":0},{"$f":"IF(ISBLANK('1-12-1.キャッシュフロー表 現状'!BY23),\"\",'1-12-1.キャッシュフロー表 現状'!BY23)","v":0},{"$f":"IF(ISBLANK('1-12-1.キャッシュフロー表 現状'!BZ23),\"\",'1-12-1.キャッシュフロー表 現状'!BZ23)","v":0}]
[null,null,null,{"$f":"IF(ISBLANK('1-12-3.キャッシュフロー表 解決策導入後②'!D24),\"\",'1-12-3.キャッシュフロー表 解決策導入後②'!D24)","v":""},{"$f":"IF(ISBLANK('1-12-3.キャッシュフロー表 解決策導入後②'!E24),\"\",'1-12-3.キャッシュフロー表 解決策導入後②'!E24)","v":0},{"$f":"IF(ISBLANK('1-12-3.キャッシュフロー表 解決策導入後②'!F24),\"\",'1-12-3.キャッシュフロー表 解決策導入後②'!F24&\"年後\")","v":""},null,{"$f":"IF(ISBLANK('1-12-3.キャッシュフロー表 解決策導入後②'!G24),\"\",'1-12-3.キャッシュフロー表 解決策導入後②'!G24)","v":0},{"$f":"IF(ISBLANK('1-12-3.キャッシュフロー表 解決策導入後②'!H24),\"\",'1-12-3.キャッシュフロー表 解決策導入後②'!H24)","v":""},{"$f":"IF(ISBLANK('1-12-3.キャッシュフロー表 解決策導入後②'!I24),\"\",'1-12-3.キャッシュフロー表 解決策導入後②'!I24)","v":0},{"$f":"IF(ISBLANK('1-12-3.キャッシュフロー表 解決策導入後②'!J24),\"\",'1-12-3.キャッシュフロー表 解決策導入後②'!J24)","v":0},{"$f":"IF(ISBLANK('1-12-3.キャッシュフロー表 解決策導入後②'!K24),\"\",'1-12-3.キャッシュフロー表 解決策導入後②'!K24)","v":0},{"$f":"IF(ISBLANK('1-12-3.キャッシュフロー表 解決策導入後②'!L24),\"\",'1-12-3.キャッシュフロー表 解決策導入後②'!L24)","v":0},{"$f":"IF(ISBLANK('1-12-3.キャッシュフロー表 解決策導入後②'!M24),\"\",'1-12-3.キャッシュフロー表 解決策導入後②'!M24)","v":0},{"$f":"IF(ISBLANK('1-12-3.キャッシュフロー表 解決策導入後②'!N24),\"\",'1-12-3.キャッシュフロー表 解決策導入後②'!N24)","v":0},{"$f":"IF(ISBLANK('1-12-3.キャッシュフロー表 解決策導入後②'!O24),\"\",'1-12-3.キャッシュフロー表 解決策導入後②'!O24)","v":0},{"$f":"IF(ISBLANK('1-12-3.キャッシュフロー表 解決策導入後②'!P24),\"\",'1-12-3.キャッシュフロー表 解決策導入後②'!P24)","v":0},{"$f":"IF(ISBLANK('1-12-3.キャッシュフロー表 解決策導入後②'!Q24),\"\",'1-12-3.キャッシュフロー表 解決策導入後②'!Q24)","v":0},{"$f":"IF(ISBLANK('1-12-3.キャッシュフロー表 解決策導入後②'!R24),\"\",'1-12-3.キャッシュフロー表 解決策導入後②'!R24)","v":0},{"$f":"IF(ISBLANK('1-12-3.キャッシュフロー表 解決策導入後②'!S24),\"\",'1-12-3.キャッシュフロー表 解決策導入後②'!S24)","v":0},{"$f":"IF(ISBLANK('1-12-3.キャッシュフロー表 解決策導入後②'!T24),\"\",'1-12-3.キャッシュフロー表 解決策導入後②'!T24)","v":0},{"$f":"IF(ISBLANK('1-12-3.キャッシュフロー表 解決策導入後②'!U24),\"\",'1-12-3.キャッシュフロー表 解決策導入後②'!U24)","v":0},{"$f":"IF(ISBLANK('1-12-3.キャッシュフロー表 解決策導入後②'!V24),\"\",'1-12-3.キャッシュフロー表 解決策導入後②'!V24)","v":0},{"$f":"IF(ISBLANK('1-12-3.キャッシュフロー表 解決策導入後②'!W24),\"\",'1-12-3.キャッシュフロー表 解決策導入後②'!W24)","v":0},{"$f":"IF(ISBLANK('1-12-3.キャッシュフロー表 解決策導入後②'!X24),\"\",'1-12-3.キャッシュフロー表 解決策導入後②'!X24)","v":0},{"$f":"IF(ISBLANK('1-12-3.キャッシュフロー表 解決策導入後②'!Y24),\"\",'1-12-3.キャッシュフロー表 解決策導入後②'!Y24)","v":0},{"$f":"IF(ISBLANK('1-12-3.キャッシュフロー表 解決策導入後②'!Z24),\"\",'1-12-3.キャッシュフロー表 解決策導入後②'!Z24)","v":0},{"$f":"IF(ISBLANK('1-12-3.キャッシュフロー表 解決策導入後②'!AA24),\"\",'1-12-3.キャッシュフロー表 解決策導入後②'!AA24)","v":0},{"$f":"IF(ISBLANK('1-12-3.キャッシュフロー表 解決策導入後②'!AB24),\"\",'1-12-3.キャッシュフロー表 解決策導入後②'!AB24)","v":0},{"$f":"IF(ISBLANK('1-12-3.キャッシュフロー表 解決策導入後②'!AC24),\"\",'1-12-3.キャッシュフロー表 解決策導入後②'!AC24)","v":0},{"$f":"IF(ISBLANK('1-12-3.キャッシュフロー表 解決策導入後②'!AD24),\"\",'1-12-3.キャッシュフロー表 解決策導入後②'!AD24)","v":0},{"$f":"IF(ISBLANK('1-12-3.キャッシュフロー表 解決策導入後②'!AE24),\"\",'1-12-3.キャッシュフロー表 解決策導入後②'!AE24)","v":0},{"$f":"IF(ISBLANK('1-12-3.キャッシュフロー表 解決策導入後②'!AF24),\"\",'1-12-3.キャッシュフロー表 解決策導入後②'!AF24)","v":0},{"$f":"IF(ISBLANK('1-12-3.キャッシュフロー表 解決策導入後②'!AG24),\"\",'1-12-3.キャッシュフロー表 解決策導入後②'!AG24)","v":0},{"$f":"IF(ISBLANK('1-12-3.キャッシュフロー表 解決策導入後②'!AH24),\"\",'1-12-3.キャッシュフロー表 解決策導入後②'!AH24)","v":0},{"$f":"IF(ISBLANK('1-12-3.キャッシュフロー表 解決策導入後②'!AI24),\"\",'1-12-3.キャッシュフロー表 解決策導入後②'!AI24)","v":0},{"$f":"IF(ISBLANK('1-12-3.キャッシュフロー表 解決策導入後②'!AJ24),\"\",'1-12-3.キャッシュフロー表 解決策導入後②'!AJ24)","v":0},{"$f":"IF(ISBLANK('1-12-3.キャッシュフロー表 解決策導入後②'!AK24),\"\",'1-12-3.キャッシュフロー表 解決策導入後②'!AK24)","v":0},{"$f":"IF(ISBLANK('1-12-3.キャッシュフロー表 解決策導入後②'!AL24),\"\",'1-12-3.キャッシュフロー表 解決策導入後②'!AL24)","v":0},null,null,null,null,{"$f":"IF(ISBLANK('1-12-2.キャッシュフロー表 解決策導入後'!D24),\"\",'1-12-2.キャッシュフロー表 解決策導入後'!D24)","v":""},{"$f":"IF(ISBLANK('1-12-2.キャッシュフロー表 解決策導入後'!E24),\"\",'1-12-2.キャッシュフロー表 解決策導入後'!E24)","v":0},{"$f":"IF(ISBLANK('1-12-2.キャッシュフロー表 解決策導入後'!F24),\"\",'1-12-2.キャッシュフロー表 解決策導入後'!F24&\"年後\")","v":""},null,{"$f":"IF(ISBLANK('1-12-2.キャッシュフロー表 解決策導入後'!G24),\"\",'1-12-2.キャッシュフロー表 解決策導入後'!G24)","v":0},{"$f":"IF(ISBLANK('1-12-1.キャッシュフロー表 現状'!AM24),\"\",'1-12-1.キャッシュフロー表 現状'!AM24)","v":0},{"$f":"IF(ISBLANK('1-12-1.キャッシュフロー表 現状'!AN24),\"\",'1-12-1.キャッシュフロー表 現状'!AN24)","v":0},{"$f":"IF(ISBLANK('1-12-1.キャッシュフロー表 現状'!AO24),\"\",'1-12-1.キャッシュフロー表 現状'!AO24)","v":0},{"$f":"IF(ISBLANK('1-12-1.キャッシュフロー表 現状'!AP24),\"\",'1-12-1.キャッシュフロー表 現状'!AP24)","v":0},{"$f":"IF(ISBLANK('1-12-1.キャッシュフロー表 現状'!AQ24),\"\",'1-12-1.キャッシュフロー表 現状'!AQ24)","v":0},{"$f":"IF(ISBLANK('1-12-1.キャッシュフロー表 現状'!AR24),\"\",'1-12-1.キャッシュフロー表 現状'!AR24)","v":0},{"$f":"IF(ISBLANK('1-12-1.キャッシュフロー表 現状'!AS24),\"\",'1-12-1.キャッシュフロー表 現状'!AS24)","v":0},{"$f":"IF(ISBLANK('1-12-1.キャッシュフロー表 現状'!AT24),\"\",'1-12-1.キャッシュフロー表 現状'!AT24)","v":0},{"$f":"IF(ISBLANK('1-12-1.キャッシュフロー表 現状'!AU24),\"\",'1-12-1.キャッシュフロー表 現状'!AU24)","v":0},{"$f":"IF(ISBLANK('1-12-1.キャッシュフロー表 現状'!AV24),\"\",'1-12-1.キャッシュフロー表 現状'!AV24)","v":0},{"$f":"IF(ISBLANK('1-12-1.キャッシュフロー表 現状'!AW24),\"\",'1-12-1.キャッシュフロー表 現状'!AW24)","v":0},{"$f":"IF(ISBLANK('1-12-1.キャッシュフロー表 現状'!AX24),\"\",'1-12-1.キャッシュフロー表 現状'!AX24)","v":0},{"$f":"IF(ISBLANK('1-12-1.キャッシュフロー表 現状'!AY24),\"\",'1-12-1.キャッシュフロー表 現状'!AY24)","v":0},{"$f":"IF(ISBLANK('1-12-1.キャッシュフロー表 現状'!AZ24),\"\",'1-12-1.キャッシュフロー表 現状'!AZ24)","v":0},{"$f":"IF(ISBLANK('1-12-1.キャッシュフロー表 現状'!BA24),\"\",'1-12-1.キャッシュフロー表 現状'!BA24)","v":0},{"$f":"IF(ISBLANK('1-12-1.キャッシュフロー表 現状'!BB24),\"\",'1-12-1.キャッシュフロー表 現状'!BB24)","v":0},{"$f":"IF(ISBLANK('1-12-1.キャッシュフロー表 現状'!BC24),\"\",'1-12-1.キャッシュフロー表 現状'!BC24)","v":0},{"$f":"IF(ISBLANK('1-12-1.キャッシュフロー表 現状'!BD24),\"\",'1-12-1.キャッシュフロー表 現状'!BD24)","v":0},{"$f":"IF(ISBLANK('1-12-1.キャッシュフロー表 現状'!BE24),\"\",'1-12-1.キャッシュフロー表 現状'!BE24)","v":0},{"$f":"IF(ISBLANK('1-12-1.キャッシュフロー表 現状'!BF24),\"\",'1-12-1.キャッシュフロー表 現状'!BF24)","v":0},{"$f":"IF(ISBLANK('1-12-1.キャッシュフロー表 現状'!BG24),\"\",'1-12-1.キャッシュフロー表 現状'!BG24)","v":0},{"$f":"IF(ISBLANK('1-12-1.キャッシュフロー表 現状'!BH24),\"\",'1-12-1.キャッシュフロー表 現状'!BH24)","v":0},{"$f":"IF(ISBLANK('1-12-1.キャッシュフロー表 現状'!BI24),\"\",'1-12-1.キャッシュフロー表 現状'!BI24)","v":0},{"$f":"IF(ISBLANK('1-12-1.キャッシュフロー表 現状'!BJ24),\"\",'1-12-1.キャッシュフロー表 現状'!BJ24)","v":0},{"$f":"IF(ISBLANK('1-12-1.キャッシュフロー表 現状'!BK24),\"\",'1-12-1.キャッシュフロー表 現状'!BK24)","v":0},{"$f":"IF(ISBLANK('1-12-1.キャッシュフロー表 現状'!BL24),\"\",'1-12-1.キャッシュフロー表 現状'!BL24)","v":0},{"$f":"IF(ISBLANK('1-12-1.キャッシュフロー表 現状'!BM24),\"\",'1-12-1.キャッシュフロー表 現状'!BM24)","v":0},{"$f":"IF(ISBLANK('1-12-1.キャッシュフロー表 現状'!BN24),\"\",'1-12-1.キャッシュフロー表 現状'!BN24)","v":0},{"$f":"IF(ISBLANK('1-12-1.キャッシュフロー表 現状'!BO24),\"\",'1-12-1.キャッシュフロー表 現状'!BO24)","v":0},{"$f":"IF(ISBLANK('1-12-1.キャッシュフロー表 現状'!BP24),\"\",'1-12-1.キャッシュフロー表 現状'!BP24)","v":0},{"$f":"IF(ISBLANK('1-12-1.キャッシュフロー表 現状'!BQ24),\"\",'1-12-1.キャッシュフロー表 現状'!BQ24)","v":0},{"$f":"IF(ISBLANK('1-12-1.キャッシュフロー表 現状'!BR24),\"\",'1-12-1.キャッシュフロー表 現状'!BR24)","v":0},{"$f":"IF(ISBLANK('1-12-1.キャッシュフロー表 現状'!BS24),\"\",'1-12-1.キャッシュフロー表 現状'!BS24)","v":0},{"$f":"IF(ISBLANK('1-12-1.キャッシュフロー表 現状'!BT24),\"\",'1-12-1.キャッシュフロー表 現状'!BT24)","v":0},{"$f":"IF(ISBLANK('1-12-1.キャッシュフロー表 現状'!BU24),\"\",'1-12-1.キャッシュフロー表 現状'!BU24)","v":0},{"$f":"IF(ISBLANK('1-12-1.キャッシュフロー表 現状'!BV24),\"\",'1-12-1.キャッシュフロー表 現状'!BV24)","v":0},{"$f":"IF(ISBLANK('1-12-1.キャッシュフロー表 現状'!BW24),\"\",'1-12-1.キャッシュフロー表 現状'!BW24)","v":0},{"$f":"IF(ISBLANK('1-12-1.キャッシュフロー表 現状'!BX24),\"\",'1-12-1.キャッシュフロー表 現状'!BX24)","v":0},{"$f":"IF(ISBLANK('1-12-1.キャッシュフロー表 現状'!BY24),\"\",'1-12-1.キャッシュフロー表 現状'!BY24)","v":0},{"$f":"IF(ISBLANK('1-12-1.キャッシュフロー表 現状'!BZ24),\"\",'1-12-1.キャッシュフロー表 現状'!BZ24)","v":0}]
[null,null,null,{"$f":"IF(ISBLANK('1-12-3.キャッシュフロー表 解決策導入後②'!D25),\"\",'1-12-3.キャッシュフロー表 解決策導入後②'!D25)","v":""},{"$f":"IF(ISBLANK('1-12-3.キャッシュフロー表 解決策導入後②'!E25),\"\",'1-12-3.キャッシュフロー表 解決策導入後②'!E25)","v":0},{"$f":"IF(ISBLANK('1-12-3.キャッシュフロー表 解決策導入後②'!F25),\"\",'1-12-3.キャッシュフロー表 解決策導入後②'!F25&\"年後\")","v":""},null,{"$f":"IF(ISBLANK('1-12-3.キャッシュフロー表 解決策導入後②'!G25),\"\",'1-12-3.キャッシュフロー表 解決策導入後②'!G25)","v":0},{"$f":"IF(ISBLANK('1-12-3.キャッシュフロー表 解決策導入後②'!H25),\"\",'1-12-3.キャッシュフロー表 解決策導入後②'!H25)","v":""},{"$f":"IF(ISBLANK('1-12-3.キャッシュフロー表 解決策導入後②'!I25),\"\",'1-12-3.キャッシュフロー表 解決策導入後②'!I25)","v":0},{"$f":"IF(ISBLANK('1-12-3.キャッシュフロー表 解決策導入後②'!J25),\"\",'1-12-3.キャッシュフロー表 解決策導入後②'!J25)","v":0},{"$f":"IF(ISBLANK('1-12-3.キャッシュフロー表 解決策導入後②'!K25),\"\",'1-12-3.キャッシュフロー表 解決策導入後②'!K25)","v":0},{"$f":"IF(ISBLANK('1-12-3.キャッシュフロー表 解決策導入後②'!L25),\"\",'1-12-3.キャッシュフロー表 解決策導入後②'!L25)","v":0},{"$f":"IF(ISBLANK('1-12-3.キャッシュフロー表 解決策導入後②'!M25),\"\",'1-12-3.キャッシュフロー表 解決策導入後②'!M25)","v":0},{"$f":"IF(ISBLANK('1-12-3.キャッシュフロー表 解決策導入後②'!N25),\"\",'1-12-3.キャッシュフロー表 解決策導入後②'!N25)","v":0},{"$f":"IF(ISBLANK('1-12-3.キャッシュフロー表 解決策導入後②'!O25),\"\",'1-12-3.キャッシュフロー表 解決策導入後②'!O25)","v":0},{"$f":"IF(ISBLANK('1-12-3.キャッシュフロー表 解決策導入後②'!P25),\"\",'1-12-3.キャッシュフロー表 解決策導入後②'!P25)","v":0},{"$f":"IF(ISBLANK('1-12-3.キャッシュフロー表 解決策導入後②'!Q25),\"\",'1-12-3.キャッシュフロー表 解決策導入後②'!Q25)","v":0},{"$f":"IF(ISBLANK('1-12-3.キャッシュフロー表 解決策導入後②'!R25),\"\",'1-12-3.キャッシュフロー表 解決策導入後②'!R25)","v":0},{"$f":"IF(ISBLANK('1-12-3.キャッシュフロー表 解決策導入後②'!S25),\"\",'1-12-3.キャッシュフロー表 解決策導入後②'!S25)","v":0},{"$f":"IF(ISBLANK('1-12-3.キャッシュフロー表 解決策導入後②'!T25),\"\",'1-12-3.キャッシュフロー表 解決策導入後②'!T25)","v":0},{"$f":"IF(ISBLANK('1-12-3.キャッシュフロー表 解決策導入後②'!U25),\"\",'1-12-3.キャッシュフロー表 解決策導入後②'!U25)","v":0},{"$f":"IF(ISBLANK('1-12-3.キャッシュフロー表 解決策導入後②'!V25),\"\",'1-12-3.キャッシュフロー表 解決策導入後②'!V25)","v":0},{"$f":"IF(ISBLANK('1-12-3.キャッシュフロー表 解決策導入後②'!W25),\"\",'1-12-3.キャッシュフロー表 解決策導入後②'!W25)","v":0},{"$f":"IF(ISBLANK('1-12-3.キャッシュフロー表 解決策導入後②'!X25),\"\",'1-12-3.キャッシュフロー表 解決策導入後②'!X25)","v":0},{"$f":"IF(ISBLANK('1-12-3.キャッシュフロー表 解決策導入後②'!Y25),\"\",'1-12-3.キャッシュフロー表 解決策導入後②'!Y25)","v":0},{"$f":"IF(ISBLANK('1-12-3.キャッシュフロー表 解決策導入後②'!Z25),\"\",'1-12-3.キャッシュフロー表 解決策導入後②'!Z25)","v":0},{"$f":"IF(ISBLANK('1-12-3.キャッシュフロー表 解決策導入後②'!AA25),\"\",'1-12-3.キャッシュフロー表 解決策導入後②'!AA25)","v":0},{"$f":"IF(ISBLANK('1-12-3.キャッシュフロー表 解決策導入後②'!AB25),\"\",'1-12-3.キャッシュフロー表 解決策導入後②'!AB25)","v":0},{"$f":"IF(ISBLANK('1-12-3.キャッシュフロー表 解決策導入後②'!AC25),\"\",'1-12-3.キャッシュフロー表 解決策導入後②'!AC25)","v":0},{"$f":"IF(ISBLANK('1-12-3.キャッシュフロー表 解決策導入後②'!AD25),\"\",'1-12-3.キャッシュフロー表 解決策導入後②'!AD25)","v":0},{"$f":"IF(ISBLANK('1-12-3.キャッシュフロー表 解決策導入後②'!AE25),\"\",'1-12-3.キャッシュフロー表 解決策導入後②'!AE25)","v":0},{"$f":"IF(ISBLANK('1-12-3.キャッシュフロー表 解決策導入後②'!AF25),\"\",'1-12-3.キャッシュフロー表 解決策導入後②'!AF25)","v":0},{"$f":"IF(ISBLANK('1-12-3.キャッシュフロー表 解決策導入後②'!AG25),\"\",'1-12-3.キャッシュフロー表 解決策導入後②'!AG25)","v":0},{"$f":"IF(ISBLANK('1-12-3.キャッシュフロー表 解決策導入後②'!AH25),\"\",'1-12-3.キャッシュフロー表 解決策導入後②'!AH25)","v":0},{"$f":"IF(ISBLANK('1-12-3.キャッシュフロー表 解決策導入後②'!AI25),\"\",'1-12-3.キャッシュフロー表 解決策導入後②'!AI25)","v":0},{"$f":"IF(ISBLANK('1-12-3.キャッシュフロー表 解決策導入後②'!AJ25),\"\",'1-12-3.キャッシュフロー表 解決策導入後②'!AJ25)","v":0},{"$f":"IF(ISBLANK('1-12-3.キャッシュフロー表 解決策導入後②'!AK25),\"\",'1-12-3.キャッシュフロー表 解決策導入後②'!AK25)","v":0},{"$f":"IF(ISBLANK('1-12-3.キャッシュフロー表 解決策導入後②'!AL25),\"\",'1-12-3.キャッシュフロー表 解決策導入後②'!AL25)","v":0},null,null,null,null,{"$f":"IF(ISBLANK('1-12-2.キャッシュフロー表 解決策導入後'!D25),\"\",'1-12-2.キャッシュフロー表 解決策導入後'!D25)","v":""},{"$f":"IF(ISBLANK('1-12-2.キャッシュフロー表 解決策導入後'!E25),\"\",'1-12-2.キャッシュフロー表 解決策導入後'!E25)","v":0},{"$f":"IF(ISBLANK('1-12-2.キャッシュフロー表 解決策導入後'!F25),\"\",'1-12-2.キャッシュフロー表 解決策導入後'!F25&\"年後\")","v":""},null,{"$f":"IF(ISBLANK('1-12-2.キャッシュフロー表 解決策導入後'!G25),\"\",'1-12-2.キャッシュフロー表 解決策導入後'!G25)","v":0},{"$f":"IF(ISBLANK('1-12-1.キャッシュフロー表 現状'!AM25),\"\",'1-12-1.キャッシュフロー表 現状'!AM25)","v":0},{"$f":"IF(ISBLANK('1-12-1.キャッシュフロー表 現状'!AN25),\"\",'1-12-1.キャッシュフロー表 現状'!AN25)","v":0},{"$f":"IF(ISBLANK('1-12-1.キャッシュフロー表 現状'!AO25),\"\",'1-12-1.キャッシュフロー表 現状'!AO25)","v":0},{"$f":"IF(ISBLANK('1-12-1.キャッシュフロー表 現状'!AP25),\"\",'1-12-1.キャッシュフロー表 現状'!AP25)","v":0},{"$f":"IF(ISBLANK('1-12-1.キャッシュフロー表 現状'!AQ25),\"\",'1-12-1.キャッシュフロー表 現状'!AQ25)","v":0},{"$f":"IF(ISBLANK('1-12-1.キャッシュフロー表 現状'!AR25),\"\",'1-12-1.キャッシュフロー表 現状'!AR25)","v":0},{"$f":"IF(ISBLANK('1-12-1.キャッシュフロー表 現状'!AS25),\"\",'1-12-1.キャッシュフロー表 現状'!AS25)","v":0},{"$f":"IF(ISBLANK('1-12-1.キャッシュフロー表 現状'!AT25),\"\",'1-12-1.キャッシュフロー表 現状'!AT25)","v":0},{"$f":"IF(ISBLANK('1-12-1.キャッシュフロー表 現状'!AU25),\"\",'1-12-1.キャッシュフロー表 現状'!AU25)","v":0},{"$f":"IF(ISBLANK('1-12-1.キャッシュフロー表 現状'!AV25),\"\",'1-12-1.キャッシュフロー表 現状'!AV25)","v":0},{"$f":"IF(ISBLANK('1-12-1.キャッシュフロー表 現状'!AW25),\"\",'1-12-1.キャッシュフロー表 現状'!AW25)","v":0},{"$f":"IF(ISBLANK('1-12-1.キャッシュフロー表 現状'!AX25),\"\",'1-12-1.キャッシュフロー表 現状'!AX25)","v":0},{"$f":"IF(ISBLANK('1-12-1.キャッシュフロー表 現状'!AY25),\"\",'1-12-1.キャッシュフロー表 現状'!AY25)","v":0},{"$f":"IF(ISBLANK('1-12-1.キャッシュフロー表 現状'!AZ25),\"\",'1-12-1.キャッシュフロー表 現状'!AZ25)","v":0},{"$f":"IF(ISBLANK('1-12-1.キャッシュフロー表 現状'!BA25),\"\",'1-12-1.キャッシュフロー表 現状'!BA25)","v":0},{"$f":"IF(ISBLANK('1-12-1.キャッシュフロー表 現状'!BB25),\"\",'1-12-1.キャッシュフロー表 現状'!BB25)","v":0},{"$f":"IF(ISBLANK('1-12-1.キャッシュフロー表 現状'!BC25),\"\",'1-12-1.キャッシュフロー表 現状'!BC25)","v":0},{"$f":"IF(ISBLANK('1-12-1.キャッシュフロー表 現状'!BD25),\"\",'1-12-1.キャッシュフロー表 現状'!BD25)","v":0},{"$f":"IF(ISBLANK('1-12-1.キャッシュフロー表 現状'!BE25),\"\",'1-12-1.キャッシュフロー表 現状'!BE25)","v":0},{"$f":"IF(ISBLANK('1-12-1.キャッシュフロー表 現状'!BF25),\"\",'1-12-1.キャッシュフロー表 現状'!BF25)","v":0},{"$f":"IF(ISBLANK('1-12-1.キャッシュフロー表 現状'!BG25),\"\",'1-12-1.キャッシュフロー表 現状'!BG25)","v":0},{"$f":"IF(ISBLANK('1-12-1.キャッシュフロー表 現状'!BH25),\"\",'1-12-1.キャッシュフロー表 現状'!BH25)","v":0},{"$f":"IF(ISBLANK('1-12-1.キャッシュフロー表 現状'!BI25),\"\",'1-12-1.キャッシュフロー表 現状'!BI25)","v":0},{"$f":"IF(ISBLANK('1-12-1.キャッシュフロー表 現状'!BJ25),\"\",'1-12-1.キャッシュフロー表 現状'!BJ25)","v":0},{"$f":"IF(ISBLANK('1-12-1.キャッシュフロー表 現状'!BK25),\"\",'1-12-1.キャッシュフロー表 現状'!BK25)","v":0},{"$f":"IF(ISBLANK('1-12-1.キャッシュフロー表 現状'!BL25),\"\",'1-12-1.キャッシュフロー表 現状'!BL25)","v":0},{"$f":"IF(ISBLANK('1-12-1.キャッシュフロー表 現状'!BM25),\"\",'1-12-1.キャッシュフロー表 現状'!BM25)","v":0},{"$f":"IF(ISBLANK('1-12-1.キャッシュフロー表 現状'!BN25),\"\",'1-12-1.キャッシュフロー表 現状'!BN25)","v":0},{"$f":"IF(ISBLANK('1-12-1.キャッシュフロー表 現状'!BO25),\"\",'1-12-1.キャッシュフロー表 現状'!BO25)","v":0},{"$f":"IF(ISBLANK('1-12-1.キャッシュフロー表 現状'!BP25),\"\",'1-12-1.キャッシュフロー表 現状'!BP25)","v":0},{"$f":"IF(ISBLANK('1-12-1.キャッシュフロー表 現状'!BQ25),\"\",'1-12-1.キャッシュフロー表 現状'!BQ25)","v":0},{"$f":"IF(ISBLANK('1-12-1.キャッシュフロー表 現状'!BR25),\"\",'1-12-1.キャッシュフロー表 現状'!BR25)","v":0},{"$f":"IF(ISBLANK('1-12-1.キャッシュフロー表 現状'!BS25),\"\",'1-12-1.キャッシュフロー表 現状'!BS25)","v":0},{"$f":"IF(ISBLANK('1-12-1.キャッシュフロー表 現状'!BT25),\"\",'1-12-1.キャッシュフロー表 現状'!BT25)","v":0},{"$f":"IF(ISBLANK('1-12-1.キャッシュフロー表 現状'!BU25),\"\",'1-12-1.キャッシュフロー表 現状'!BU25)","v":0},{"$f":"IF(ISBLANK('1-12-1.キャッシュフロー表 現状'!BV25),\"\",'1-12-1.キャッシュフロー表 現状'!BV25)","v":0},{"$f":"IF(ISBLANK('1-12-1.キャッシュフロー表 現状'!BW25),\"\",'1-12-1.キャッシュフロー表 現状'!BW25)","v":0},{"$f":"IF(ISBLANK('1-12-1.キャッシュフロー表 現状'!BX25),\"\",'1-12-1.キャッシュフロー表 現状'!BX25)","v":0},{"$f":"IF(ISBLANK('1-12-1.キャッシュフロー表 現状'!BY25),\"\",'1-12-1.キャッシュフロー表 現状'!BY25)","v":0},{"$f":"IF(ISBLANK('1-12-1.キャッシュフロー表 現状'!BZ25),\"\",'1-12-1.キャッシュフロー表 現状'!BZ25)","v":0}]
[null,null,null,{"$f":"IF(ISBLANK('1-12-3.キャッシュフロー表 解決策導入後②'!D26),\"\",'1-12-3.キャッシュフロー表 解決策導入後②'!D26)","v":""},{"$f":"IF(ISBLANK('1-12-3.キャッシュフロー表 解決策導入後②'!E26),\"\",'1-12-3.キャッシュフロー表 解決策導入後②'!E26)","v":0},{"$f":"IF(ISBLANK('1-12-3.キャッシュフロー表 解決策導入後②'!F26),\"\",'1-12-3.キャッシュフロー表 解決策導入後②'!F26&\"年後\")","v":""},null,{"$f":"IF(ISBLANK('1-12-3.キャッシュフロー表 解決策導入後②'!G26),\"\",'1-12-3.キャッシュフロー表 解決策導入後②'!G26)","v":0},{"$f":"IF(ISBLANK('1-12-3.キャッシュフロー表 解決策導入後②'!H26),\"\",'1-12-3.キャッシュフロー表 解決策導入後②'!H26)","v":""},{"$f":"IF(ISBLANK('1-12-3.キャッシュフロー表 解決策導入後②'!I26),\"\",'1-12-3.キャッシュフロー表 解決策導入後②'!I26)","v":0},{"$f":"IF(ISBLANK('1-12-3.キャッシュフロー表 解決策導入後②'!J26),\"\",'1-12-3.キャッシュフロー表 解決策導入後②'!J26)","v":0},{"$f":"IF(ISBLANK('1-12-3.キャッシュフロー表 解決策導入後②'!K26),\"\",'1-12-3.キャッシュフロー表 解決策導入後②'!K26)","v":0},{"$f":"IF(ISBLANK('1-12-3.キャッシュフロー表 解決策導入後②'!L26),\"\",'1-12-3.キャッシュフロー表 解決策導入後②'!L26)","v":0},{"$f":"IF(ISBLANK('1-12-3.キャッシュフロー表 解決策導入後②'!M26),\"\",'1-12-3.キャッシュフロー表 解決策導入後②'!M26)","v":0},{"$f":"IF(ISBLANK('1-12-3.キャッシュフロー表 解決策導入後②'!N26),\"\",'1-12-3.キャッシュフロー表 解決策導入後②'!N26)","v":0},{"$f":"IF(ISBLANK('1-12-3.キャッシュフロー表 解決策導入後②'!O26),\"\",'1-12-3.キャッシュフロー表 解決策導入後②'!O26)","v":0},{"$f":"IF(ISBLANK('1-12-3.キャッシュフロー表 解決策導入後②'!P26),\"\",'1-12-3.キャッシュフロー表 解決策導入後②'!P26)","v":0},{"$f":"IF(ISBLANK('1-12-3.キャッシュフロー表 解決策導入後②'!Q26),\"\",'1-12-3.キャッシュフロー表 解決策導入後②'!Q26)","v":0},{"$f":"IF(ISBLANK('1-12-3.キャッシュフロー表 解決策導入後②'!R26),\"\",'1-12-3.キャッシュフロー表 解決策導入後②'!R26)","v":0},{"$f":"IF(ISBLANK('1-12-3.キャッシュフロー表 解決策導入後②'!S26),\"\",'1-12-3.キャッシュフロー表 解決策導入後②'!S26)","v":0},{"$f":"IF(ISBLANK('1-12-3.キャッシュフロー表 解決策導入後②'!T26),\"\",'1-12-3.キャッシュフロー表 解決策導入後②'!T26)","v":0},{"$f":"IF(ISBLANK('1-12-3.キャッシュフロー表 解決策導入後②'!U26),\"\",'1-12-3.キャッシュフロー表 解決策導入後②'!U26)","v":0},{"$f":"IF(ISBLANK('1-12-3.キャッシュフロー表 解決策導入後②'!V26),\"\",'1-12-3.キャッシュフロー表 解決策導入後②'!V26)","v":0},{"$f":"IF(ISBLANK('1-12-3.キャッシュフロー表 解決策導入後②'!W26),\"\",'1-12-3.キャッシュフロー表 解決策導入後②'!W26)","v":0},{"$f":"IF(ISBLANK('1-12-3.キャッシュフロー表 解決策導入後②'!X26),\"\",'1-12-3.キャッシュフロー表 解決策導入後②'!X26)","v":0},{"$f":"IF(ISBLANK('1-12-3.キャッシュフロー表 解決策導入後②'!Y26),\"\",'1-12-3.キャッシュフロー表 解決策導入後②'!Y26)","v":0},{"$f":"IF(ISBLANK('1-12-3.キャッシュフロー表 解決策導入後②'!Z26),\"\",'1-12-3.キャッシュフロー表 解決策導入後②'!Z26)","v":0},{"$f":"IF(ISBLANK('1-12-3.キャッシュフロー表 解決策導入後②'!AA26),\"\",'1-12-3.キャッシュフロー表 解決策導入後②'!AA26)","v":0},{"$f":"IF(ISBLANK('1-12-3.キャッシュフロー表 解決策導入後②'!AB26),\"\",'1-12-3.キャッシュフロー表 解決策導入後②'!AB26)","v":0},{"$f":"IF(ISBLANK('1-12-3.キャッシュフロー表 解決策導入後②'!AC26),\"\",'1-12-3.キャッシュフロー表 解決策導入後②'!AC26)","v":0},{"$f":"IF(ISBLANK('1-12-3.キャッシュフロー表 解決策導入後②'!AD26),\"\",'1-12-3.キャッシュフロー表 解決策導入後②'!AD26)","v":0},{"$f":"IF(ISBLANK('1-12-3.キャッシュフロー表 解決策導入後②'!AE26),\"\",'1-12-3.キャッシュフロー表 解決策導入後②'!AE26)","v":0},{"$f":"IF(ISBLANK('1-12-3.キャッシュフロー表 解決策導入後②'!AF26),\"\",'1-12-3.キャッシュフロー表 解決策導入後②'!AF26)","v":0},{"$f":"IF(ISBLANK('1-12-3.キャッシュフロー表 解決策導入後②'!AG26),\"\",'1-12-3.キャッシュフロー表 解決策導入後②'!AG26)","v":0},{"$f":"IF(ISBLANK('1-12-3.キャッシュフロー表 解決策導入後②'!AH26),\"\",'1-12-3.キャッシュフロー表 解決策導入後②'!AH26)","v":0},{"$f":"IF(ISBLANK('1-12-3.キャッシュフロー表 解決策導入後②'!AI26),\"\",'1-12-3.キャッシュフロー表 解決策導入後②'!AI26)","v":0},{"$f":"IF(ISBLANK('1-12-3.キャッシュフロー表 解決策導入後②'!AJ26),\"\",'1-12-3.キャッシュフロー表 解決策導入後②'!AJ26)","v":0},{"$f":"IF(ISBLANK('1-12-3.キャッシュフロー表 解決策導入後②'!AK26),\"\",'1-12-3.キャッシュフロー表 解決策導入後②'!AK26)","v":0},{"$f":"IF(ISBLANK('1-12-3.キャッシュフロー表 解決策導入後②'!AL26),\"\",'1-12-3.キャッシュフロー表 解決策導入後②'!AL26)","v":0},null,null,null,null,{"$f":"IF(ISBLANK('1-12-2.キャッシュフロー表 解決策導入後'!D26),\"\",'1-12-2.キャッシュフロー表 解決策導入後'!D26)","v":""},{"$f":"IF(ISBLANK('1-12-2.キャッシュフロー表 解決策導入後'!E26),\"\",'1-12-2.キャッシュフロー表 解決策導入後'!E26)","v":0},{"$f":"IF(ISBLANK('1-12-2.キャッシュフロー表 解決策導入後'!F26),\"\",'1-12-2.キャッシュフロー表 解決策導入後'!F26&\"年後\")","v":""},null,{"$f":"IF(ISBLANK('1-12-2.キャッシュフロー表 解決策導入後'!G26),\"\",'1-12-2.キャッシュフロー表 解決策導入後'!G26)","v":0},{"$f":"IF(ISBLANK('1-12-1.キャッシュフロー表 現状'!AM26),\"\",'1-12-1.キャッシュフロー表 現状'!AM26)","v":0},{"$f":"IF(ISBLANK('1-12-1.キャッシュフロー表 現状'!AN26),\"\",'1-12-1.キャッシュフロー表 現状'!AN26)","v":0},{"$f":"IF(ISBLANK('1-12-1.キャッシュフロー表 現状'!AO26),\"\",'1-12-1.キャッシュフロー表 現状'!AO26)","v":0},{"$f":"IF(ISBLANK('1-12-1.キャッシュフロー表 現状'!AP26),\"\",'1-12-1.キャッシュフロー表 現状'!AP26)","v":0},{"$f":"IF(ISBLANK('1-12-1.キャッシュフロー表 現状'!AQ26),\"\",'1-12-1.キャッシュフロー表 現状'!AQ26)","v":0},{"$f":"IF(ISBLANK('1-12-1.キャッシュフロー表 現状'!AR26),\"\",'1-12-1.キャッシュフロー表 現状'!AR26)","v":0},{"$f":"IF(ISBLANK('1-12-1.キャッシュフロー表 現状'!AS26),\"\",'1-12-1.キャッシュフロー表 現状'!AS26)","v":0},{"$f":"IF(ISBLANK('1-12-1.キャッシュフロー表 現状'!AT26),\"\",'1-12-1.キャッシュフロー表 現状'!AT26)","v":0},{"$f":"IF(ISBLANK('1-12-1.キャッシュフロー表 現状'!AU26),\"\",'1-12-1.キャッシュフロー表 現状'!AU26)","v":0},{"$f":"IF(ISBLANK('1-12-1.キャッシュフロー表 現状'!AV26),\"\",'1-12-1.キャッシュフロー表 現状'!AV26)","v":0},{"$f":"IF(ISBLANK('1-12-1.キャッシュフロー表 現状'!AW26),\"\",'1-12-1.キャッシュフロー表 現状'!AW26)","v":0},{"$f":"IF(ISBLANK('1-12-1.キャッシュフロー表 現状'!AX26),\"\",'1-12-1.キャッシュフロー表 現状'!AX26)","v":0},{"$f":"IF(ISBLANK('1-12-1.キャッシュフロー表 現状'!AY26),\"\",'1-12-1.キャッシュフロー表 現状'!AY26)","v":0},{"$f":"IF(ISBLANK('1-12-1.キャッシュフロー表 現状'!AZ26),\"\",'1-12-1.キャッシュフロー表 現状'!AZ26)","v":0},{"$f":"IF(ISBLANK('1-12-1.キャッシュフロー表 現状'!BA26),\"\",'1-12-1.キャッシュフロー表 現状'!BA26)","v":0},{"$f":"IF(ISBLANK('1-12-1.キャッシュフロー表 現状'!BB26),\"\",'1-12-1.キャッシュフロー表 現状'!BB26)","v":0},{"$f":"IF(ISBLANK('1-12-1.キャッシュフロー表 現状'!BC26),\"\",'1-12-1.キャッシュフロー表 現状'!BC26)","v":0},{"$f":"IF(ISBLANK('1-12-1.キャッシュフロー表 現状'!BD26),\"\",'1-12-1.キャッシュフロー表 現状'!BD26)","v":0},{"$f":"IF(ISBLANK('1-12-1.キャッシュフロー表 現状'!BE26),\"\",'1-12-1.キャッシュフロー表 現状'!BE26)","v":0},{"$f":"IF(ISBLANK('1-12-1.キャッシュフロー表 現状'!BF26),\"\",'1-12-1.キャッシュフロー表 現状'!BF26)","v":0},{"$f":"IF(ISBLANK('1-12-1.キャッシュフロー表 現状'!BG26),\"\",'1-12-1.キャッシュフロー表 現状'!BG26)","v":0},{"$f":"IF(ISBLANK('1-12-1.キャッシュフロー表 現状'!BH26),\"\",'1-12-1.キャッシュフロー表 現状'!BH26)","v":0},{"$f":"IF(ISBLANK('1-12-1.キャッシュフロー表 現状'!BI26),\"\",'1-12-1.キャッシュフロー表 現状'!BI26)","v":0},{"$f":"IF(ISBLANK('1-12-1.キャッシュフロー表 現状'!BJ26),\"\",'1-12-1.キャッシュフロー表 現状'!BJ26)","v":0},{"$f":"IF(ISBLANK('1-12-1.キャッシュフロー表 現状'!BK26),\"\",'1-12-1.キャッシュフロー表 現状'!BK26)","v":0},{"$f":"IF(ISBLANK('1-12-1.キャッシュフロー表 現状'!BL26),\"\",'1-12-1.キャッシュフロー表 現状'!BL26)","v":0},{"$f":"IF(ISBLANK('1-12-1.キャッシュフロー表 現状'!BM26),\"\",'1-12-1.キャッシュフロー表 現状'!BM26)","v":0},{"$f":"IF(ISBLANK('1-12-1.キャッシュフロー表 現状'!BN26),\"\",'1-12-1.キャッシュフロー表 現状'!BN26)","v":0},{"$f":"IF(ISBLANK('1-12-1.キャッシュフロー表 現状'!BO26),\"\",'1-12-1.キャッシュフロー表 現状'!BO26)","v":0},{"$f":"IF(ISBLANK('1-12-1.キャッシュフロー表 現状'!BP26),\"\",'1-12-1.キャッシュフロー表 現状'!BP26)","v":0},{"$f":"IF(ISBLANK('1-12-1.キャッシュフロー表 現状'!BQ26),\"\",'1-12-1.キャッシュフロー表 現状'!BQ26)","v":0},{"$f":"IF(ISBLANK('1-12-1.キャッシュフロー表 現状'!BR26),\"\",'1-12-1.キャッシュフロー表 現状'!BR26)","v":0},{"$f":"IF(ISBLANK('1-12-1.キャッシュフロー表 現状'!BS26),\"\",'1-12-1.キャッシュフロー表 現状'!BS26)","v":0},{"$f":"IF(ISBLANK('1-12-1.キャッシュフロー表 現状'!BT26),\"\",'1-12-1.キャッシュフロー表 現状'!BT26)","v":0},{"$f":"IF(ISBLANK('1-12-1.キャッシュフロー表 現状'!BU26),\"\",'1-12-1.キャッシュフロー表 現状'!BU26)","v":0},{"$f":"IF(ISBLANK('1-12-1.キャッシュフロー表 現状'!BV26),\"\",'1-12-1.キャッシュフロー表 現状'!BV26)","v":0},{"$f":"IF(ISBLANK('1-12-1.キャッシュフロー表 現状'!BW26),\"\",'1-12-1.キャッシュフロー表 現状'!BW26)","v":0},{"$f":"IF(ISBLANK('1-12-1.キャッシュフロー表 現状'!BX26),\"\",'1-12-1.キャッシュフロー表 現状'!BX26)","v":0},{"$f":"IF(ISBLANK('1-12-1.キャッシュフロー表 現状'!BY26),\"\",'1-12-1.キャッシュフロー表 現状'!BY26)","v":0},{"$f":"IF(ISBLANK('1-12-1.キャッシュフロー表 現状'!BZ26),\"\",'1-12-1.キャッシュフロー表 現状'!BZ26)","v":0}]
[null,null,null,{"$f":"IF(ISBLANK('1-12-3.キャッシュフロー表 解決策導入後②'!D27),\"\",'1-12-3.キャッシュフロー表 解決策導入後②'!D27)","v":""},{"$f":"IF(ISBLANK('1-12-3.キャッシュフロー表 解決策導入後②'!E27),\"\",'1-12-3.キャッシュフロー表 解決策導入後②'!E27)","v":0},{"$f":"IF(ISBLANK('1-12-3.キャッシュフロー表 解決策導入後②'!F27),\"\",'1-12-3.キャッシュフロー表 解決策導入後②'!F27&\"年後\")","v":""},null,{"$f":"IF(ISBLANK('1-12-3.キャッシュフロー表 解決策導入後②'!G27),\"\",'1-12-3.キャッシュフロー表 解決策導入後②'!G27)","v":0},{"$f":"IF(ISBLANK('1-12-3.キャッシュフロー表 解決策導入後②'!H27),\"\",'1-12-3.キャッシュフロー表 解決策導入後②'!H27)","v":""},{"$f":"IF(ISBLANK('1-12-3.キャッシュフロー表 解決策導入後②'!I27),\"\",'1-12-3.キャッシュフロー表 解決策導入後②'!I27)","v":0},{"$f":"IF(ISBLANK('1-12-3.キャッシュフロー表 解決策導入後②'!J27),\"\",'1-12-3.キャッシュフロー表 解決策導入後②'!J27)","v":0},{"$f":"IF(ISBLANK('1-12-3.キャッシュフロー表 解決策導入後②'!K27),\"\",'1-12-3.キャッシュフロー表 解決策導入後②'!K27)","v":0},{"$f":"IF(ISBLANK('1-12-3.キャッシュフロー表 解決策導入後②'!L27),\"\",'1-12-3.キャッシュフロー表 解決策導入後②'!L27)","v":0},{"$f":"IF(ISBLANK('1-12-3.キャッシュフロー表 解決策導入後②'!M27),\"\",'1-12-3.キャッシュフロー表 解決策導入後②'!M27)","v":0},{"$f":"IF(ISBLANK('1-12-3.キャッシュフロー表 解決策導入後②'!N27),\"\",'1-12-3.キャッシュフロー表 解決策導入後②'!N27)","v":0},{"$f":"IF(ISBLANK('1-12-3.キャッシュフロー表 解決策導入後②'!O27),\"\",'1-12-3.キャッシュフロー表 解決策導入後②'!O27)","v":0},{"$f":"IF(ISBLANK('1-12-3.キャッシュフロー表 解決策導入後②'!P27),\"\",'1-12-3.キャッシュフロー表 解決策導入後②'!P27)","v":0},{"$f":"IF(ISBLANK('1-12-3.キャッシュフロー表 解決策導入後②'!Q27),\"\",'1-12-3.キャッシュフロー表 解決策導入後②'!Q27)","v":0},{"$f":"IF(ISBLANK('1-12-3.キャッシュフロー表 解決策導入後②'!R27),\"\",'1-12-3.キャッシュフロー表 解決策導入後②'!R27)","v":0},{"$f":"IF(ISBLANK('1-12-3.キャッシュフロー表 解決策導入後②'!S27),\"\",'1-12-3.キャッシュフロー表 解決策導入後②'!S27)","v":0},{"$f":"IF(ISBLANK('1-12-3.キャッシュフロー表 解決策導入後②'!T27),\"\",'1-12-3.キャッシュフロー表 解決策導入後②'!T27)","v":0},{"$f":"IF(ISBLANK('1-12-3.キャッシュフロー表 解決策導入後②'!U27),\"\",'1-12-3.キャッシュフロー表 解決策導入後②'!U27)","v":0},{"$f":"IF(ISBLANK('1-12-3.キャッシュフロー表 解決策導入後②'!V27),\"\",'1-12-3.キャッシュフロー表 解決策導入後②'!V27)","v":0},{"$f":"IF(ISBLANK('1-12-3.キャッシュフロー表 解決策導入後②'!W27),\"\",'1-12-3.キャッシュフロー表 解決策導入後②'!W27)","v":0},{"$f":"IF(ISBLANK('1-12-3.キャッシュフロー表 解決策導入後②'!X27),\"\",'1-12-3.キャッシュフロー表 解決策導入後②'!X27)","v":0},{"$f":"IF(ISBLANK('1-12-3.キャッシュフロー表 解決策導入後②'!Y27),\"\",'1-12-3.キャッシュフロー表 解決策導入後②'!Y27)","v":0},{"$f":"IF(ISBLANK('1-12-3.キャッシュフロー表 解決策導入後②'!Z27),\"\",'1-12-3.キャッシュフロー表 解決策導入後②'!Z27)","v":0},{"$f":"IF(ISBLANK('1-12-3.キャッシュフロー表 解決策導入後②'!AA27),\"\",'1-12-3.キャッシュフロー表 解決策導入後②'!AA27)","v":0},{"$f":"IF(ISBLANK('1-12-3.キャッシュフロー表 解決策導入後②'!AB27),\"\",'1-12-3.キャッシュフロー表 解決策導入後②'!AB27)","v":0},{"$f":"IF(ISBLANK('1-12-3.キャッシュフロー表 解決策導入後②'!AC27),\"\",'1-12-3.キャッシュフロー表 解決策導入後②'!AC27)","v":0},{"$f":"IF(ISBLANK('1-12-3.キャッシュフロー表 解決策導入後②'!AD27),\"\",'1-12-3.キャッシュフロー表 解決策導入後②'!AD27)","v":0},{"$f":"IF(ISBLANK('1-12-3.キャッシュフロー表 解決策導入後②'!AE27),\"\",'1-12-3.キャッシュフロー表 解決策導入後②'!AE27)","v":0},{"$f":"IF(ISBLANK('1-12-3.キャッシュフロー表 解決策導入後②'!AF27),\"\",'1-12-3.キャッシュフロー表 解決策導入後②'!AF27)","v":0},{"$f":"IF(ISBLANK('1-12-3.キャッシュフロー表 解決策導入後②'!AG27),\"\",'1-12-3.キャッシュフロー表 解決策導入後②'!AG27)","v":0},{"$f":"IF(ISBLANK('1-12-3.キャッシュフロー表 解決策導入後②'!AH27),\"\",'1-12-3.キャッシュフロー表 解決策導入後②'!AH27)","v":0},{"$f":"IF(ISBLANK('1-12-3.キャッシュフロー表 解決策導入後②'!AI27),\"\",'1-12-3.キャッシュフロー表 解決策導入後②'!AI27)","v":0},{"$f":"IF(ISBLANK('1-12-3.キャッシュフロー表 解決策導入後②'!AJ27),\"\",'1-12-3.キャッシュフロー表 解決策導入後②'!AJ27)","v":0},{"$f":"IF(ISBLANK('1-12-3.キャッシュフロー表 解決策導入後②'!AK27),\"\",'1-12-3.キャッシュフロー表 解決策導入後②'!AK27)","v":0},{"$f":"IF(ISBLANK('1-12-3.キャッシュフロー表 解決策導入後②'!AL27),\"\",'1-12-3.キャッシュフロー表 解決策導入後②'!AL27)","v":0},null,null,null,null,{"$f":"IF(ISBLANK('1-12-2.キャッシュフロー表 解決策導入後'!D27),\"\",'1-12-2.キャッシュフロー表 解決策導入後'!D27)","v":""},{"$f":"IF(ISBLANK('1-12-2.キャッシュフロー表 解決策導入後'!E27),\"\",'1-12-2.キャッシュフロー表 解決策導入後'!E27)","v":0},{"$f":"IF(ISBLANK('1-12-2.キャッシュフロー表 解決策導入後'!F27),\"\",'1-12-2.キャッシュフロー表 解決策導入後'!F27&\"年後\")","v":""},null,{"$f":"IF(ISBLANK('1-12-2.キャッシュフロー表 解決策導入後'!G27),\"\",'1-12-2.キャッシュフロー表 解決策導入後'!G27)","v":0},{"$f":"IF(ISBLANK('1-12-1.キャッシュフロー表 現状'!AM27),\"\",'1-12-1.キャッシュフロー表 現状'!AM27)","v":0},{"$f":"IF(ISBLANK('1-12-1.キャッシュフロー表 現状'!AN27),\"\",'1-12-1.キャッシュフロー表 現状'!AN27)","v":0},{"$f":"IF(ISBLANK('1-12-1.キャッシュフロー表 現状'!AO27),\"\",'1-12-1.キャッシュフロー表 現状'!AO27)","v":0},{"$f":"IF(ISBLANK('1-12-1.キャッシュフロー表 現状'!AP27),\"\",'1-12-1.キャッシュフロー表 現状'!AP27)","v":0},{"$f":"IF(ISBLANK('1-12-1.キャッシュフロー表 現状'!AQ27),\"\",'1-12-1.キャッシュフロー表 現状'!AQ27)","v":0},{"$f":"IF(ISBLANK('1-12-1.キャッシュフロー表 現状'!AR27),\"\",'1-12-1.キャッシュフロー表 現状'!AR27)","v":0},{"$f":"IF(ISBLANK('1-12-1.キャッシュフロー表 現状'!AS27),\"\",'1-12-1.キャッシュフロー表 現状'!AS27)","v":0},{"$f":"IF(ISBLANK('1-12-1.キャッシュフロー表 現状'!AT27),\"\",'1-12-1.キャッシュフロー表 現状'!AT27)","v":0},{"$f":"IF(ISBLANK('1-12-1.キャッシュフロー表 現状'!AU27),\"\",'1-12-1.キャッシュフロー表 現状'!AU27)","v":0},{"$f":"IF(ISBLANK('1-12-1.キャッシュフロー表 現状'!AV27),\"\",'1-12-1.キャッシュフロー表 現状'!AV27)","v":0},{"$f":"IF(ISBLANK('1-12-1.キャッシュフロー表 現状'!AW27),\"\",'1-12-1.キャッシュフロー表 現状'!AW27)","v":0},{"$f":"IF(ISBLANK('1-12-1.キャッシュフロー表 現状'!AX27),\"\",'1-12-1.キャッシュフロー表 現状'!AX27)","v":0},{"$f":"IF(ISBLANK('1-12-1.キャッシュフロー表 現状'!AY27),\"\",'1-12-1.キャッシュフロー表 現状'!AY27)","v":0},{"$f":"IF(ISBLANK('1-12-1.キャッシュフロー表 現状'!AZ27),\"\",'1-12-1.キャッシュフロー表 現状'!AZ27)","v":0},{"$f":"IF(ISBLANK('1-12-1.キャッシュフロー表 現状'!BA27),\"\",'1-12-1.キャッシュフロー表 現状'!BA27)","v":0},{"$f":"IF(ISBLANK('1-12-1.キャッシュフロー表 現状'!BB27),\"\",'1-12-1.キャッシュフロー表 現状'!BB27)","v":0},{"$f":"IF(ISBLANK('1-12-1.キャッシュフロー表 現状'!BC27),\"\",'1-12-1.キャッシュフロー表 現状'!BC27)","v":0},{"$f":"IF(ISBLANK('1-12-1.キャッシュフロー表 現状'!BD27),\"\",'1-12-1.キャッシュフロー表 現状'!BD27)","v":0},{"$f":"IF(ISBLANK('1-12-1.キャッシュフロー表 現状'!BE27),\"\",'1-12-1.キャッシュフロー表 現状'!BE27)","v":0},{"$f":"IF(ISBLANK('1-12-1.キャッシュフロー表 現状'!BF27),\"\",'1-12-1.キャッシュフロー表 現状'!BF27)","v":0},{"$f":"IF(ISBLANK('1-12-1.キャッシュフロー表 現状'!BG27),\"\",'1-12-1.キャッシュフロー表 現状'!BG27)","v":0},{"$f":"IF(ISBLANK('1-12-1.キャッシュフロー表 現状'!BH27),\"\",'1-12-1.キャッシュフロー表 現状'!BH27)","v":0},{"$f":"IF(ISBLANK('1-12-1.キャッシュフロー表 現状'!BI27),\"\",'1-12-1.キャッシュフロー表 現状'!BI27)","v":0},{"$f":"IF(ISBLANK('1-12-1.キャッシュフロー表 現状'!BJ27),\"\",'1-12-1.キャッシュフロー表 現状'!BJ27)","v":0},{"$f":"IF(ISBLANK('1-12-1.キャッシュフロー表 現状'!BK27),\"\",'1-12-1.キャッシュフロー表 現状'!BK27)","v":0},{"$f":"IF(ISBLANK('1-12-1.キャッシュフロー表 現状'!BL27),\"\",'1-12-1.キャッシュフロー表 現状'!BL27)","v":0},{"$f":"IF(ISBLANK('1-12-1.キャッシュフロー表 現状'!BM27),\"\",'1-12-1.キャッシュフロー表 現状'!BM27)","v":0},{"$f":"IF(ISBLANK('1-12-1.キャッシュフロー表 現状'!BN27),\"\",'1-12-1.キャッシュフロー表 現状'!BN27)","v":0},{"$f":"IF(ISBLANK('1-12-1.キャッシュフロー表 現状'!BO27),\"\",'1-12-1.キャッシュフロー表 現状'!BO27)","v":0},{"$f":"IF(ISBLANK('1-12-1.キャッシュフロー表 現状'!BP27),\"\",'1-12-1.キャッシュフロー表 現状'!BP27)","v":0},{"$f":"IF(ISBLANK('1-12-1.キャッシュフロー表 現状'!BQ27),\"\",'1-12-1.キャッシュフロー表 現状'!BQ27)","v":0},{"$f":"IF(ISBLANK('1-12-1.キャッシュフロー表 現状'!BR27),\"\",'1-12-1.キャッシュフロー表 現状'!BR27)","v":0},{"$f":"IF(ISBLANK('1-12-1.キャッシュフロー表 現状'!BS27),\"\",'1-12-1.キャッシュフロー表 現状'!BS27)","v":0},{"$f":"IF(ISBLANK('1-12-1.キャッシュフロー表 現状'!BT27),\"\",'1-12-1.キャッシュフロー表 現状'!BT27)","v":0},{"$f":"IF(ISBLANK('1-12-1.キャッシュフロー表 現状'!BU27),\"\",'1-12-1.キャッシュフロー表 現状'!BU27)","v":0},{"$f":"IF(ISBLANK('1-12-1.キャッシュフロー表 現状'!BV27),\"\",'1-12-1.キャッシュフロー表 現状'!BV27)","v":0},{"$f":"IF(ISBLANK('1-12-1.キャッシュフロー表 現状'!BW27),\"\",'1-12-1.キャッシュフロー表 現状'!BW27)","v":0},{"$f":"IF(ISBLANK('1-12-1.キャッシュフロー表 現状'!BX27),\"\",'1-12-1.キャッシュフロー表 現状'!BX27)","v":0},{"$f":"IF(ISBLANK('1-12-1.キャッシュフロー表 現状'!BY27),\"\",'1-12-1.キャッシュフロー表 現状'!BY27)","v":0},{"$f":"IF(ISBLANK('1-12-1.キャッシュフロー表 現状'!BZ27),\"\",'1-12-1.キャッシュフロー表 現状'!BZ27)","v":0}]
[null,null,null,{"$f":"IF(ISBLANK('1-12-3.キャッシュフロー表 解決策導入後②'!D28),\"\",'1-12-3.キャッシュフロー表 解決策導入後②'!D28)","v":""},{"$f":"IF(ISBLANK('1-12-3.キャッシュフロー表 解決策導入後②'!E28),\"\",'1-12-3.キャッシュフロー表 解決策導入後②'!E28)","v":0},{"$f":"IF(ISBLANK('1-12-3.キャッシュフロー表 解決策導入後②'!F28),\"\",'1-12-3.キャッシュフロー表 解決策導入後②'!F28&\"年後\")","v":""},null,{"$f":"IF(ISBLANK('1-12-3.キャッシュフロー表 解決策導入後②'!G28),\"\",'1-12-3.キャッシュフロー表 解決策導入後②'!G28)","v":0},{"$f":"IF(ISBLANK('1-12-3.キャッシュフロー表 解決策導入後②'!H28),\"\",'1-12-3.キャッシュフロー表 解決策導入後②'!H28)","v":""},{"$f":"IF(ISBLANK('1-12-3.キャッシュフロー表 解決策導入後②'!I28),\"\",'1-12-3.キャッシュフロー表 解決策導入後②'!I28)","v":0},{"$f":"IF(ISBLANK('1-12-3.キャッシュフロー表 解決策導入後②'!J28),\"\",'1-12-3.キャッシュフロー表 解決策導入後②'!J28)","v":0},{"$f":"IF(ISBLANK('1-12-3.キャッシュフロー表 解決策導入後②'!K28),\"\",'1-12-3.キャッシュフロー表 解決策導入後②'!K28)","v":0},{"$f":"IF(ISBLANK('1-12-3.キャッシュフロー表 解決策導入後②'!L28),\"\",'1-12-3.キャッシュフロー表 解決策導入後②'!L28)","v":0},{"$f":"IF(ISBLANK('1-12-3.キャッシュフロー表 解決策導入後②'!M28),\"\",'1-12-3.キャッシュフロー表 解決策導入後②'!M28)","v":0},{"$f":"IF(ISBLANK('1-12-3.キャッシュフロー表 解決策導入後②'!N28),\"\",'1-12-3.キャッシュフロー表 解決策導入後②'!N28)","v":0},{"$f":"IF(ISBLANK('1-12-3.キャッシュフロー表 解決策導入後②'!O28),\"\",'1-12-3.キャッシュフロー表 解決策導入後②'!O28)","v":0},{"$f":"IF(ISBLANK('1-12-3.キャッシュフロー表 解決策導入後②'!P28),\"\",'1-12-3.キャッシュフロー表 解決策導入後②'!P28)","v":0},{"$f":"IF(ISBLANK('1-12-3.キャッシュフロー表 解決策導入後②'!Q28),\"\",'1-12-3.キャッシュフロー表 解決策導入後②'!Q28)","v":0},{"$f":"IF(ISBLANK('1-12-3.キャッシュフロー表 解決策導入後②'!R28),\"\",'1-12-3.キャッシュフロー表 解決策導入後②'!R28)","v":0},{"$f":"IF(ISBLANK('1-12-3.キャッシュフロー表 解決策導入後②'!S28),\"\",'1-12-3.キャッシュフロー表 解決策導入後②'!S28)","v":0},{"$f":"IF(ISBLANK('1-12-3.キャッシュフロー表 解決策導入後②'!T28),\"\",'1-12-3.キャッシュフロー表 解決策導入後②'!T28)","v":0},{"$f":"IF(ISBLANK('1-12-3.キャッシュフロー表 解決策導入後②'!U28),\"\",'1-12-3.キャッシュフロー表 解決策導入後②'!U28)","v":0},{"$f":"IF(ISBLANK('1-12-3.キャッシュフロー表 解決策導入後②'!V28),\"\",'1-12-3.キャッシュフロー表 解決策導入後②'!V28)","v":0},{"$f":"IF(ISBLANK('1-12-3.キャッシュフロー表 解決策導入後②'!W28),\"\",'1-12-3.キャッシュフロー表 解決策導入後②'!W28)","v":0},{"$f":"IF(ISBLANK('1-12-3.キャッシュフロー表 解決策導入後②'!X28),\"\",'1-12-3.キャッシュフロー表 解決策導入後②'!X28)","v":0},{"$f":"IF(ISBLANK('1-12-3.キャッシュフロー表 解決策導入後②'!Y28),\"\",'1-12-3.キャッシュフロー表 解決策導入後②'!Y28)","v":0},{"$f":"IF(ISBLANK('1-12-3.キャッシュフロー表 解決策導入後②'!Z28),\"\",'1-12-3.キャッシュフロー表 解決策導入後②'!Z28)","v":0},{"$f":"IF(ISBLANK('1-12-3.キャッシュフロー表 解決策導入後②'!AA28),\"\",'1-12-3.キャッシュフロー表 解決策導入後②'!AA28)","v":0},{"$f":"IF(ISBLANK('1-12-3.キャッシュフロー表 解決策導入後②'!AB28),\"\",'1-12-3.キャッシュフロー表 解決策導入後②'!AB28)","v":0},{"$f":"IF(ISBLANK('1-12-3.キャッシュフロー表 解決策導入後②'!AC28),\"\",'1-12-3.キャッシュフロー表 解決策導入後②'!AC28)","v":0},{"$f":"IF(ISBLANK('1-12-3.キャッシュフロー表 解決策導入後②'!AD28),\"\",'1-12-3.キャッシュフロー表 解決策導入後②'!AD28)","v":0},{"$f":"IF(ISBLANK('1-12-3.キャッシュフロー表 解決策導入後②'!AE28),\"\",'1-12-3.キャッシュフロー表 解決策導入後②'!AE28)","v":0},{"$f":"IF(ISBLANK('1-12-3.キャッシュフロー表 解決策導入後②'!AF28),\"\",'1-12-3.キャッシュフロー表 解決策導入後②'!AF28)","v":0},{"$f":"IF(ISBLANK('1-12-3.キャッシュフロー表 解決策導入後②'!AG28),\"\",'1-12-3.キャッシュフロー表 解決策導入後②'!AG28)","v":0},{"$f":"IF(ISBLANK('1-12-3.キャッシュフロー表 解決策導入後②'!AH28),\"\",'1-12-3.キャッシュフロー表 解決策導入後②'!AH28)","v":0},{"$f":"IF(ISBLANK('1-12-3.キャッシュフロー表 解決策導入後②'!AI28),\"\",'1-12-3.キャッシュフロー表 解決策導入後②'!AI28)","v":0},{"$f":"IF(ISBLANK('1-12-3.キャッシュフロー表 解決策導入後②'!AJ28),\"\",'1-12-3.キャッシュフロー表 解決策導入後②'!AJ28)","v":0},{"$f":"IF(ISBLANK('1-12-3.キャッシュフロー表 解決策導入後②'!AK28),\"\",'1-12-3.キャッシュフロー表 解決策導入後②'!AK28)","v":0},{"$f":"IF(ISBLANK('1-12-3.キャッシュフロー表 解決策導入後②'!AL28),\"\",'1-12-3.キャッシュフロー表 解決策導入後②'!AL28)","v":0},null,null,null,null,{"$f":"IF(ISBLANK('1-12-2.キャッシュフロー表 解決策導入後'!D28),\"\",'1-12-2.キャッシュフロー表 解決策導入後'!D28)","v":""},{"$f":"IF(ISBLANK('1-12-2.キャッシュフロー表 解決策導入後'!E28),\"\",'1-12-2.キャッシュフロー表 解決策導入後'!E28)","v":0},{"$f":"IF(ISBLANK('1-12-2.キャッシュフロー表 解決策導入後'!F28),\"\",'1-12-2.キャッシュフロー表 解決策導入後'!F28&\"年後\")","v":""},null,{"$f":"IF(ISBLANK('1-12-2.キャッシュフロー表 解決策導入後'!G28),\"\",'1-12-2.キャッシュフロー表 解決策導入後'!G28)","v":0},{"$f":"IF(ISBLANK('1-12-1.キャッシュフロー表 現状'!AM28),\"\",'1-12-1.キャッシュフロー表 現状'!AM28)","v":0},{"$f":"IF(ISBLANK('1-12-1.キャッシュフロー表 現状'!AN28),\"\",'1-12-1.キャッシュフロー表 現状'!AN28)","v":0},{"$f":"IF(ISBLANK('1-12-1.キャッシュフロー表 現状'!AO28),\"\",'1-12-1.キャッシュフロー表 現状'!AO28)","v":0},{"$f":"IF(ISBLANK('1-12-1.キャッシュフロー表 現状'!AP28),\"\",'1-12-1.キャッシュフロー表 現状'!AP28)","v":0},{"$f":"IF(ISBLANK('1-12-1.キャッシュフロー表 現状'!AQ28),\"\",'1-12-1.キャッシュフロー表 現状'!AQ28)","v":0},{"$f":"IF(ISBLANK('1-12-1.キャッシュフロー表 現状'!AR28),\"\",'1-12-1.キャッシュフロー表 現状'!AR28)","v":0},{"$f":"IF(ISBLANK('1-12-1.キャッシュフロー表 現状'!AS28),\"\",'1-12-1.キャッシュフロー表 現状'!AS28)","v":0},{"$f":"IF(ISBLANK('1-12-1.キャッシュフロー表 現状'!AT28),\"\",'1-12-1.キャッシュフロー表 現状'!AT28)","v":0},{"$f":"IF(ISBLANK('1-12-1.キャッシュフロー表 現状'!AU28),\"\",'1-12-1.キャッシュフロー表 現状'!AU28)","v":0},{"$f":"IF(ISBLANK('1-12-1.キャッシュフロー表 現状'!AV28),\"\",'1-12-1.キャッシュフロー表 現状'!AV28)","v":0},{"$f":"IF(ISBLANK('1-12-1.キャッシュフロー表 現状'!AW28),\"\",'1-12-1.キャッシュフロー表 現状'!AW28)","v":0},{"$f":"IF(ISBLANK('1-12-1.キャッシュフロー表 現状'!AX28),\"\",'1-12-1.キャッシュフロー表 現状'!AX28)","v":0},{"$f":"IF(ISBLANK('1-12-1.キャッシュフロー表 現状'!AY28),\"\",'1-12-1.キャッシュフロー表 現状'!AY28)","v":0},{"$f":"IF(ISBLANK('1-12-1.キャッシュフロー表 現状'!AZ28),\"\",'1-12-1.キャッシュフロー表 現状'!AZ28)","v":0},{"$f":"IF(ISBLANK('1-12-1.キャッシュフロー表 現状'!BA28),\"\",'1-12-1.キャッシュフロー表 現状'!BA28)","v":0},{"$f":"IF(ISBLANK('1-12-1.キャッシュフロー表 現状'!BB28),\"\",'1-12-1.キャッシュフロー表 現状'!BB28)","v":0},{"$f":"IF(ISBLANK('1-12-1.キャッシュフロー表 現状'!BC28),\"\",'1-12-1.キャッシュフロー表 現状'!BC28)","v":0},{"$f":"IF(ISBLANK('1-12-1.キャッシュフロー表 現状'!BD28),\"\",'1-12-1.キャッシュフロー表 現状'!BD28)","v":0},{"$f":"IF(ISBLANK('1-12-1.キャッシュフロー表 現状'!BE28),\"\",'1-12-1.キャッシュフロー表 現状'!BE28)","v":0},{"$f":"IF(ISBLANK('1-12-1.キャッシュフロー表 現状'!BF28),\"\",'1-12-1.キャッシュフロー表 現状'!BF28)","v":0},{"$f":"IF(ISBLANK('1-12-1.キャッシュフロー表 現状'!BG28),\"\",'1-12-1.キャッシュフロー表 現状'!BG28)","v":0},{"$f":"IF(ISBLANK('1-12-1.キャッシュフロー表 現状'!BH28),\"\",'1-12-1.キャッシュフロー表 現状'!BH28)","v":0},{"$f":"IF(ISBLANK('1-12-1.キャッシュフロー表 現状'!BI28),\"\",'1-12-1.キャッシュフロー表 現状'!BI28)","v":0},{"$f":"IF(ISBLANK('1-12-1.キャッシュフロー表 現状'!BJ28),\"\",'1-12-1.キャッシュフロー表 現状'!BJ28)","v":0},{"$f":"IF(ISBLANK('1-12-1.キャッシュフロー表 現状'!BK28),\"\",'1-12-1.キャッシュフロー表 現状'!BK28)","v":0},{"$f":"IF(ISBLANK('1-12-1.キャッシュフロー表 現状'!BL28),\"\",'1-12-1.キャッシュフロー表 現状'!BL28)","v":0},{"$f":"IF(ISBLANK('1-12-1.キャッシュフロー表 現状'!BM28),\"\",'1-12-1.キャッシュフロー表 現状'!BM28)","v":0},{"$f":"IF(ISBLANK('1-12-1.キャッシュフロー表 現状'!BN28),\"\",'1-12-1.キャッシュフロー表 現状'!BN28)","v":0},{"$f":"IF(ISBLANK('1-12-1.キャッシュフロー表 現状'!BO28),\"\",'1-12-1.キャッシュフロー表 現状'!BO28)","v":0},{"$f":"IF(ISBLANK('1-12-1.キャッシュフロー表 現状'!BP28),\"\",'1-12-1.キャッシュフロー表 現状'!BP28)","v":0},{"$f":"IF(ISBLANK('1-12-1.キャッシュフロー表 現状'!BQ28),\"\",'1-12-1.キャッシュフロー表 現状'!BQ28)","v":0},{"$f":"IF(ISBLANK('1-12-1.キャッシュフロー表 現状'!BR28),\"\",'1-12-1.キャッシュフロー表 現状'!BR28)","v":0},{"$f":"IF(ISBLANK('1-12-1.キャッシュフロー表 現状'!BS28),\"\",'1-12-1.キャッシュフロー表 現状'!BS28)","v":0},{"$f":"IF(ISBLANK('1-12-1.キャッシュフロー表 現状'!BT28),\"\",'1-12-1.キャッシュフロー表 現状'!BT28)","v":0},{"$f":"IF(ISBLANK('1-12-1.キャッシュフロー表 現状'!BU28),\"\",'1-12-1.キャッシュフロー表 現状'!BU28)","v":0},{"$f":"IF(ISBLANK('1-12-1.キャッシュフロー表 現状'!BV28),\"\",'1-12-1.キャッシュフロー表 現状'!BV28)","v":0},{"$f":"IF(ISBLANK('1-12-1.キャッシュフロー表 現状'!BW28),\"\",'1-12-1.キャッシュフロー表 現状'!BW28)","v":0},{"$f":"IF(ISBLANK('1-12-1.キャッシュフロー表 現状'!BX28),\"\",'1-12-1.キャッシュフロー表 現状'!BX28)","v":0},{"$f":"IF(ISBLANK('1-12-1.キャッシュフロー表 現状'!BY28),\"\",'1-12-1.キャッシュフロー表 現状'!BY28)","v":0},{"$f":"IF(ISBLANK('1-12-1.キャッシュフロー表 現状'!BZ28),\"\",'1-12-1.キャッシュフロー表 現状'!BZ28)","v":0}]
[null,null,null,"その他一時的収入",{"$f":"IF(ISBLANK('1-12-3.キャッシュフロー表 解決策導入後②'!E29),\"\",'1-12-3.キャッシュフロー表 解決策導入後②'!E29)","v":""},{"$f":"IF(ISBLANK('1-12-3.キャッシュフロー表 解決策導入後②'!F29),\"\",'1-12-3.キャッシュフロー表 解決策導入後②'!F29&\"年後\")","v":""},null,{"$f":"IF(ISBLANK('1-12-3.キャッシュフロー表 解決策導入後②'!G29),\"\",'1-12-3.キャッシュフロー表 解決策導入後②'!G29)","v":""},{"$f":"IF(ISBLANK('1-12-3.キャッシュフロー表 解決策導入後②'!H29),\"\",'1-12-3.キャッシュフロー表 解決策導入後②'!H29)","v":""},{"$f":"IF(ISBLANK('1-12-3.キャッシュフロー表 解決策導入後②'!I29),\"\",'1-12-3.キャッシュフロー表 解決策導入後②'!I29)","v":""},{"$f":"IF(ISBLANK('1-12-3.キャッシュフロー表 解決策導入後②'!J29),\"\",'1-12-3.キャッシュフロー表 解決策導入後②'!J29)","v":""},{"$f":"IF(ISBLANK('1-12-3.キャッシュフロー表 解決策導入後②'!K29),\"\",'1-12-3.キャッシュフロー表 解決策導入後②'!K29)","v":""},{"$f":"IF(ISBLANK('1-12-3.キャッシュフロー表 解決策導入後②'!L29),\"\",'1-12-3.キャッシュフロー表 解決策導入後②'!L29)","v":""},{"$f":"IF(ISBLANK('1-12-3.キャッシュフロー表 解決策導入後②'!M29),\"\",'1-12-3.キャッシュフロー表 解決策導入後②'!M29)","v":""},{"$f":"IF(ISBLANK('1-12-3.キャッシュフロー表 解決策導入後②'!N29),\"\",'1-12-3.キャッシュフロー表 解決策導入後②'!N29)","v":""},{"$f":"IF(ISBLANK('1-12-3.キャッシュフロー表 解決策導入後②'!O29),\"\",'1-12-3.キャッシュフロー表 解決策導入後②'!O29)","v":""},{"$f":"IF(ISBLANK('1-12-3.キャッシュフロー表 解決策導入後②'!P29),\"\",'1-12-3.キャッシュフロー表 解決策導入後②'!P29)","v":""},{"$f":"IF(ISBLANK('1-12-3.キャッシュフロー表 解決策導入後②'!Q29),\"\",'1-12-3.キャッシュフロー表 解決策導入後②'!Q29)","v":""},{"$f":"IF(ISBLANK('1-12-3.キャッシュフロー表 解決策導入後②'!R29),\"\",'1-12-3.キャッシュフロー表 解決策導入後②'!R29)","v":""},{"$f":"IF(ISBLANK('1-12-3.キャッシュフロー表 解決策導入後②'!S29),\"\",'1-12-3.キャッシュフロー表 解決策導入後②'!S29)","v":""},{"$f":"IF(ISBLANK('1-12-3.キャッシュフロー表 解決策導入後②'!T29),\"\",'1-12-3.キャッシュフロー表 解決策導入後②'!T29)","v":""},{"$f":"IF(ISBLANK('1-12-3.キャッシュフロー表 解決策導入後②'!U29),\"\",'1-12-3.キャッシュフロー表 解決策導入後②'!U29)","v":""},{"$f":"IF(ISBLANK('1-12-3.キャッシュフロー表 解決策導入後②'!V29),\"\",'1-12-3.キャッシュフロー表 解決策導入後②'!V29)","v":""},{"$f":"IF(ISBLANK('1-12-3.キャッシュフロー表 解決策導入後②'!W29),\"\",'1-12-3.キャッシュフロー表 解決策導入後②'!W29)","v":""},{"$f":"IF(ISBLANK('1-12-3.キャッシュフロー表 解決策導入後②'!X29),\"\",'1-12-3.キャッシュフロー表 解決策導入後②'!X29)","v":""},{"$f":"IF(ISBLANK('1-12-3.キャッシュフロー表 解決策導入後②'!Y29),\"\",'1-12-3.キャッシュフロー表 解決策導入後②'!Y29)","v":""},{"$f":"IF(ISBLANK('1-12-3.キャッシュフロー表 解決策導入後②'!Z29),\"\",'1-12-3.キャッシュフロー表 解決策導入後②'!Z29)","v":""},{"$f":"IF(ISBLANK('1-12-3.キャッシュフロー表 解決策導入後②'!AA29),\"\",'1-12-3.キャッシュフロー表 解決策導入後②'!AA29)","v":""},{"$f":"IF(ISBLANK('1-12-3.キャッシュフロー表 解決策導入後②'!AB29),\"\",'1-12-3.キャッシュフロー表 解決策導入後②'!AB29)","v":""},{"$f":"IF(ISBLANK('1-12-3.キャッシュフロー表 解決策導入後②'!AC29),\"\",'1-12-3.キャッシュフロー表 解決策導入後②'!AC29)","v":""},{"$f":"IF(ISBLANK('1-12-3.キャッシュフロー表 解決策導入後②'!AD29),\"\",'1-12-3.キャッシュフロー表 解決策導入後②'!AD29)","v":""},{"$f":"IF(ISBLANK('1-12-3.キャッシュフロー表 解決策導入後②'!AE29),\"\",'1-12-3.キャッシュフロー表 解決策導入後②'!AE29)","v":""},{"$f":"IF(ISBLANK('1-12-3.キャッシュフロー表 解決策導入後②'!AF29),\"\",'1-12-3.キャッシュフロー表 解決策導入後②'!AF29)","v":""},{"$f":"IF(ISBLANK('1-12-3.キャッシュフロー表 解決策導入後②'!AG29),\"\",'1-12-3.キャッシュフロー表 解決策導入後②'!AG29)","v":""},{"$f":"IF(ISBLANK('1-12-3.キャッシュフロー表 解決策導入後②'!AH29),\"\",'1-12-3.キャッシュフロー表 解決策導入後②'!AH29)","v":""},{"$f":"IF(ISBLANK('1-12-3.キャッシュフロー表 解決策導入後②'!AI29),\"\",'1-12-3.キャッシュフロー表 解決策導入後②'!AI29)","v":""},{"$f":"IF(ISBLANK('1-12-3.キャッシュフロー表 解決策導入後②'!AJ29),\"\",'1-12-3.キャッシュフロー表 解決策導入後②'!AJ29)","v":""},{"$f":"IF(ISBLANK('1-12-3.キャッシュフロー表 解決策導入後②'!AK29),\"\",'1-12-3.キャッシュフロー表 解決策導入後②'!AK29)","v":""},{"$f":"IF(ISBLANK('1-12-3.キャッシュフロー表 解決策導入後②'!AL29),\"\",'1-12-3.キャッシュフロー表 解決策導入後②'!AL29)","v":""},null,null,null,null,{"$f":"IF(ISBLANK('1-12-2.キャッシュフロー表 解決策導入後'!D29),\"\",'1-12-2.キャッシュフロー表 解決策導入後'!D29)","v":"その他一時的収入"},{"$f":"IF(ISBLANK('1-12-2.キャッシュフロー表 解決策導入後'!E29),\"\",'1-12-2.キャッシュフロー表 解決策導入後'!E29)","v":""},{"$f":"IF(ISBLANK('1-12-2.キャッシュフロー表 解決策導入後'!F29),\"\",'1-12-2.キャッシュフロー表 解決策導入後'!F29&\"年後\")","v":""},null,{"$f":"IF(ISBLANK('1-12-2.キャッシュフロー表 解決策導入後'!G29),\"\",'1-12-2.キャッシュフロー表 解決策導入後'!G29)","v":""},{"$f":"IF(ISBLANK('1-12-1.キャッシュフロー表 現状'!AM29),\"\",'1-12-1.キャッシュフロー表 現状'!AM29)","v":""},{"$f":"IF(ISBLANK('1-12-1.キャッシュフロー表 現状'!AN29),\"\",'1-12-1.キャッシュフロー表 現状'!AN29)","v":""},{"$f":"IF(ISBLANK('1-12-1.キャッシュフロー表 現状'!AO29),\"\",'1-12-1.キャッシュフロー表 現状'!AO29)","v":""},{"$f":"IF(ISBLANK('1-12-1.キャッシュフロー表 現状'!AP29),\"\",'1-12-1.キャッシュフロー表 現状'!AP29)","v":""},{"$f":"IF(ISBLANK('1-12-1.キャッシュフロー表 現状'!AQ29),\"\",'1-12-1.キャッシュフロー表 現状'!AQ29)","v":""},{"$f":"IF(ISBLANK('1-12-1.キャッシュフロー表 現状'!AR29),\"\",'1-12-1.キャッシュフロー表 現状'!AR29)","v":""},{"$f":"IF(ISBLANK('1-12-1.キャッシュフロー表 現状'!AS29),\"\",'1-12-1.キャッシュフロー表 現状'!AS29)","v":""},{"$f":"IF(ISBLANK('1-12-1.キャッシュフロー表 現状'!AT29),\"\",'1-12-1.キャッシュフロー表 現状'!AT29)","v":""},{"$f":"IF(ISBLANK('1-12-1.キャッシュフロー表 現状'!AU29),\"\",'1-12-1.キャッシュフロー表 現状'!AU29)","v":""},{"$f":"IF(ISBLANK('1-12-1.キャッシュフロー表 現状'!AV29),\"\",'1-12-1.キャッシュフロー表 現状'!AV29)","v":""},{"$f":"IF(ISBLANK('1-12-1.キャッシュフロー表 現状'!AW29),\"\",'1-12-1.キャッシュフロー表 現状'!AW29)","v":""},{"$f":"IF(ISBLANK('1-12-1.キャッシュフロー表 現状'!AX29),\"\",'1-12-1.キャッシュフロー表 現状'!AX29)","v":""},{"$f":"IF(ISBLANK('1-12-1.キャッシュフロー表 現状'!AY29),\"\",'1-12-1.キャッシュフロー表 現状'!AY29)","v":""},{"$f":"IF(ISBLANK('1-12-1.キャッシュフロー表 現状'!AZ29),\"\",'1-12-1.キャッシュフロー表 現状'!AZ29)","v":""},{"$f":"IF(ISBLANK('1-12-1.キャッシュフロー表 現状'!BA29),\"\",'1-12-1.キャッシュフロー表 現状'!BA29)","v":""},{"$f":"IF(ISBLANK('1-12-1.キャッシュフロー表 現状'!BB29),\"\",'1-12-1.キャッシュフロー表 現状'!BB29)","v":""},{"$f":"IF(ISBLANK('1-12-1.キャッシュフロー表 現状'!BC29),\"\",'1-12-1.キャッシュフロー表 現状'!BC29)","v":""},{"$f":"IF(ISBLANK('1-12-1.キャッシュフロー表 現状'!BD29),\"\",'1-12-1.キャッシュフロー表 現状'!BD29)","v":""},{"$f":"IF(ISBLANK('1-12-1.キャッシュフロー表 現状'!BE29),\"\",'1-12-1.キャッシュフロー表 現状'!BE29)","v":""},{"$f":"IF(ISBLANK('1-12-1.キャッシュフロー表 現状'!BF29),\"\",'1-12-1.キャッシュフロー表 現状'!BF29)","v":""},{"$f":"IF(ISBLANK('1-12-1.キャッシュフロー表 現状'!BG29),\"\",'1-12-1.キャッシュフロー表 現状'!BG29)","v":""},{"$f":"IF(ISBLANK('1-12-1.キャッシュフロー表 現状'!BH29),\"\",'1-12-1.キャッシュフロー表 現状'!BH29)","v":""},{"$f":"IF(ISBLANK('1-12-1.キャッシュフロー表 現状'!BI29),\"\",'1-12-1.キャッシュフロー表 現状'!BI29)","v":""},{"$f":"IF(ISBLANK('1-12-1.キャッシュフロー表 現状'!BJ29),\"\",'1-12-1.キャッシュフロー表 現状'!BJ29)","v":""},{"$f":"IF(ISBLANK('1-12-1.キャッシュフロー表 現状'!BK29),\"\",'1-12-1.キャッシュフロー表 現状'!BK29)","v":""},{"$f":"IF(ISBLANK('1-12-1.キャッシュフロー表 現状'!BL29),\"\",'1-12-1.キャッシュフロー表 現状'!BL29)","v":""},{"$f":"IF(ISBLANK('1-12-1.キャッシュフロー表 現状'!BM29),\"\",'1-12-1.キャッシュフロー表 現状'!BM29)","v":""},{"$f":"IF(ISBLANK('1-12-1.キャッシュフロー表 現状'!BN29),\"\",'1-12-1.キャッシュフロー表 現状'!BN29)","v":""},{"$f":"IF(ISBLANK('1-12-1.キャッシュフロー表 現状'!BO29),\"\",'1-12-1.キャッシュフロー表 現状'!BO29)","v":""},{"$f":"IF(ISBLANK('1-12-1.キャッシュフロー表 現状'!BP29),\"\",'1-12-1.キャッシュフロー表 現状'!BP29)","v":""},{"$f":"IF(ISBLANK('1-12-1.キャッシュフロー表 現状'!BQ29),\"\",'1-12-1.キャッシュフロー表 現状'!BQ29)","v":""},{"$f":"IF(ISBLANK('1-12-1.キャッシュフロー表 現状'!BR29),\"\",'1-12-1.キャッシュフロー表 現状'!BR29)","v":""},{"$f":"IF(ISBLANK('1-12-1.キャッシュフロー表 現状'!BS29),\"\",'1-12-1.キャッシュフロー表 現状'!BS29)","v":""},{"$f":"IF(ISBLANK('1-12-1.キャッシュフロー表 現状'!BT29),\"\",'1-12-1.キャッシュフロー表 現状'!BT29)","v":""},{"$f":"IF(ISBLANK('1-12-1.キャッシュフロー表 現状'!BU29),\"\",'1-12-1.キャッシュフロー表 現状'!BU29)","v":""},{"$f":"IF(ISBLANK('1-12-1.キャッシュフロー表 現状'!BV29),\"\",'1-12-1.キャッシュフロー表 現状'!BV29)","v":""},{"$f":"IF(ISBLANK('1-12-1.キャッシュフロー表 現状'!BW29),\"\",'1-12-1.キャッシュフロー表 現状'!BW29)","v":""},{"$f":"IF(ISBLANK('1-12-1.キャッシュフロー表 現状'!BX29),\"\",'1-12-1.キャッシュフロー表 現状'!BX29)","v":""},{"$f":"IF(ISBLANK('1-12-1.キャッシュフロー表 現状'!BY29),\"\",'1-12-1.キャッシュフロー表 現状'!BY29)","v":""},{"$f":"IF(ISBLANK('1-12-1.キャッシュフロー表 現状'!BZ29),\"\",'1-12-1.キャッシュフロー表 現状'!BZ29)","v":""}]
[null,null,null,"収入合計",null,null,null,null,{"$f":"IF(ISBLANK('1-12-3.キャッシュフロー表 解決策導入後②'!H30),\"\",'1-12-3.キャッシュフロー表 解決策導入後②'!H30)","v":0},{"$f":"IF(ISBLANK('1-12-3.キャッシュフロー表 解決策導入後②'!I30),\"\",'1-12-3.キャッシュフロー表 解決策導入後②'!I30)","v":0},{"$f":"IF(ISBLANK('1-12-3.キャッシュフロー表 解決策導入後②'!J30),\"\",'1-12-3.キャッシュフロー表 解決策導入後②'!J30)","v":0},{"$f":"IF(ISBLANK('1-12-3.キャッシュフロー表 解決策導入後②'!K30),\"\",'1-12-3.キャッシュフロー表 解決策導入後②'!K30)","v":0},{"$f":"IF(ISBLANK('1-12-3.キャッシュフロー表 解決策導入後②'!L30),\"\",'1-12-3.キャッシュフロー表 解決策導入後②'!L30)","v":0},{"$f":"IF(ISBLANK('1-12-3.キャッシュフロー表 解決策導入後②'!M30),\"\",'1-12-3.キャッシュフロー表 解決策導入後②'!M30)","v":0},{"$f":"IF(ISBLANK('1-12-3.キャッシュフロー表 解決策導入後②'!N30),\"\",'1-12-3.キャッシュフロー表 解決策導入後②'!N30)","v":0},{"$f":"IF(ISBLANK('1-12-3.キャッシュフロー表 解決策導入後②'!O30),\"\",'1-12-3.キャッシュフロー表 解決策導入後②'!O30)","v":0},{"$f":"IF(ISBLANK('1-12-3.キャッシュフロー表 解決策導入後②'!P30),\"\",'1-12-3.キャッシュフロー表 解決策導入後②'!P30)","v":0},{"$f":"IF(ISBLANK('1-12-3.キャッシュフロー表 解決策導入後②'!Q30),\"\",'1-12-3.キャッシュフロー表 解決策導入後②'!Q30)","v":0},{"$f":"IF(ISBLANK('1-12-3.キャッシュフロー表 解決策導入後②'!R30),\"\",'1-12-3.キャッシュフロー表 解決策導入後②'!R30)","v":0},{"$f":"IF(ISBLANK('1-12-3.キャッシュフロー表 解決策導入後②'!S30),\"\",'1-12-3.キャッシュフロー表 解決策導入後②'!S30)","v":0},{"$f":"IF(ISBLANK('1-12-3.キャッシュフロー表 解決策導入後②'!T30),\"\",'1-12-3.キャッシュフロー表 解決策導入後②'!T30)","v":0},{"$f":"IF(ISBLANK('1-12-3.キャッシュフロー表 解決策導入後②'!U30),\"\",'1-12-3.キャッシュフロー表 解決策導入後②'!U30)","v":0},{"$f":"IF(ISBLANK('1-12-3.キャッシュフロー表 解決策導入後②'!V30),\"\",'1-12-3.キャッシュフロー表 解決策導入後②'!V30)","v":0},{"$f":"IF(ISBLANK('1-12-3.キャッシュフロー表 解決策導入後②'!W30),\"\",'1-12-3.キャッシュフロー表 解決策導入後②'!W30)","v":0},{"$f":"IF(ISBLANK('1-12-3.キャッシュフロー表 解決策導入後②'!X30),\"\",'1-12-3.キャッシュフロー表 解決策導入後②'!X30)","v":0},{"$f":"IF(ISBLANK('1-12-3.キャッシュフロー表 解決策導入後②'!Y30),\"\",'1-12-3.キャッシュフロー表 解決策導入後②'!Y30)","v":0},{"$f":"IF(ISBLANK('1-12-3.キャッシュフロー表 解決策導入後②'!Z30),\"\",'1-12-3.キャッシュフロー表 解決策導入後②'!Z30)","v":0},{"$f":"IF(ISBLANK('1-12-3.キャッシュフロー表 解決策導入後②'!AA30),\"\",'1-12-3.キャッシュフロー表 解決策導入後②'!AA30)","v":0},{"$f":"IF(ISBLANK('1-12-3.キャッシュフロー表 解決策導入後②'!AB30),\"\",'1-12-3.キャッシュフロー表 解決策導入後②'!AB30)","v":0},{"$f":"IF(ISBLANK('1-12-3.キャッシュフロー表 解決策導入後②'!AC30),\"\",'1-12-3.キャッシュフロー表 解決策導入後②'!AC30)","v":0},{"$f":"IF(ISBLANK('1-12-3.キャッシュフロー表 解決策導入後②'!AD30),\"\",'1-12-3.キャッシュフロー表 解決策導入後②'!AD30)","v":0},{"$f":"IF(ISBLANK('1-12-3.キャッシュフロー表 解決策導入後②'!AE30),\"\",'1-12-3.キャッシュフロー表 解決策導入後②'!AE30)","v":0},{"$f":"IF(ISBLANK('1-12-3.キャッシュフロー表 解決策導入後②'!AF30),\"\",'1-12-3.キャッシュフロー表 解決策導入後②'!AF30)","v":0},{"$f":"IF(ISBLANK('1-12-3.キャッシュフロー表 解決策導入後②'!AG30),\"\",'1-12-3.キャッシュフロー表 解決策導入後②'!AG30)","v":0},{"$f":"IF(ISBLANK('1-12-3.キャッシュフロー表 解決策導入後②'!AH30),\"\",'1-12-3.キャッシュフロー表 解決策導入後②'!AH30)","v":0},{"$f":"IF(ISBLANK('1-12-3.キャッシュフロー表 解決策導入後②'!AI30),\"\",'1-12-3.キャッシュフロー表 解決策導入後②'!AI30)","v":0},{"$f":"IF(ISBLANK('1-12-3.キャッシュフロー表 解決策導入後②'!AJ30),\"\",'1-12-3.キャッシュフロー表 解決策導入後②'!AJ30)","v":0},{"$f":"IF(ISBLANK('1-12-3.キャッシュフロー表 解決策導入後②'!AK30),\"\",'1-12-3.キャッシュフロー表 解決策導入後②'!AK30)","v":0},{"$f":"IF(ISBLANK('1-12-3.キャッシュフロー表 解決策導入後②'!AL30),\"\",'1-12-3.キャッシュフロー表 解決策導入後②'!AL30)","v":0},null,null,null,null,"収入合計",null,null,null,null,{"$f":"IF(ISBLANK('1-12-1.キャッシュフロー表 現状'!AM30),\"\",'1-12-1.キャッシュフロー表 現状'!AM30)","v":0},{"$f":"IF(ISBLANK('1-12-1.キャッシュフロー表 現状'!AN30),\"\",'1-12-1.キャッシュフロー表 現状'!AN30)","v":0},{"$f":"IF(ISBLANK('1-12-1.キャッシュフロー表 現状'!AO30),\"\",'1-12-1.キャッシュフロー表 現状'!AO30)","v":0},{"$f":"IF(ISBLANK('1-12-1.キャッシュフロー表 現状'!AP30),\"\",'1-12-1.キャッシュフロー表 現状'!AP30)","v":0},{"$f":"IF(ISBLANK('1-12-1.キャッシュフロー表 現状'!AQ30),\"\",'1-12-1.キャッシュフロー表 現状'!AQ30)","v":0},{"$f":"IF(ISBLANK('1-12-1.キャッシュフロー表 現状'!AR30),\"\",'1-12-1.キャッシュフロー表 現状'!AR30)","v":0},{"$f":"IF(ISBLANK('1-12-1.キャッシュフロー表 現状'!AS30),\"\",'1-12-1.キャッシュフロー表 現状'!AS30)","v":0},{"$f":"IF(ISBLANK('1-12-1.キャッシュフロー表 現状'!AT30),\"\",'1-12-1.キャッシュフロー表 現状'!AT30)","v":0},{"$f":"IF(ISBLANK('1-12-1.キャッシュフロー表 現状'!AU30),\"\",'1-12-1.キャッシュフロー表 現状'!AU30)","v":0},{"$f":"IF(ISBLANK('1-12-1.キャッシュフロー表 現状'!AV30),\"\",'1-12-1.キャッシュフロー表 現状'!AV30)","v":0},{"$f":"IF(ISBLANK('1-12-1.キャッシュフロー表 現状'!AW30),\"\",'1-12-1.キャッシュフロー表 現状'!AW30)","v":0},{"$f":"IF(ISBLANK('1-12-1.キャッシュフロー表 現状'!AX30),\"\",'1-12-1.キャッシュフロー表 現状'!AX30)","v":0},{"$f":"IF(ISBLANK('1-12-1.キャッシュフロー表 現状'!AY30),\"\",'1-12-1.キャッシュフロー表 現状'!AY30)","v":0},{"$f":"IF(ISBLANK('1-12-1.キャッシュフロー表 現状'!AZ30),\"\",'1-12-1.キャッシュフロー表 現状'!AZ30)","v":0},{"$f":"IF(ISBLANK('1-12-1.キャッシュフロー表 現状'!BA30),\"\",'1-12-1.キャッシュフロー表 現状'!BA30)","v":0},{"$f":"IF(ISBLANK('1-12-1.キャッシュフロー表 現状'!BB30),\"\",'1-12-1.キャッシュフロー表 現状'!BB30)","v":0},{"$f":"IF(ISBLANK('1-12-1.キャッシュフロー表 現状'!BC30),\"\",'1-12-1.キャッシュフロー表 現状'!BC30)","v":0},{"$f":"IF(ISBLANK('1-12-1.キャッシュフロー表 現状'!BD30),\"\",'1-12-1.キャッシュフロー表 現状'!BD30)","v":0},{"$f":"IF(ISBLANK('1-12-1.キャッシュフロー表 現状'!BE30),\"\",'1-12-1.キャッシュフロー表 現状'!BE30)","v":0},{"$f":"IF(ISBLANK('1-12-1.キャッシュフロー表 現状'!BF30),\"\",'1-12-1.キャッシュフロー表 現状'!BF30)","v":0},{"$f":"IF(ISBLANK('1-12-1.キャッシュフロー表 現状'!BG30),\"\",'1-12-1.キャッシュフロー表 現状'!BG30)","v":0},{"$f":"IF(ISBLANK('1-12-1.キャッシュフロー表 現状'!BH30),\"\",'1-12-1.キャッシュフロー表 現状'!BH30)","v":0},{"$f":"IF(ISBLANK('1-12-1.キャッシュフロー表 現状'!BI30),\"\",'1-12-1.キャッシュフロー表 現状'!BI30)","v":0},{"$f":"IF(ISBLANK('1-12-1.キャッシュフロー表 現状'!BJ30),\"\",'1-12-1.キャッシュフロー表 現状'!BJ30)","v":0},{"$f":"IF(ISBLANK('1-12-1.キャッシュフロー表 現状'!BK30),\"\",'1-12-1.キャッシュフロー表 現状'!BK30)","v":0},{"$f":"IF(ISBLANK('1-12-1.キャッシュフロー表 現状'!BL30),\"\",'1-12-1.キャッシュフロー表 現状'!BL30)","v":0},{"$f":"IF(ISBLANK('1-12-1.キャッシュフロー表 現状'!BM30),\"\",'1-12-1.キャッシュフロー表 現状'!BM30)","v":0},{"$f":"IF(ISBLANK('1-12-1.キャッシュフロー表 現状'!BN30),\"\",'1-12-1.キャッシュフロー表 現状'!BN30)","v":0},{"$f":"IF(ISBLANK('1-12-1.キャッシュフロー表 現状'!BO30),\"\",'1-12-1.キャッシュフロー表 現状'!BO30)","v":0},{"$f":"IF(ISBLANK('1-12-1.キャッシュフロー表 現状'!BP30),\"\",'1-12-1.キャッシュフロー表 現状'!BP30)","v":0},{"$f":"IF(ISBLANK('1-12-1.キャッシュフロー表 現状'!BQ30),\"\",'1-12-1.キャッシュフロー表 現状'!BQ30)","v":0},{"$f":"IF(ISBLANK('1-12-1.キャッシュフロー表 現状'!BR30),\"\",'1-12-1.キャッシュフロー表 現状'!BR30)","v":0},{"$f":"IF(ISBLANK('1-12-1.キャッシュフロー表 現状'!BS30),\"\",'1-12-1.キャッシュフロー表 現状'!BS30)","v":0},{"$f":"IF(ISBLANK('1-12-1.キャッシュフロー表 現状'!BT30),\"\",'1-12-1.キャッシュフロー表 現状'!BT30)","v":0},{"$f":"IF(ISBLANK('1-12-1.キャッシュフロー表 現状'!BU30),\"\",'1-12-1.キャッシュフロー表 現状'!BU30)","v":0},{"$f":"IF(ISBLANK('1-12-1.キャッシュフロー表 現状'!BV30),\"\",'1-12-1.キャッシュフロー表 現状'!BV30)","v":0},{"$f":"IF(ISBLANK('1-12-1.キャッシュフロー表 現状'!BW30),\"\",'1-12-1.キャッシュフロー表 現状'!BW30)","v":0},{"$f":"IF(ISBLANK('1-12-1.キャッシュフロー表 現状'!BX30),\"\",'1-12-1.キャッシュフロー表 現状'!BX30)","v":0},{"$f":"IF(ISBLANK('1-12-1.キャッシュフロー表 現状'!BY30),\"\",'1-12-1.キャッシュフロー表 現状'!BY30)","v":0},{"$f":"IF(ISBLANK('1-12-1.キャッシュフロー表 現状'!BZ30),\"\",'1-12-1.キャッシュフロー表 現状'!BZ30)","v":0}]
[null,null,"支　出",{"$f":"IF(ISBLANK('1-12-3.キャッシュフロー表 解決策導入後②'!D31),\"\",'1-12-3.キャッシュフロー表 解決策導入後②'!D31)","v":""},{"$f":"IF(ISBLANK('1-12-3.キャッシュフロー表 解決策導入後②'!E31),\"\",'1-12-3.キャッシュフロー表 解決策導入後②'!E31)","v":0},{"$f":"IF(ISBLANK('1-12-3.キャッシュフロー表 解決策導入後②'!F31),\"\",'1-12-3.キャッシュフロー表 解決策導入後②'!F31&\"年後\")","v":""},null,{"$f":"IF(ISBLANK('1-12-3.キャッシュフロー表 解決策導入後②'!G31),\"\",'1-12-3.キャッシュフロー表 解決策導入後②'!G31)","v":0},{"$f":"IF(ISBLANK('1-12-3.キャッシュフロー表 解決策導入後②'!H31),\"\",'1-12-3.キャッシュフロー表 解決策導入後②'!H31)","v":""},{"$f":"IF(ISBLANK('1-12-3.キャッシュフロー表 解決策導入後②'!I31),\"\",'1-12-3.キャッシュフロー表 解決策導入後②'!I31)","v":0},{"$f":"IF(ISBLANK('1-12-3.キャッシュフロー表 解決策導入後②'!J31),\"\",'1-12-3.キャッシュフロー表 解決策導入後②'!J31)","v":0},{"$f":"IF(ISBLANK('1-12-3.キャッシュフロー表 解決策導入後②'!K31),\"\",'1-12-3.キャッシュフロー表 解決策導入後②'!K31)","v":0},{"$f":"IF(ISBLANK('1-12-3.キャッシュフロー表 解決策導入後②'!L31),\"\",'1-12-3.キャッシュフロー表 解決策導入後②'!L31)","v":0},{"$f":"IF(ISBLANK('1-12-3.キャッシュフロー表 解決策導入後②'!M31),\"\",'1-12-3.キャッシュフロー表 解決策導入後②'!M31)","v":0},{"$f":"IF(ISBLANK('1-12-3.キャッシュフロー表 解決策導入後②'!N31),\"\",'1-12-3.キャッシュフロー表 解決策導入後②'!N31)","v":0},{"$f":"IF(ISBLANK('1-12-3.キャッシュフロー表 解決策導入後②'!O31),\"\",'1-12-3.キャッシュフロー表 解決策導入後②'!O31)","v":0},{"$f":"IF(ISBLANK('1-12-3.キャッシュフロー表 解決策導入後②'!P31),\"\",'1-12-3.キャッシュフロー表 解決策導入後②'!P31)","v":0},{"$f":"IF(ISBLANK('1-12-3.キャッシュフロー表 解決策導入後②'!Q31),\"\",'1-12-3.キャッシュフロー表 解決策導入後②'!Q31)","v":0},{"$f":"IF(ISBLANK('1-12-3.キャッシュフロー表 解決策導入後②'!R31),\"\",'1-12-3.キャッシュフロー表 解決策導入後②'!R31)","v":0},{"$f":"IF(ISBLANK('1-12-3.キャッシュフロー表 解決策導入後②'!S31),\"\",'1-12-3.キャッシュフロー表 解決策導入後②'!S31)","v":0},{"$f":"IF(ISBLANK('1-12-3.キャッシュフロー表 解決策導入後②'!T31),\"\",'1-12-3.キャッシュフロー表 解決策導入後②'!T31)","v":0},{"$f":"IF(ISBLANK('1-12-3.キャッシュフロー表 解決策導入後②'!U31),\"\",'1-12-3.キャッシュフロー表 解決策導入後②'!U31)","v":0},{"$f":"IF(ISBLANK('1-12-3.キャッシュフロー表 解決策導入後②'!V31),\"\",'1-12-3.キャッシュフロー表 解決策導入後②'!V31)","v":0},{"$f":"IF(ISBLANK('1-12-3.キャッシュフロー表 解決策導入後②'!W31),\"\",'1-12-3.キャッシュフロー表 解決策導入後②'!W31)","v":0},{"$f":"IF(ISBLANK('1-12-3.キャッシュフロー表 解決策導入後②'!X31),\"\",'1-12-3.キャッシュフロー表 解決策導入後②'!X31)","v":0},{"$f":"IF(ISBLANK('1-12-3.キャッシュフロー表 解決策導入後②'!Y31),\"\",'1-12-3.キャッシュフロー表 解決策導入後②'!Y31)","v":0},{"$f":"IF(ISBLANK('1-12-3.キャッシュフロー表 解決策導入後②'!Z31),\"\",'1-12-3.キャッシュフロー表 解決策導入後②'!Z31)","v":0},{"$f":"IF(ISBLANK('1-12-3.キャッシュフロー表 解決策導入後②'!AA31),\"\",'1-12-3.キャッシュフロー表 解決策導入後②'!AA31)","v":0},{"$f":"IF(ISBLANK('1-12-3.キャッシュフロー表 解決策導入後②'!AB31),\"\",'1-12-3.キャッシュフロー表 解決策導入後②'!AB31)","v":0},{"$f":"IF(ISBLANK('1-12-3.キャッシュフロー表 解決策導入後②'!AC31),\"\",'1-12-3.キャッシュフロー表 解決策導入後②'!AC31)","v":0},{"$f":"IF(ISBLANK('1-12-3.キャッシュフロー表 解決策導入後②'!AD31),\"\",'1-12-3.キャッシュフロー表 解決策導入後②'!AD31)","v":0},{"$f":"IF(ISBLANK('1-12-3.キャッシュフロー表 解決策導入後②'!AE31),\"\",'1-12-3.キャッシュフロー表 解決策導入後②'!AE31)","v":0},{"$f":"IF(ISBLANK('1-12-3.キャッシュフロー表 解決策導入後②'!AF31),\"\",'1-12-3.キャッシュフロー表 解決策導入後②'!AF31)","v":0},{"$f":"IF(ISBLANK('1-12-3.キャッシュフロー表 解決策導入後②'!AG31),\"\",'1-12-3.キャッシュフロー表 解決策導入後②'!AG31)","v":0},{"$f":"IF(ISBLANK('1-12-3.キャッシュフロー表 解決策導入後②'!AH31),\"\",'1-12-3.キャッシュフロー表 解決策導入後②'!AH31)","v":0},{"$f":"IF(ISBLANK('1-12-3.キャッシュフロー表 解決策導入後②'!AI31),\"\",'1-12-3.キャッシュフロー表 解決策導入後②'!AI31)","v":0},{"$f":"IF(ISBLANK('1-12-3.キャッシュフロー表 解決策導入後②'!AJ31),\"\",'1-12-3.キャッシュフロー表 解決策導入後②'!AJ31)","v":0},{"$f":"IF(ISBLANK('1-12-3.キャッシュフロー表 解決策導入後②'!AK31),\"\",'1-12-3.キャッシュフロー表 解決策導入後②'!AK31)","v":0},{"$f":"IF(ISBLANK('1-12-3.キャッシュフロー表 解決策導入後②'!AL31),\"\",'1-12-3.キャッシュフロー表 解決策導入後②'!AL31)","v":0},null,null,null,"支　出",{"$f":"IF(ISBLANK('1-12-2.キャッシュフロー表 解決策導入後'!D31),\"\",'1-12-2.キャッシュフロー表 解決策導入後'!D31)","v":""},{"$f":"IF(ISBLANK('1-12-2.キャッシュフロー表 解決策導入後'!E31),\"\",'1-12-2.キャッシュフロー表 解決策導入後'!E31)","v":0},{"$f":"IF(ISBLANK('1-12-2.キャッシュフロー表 解決策導入後'!F31),\"\",'1-12-2.キャッシュフロー表 解決策導入後'!F31&\"年後\")","v":""},null,{"$f":"IF(ISBLANK('1-12-2.キャッシュフロー表 解決策導入後'!G31),\"\",'1-12-2.キャッシュフロー表 解決策導入後'!G31)","v":0},{"$f":"IF(ISBLANK('1-12-1.キャッシュフロー表 現状'!AM31),\"\",'1-12-1.キャッシュフロー表 現状'!AM31)","v":0},{"$f":"IF(ISBLANK('1-12-1.キャッシュフロー表 現状'!AN31),\"\",'1-12-1.キャッシュフロー表 現状'!AN31)","v":0},{"$f":"IF(ISBLANK('1-12-1.キャッシュフロー表 現状'!AO31),\"\",'1-12-1.キャッシュフロー表 現状'!AO31)","v":0},{"$f":"IF(ISBLANK('1-12-1.キャッシュフロー表 現状'!AP31),\"\",'1-12-1.キャッシュフロー表 現状'!AP31)","v":0},{"$f":"IF(ISBLANK('1-12-1.キャッシュフロー表 現状'!AQ31),\"\",'1-12-1.キャッシュフロー表 現状'!AQ31)","v":0},{"$f":"IF(ISBLANK('1-12-1.キャッシュフロー表 現状'!AR31),\"\",'1-12-1.キャッシュフロー表 現状'!AR31)","v":0},{"$f":"IF(ISBLANK('1-12-1.キャッシュフロー表 現状'!AS31),\"\",'1-12-1.キャッシュフロー表 現状'!AS31)","v":0},{"$f":"IF(ISBLANK('1-12-1.キャッシュフロー表 現状'!AT31),\"\",'1-12-1.キャッシュフロー表 現状'!AT31)","v":0},{"$f":"IF(ISBLANK('1-12-1.キャッシュフロー表 現状'!AU31),\"\",'1-12-1.キャッシュフロー表 現状'!AU31)","v":0},{"$f":"IF(ISBLANK('1-12-1.キャッシュフロー表 現状'!AV31),\"\",'1-12-1.キャッシュフロー表 現状'!AV31)","v":0},{"$f":"IF(ISBLANK('1-12-1.キャッシュフロー表 現状'!AW31),\"\",'1-12-1.キャッシュフロー表 現状'!AW31)","v":0},{"$f":"IF(ISBLANK('1-12-1.キャッシュフロー表 現状'!AX31),\"\",'1-12-1.キャッシュフロー表 現状'!AX31)","v":0},{"$f":"IF(ISBLANK('1-12-1.キャッシュフロー表 現状'!AY31),\"\",'1-12-1.キャッシュフロー表 現状'!AY31)","v":0},{"$f":"IF(ISBLANK('1-12-1.キャッシュフロー表 現状'!AZ31),\"\",'1-12-1.キャッシュフロー表 現状'!AZ31)","v":0},{"$f":"IF(ISBLANK('1-12-1.キャッシュフロー表 現状'!BA31),\"\",'1-12-1.キャッシュフロー表 現状'!BA31)","v":0},{"$f":"IF(ISBLANK('1-12-1.キャッシュフロー表 現状'!BB31),\"\",'1-12-1.キャッシュフロー表 現状'!BB31)","v":0},{"$f":"IF(ISBLANK('1-12-1.キャッシュフロー表 現状'!BC31),\"\",'1-12-1.キャッシュフロー表 現状'!BC31)","v":0},{"$f":"IF(ISBLANK('1-12-1.キャッシュフロー表 現状'!BD31),\"\",'1-12-1.キャッシュフロー表 現状'!BD31)","v":0},{"$f":"IF(ISBLANK('1-12-1.キャッシュフロー表 現状'!BE31),\"\",'1-12-1.キャッシュフロー表 現状'!BE31)","v":0},{"$f":"IF(ISBLANK('1-12-1.キャッシュフロー表 現状'!BF31),\"\",'1-12-1.キャッシュフロー表 現状'!BF31)","v":0},{"$f":"IF(ISBLANK('1-12-1.キャッシュフロー表 現状'!BG31),\"\",'1-12-1.キャッシュフロー表 現状'!BG31)","v":0},{"$f":"IF(ISBLANK('1-12-1.キャッシュフロー表 現状'!BH31),\"\",'1-12-1.キャッシュフロー表 現状'!BH31)","v":0},{"$f":"IF(ISBLANK('1-12-1.キャッシュフロー表 現状'!BI31),\"\",'1-12-1.キャッシュフロー表 現状'!BI31)","v":0},{"$f":"IF(ISBLANK('1-12-1.キャッシュフロー表 現状'!BJ31),\"\",'1-12-1.キャッシュフロー表 現状'!BJ31)","v":0},{"$f":"IF(ISBLANK('1-12-1.キャッシュフロー表 現状'!BK31),\"\",'1-12-1.キャッシュフロー表 現状'!BK31)","v":0},{"$f":"IF(ISBLANK('1-12-1.キャッシュフロー表 現状'!BL31),\"\",'1-12-1.キャッシュフロー表 現状'!BL31)","v":0},{"$f":"IF(ISBLANK('1-12-1.キャッシュフロー表 現状'!BM31),\"\",'1-12-1.キャッシュフロー表 現状'!BM31)","v":0},{"$f":"IF(ISBLANK('1-12-1.キャッシュフロー表 現状'!BN31),\"\",'1-12-1.キャッシュフロー表 現状'!BN31)","v":0},{"$f":"IF(ISBLANK('1-12-1.キャッシュフロー表 現状'!BO31),\"\",'1-12-1.キャッシュフロー表 現状'!BO31)","v":0},{"$f":"IF(ISBLANK('1-12-1.キャッシュフロー表 現状'!BP31),\"\",'1-12-1.キャッシュフロー表 現状'!BP31)","v":0},{"$f":"IF(ISBLANK('1-12-1.キャッシュフロー表 現状'!BQ31),\"\",'1-12-1.キャッシュフロー表 現状'!BQ31)","v":0},{"$f":"IF(ISBLANK('1-12-1.キャッシュフロー表 現状'!BR31),\"\",'1-12-1.キャッシュフロー表 現状'!BR31)","v":0},{"$f":"IF(ISBLANK('1-12-1.キャッシュフロー表 現状'!BS31),\"\",'1-12-1.キャッシュフロー表 現状'!BS31)","v":0},{"$f":"IF(ISBLANK('1-12-1.キャッシュフロー表 現状'!BT31),\"\",'1-12-1.キャッシュフロー表 現状'!BT31)","v":0},{"$f":"IF(ISBLANK('1-12-1.キャッシュフロー表 現状'!BU31),\"\",'1-12-1.キャッシュフロー表 現状'!BU31)","v":0},{"$f":"IF(ISBLANK('1-12-1.キャッシュフロー表 現状'!BV31),\"\",'1-12-1.キャッシュフロー表 現状'!BV31)","v":0},{"$f":"IF(ISBLANK('1-12-1.キャッシュフロー表 現状'!BW31),\"\",'1-12-1.キャッシュフロー表 現状'!BW31)","v":0},{"$f":"IF(ISBLANK('1-12-1.キャッシュフロー表 現状'!BX31),\"\",'1-12-1.キャッシュフロー表 現状'!BX31)","v":0},{"$f":"IF(ISBLANK('1-12-1.キャッシュフロー表 現状'!BY31),\"\",'1-12-1.キャッシュフロー表 現状'!BY31)","v":0},{"$f":"IF(ISBLANK('1-12-1.キャッシュフロー表 現状'!BZ31),\"\",'1-12-1.キャッシュフロー表 現状'!BZ31)","v":0}]
[null,null,null,{"$f":"IF(ISBLANK('1-12-3.キャッシュフロー表 解決策導入後②'!D32),\"\",'1-12-3.キャッシュフロー表 解決策導入後②'!D32)","v":""},{"$f":"IF(ISBLANK('1-12-3.キャッシュフロー表 解決策導入後②'!E32),\"\",'1-12-3.キャッシュフロー表 解決策導入後②'!E32)","v":0},{"$f":"IF(ISBLANK('1-12-3.キャッシュフロー表 解決策導入後②'!F32),\"\",'1-12-3.キャッシュフロー表 解決策導入後②'!F32&\"年後\")","v":""},null,{"$f":"IF(ISBLANK('1-12-3.キャッシュフロー表 解決策導入後②'!G32),\"\",'1-12-3.キャッシュフロー表 解決策導入後②'!G32)","v":0},{"$f":"IF(ISBLANK('1-12-3.キャッシュフロー表 解決策導入後②'!H32),\"\",'1-12-3.キャッシュフロー表 解決策導入後②'!H32)","v":""},{"$f":"IF(ISBLANK('1-12-3.キャッシュフロー表 解決策導入後②'!I32),\"\",'1-12-3.キャッシュフロー表 解決策導入後②'!I32)","v":0},{"$f":"IF(ISBLANK('1-12-3.キャッシュフロー表 解決策導入後②'!J32),\"\",'1-12-3.キャッシュフロー表 解決策導入後②'!J32)","v":0},{"$f":"IF(ISBLANK('1-12-3.キャッシュフロー表 解決策導入後②'!K32),\"\",'1-12-3.キャッシュフロー表 解決策導入後②'!K32)","v":0},{"$f":"IF(ISBLANK('1-12-3.キャッシュフロー表 解決策導入後②'!L32),\"\",'1-12-3.キャッシュフロー表 解決策導入後②'!L32)","v":0},{"$f":"IF(ISBLANK('1-12-3.キャッシュフロー表 解決策導入後②'!M32),\"\",'1-12-3.キャッシュフロー表 解決策導入後②'!M32)","v":0},{"$f":"IF(ISBLANK('1-12-3.キャッシュフロー表 解決策導入後②'!N32),\"\",'1-12-3.キャッシュフロー表 解決策導入後②'!N32)","v":0},{"$f":"IF(ISBLANK('1-12-3.キャッシュフロー表 解決策導入後②'!O32),\"\",'1-12-3.キャッシュフロー表 解決策導入後②'!O32)","v":0},{"$f":"IF(ISBLANK('1-12-3.キャッシュフロー表 解決策導入後②'!P32),\"\",'1-12-3.キャッシュフロー表 解決策導入後②'!P32)","v":0},{"$f":"IF(ISBLANK('1-12-3.キャッシュフロー表 解決策導入後②'!Q32),\"\",'1-12-3.キャッシュフロー表 解決策導入後②'!Q32)","v":0},{"$f":"IF(ISBLANK('1-12-3.キャッシュフロー表 解決策導入後②'!R32),\"\",'1-12-3.キャッシュフロー表 解決策導入後②'!R32)","v":0},{"$f":"IF(ISBLANK('1-12-3.キャッシュフロー表 解決策導入後②'!S32),\"\",'1-12-3.キャッシュフロー表 解決策導入後②'!S32)","v":0},{"$f":"IF(ISBLANK('1-12-3.キャッシュフロー表 解決策導入後②'!T32),\"\",'1-12-3.キャッシュフロー表 解決策導入後②'!T32)","v":0},{"$f":"IF(ISBLANK('1-12-3.キャッシュフロー表 解決策導入後②'!U32),\"\",'1-12-3.キャッシュフロー表 解決策導入後②'!U32)","v":0},{"$f":"IF(ISBLANK('1-12-3.キャッシュフロー表 解決策導入後②'!V32),\"\",'1-12-3.キャッシュフロー表 解決策導入後②'!V32)","v":0},{"$f":"IF(ISBLANK('1-12-3.キャッシュフロー表 解決策導入後②'!W32),\"\",'1-12-3.キャッシュフロー表 解決策導入後②'!W32)","v":0},{"$f":"IF(ISBLANK('1-12-3.キャッシュフロー表 解決策導入後②'!X32),\"\",'1-12-3.キャッシュフロー表 解決策導入後②'!X32)","v":0},{"$f":"IF(ISBLANK('1-12-3.キャッシュフロー表 解決策導入後②'!Y32),\"\",'1-12-3.キャッシュフロー表 解決策導入後②'!Y32)","v":0},{"$f":"IF(ISBLANK('1-12-3.キャッシュフロー表 解決策導入後②'!Z32),\"\",'1-12-3.キャッシュフロー表 解決策導入後②'!Z32)","v":0},{"$f":"IF(ISBLANK('1-12-3.キャッシュフロー表 解決策導入後②'!AA32),\"\",'1-12-3.キャッシュフロー表 解決策導入後②'!AA32)","v":0},{"$f":"IF(ISBLANK('1-12-3.キャッシュフロー表 解決策導入後②'!AB32),\"\",'1-12-3.キャッシュフロー表 解決策導入後②'!AB32)","v":0},{"$f":"IF(ISBLANK('1-12-3.キャッシュフロー表 解決策導入後②'!AC32),\"\",'1-12-3.キャッシュフロー表 解決策導入後②'!AC32)","v":0},{"$f":"IF(ISBLANK('1-12-3.キャッシュフロー表 解決策導入後②'!AD32),\"\",'1-12-3.キャッシュフロー表 解決策導入後②'!AD32)","v":0},{"$f":"IF(ISBLANK('1-12-3.キャッシュフロー表 解決策導入後②'!AE32),\"\",'1-12-3.キャッシュフロー表 解決策導入後②'!AE32)","v":0},{"$f":"IF(ISBLANK('1-12-3.キャッシュフロー表 解決策導入後②'!AF32),\"\",'1-12-3.キャッシュフロー表 解決策導入後②'!AF32)","v":0},{"$f":"IF(ISBLANK('1-12-3.キャッシュフロー表 解決策導入後②'!AG32),\"\",'1-12-3.キャッシュフロー表 解決策導入後②'!AG32)","v":0},{"$f":"IF(ISBLANK('1-12-3.キャッシュフロー表 解決策導入後②'!AH32),\"\",'1-12-3.キャッシュフロー表 解決策導入後②'!AH32)","v":0},{"$f":"IF(ISBLANK('1-12-3.キャッシュフロー表 解決策導入後②'!AI32),\"\",'1-12-3.キャッシュフロー表 解決策導入後②'!AI32)","v":0},{"$f":"IF(ISBLANK('1-12-3.キャッシュフロー表 解決策導入後②'!AJ32),\"\",'1-12-3.キャッシュフロー表 解決策導入後②'!AJ32)","v":0},{"$f":"IF(ISBLANK('1-12-3.キャッシュフロー表 解決策導入後②'!AK32),\"\",'1-12-3.キャッシュフロー表 解決策導入後②'!AK32)","v":0},{"$f":"IF(ISBLANK('1-12-3.キャッシュフロー表 解決策導入後②'!AL32),\"\",'1-12-3.キャッシュフロー表 解決策導入後②'!AL32)","v":0},null,null,null,null,{"$f":"IF(ISBLANK('1-12-2.キャッシュフロー表 解決策導入後'!D32),\"\",'1-12-2.キャッシュフロー表 解決策導入後'!D32)","v":""},{"$f":"IF(ISBLANK('1-12-2.キャッシュフロー表 解決策導入後'!E32),\"\",'1-12-2.キャッシュフロー表 解決策導入後'!E32)","v":0},{"$f":"IF(ISBLANK('1-12-2.キャッシュフロー表 解決策導入後'!F32),\"\",'1-12-2.キャッシュフロー表 解決策導入後'!F32&\"年後\")","v":""},null,{"$f":"IF(ISBLANK('1-12-2.キャッシュフロー表 解決策導入後'!G32),\"\",'1-12-2.キャッシュフロー表 解決策導入後'!G32)","v":0},{"$f":"IF(ISBLANK('1-12-1.キャッシュフロー表 現状'!AM32),\"\",'1-12-1.キャッシュフロー表 現状'!AM32)","v":0},{"$f":"IF(ISBLANK('1-12-1.キャッシュフロー表 現状'!AN32),\"\",'1-12-1.キャッシュフロー表 現状'!AN32)","v":0},{"$f":"IF(ISBLANK('1-12-1.キャッシュフロー表 現状'!AO32),\"\",'1-12-1.キャッシュフロー表 現状'!AO32)","v":0},{"$f":"IF(ISBLANK('1-12-1.キャッシュフロー表 現状'!AP32),\"\",'1-12-1.キャッシュフロー表 現状'!AP32)","v":0},{"$f":"IF(ISBLANK('1-12-1.キャッシュフロー表 現状'!AQ32),\"\",'1-12-1.キャッシュフロー表 現状'!AQ32)","v":0},{"$f":"IF(ISBLANK('1-12-1.キャッシュフロー表 現状'!AR32),\"\",'1-12-1.キャッシュフロー表 現状'!AR32)","v":0},{"$f":"IF(ISBLANK('1-12-1.キャッシュフロー表 現状'!AS32),\"\",'1-12-1.キャッシュフロー表 現状'!AS32)","v":0},{"$f":"IF(ISBLANK('1-12-1.キャッシュフロー表 現状'!AT32),\"\",'1-12-1.キャッシュフロー表 現状'!AT32)","v":0},{"$f":"IF(ISBLANK('1-12-1.キャッシュフロー表 現状'!AU32),\"\",'1-12-1.キャッシュフロー表 現状'!AU32)","v":0},{"$f":"IF(ISBLANK('1-12-1.キャッシュフロー表 現状'!AV32),\"\",'1-12-1.キャッシュフロー表 現状'!AV32)","v":0},{"$f":"IF(ISBLANK('1-12-1.キャッシュフロー表 現状'!AW32),\"\",'1-12-1.キャッシュフロー表 現状'!AW32)","v":0},{"$f":"IF(ISBLANK('1-12-1.キャッシュフロー表 現状'!AX32),\"\",'1-12-1.キャッシュフロー表 現状'!AX32)","v":0},{"$f":"IF(ISBLANK('1-12-1.キャッシュフロー表 現状'!AY32),\"\",'1-12-1.キャッシュフロー表 現状'!AY32)","v":0},{"$f":"IF(ISBLANK('1-12-1.キャッシュフロー表 現状'!AZ32),\"\",'1-12-1.キャッシュフロー表 現状'!AZ32)","v":0},{"$f":"IF(ISBLANK('1-12-1.キャッシュフロー表 現状'!BA32),\"\",'1-12-1.キャッシュフロー表 現状'!BA32)","v":0},{"$f":"IF(ISBLANK('1-12-1.キャッシュフロー表 現状'!BB32),\"\",'1-12-1.キャッシュフロー表 現状'!BB32)","v":0},{"$f":"IF(ISBLANK('1-12-1.キャッシュフロー表 現状'!BC32),\"\",'1-12-1.キャッシュフロー表 現状'!BC32)","v":0},{"$f":"IF(ISBLANK('1-12-1.キャッシュフロー表 現状'!BD32),\"\",'1-12-1.キャッシュフロー表 現状'!BD32)","v":0},{"$f":"IF(ISBLANK('1-12-1.キャッシュフロー表 現状'!BE32),\"\",'1-12-1.キャッシュフロー表 現状'!BE32)","v":0},{"$f":"IF(ISBLANK('1-12-1.キャッシュフロー表 現状'!BF32),\"\",'1-12-1.キャッシュフロー表 現状'!BF32)","v":0},{"$f":"IF(ISBLANK('1-12-1.キャッシュフロー表 現状'!BG32),\"\",'1-12-1.キャッシュフロー表 現状'!BG32)","v":0},{"$f":"IF(ISBLANK('1-12-1.キャッシュフロー表 現状'!BH32),\"\",'1-12-1.キャッシュフロー表 現状'!BH32)","v":0},{"$f":"IF(ISBLANK('1-12-1.キャッシュフロー表 現状'!BI32),\"\",'1-12-1.キャッシュフロー表 現状'!BI32)","v":0},{"$f":"IF(ISBLANK('1-12-1.キャッシュフロー表 現状'!BJ32),\"\",'1-12-1.キャッシュフロー表 現状'!BJ32)","v":0},{"$f":"IF(ISBLANK('1-12-1.キャッシュフロー表 現状'!BK32),\"\",'1-12-1.キャッシュフロー表 現状'!BK32)","v":0},{"$f":"IF(ISBLANK('1-12-1.キャッシュフロー表 現状'!BL32),\"\",'1-12-1.キャッシュフロー表 現状'!BL32)","v":0},{"$f":"IF(ISBLANK('1-12-1.キャッシュフロー表 現状'!BM32),\"\",'1-12-1.キャッシュフロー表 現状'!BM32)","v":0},{"$f":"IF(ISBLANK('1-12-1.キャッシュフロー表 現状'!BN32),\"\",'1-12-1.キャッシュフロー表 現状'!BN32)","v":0},{"$f":"IF(ISBLANK('1-12-1.キャッシュフロー表 現状'!BO32),\"\",'1-12-1.キャッシュフロー表 現状'!BO32)","v":0},{"$f":"IF(ISBLANK('1-12-1.キャッシュフロー表 現状'!BP32),\"\",'1-12-1.キャッシュフロー表 現状'!BP32)","v":0},{"$f":"IF(ISBLANK('1-12-1.キャッシュフロー表 現状'!BQ32),\"\",'1-12-1.キャッシュフロー表 現状'!BQ32)","v":0},{"$f":"IF(ISBLANK('1-12-1.キャッシュフロー表 現状'!BR32),\"\",'1-12-1.キャッシュフロー表 現状'!BR32)","v":0},{"$f":"IF(ISBLANK('1-12-1.キャッシュフロー表 現状'!BS32),\"\",'1-12-1.キャッシュフロー表 現状'!BS32)","v":0},{"$f":"IF(ISBLANK('1-12-1.キャッシュフロー表 現状'!BT32),\"\",'1-12-1.キャッシュフロー表 現状'!BT32)","v":0},{"$f":"IF(ISBLANK('1-12-1.キャッシュフロー表 現状'!BU32),\"\",'1-12-1.キャッシュフロー表 現状'!BU32)","v":0},{"$f":"IF(ISBLANK('1-12-1.キャッシュフロー表 現状'!BV32),\"\",'1-12-1.キャッシュフロー表 現状'!BV32)","v":0},{"$f":"IF(ISBLANK('1-12-1.キャッシュフロー表 現状'!BW32),\"\",'1-12-1.キャッシュフロー表 現状'!BW32)","v":0},{"$f":"IF(ISBLANK('1-12-1.キャッシュフロー表 現状'!BX32),\"\",'1-12-1.キャッシュフロー表 現状'!BX32)","v":0},{"$f":"IF(ISBLANK('1-12-1.キャッシュフロー表 現状'!BY32),\"\",'1-12-1.キャッシュフロー表 現状'!BY32)","v":0},{"$f":"IF(ISBLANK('1-12-1.キャッシュフロー表 現状'!BZ32),\"\",'1-12-1.キャッシュフロー表 現状'!BZ32)","v":0}]
[null,null,null,{"$f":"IF(ISBLANK('1-12-3.キャッシュフロー表 解決策導入後②'!D33),\"\",'1-12-3.キャッシュフロー表 解決策導入後②'!D33)","v":""},{"$f":"IF(ISBLANK('1-12-3.キャッシュフロー表 解決策導入後②'!E33),\"\",'1-12-3.キャッシュフロー表 解決策導入後②'!E33)","v":0},{"$f":"IF(ISBLANK('1-12-3.キャッシュフロー表 解決策導入後②'!F33),\"\",'1-12-3.キャッシュフロー表 解決策導入後②'!F33&\"年後\")","v":""},null,{"$f":"IF(ISBLANK('1-12-3.キャッシュフロー表 解決策導入後②'!G33),\"\",'1-12-3.キャッシュフロー表 解決策導入後②'!G33)","v":0},{"$f":"IF(ISBLANK('1-12-3.キャッシュフロー表 解決策導入後②'!H33),\"\",'1-12-3.キャッシュフロー表 解決策導入後②'!H33)","v":""},{"$f":"IF(ISBLANK('1-12-3.キャッシュフロー表 解決策導入後②'!I33),\"\",'1-12-3.キャッシュフロー表 解決策導入後②'!I33)","v":0},{"$f":"IF(ISBLANK('1-12-3.キャッシュフロー表 解決策導入後②'!J33),\"\",'1-12-3.キャッシュフロー表 解決策導入後②'!J33)","v":0},{"$f":"IF(ISBLANK('1-12-3.キャッシュフロー表 解決策導入後②'!K33),\"\",'1-12-3.キャッシュフロー表 解決策導入後②'!K33)","v":0},{"$f":"IF(ISBLANK('1-12-3.キャッシュフロー表 解決策導入後②'!L33),\"\",'1-12-3.キャッシュフロー表 解決策導入後②'!L33)","v":0},{"$f":"IF(ISBLANK('1-12-3.キャッシュフロー表 解決策導入後②'!M33),\"\",'1-12-3.キャッシュフロー表 解決策導入後②'!M33)","v":0},{"$f":"IF(ISBLANK('1-12-3.キャッシュフロー表 解決策導入後②'!N33),\"\",'1-12-3.キャッシュフロー表 解決策導入後②'!N33)","v":0},{"$f":"IF(ISBLANK('1-12-3.キャッシュフロー表 解決策導入後②'!O33),\"\",'1-12-3.キャッシュフロー表 解決策導入後②'!O33)","v":0},{"$f":"IF(ISBLANK('1-12-3.キャッシュフロー表 解決策導入後②'!P33),\"\",'1-12-3.キャッシュフロー表 解決策導入後②'!P33)","v":0},{"$f":"IF(ISBLANK('1-12-3.キャッシュフロー表 解決策導入後②'!Q33),\"\",'1-12-3.キャッシュフロー表 解決策導入後②'!Q33)","v":0},{"$f":"IF(ISBLANK('1-12-3.キャッシュフロー表 解決策導入後②'!R33),\"\",'1-12-3.キャッシュフロー表 解決策導入後②'!R33)","v":0},{"$f":"IF(ISBLANK('1-12-3.キャッシュフロー表 解決策導入後②'!S33),\"\",'1-12-3.キャッシュフロー表 解決策導入後②'!S33)","v":0},{"$f":"IF(ISBLANK('1-12-3.キャッシュフロー表 解決策導入後②'!T33),\"\",'1-12-3.キャッシュフロー表 解決策導入後②'!T33)","v":0},{"$f":"IF(ISBLANK('1-12-3.キャッシュフロー表 解決策導入後②'!U33),\"\",'1-12-3.キャッシュフロー表 解決策導入後②'!U33)","v":0},{"$f":"IF(ISBLANK('1-12-3.キャッシュフロー表 解決策導入後②'!V33),\"\",'1-12-3.キャッシュフロー表 解決策導入後②'!V33)","v":0},{"$f":"IF(ISBLANK('1-12-3.キャッシュフロー表 解決策導入後②'!W33),\"\",'1-12-3.キャッシュフロー表 解決策導入後②'!W33)","v":0},{"$f":"IF(ISBLANK('1-12-3.キャッシュフロー表 解決策導入後②'!X33),\"\",'1-12-3.キャッシュフロー表 解決策導入後②'!X33)","v":0},{"$f":"IF(ISBLANK('1-12-3.キャッシュフロー表 解決策導入後②'!Y33),\"\",'1-12-3.キャッシュフロー表 解決策導入後②'!Y33)","v":0},{"$f":"IF(ISBLANK('1-12-3.キャッシュフロー表 解決策導入後②'!Z33),\"\",'1-12-3.キャッシュフロー表 解決策導入後②'!Z33)","v":0},{"$f":"IF(ISBLANK('1-12-3.キャッシュフロー表 解決策導入後②'!AA33),\"\",'1-12-3.キャッシュフロー表 解決策導入後②'!AA33)","v":0},{"$f":"IF(ISBLANK('1-12-3.キャッシュフロー表 解決策導入後②'!AB33),\"\",'1-12-3.キャッシュフロー表 解決策導入後②'!AB33)","v":0},{"$f":"IF(ISBLANK('1-12-3.キャッシュフロー表 解決策導入後②'!AC33),\"\",'1-12-3.キャッシュフロー表 解決策導入後②'!AC33)","v":0},{"$f":"IF(ISBLANK('1-12-3.キャッシュフロー表 解決策導入後②'!AD33),\"\",'1-12-3.キャッシュフロー表 解決策導入後②'!AD33)","v":0},{"$f":"IF(ISBLANK('1-12-3.キャッシュフロー表 解決策導入後②'!AE33),\"\",'1-12-3.キャッシュフロー表 解決策導入後②'!AE33)","v":0},{"$f":"IF(ISBLANK('1-12-3.キャッシュフロー表 解決策導入後②'!AF33),\"\",'1-12-3.キャッシュフロー表 解決策導入後②'!AF33)","v":0},{"$f":"IF(ISBLANK('1-12-3.キャッシュフロー表 解決策導入後②'!AG33),\"\",'1-12-3.キャッシュフロー表 解決策導入後②'!AG33)","v":0},{"$f":"IF(ISBLANK('1-12-3.キャッシュフロー表 解決策導入後②'!AH33),\"\",'1-12-3.キャッシュフロー表 解決策導入後②'!AH33)","v":0},{"$f":"IF(ISBLANK('1-12-3.キャッシュフロー表 解決策導入後②'!AI33),\"\",'1-12-3.キャッシュフロー表 解決策導入後②'!AI33)","v":0},{"$f":"IF(ISBLANK('1-12-3.キャッシュフロー表 解決策導入後②'!AJ33),\"\",'1-12-3.キャッシュフロー表 解決策導入後②'!AJ33)","v":0},{"$f":"IF(ISBLANK('1-12-3.キャッシュフロー表 解決策導入後②'!AK33),\"\",'1-12-3.キャッシュフロー表 解決策導入後②'!AK33)","v":0},{"$f":"IF(ISBLANK('1-12-3.キャッシュフロー表 解決策導入後②'!AL33),\"\",'1-12-3.キャッシュフロー表 解決策導入後②'!AL33)","v":0},null,null,null,null,{"$f":"IF(ISBLANK('1-12-2.キャッシュフロー表 解決策導入後'!D33),\"\",'1-12-2.キャッシュフロー表 解決策導入後'!D33)","v":""},{"$f":"IF(ISBLANK('1-12-2.キャッシュフロー表 解決策導入後'!E33),\"\",'1-12-2.キャッシュフロー表 解決策導入後'!E33)","v":0},{"$f":"IF(ISBLANK('1-12-2.キャッシュフロー表 解決策導入後'!F33),\"\",'1-12-2.キャッシュフロー表 解決策導入後'!F33&\"年後\")","v":""},null,{"$f":"IF(ISBLANK('1-12-2.キャッシュフロー表 解決策導入後'!G33),\"\",'1-12-2.キャッシュフロー表 解決策導入後'!G33)","v":0},{"$f":"IF(ISBLANK('1-12-1.キャッシュフロー表 現状'!AM33),\"\",'1-12-1.キャッシュフロー表 現状'!AM33)","v":0},{"$f":"IF(ISBLANK('1-12-1.キャッシュフロー表 現状'!AN33),\"\",'1-12-1.キャッシュフロー表 現状'!AN33)","v":0},{"$f":"IF(ISBLANK('1-12-1.キャッシュフロー表 現状'!AO33),\"\",'1-12-1.キャッシュフロー表 現状'!AO33)","v":0},{"$f":"IF(ISBLANK('1-12-1.キャッシュフロー表 現状'!AP33),\"\",'1-12-1.キャッシュフロー表 現状'!AP33)","v":0},{"$f":"IF(ISBLANK('1-12-1.キャッシュフロー表 現状'!AQ33),\"\",'1-12-1.キャッシュフロー表 現状'!AQ33)","v":0},{"$f":"IF(ISBLANK('1-12-1.キャッシュフロー表 現状'!AR33),\"\",'1-12-1.キャッシュフロー表 現状'!AR33)","v":0},{"$f":"IF(ISBLANK('1-12-1.キャッシュフロー表 現状'!AS33),\"\",'1-12-1.キャッシュフロー表 現状'!AS33)","v":0},{"$f":"IF(ISBLANK('1-12-1.キャッシュフロー表 現状'!AT33),\"\",'1-12-1.キャッシュフロー表 現状'!AT33)","v":0},{"$f":"IF(ISBLANK('1-12-1.キャッシュフロー表 現状'!AU33),\"\",'1-12-1.キャッシュフロー表 現状'!AU33)","v":0},{"$f":"IF(ISBLANK('1-12-1.キャッシュフロー表 現状'!AV33),\"\",'1-12-1.キャッシュフロー表 現状'!AV33)","v":0},{"$f":"IF(ISBLANK('1-12-1.キャッシュフロー表 現状'!AW33),\"\",'1-12-1.キャッシュフロー表 現状'!AW33)","v":0},{"$f":"IF(ISBLANK('1-12-1.キャッシュフロー表 現状'!AX33),\"\",'1-12-1.キャッシュフロー表 現状'!AX33)","v":0},{"$f":"IF(ISBLANK('1-12-1.キャッシュフロー表 現状'!AY33),\"\",'1-12-1.キャッシュフロー表 現状'!AY33)","v":0},{"$f":"IF(ISBLANK('1-12-1.キャッシュフロー表 現状'!AZ33),\"\",'1-12-1.キャッシュフロー表 現状'!AZ33)","v":0},{"$f":"IF(ISBLANK('1-12-1.キャッシュフロー表 現状'!BA33),\"\",'1-12-1.キャッシュフロー表 現状'!BA33)","v":0},{"$f":"IF(ISBLANK('1-12-1.キャッシュフロー表 現状'!BB33),\"\",'1-12-1.キャッシュフロー表 現状'!BB33)","v":0},{"$f":"IF(ISBLANK('1-12-1.キャッシュフロー表 現状'!BC33),\"\",'1-12-1.キャッシュフロー表 現状'!BC33)","v":0},{"$f":"IF(ISBLANK('1-12-1.キャッシュフロー表 現状'!BD33),\"\",'1-12-1.キャッシュフロー表 現状'!BD33)","v":0},{"$f":"IF(ISBLANK('1-12-1.キャッシュフロー表 現状'!BE33),\"\",'1-12-1.キャッシュフロー表 現状'!BE33)","v":0},{"$f":"IF(ISBLANK('1-12-1.キャッシュフロー表 現状'!BF33),\"\",'1-12-1.キャッシュフロー表 現状'!BF33)","v":0},{"$f":"IF(ISBLANK('1-12-1.キャッシュフロー表 現状'!BG33),\"\",'1-12-1.キャッシュフロー表 現状'!BG33)","v":0},{"$f":"IF(ISBLANK('1-12-1.キャッシュフロー表 現状'!BH33),\"\",'1-12-1.キャッシュフロー表 現状'!BH33)","v":0},{"$f":"IF(ISBLANK('1-12-1.キャッシュフロー表 現状'!BI33),\"\",'1-12-1.キャッシュフロー表 現状'!BI33)","v":0},{"$f":"IF(ISBLANK('1-12-1.キャッシュフロー表 現状'!BJ33),\"\",'1-12-1.キャッシュフロー表 現状'!BJ33)","v":0},{"$f":"IF(ISBLANK('1-12-1.キャッシュフロー表 現状'!BK33),\"\",'1-12-1.キャッシュフロー表 現状'!BK33)","v":0},{"$f":"IF(ISBLANK('1-12-1.キャッシュフロー表 現状'!BL33),\"\",'1-12-1.キャッシュフロー表 現状'!BL33)","v":0},{"$f":"IF(ISBLANK('1-12-1.キャッシュフロー表 現状'!BM33),\"\",'1-12-1.キャッシュフロー表 現状'!BM33)","v":0},{"$f":"IF(ISBLANK('1-12-1.キャッシュフロー表 現状'!BN33),\"\",'1-12-1.キャッシュフロー表 現状'!BN33)","v":0},{"$f":"IF(ISBLANK('1-12-1.キャッシュフロー表 現状'!BO33),\"\",'1-12-1.キャッシュフロー表 現状'!BO33)","v":0},{"$f":"IF(ISBLANK('1-12-1.キャッシュフロー表 現状'!BP33),\"\",'1-12-1.キャッシュフロー表 現状'!BP33)","v":0},{"$f":"IF(ISBLANK('1-12-1.キャッシュフロー表 現状'!BQ33),\"\",'1-12-1.キャッシュフロー表 現状'!BQ33)","v":0},{"$f":"IF(ISBLANK('1-12-1.キャッシュフロー表 現状'!BR33),\"\",'1-12-1.キャッシュフロー表 現状'!BR33)","v":0},{"$f":"IF(ISBLANK('1-12-1.キャッシュフロー表 現状'!BS33),\"\",'1-12-1.キャッシュフロー表 現状'!BS33)","v":0},{"$f":"IF(ISBLANK('1-12-1.キャッシュフロー表 現状'!BT33),\"\",'1-12-1.キャッシュフロー表 現状'!BT33)","v":0},{"$f":"IF(ISBLANK('1-12-1.キャッシュフロー表 現状'!BU33),\"\",'1-12-1.キャッシュフロー表 現状'!BU33)","v":0},{"$f":"IF(ISBLANK('1-12-1.キャッシュフロー表 現状'!BV33),\"\",'1-12-1.キャッシュフロー表 現状'!BV33)","v":0},{"$f":"IF(ISBLANK('1-12-1.キャッシュフロー表 現状'!BW33),\"\",'1-12-1.キャッシュフロー表 現状'!BW33)","v":0},{"$f":"IF(ISBLANK('1-12-1.キャッシュフロー表 現状'!BX33),\"\",'1-12-1.キャッシュフロー表 現状'!BX33)","v":0},{"$f":"IF(ISBLANK('1-12-1.キャッシュフロー表 現状'!BY33),\"\",'1-12-1.キャッシュフロー表 現状'!BY33)","v":0},{"$f":"IF(ISBLANK('1-12-1.キャッシュフロー表 現状'!BZ33),\"\",'1-12-1.キャッシュフロー表 現状'!BZ33)","v":0}]
[null,null,null,{"$f":"IF(ISBLANK('1-12-3.キャッシュフロー表 解決策導入後②'!D34),\"\",'1-12-3.キャッシュフロー表 解決策導入後②'!D34)","v":""},{"$f":"IF(ISBLANK('1-12-3.キャッシュフロー表 解決策導入後②'!E34),\"\",'1-12-3.キャッシュフロー表 解決策導入後②'!E34)","v":0},{"$f":"IF(ISBLANK('1-12-3.キャッシュフロー表 解決策導入後②'!F34),\"\",'1-12-3.キャッシュフロー表 解決策導入後②'!F34&\"年後\")","v":""},null,{"$f":"IF(ISBLANK('1-12-3.キャッシュフロー表 解決策導入後②'!G34),\"\",'1-12-3.キャッシュフロー表 解決策導入後②'!G34)","v":0},{"$f":"IF(ISBLANK('1-12-3.キャッシュフロー表 解決策導入後②'!H34),\"\",'1-12-3.キャッシュフロー表 解決策導入後②'!H34)","v":""},{"$f":"IF(ISBLANK('1-12-3.キャッシュフロー表 解決策導入後②'!I34),\"\",'1-12-3.キャッシュフロー表 解決策導入後②'!I34)","v":0},{"$f":"IF(ISBLANK('1-12-3.キャッシュフロー表 解決策導入後②'!J34),\"\",'1-12-3.キャッシュフロー表 解決策導入後②'!J34)","v":0},{"$f":"IF(ISBLANK('1-12-3.キャッシュフロー表 解決策導入後②'!K34),\"\",'1-12-3.キャッシュフロー表 解決策導入後②'!K34)","v":0},{"$f":"IF(ISBLANK('1-12-3.キャッシュフロー表 解決策導入後②'!L34),\"\",'1-12-3.キャッシュフロー表 解決策導入後②'!L34)","v":0},{"$f":"IF(ISBLANK('1-12-3.キャッシュフロー表 解決策導入後②'!M34),\"\",'1-12-3.キャッシュフロー表 解決策導入後②'!M34)","v":0},{"$f":"IF(ISBLANK('1-12-3.キャッシュフロー表 解決策導入後②'!N34),\"\",'1-12-3.キャッシュフロー表 解決策導入後②'!N34)","v":0},{"$f":"IF(ISBLANK('1-12-3.キャッシュフロー表 解決策導入後②'!O34),\"\",'1-12-3.キャッシュフロー表 解決策導入後②'!O34)","v":0},{"$f":"IF(ISBLANK('1-12-3.キャッシュフロー表 解決策導入後②'!P34),\"\",'1-12-3.キャッシュフロー表 解決策導入後②'!P34)","v":0},{"$f":"IF(ISBLANK('1-12-3.キャッシュフロー表 解決策導入後②'!Q34),\"\",'1-12-3.キャッシュフロー表 解決策導入後②'!Q34)","v":0},{"$f":"IF(ISBLANK('1-12-3.キャッシュフロー表 解決策導入後②'!R34),\"\",'1-12-3.キャッシュフロー表 解決策導入後②'!R34)","v":0},{"$f":"IF(ISBLANK('1-12-3.キャッシュフロー表 解決策導入後②'!S34),\"\",'1-12-3.キャッシュフロー表 解決策導入後②'!S34)","v":0},{"$f":"IF(ISBLANK('1-12-3.キャッシュフロー表 解決策導入後②'!T34),\"\",'1-12-3.キャッシュフロー表 解決策導入後②'!T34)","v":0},{"$f":"IF(ISBLANK('1-12-3.キャッシュフロー表 解決策導入後②'!U34),\"\",'1-12-3.キャッシュフロー表 解決策導入後②'!U34)","v":0},{"$f":"IF(ISBLANK('1-12-3.キャッシュフロー表 解決策導入後②'!V34),\"\",'1-12-3.キャッシュフロー表 解決策導入後②'!V34)","v":0},{"$f":"IF(ISBLANK('1-12-3.キャッシュフロー表 解決策導入後②'!W34),\"\",'1-12-3.キャッシュフロー表 解決策導入後②'!W34)","v":0},{"$f":"IF(ISBLANK('1-12-3.キャッシュフロー表 解決策導入後②'!X34),\"\",'1-12-3.キャッシュフロー表 解決策導入後②'!X34)","v":0},{"$f":"IF(ISBLANK('1-12-3.キャッシュフロー表 解決策導入後②'!Y34),\"\",'1-12-3.キャッシュフロー表 解決策導入後②'!Y34)","v":0},{"$f":"IF(ISBLANK('1-12-3.キャッシュフロー表 解決策導入後②'!Z34),\"\",'1-12-3.キャッシュフロー表 解決策導入後②'!Z34)","v":0},{"$f":"IF(ISBLANK('1-12-3.キャッシュフロー表 解決策導入後②'!AA34),\"\",'1-12-3.キャッシュフロー表 解決策導入後②'!AA34)","v":0},{"$f":"IF(ISBLANK('1-12-3.キャッシュフロー表 解決策導入後②'!AB34),\"\",'1-12-3.キャッシュフロー表 解決策導入後②'!AB34)","v":0},{"$f":"IF(ISBLANK('1-12-3.キャッシュフロー表 解決策導入後②'!AC34),\"\",'1-12-3.キャッシュフロー表 解決策導入後②'!AC34)","v":0},{"$f":"IF(ISBLANK('1-12-3.キャッシュフロー表 解決策導入後②'!AD34),\"\",'1-12-3.キャッシュフロー表 解決策導入後②'!AD34)","v":0},{"$f":"IF(ISBLANK('1-12-3.キャッシュフロー表 解決策導入後②'!AE34),\"\",'1-12-3.キャッシュフロー表 解決策導入後②'!AE34)","v":0},{"$f":"IF(ISBLANK('1-12-3.キャッシュフロー表 解決策導入後②'!AF34),\"\",'1-12-3.キャッシュフロー表 解決策導入後②'!AF34)","v":0},{"$f":"IF(ISBLANK('1-12-3.キャッシュフロー表 解決策導入後②'!AG34),\"\",'1-12-3.キャッシュフロー表 解決策導入後②'!AG34)","v":0},{"$f":"IF(ISBLANK('1-12-3.キャッシュフロー表 解決策導入後②'!AH34),\"\",'1-12-3.キャッシュフロー表 解決策導入後②'!AH34)","v":0},{"$f":"IF(ISBLANK('1-12-3.キャッシュフロー表 解決策導入後②'!AI34),\"\",'1-12-3.キャッシュフロー表 解決策導入後②'!AI34)","v":0},{"$f":"IF(ISBLANK('1-12-3.キャッシュフロー表 解決策導入後②'!AJ34),\"\",'1-12-3.キャッシュフロー表 解決策導入後②'!AJ34)","v":0},{"$f":"IF(ISBLANK('1-12-3.キャッシュフロー表 解決策導入後②'!AK34),\"\",'1-12-3.キャッシュフロー表 解決策導入後②'!AK34)","v":0},{"$f":"IF(ISBLANK('1-12-3.キャッシュフロー表 解決策導入後②'!AL34),\"\",'1-12-3.キャッシュフロー表 解決策導入後②'!AL34)","v":0},null,null,null,null,{"$f":"IF(ISBLANK('1-12-2.キャッシュフロー表 解決策導入後'!D34),\"\",'1-12-2.キャッシュフロー表 解決策導入後'!D34)","v":""},{"$f":"IF(ISBLANK('1-12-2.キャッシュフロー表 解決策導入後'!E34),\"\",'1-12-2.キャッシュフロー表 解決策導入後'!E34)","v":0},{"$f":"IF(ISBLANK('1-12-2.キャッシュフロー表 解決策導入後'!F34),\"\",'1-12-2.キャッシュフロー表 解決策導入後'!F34&\"年後\")","v":""},null,{"$f":"IF(ISBLANK('1-12-2.キャッシュフロー表 解決策導入後'!G34),\"\",'1-12-2.キャッシュフロー表 解決策導入後'!G34)","v":0},{"$f":"IF(ISBLANK('1-12-1.キャッシュフロー表 現状'!AM34),\"\",'1-12-1.キャッシュフロー表 現状'!AM34)","v":0},{"$f":"IF(ISBLANK('1-12-1.キャッシュフロー表 現状'!AN34),\"\",'1-12-1.キャッシュフロー表 現状'!AN34)","v":0},{"$f":"IF(ISBLANK('1-12-1.キャッシュフロー表 現状'!AO34),\"\",'1-12-1.キャッシュフロー表 現状'!AO34)","v":0},{"$f":"IF(ISBLANK('1-12-1.キャッシュフロー表 現状'!AP34),\"\",'1-12-1.キャッシュフロー表 現状'!AP34)","v":0},{"$f":"IF(ISBLANK('1-12-1.キャッシュフロー表 現状'!AQ34),\"\",'1-12-1.キャッシュフロー表 現状'!AQ34)","v":0},{"$f":"IF(ISBLANK('1-12-1.キャッシュフロー表 現状'!AR34),\"\",'1-12-1.キャッシュフロー表 現状'!AR34)","v":0},{"$f":"IF(ISBLANK('1-12-1.キャッシュフロー表 現状'!AS34),\"\",'1-12-1.キャッシュフロー表 現状'!AS34)","v":0},{"$f":"IF(ISBLANK('1-12-1.キャッシュフロー表 現状'!AT34),\"\",'1-12-1.キャッシュフロー表 現状'!AT34)","v":0},{"$f":"IF(ISBLANK('1-12-1.キャッシュフロー表 現状'!AU34),\"\",'1-12-1.キャッシュフロー表 現状'!AU34)","v":0},{"$f":"IF(ISBLANK('1-12-1.キャッシュフロー表 現状'!AV34),\"\",'1-12-1.キャッシュフロー表 現状'!AV34)","v":0},{"$f":"IF(ISBLANK('1-12-1.キャッシュフロー表 現状'!AW34),\"\",'1-12-1.キャッシュフロー表 現状'!AW34)","v":0},{"$f":"IF(ISBLANK('1-12-1.キャッシュフロー表 現状'!AX34),\"\",'1-12-1.キャッシュフロー表 現状'!AX34)","v":0},{"$f":"IF(ISBLANK('1-12-1.キャッシュフロー表 現状'!AY34),\"\",'1-12-1.キャッシュフロー表 現状'!AY34)","v":0},{"$f":"IF(ISBLANK('1-12-1.キャッシュフロー表 現状'!AZ34),\"\",'1-12-1.キャッシュフロー表 現状'!AZ34)","v":0},{"$f":"IF(ISBLANK('1-12-1.キャッシュフロー表 現状'!BA34),\"\",'1-12-1.キャッシュフロー表 現状'!BA34)","v":0},{"$f":"IF(ISBLANK('1-12-1.キャッシュフロー表 現状'!BB34),\"\",'1-12-1.キャッシュフロー表 現状'!BB34)","v":0},{"$f":"IF(ISBLANK('1-12-1.キャッシュフロー表 現状'!BC34),\"\",'1-12-1.キャッシュフロー表 現状'!BC34)","v":0},{"$f":"IF(ISBLANK('1-12-1.キャッシュフロー表 現状'!BD34),\"\",'1-12-1.キャッシュフロー表 現状'!BD34)","v":0},{"$f":"IF(ISBLANK('1-12-1.キャッシュフロー表 現状'!BE34),\"\",'1-12-1.キャッシュフロー表 現状'!BE34)","v":0},{"$f":"IF(ISBLANK('1-12-1.キャッシュフロー表 現状'!BF34),\"\",'1-12-1.キャッシュフロー表 現状'!BF34)","v":0},{"$f":"IF(ISBLANK('1-12-1.キャッシュフロー表 現状'!BG34),\"\",'1-12-1.キャッシュフロー表 現状'!BG34)","v":0},{"$f":"IF(ISBLANK('1-12-1.キャッシュフロー表 現状'!BH34),\"\",'1-12-1.キャッシュフロー表 現状'!BH34)","v":0},{"$f":"IF(ISBLANK('1-12-1.キャッシュフロー表 現状'!BI34),\"\",'1-12-1.キャッシュフロー表 現状'!BI34)","v":0},{"$f":"IF(ISBLANK('1-12-1.キャッシュフロー表 現状'!BJ34),\"\",'1-12-1.キャッシュフロー表 現状'!BJ34)","v":0},{"$f":"IF(ISBLANK('1-12-1.キャッシュフロー表 現状'!BK34),\"\",'1-12-1.キャッシュフロー表 現状'!BK34)","v":0},{"$f":"IF(ISBLANK('1-12-1.キャッシュフロー表 現状'!BL34),\"\",'1-12-1.キャッシュフロー表 現状'!BL34)","v":0},{"$f":"IF(ISBLANK('1-12-1.キャッシュフロー表 現状'!BM34),\"\",'1-12-1.キャッシュフロー表 現状'!BM34)","v":0},{"$f":"IF(ISBLANK('1-12-1.キャッシュフロー表 現状'!BN34),\"\",'1-12-1.キャッシュフロー表 現状'!BN34)","v":0},{"$f":"IF(ISBLANK('1-12-1.キャッシュフロー表 現状'!BO34),\"\",'1-12-1.キャッシュフロー表 現状'!BO34)","v":0},{"$f":"IF(ISBLANK('1-12-1.キャッシュフロー表 現状'!BP34),\"\",'1-12-1.キャッシュフロー表 現状'!BP34)","v":0},{"$f":"IF(ISBLANK('1-12-1.キャッシュフロー表 現状'!BQ34),\"\",'1-12-1.キャッシュフロー表 現状'!BQ34)","v":0},{"$f":"IF(ISBLANK('1-12-1.キャッシュフロー表 現状'!BR34),\"\",'1-12-1.キャッシュフロー表 現状'!BR34)","v":0},{"$f":"IF(ISBLANK('1-12-1.キャッシュフロー表 現状'!BS34),\"\",'1-12-1.キャッシュフロー表 現状'!BS34)","v":0},{"$f":"IF(ISBLANK('1-12-1.キャッシュフロー表 現状'!BT34),\"\",'1-12-1.キャッシュフロー表 現状'!BT34)","v":0},{"$f":"IF(ISBLANK('1-12-1.キャッシュフロー表 現状'!BU34),\"\",'1-12-1.キャッシュフロー表 現状'!BU34)","v":0},{"$f":"IF(ISBLANK('1-12-1.キャッシュフロー表 現状'!BV34),\"\",'1-12-1.キャッシュフロー表 現状'!BV34)","v":0},{"$f":"IF(ISBLANK('1-12-1.キャッシュフロー表 現状'!BW34),\"\",'1-12-1.キャッシュフロー表 現状'!BW34)","v":0},{"$f":"IF(ISBLANK('1-12-1.キャッシュフロー表 現状'!BX34),\"\",'1-12-1.キャッシュフロー表 現状'!BX34)","v":0},{"$f":"IF(ISBLANK('1-12-1.キャッシュフロー表 現状'!BY34),\"\",'1-12-1.キャッシュフロー表 現状'!BY34)","v":0},{"$f":"IF(ISBLANK('1-12-1.キャッシュフロー表 現状'!BZ34),\"\",'1-12-1.キャッシュフロー表 現状'!BZ34)","v":0}]
[null,null,null,{"$f":"IF(ISBLANK('1-12-3.キャッシュフロー表 解決策導入後②'!D35),\"\",'1-12-3.キャッシュフロー表 解決策導入後②'!D35)","v":""},{"$f":"IF(ISBLANK('1-12-3.キャッシュフロー表 解決策導入後②'!E35),\"\",'1-12-3.キャッシュフロー表 解決策導入後②'!E35)","v":0},{"$f":"IF(ISBLANK('1-12-3.キャッシュフロー表 解決策導入後②'!F35),\"\",'1-12-3.キャッシュフロー表 解決策導入後②'!F35&\"年後\")","v":""},null,{"$f":"IF(ISBLANK('1-12-3.キャッシュフロー表 解決策導入後②'!G35),\"\",'1-12-3.キャッシュフロー表 解決策導入後②'!G35)","v":0},{"$f":"IF(ISBLANK('1-12-3.キャッシュフロー表 解決策導入後②'!H35),\"\",'1-12-3.キャッシュフロー表 解決策導入後②'!H35)","v":""},{"$f":"IF(ISBLANK('1-12-3.キャッシュフロー表 解決策導入後②'!I35),\"\",'1-12-3.キャッシュフロー表 解決策導入後②'!I35)","v":0},{"$f":"IF(ISBLANK('1-12-3.キャッシュフロー表 解決策導入後②'!J35),\"\",'1-12-3.キャッシュフロー表 解決策導入後②'!J35)","v":0},{"$f":"IF(ISBLANK('1-12-3.キャッシュフロー表 解決策導入後②'!K35),\"\",'1-12-3.キャッシュフロー表 解決策導入後②'!K35)","v":0},{"$f":"IF(ISBLANK('1-12-3.キャッシュフロー表 解決策導入後②'!L35),\"\",'1-12-3.キャッシュフロー表 解決策導入後②'!L35)","v":0},{"$f":"IF(ISBLANK('1-12-3.キャッシュフロー表 解決策導入後②'!M35),\"\",'1-12-3.キャッシュフロー表 解決策導入後②'!M35)","v":0},{"$f":"IF(ISBLANK('1-12-3.キャッシュフロー表 解決策導入後②'!N35),\"\",'1-12-3.キャッシュフロー表 解決策導入後②'!N35)","v":0},{"$f":"IF(ISBLANK('1-12-3.キャッシュフロー表 解決策導入後②'!O35),\"\",'1-12-3.キャッシュフロー表 解決策導入後②'!O35)","v":0},{"$f":"IF(ISBLANK('1-12-3.キャッシュフロー表 解決策導入後②'!P35),\"\",'1-12-3.キャッシュフロー表 解決策導入後②'!P35)","v":0},{"$f":"IF(ISBLANK('1-12-3.キャッシュフロー表 解決策導入後②'!Q35),\"\",'1-12-3.キャッシュフロー表 解決策導入後②'!Q35)","v":0},{"$f":"IF(ISBLANK('1-12-3.キャッシュフロー表 解決策導入後②'!R35),\"\",'1-12-3.キャッシュフロー表 解決策導入後②'!R35)","v":0},{"$f":"IF(ISBLANK('1-12-3.キャッシュフロー表 解決策導入後②'!S35),\"\",'1-12-3.キャッシュフロー表 解決策導入後②'!S35)","v":0},{"$f":"IF(ISBLANK('1-12-3.キャッシュフロー表 解決策導入後②'!T35),\"\",'1-12-3.キャッシュフロー表 解決策導入後②'!T35)","v":0},{"$f":"IF(ISBLANK('1-12-3.キャッシュフロー表 解決策導入後②'!U35),\"\",'1-12-3.キャッシュフロー表 解決策導入後②'!U35)","v":0},{"$f":"IF(ISBLANK('1-12-3.キャッシュフロー表 解決策導入後②'!V35),\"\",'1-12-3.キャッシュフロー表 解決策導入後②'!V35)","v":0},{"$f":"IF(ISBLANK('1-12-3.キャッシュフロー表 解決策導入後②'!W35),\"\",'1-12-3.キャッシュフロー表 解決策導入後②'!W35)","v":0},{"$f":"IF(ISBLANK('1-12-3.キャッシュフロー表 解決策導入後②'!X35),\"\",'1-12-3.キャッシュフロー表 解決策導入後②'!X35)","v":0},{"$f":"IF(ISBLANK('1-12-3.キャッシュフロー表 解決策導入後②'!Y35),\"\",'1-12-3.キャッシュフロー表 解決策導入後②'!Y35)","v":0},{"$f":"IF(ISBLANK('1-12-3.キャッシュフロー表 解決策導入後②'!Z35),\"\",'1-12-3.キャッシュフロー表 解決策導入後②'!Z35)","v":0},{"$f":"IF(ISBLANK('1-12-3.キャッシュフロー表 解決策導入後②'!AA35),\"\",'1-12-3.キャッシュフロー表 解決策導入後②'!AA35)","v":0},{"$f":"IF(ISBLANK('1-12-3.キャッシュフロー表 解決策導入後②'!AB35),\"\",'1-12-3.キャッシュフロー表 解決策導入後②'!AB35)","v":0},{"$f":"IF(ISBLANK('1-12-3.キャッシュフロー表 解決策導入後②'!AC35),\"\",'1-12-3.キャッシュフロー表 解決策導入後②'!AC35)","v":0},{"$f":"IF(ISBLANK('1-12-3.キャッシュフロー表 解決策導入後②'!AD35),\"\",'1-12-3.キャッシュフロー表 解決策導入後②'!AD35)","v":0},{"$f":"IF(ISBLANK('1-12-3.キャッシュフロー表 解決策導入後②'!AE35),\"\",'1-12-3.キャッシュフロー表 解決策導入後②'!AE35)","v":0},{"$f":"IF(ISBLANK('1-12-3.キャッシュフロー表 解決策導入後②'!AF35),\"\",'1-12-3.キャッシュフロー表 解決策導入後②'!AF35)","v":0},{"$f":"IF(ISBLANK('1-12-3.キャッシュフロー表 解決策導入後②'!AG35),\"\",'1-12-3.キャッシュフロー表 解決策導入後②'!AG35)","v":0},{"$f":"IF(ISBLANK('1-12-3.キャッシュフロー表 解決策導入後②'!AH35),\"\",'1-12-3.キャッシュフロー表 解決策導入後②'!AH35)","v":0},{"$f":"IF(ISBLANK('1-12-3.キャッシュフロー表 解決策導入後②'!AI35),\"\",'1-12-3.キャッシュフロー表 解決策導入後②'!AI35)","v":0},{"$f":"IF(ISBLANK('1-12-3.キャッシュフロー表 解決策導入後②'!AJ35),\"\",'1-12-3.キャッシュフロー表 解決策導入後②'!AJ35)","v":0},{"$f":"IF(ISBLANK('1-12-3.キャッシュフロー表 解決策導入後②'!AK35),\"\",'1-12-3.キャッシュフロー表 解決策導入後②'!AK35)","v":0},{"$f":"IF(ISBLANK('1-12-3.キャッシュフロー表 解決策導入後②'!AL35),\"\",'1-12-3.キャッシュフロー表 解決策導入後②'!AL35)","v":0},null,null,null,null,{"$f":"IF(ISBLANK('1-12-2.キャッシュフロー表 解決策導入後'!D35),\"\",'1-12-2.キャッシュフロー表 解決策導入後'!D35)","v":""},{"$f":"IF(ISBLANK('1-12-2.キャッシュフロー表 解決策導入後'!E35),\"\",'1-12-2.キャッシュフロー表 解決策導入後'!E35)","v":0},{"$f":"IF(ISBLANK('1-12-2.キャッシュフロー表 解決策導入後'!F35),\"\",'1-12-2.キャッシュフロー表 解決策導入後'!F35&\"年後\")","v":""},null,{"$f":"IF(ISBLANK('1-12-2.キャッシュフロー表 解決策導入後'!G35),\"\",'1-12-2.キャッシュフロー表 解決策導入後'!G35)","v":0},{"$f":"IF(ISBLANK('1-12-1.キャッシュフロー表 現状'!AM35),\"\",'1-12-1.キャッシュフロー表 現状'!AM35)","v":0},{"$f":"IF(ISBLANK('1-12-1.キャッシュフロー表 現状'!AN35),\"\",'1-12-1.キャッシュフロー表 現状'!AN35)","v":0},{"$f":"IF(ISBLANK('1-12-1.キャッシュフロー表 現状'!AO35),\"\",'1-12-1.キャッシュフロー表 現状'!AO35)","v":0},{"$f":"IF(ISBLANK('1-12-1.キャッシュフロー表 現状'!AP35),\"\",'1-12-1.キャッシュフロー表 現状'!AP35)","v":0},{"$f":"IF(ISBLANK('1-12-1.キャッシュフロー表 現状'!AQ35),\"\",'1-12-1.キャッシュフロー表 現状'!AQ35)","v":0},{"$f":"IF(ISBLANK('1-12-1.キャッシュフロー表 現状'!AR35),\"\",'1-12-1.キャッシュフロー表 現状'!AR35)","v":0},{"$f":"IF(ISBLANK('1-12-1.キャッシュフロー表 現状'!AS35),\"\",'1-12-1.キャッシュフロー表 現状'!AS35)","v":0},{"$f":"IF(ISBLANK('1-12-1.キャッシュフロー表 現状'!AT35),\"\",'1-12-1.キャッシュフロー表 現状'!AT35)","v":0},{"$f":"IF(ISBLANK('1-12-1.キャッシュフロー表 現状'!AU35),\"\",'1-12-1.キャッシュフロー表 現状'!AU35)","v":0},{"$f":"IF(ISBLANK('1-12-1.キャッシュフロー表 現状'!AV35),\"\",'1-12-1.キャッシュフロー表 現状'!AV35)","v":0},{"$f":"IF(ISBLANK('1-12-1.キャッシュフロー表 現状'!AW35),\"\",'1-12-1.キャッシュフロー表 現状'!AW35)","v":0},{"$f":"IF(ISBLANK('1-12-1.キャッシュフロー表 現状'!AX35),\"\",'1-12-1.キャッシュフロー表 現状'!AX35)","v":0},{"$f":"IF(ISBLANK('1-12-1.キャッシュフロー表 現状'!AY35),\"\",'1-12-1.キャッシュフロー表 現状'!AY35)","v":0},{"$f":"IF(ISBLANK('1-12-1.キャッシュフロー表 現状'!AZ35),\"\",'1-12-1.キャッシュフロー表 現状'!AZ35)","v":0},{"$f":"IF(ISBLANK('1-12-1.キャッシュフロー表 現状'!BA35),\"\",'1-12-1.キャッシュフロー表 現状'!BA35)","v":0},{"$f":"IF(ISBLANK('1-12-1.キャッシュフロー表 現状'!BB35),\"\",'1-12-1.キャッシュフロー表 現状'!BB35)","v":0},{"$f":"IF(ISBLANK('1-12-1.キャッシュフロー表 現状'!BC35),\"\",'1-12-1.キャッシュフロー表 現状'!BC35)","v":0},{"$f":"IF(ISBLANK('1-12-1.キャッシュフロー表 現状'!BD35),\"\",'1-12-1.キャッシュフロー表 現状'!BD35)","v":0},{"$f":"IF(ISBLANK('1-12-1.キャッシュフロー表 現状'!BE35),\"\",'1-12-1.キャッシュフロー表 現状'!BE35)","v":0},{"$f":"IF(ISBLANK('1-12-1.キャッシュフロー表 現状'!BF35),\"\",'1-12-1.キャッシュフロー表 現状'!BF35)","v":0},{"$f":"IF(ISBLANK('1-12-1.キャッシュフロー表 現状'!BG35),\"\",'1-12-1.キャッシュフロー表 現状'!BG35)","v":0},{"$f":"IF(ISBLANK('1-12-1.キャッシュフロー表 現状'!BH35),\"\",'1-12-1.キャッシュフロー表 現状'!BH35)","v":0},{"$f":"IF(ISBLANK('1-12-1.キャッシュフロー表 現状'!BI35),\"\",'1-12-1.キャッシュフロー表 現状'!BI35)","v":0},{"$f":"IF(ISBLANK('1-12-1.キャッシュフロー表 現状'!BJ35),\"\",'1-12-1.キャッシュフロー表 現状'!BJ35)","v":0},{"$f":"IF(ISBLANK('1-12-1.キャッシュフロー表 現状'!BK35),\"\",'1-12-1.キャッシュフロー表 現状'!BK35)","v":0},{"$f":"IF(ISBLANK('1-12-1.キャッシュフロー表 現状'!BL35),\"\",'1-12-1.キャッシュフロー表 現状'!BL35)","v":0},{"$f":"IF(ISBLANK('1-12-1.キャッシュフロー表 現状'!BM35),\"\",'1-12-1.キャッシュフロー表 現状'!BM35)","v":0},{"$f":"IF(ISBLANK('1-12-1.キャッシュフロー表 現状'!BN35),\"\",'1-12-1.キャッシュフロー表 現状'!BN35)","v":0},{"$f":"IF(ISBLANK('1-12-1.キャッシュフロー表 現状'!BO35),\"\",'1-12-1.キャッシュフロー表 現状'!BO35)","v":0},{"$f":"IF(ISBLANK('1-12-1.キャッシュフロー表 現状'!BP35),\"\",'1-12-1.キャッシュフロー表 現状'!BP35)","v":0},{"$f":"IF(ISBLANK('1-12-1.キャッシュフロー表 現状'!BQ35),\"\",'1-12-1.キャッシュフロー表 現状'!BQ35)","v":0},{"$f":"IF(ISBLANK('1-12-1.キャッシュフロー表 現状'!BR35),\"\",'1-12-1.キャッシュフロー表 現状'!BR35)","v":0},{"$f":"IF(ISBLANK('1-12-1.キャッシュフロー表 現状'!BS35),\"\",'1-12-1.キャッシュフロー表 現状'!BS35)","v":0},{"$f":"IF(ISBLANK('1-12-1.キャッシュフロー表 現状'!BT35),\"\",'1-12-1.キャッシュフロー表 現状'!BT35)","v":0},{"$f":"IF(ISBLANK('1-12-1.キャッシュフロー表 現状'!BU35),\"\",'1-12-1.キャッシュフロー表 現状'!BU35)","v":0},{"$f":"IF(ISBLANK('1-12-1.キャッシュフロー表 現状'!BV35),\"\",'1-12-1.キャッシュフロー表 現状'!BV35)","v":0},{"$f":"IF(ISBLANK('1-12-1.キャッシュフロー表 現状'!BW35),\"\",'1-12-1.キャッシュフロー表 現状'!BW35)","v":0},{"$f":"IF(ISBLANK('1-12-1.キャッシュフロー表 現状'!BX35),\"\",'1-12-1.キャッシュフロー表 現状'!BX35)","v":0},{"$f":"IF(ISBLANK('1-12-1.キャッシュフロー表 現状'!BY35),\"\",'1-12-1.キャッシュフロー表 現状'!BY35)","v":0},{"$f":"IF(ISBLANK('1-12-1.キャッシュフロー表 現状'!BZ35),\"\",'1-12-1.キャッシュフロー表 現状'!BZ35)","v":0}]
[null,null,null,{"$f":"IF(ISBLANK('1-12-3.キャッシュフロー表 解決策導入後②'!D36),\"\",'1-12-3.キャッシュフロー表 解決策導入後②'!D36)","v":""},{"$f":"IF(ISBLANK('1-12-3.キャッシュフロー表 解決策導入後②'!E36),\"\",'1-12-3.キャッシュフロー表 解決策導入後②'!E36)","v":0},{"$f":"IF(ISBLANK('1-12-3.キャッシュフロー表 解決策導入後②'!F36),\"\",'1-12-3.キャッシュフロー表 解決策導入後②'!F36&\"年後\")","v":""},null,{"$f":"IF(ISBLANK('1-12-3.キャッシュフロー表 解決策導入後②'!G36),\"\",'1-12-3.キャッシュフロー表 解決策導入後②'!G36)","v":0},{"$f":"IF(ISBLANK('1-12-3.キャッシュフロー表 解決策導入後②'!H36),\"\",'1-12-3.キャッシュフロー表 解決策導入後②'!H36)","v":""},{"$f":"IF(ISBLANK('1-12-3.キャッシュフロー表 解決策導入後②'!I36),\"\",'1-12-3.キャッシュフロー表 解決策導入後②'!I36)","v":0},{"$f":"IF(ISBLANK('1-12-3.キャッシュフロー表 解決策導入後②'!J36),\"\",'1-12-3.キャッシュフロー表 解決策導入後②'!J36)","v":0},{"$f":"IF(ISBLANK('1-12-3.キャッシュフロー表 解決策導入後②'!K36),\"\",'1-12-3.キャッシュフロー表 解決策導入後②'!K36)","v":0},{"$f":"IF(ISBLANK('1-12-3.キャッシュフロー表 解決策導入後②'!L36),\"\",'1-12-3.キャッシュフロー表 解決策導入後②'!L36)","v":0},{"$f":"IF(ISBLANK('1-12-3.キャッシュフロー表 解決策導入後②'!M36),\"\",'1-12-3.キャッシュフロー表 解決策導入後②'!M36)","v":0},{"$f":"IF(ISBLANK('1-12-3.キャッシュフロー表 解決策導入後②'!N36),\"\",'1-12-3.キャッシュフロー表 解決策導入後②'!N36)","v":0},{"$f":"IF(ISBLANK('1-12-3.キャッシュフロー表 解決策導入後②'!O36),\"\",'1-12-3.キャッシュフロー表 解決策導入後②'!O36)","v":0},{"$f":"IF(ISBLANK('1-12-3.キャッシュフロー表 解決策導入後②'!P36),\"\",'1-12-3.キャッシュフロー表 解決策導入後②'!P36)","v":0},{"$f":"IF(ISBLANK('1-12-3.キャッシュフロー表 解決策導入後②'!Q36),\"\",'1-12-3.キャッシュフロー表 解決策導入後②'!Q36)","v":0},{"$f":"IF(ISBLANK('1-12-3.キャッシュフロー表 解決策導入後②'!R36),\"\",'1-12-3.キャッシュフロー表 解決策導入後②'!R36)","v":0},{"$f":"IF(ISBLANK('1-12-3.キャッシュフロー表 解決策導入後②'!S36),\"\",'1-12-3.キャッシュフロー表 解決策導入後②'!S36)","v":0},{"$f":"IF(ISBLANK('1-12-3.キャッシュフロー表 解決策導入後②'!T36),\"\",'1-12-3.キャッシュフロー表 解決策導入後②'!T36)","v":0},{"$f":"IF(ISBLANK('1-12-3.キャッシュフロー表 解決策導入後②'!U36),\"\",'1-12-3.キャッシュフロー表 解決策導入後②'!U36)","v":0},{"$f":"IF(ISBLANK('1-12-3.キャッシュフロー表 解決策導入後②'!V36),\"\",'1-12-3.キャッシュフロー表 解決策導入後②'!V36)","v":0},{"$f":"IF(ISBLANK('1-12-3.キャッシュフロー表 解決策導入後②'!W36),\"\",'1-12-3.キャッシュフロー表 解決策導入後②'!W36)","v":0},{"$f":"IF(ISBLANK('1-12-3.キャッシュフロー表 解決策導入後②'!X36),\"\",'1-12-3.キャッシュフロー表 解決策導入後②'!X36)","v":0},{"$f":"IF(ISBLANK('1-12-3.キャッシュフロー表 解決策導入後②'!Y36),\"\",'1-12-3.キャッシュフロー表 解決策導入後②'!Y36)","v":0},{"$f":"IF(ISBLANK('1-12-3.キャッシュフロー表 解決策導入後②'!Z36),\"\",'1-12-3.キャッシュフロー表 解決策導入後②'!Z36)","v":0},{"$f":"IF(ISBLANK('1-12-3.キャッシュフロー表 解決策導入後②'!AA36),\"\",'1-12-3.キャッシュフロー表 解決策導入後②'!AA36)","v":0},{"$f":"IF(ISBLANK('1-12-3.キャッシュフロー表 解決策導入後②'!AB36),\"\",'1-12-3.キャッシュフロー表 解決策導入後②'!AB36)","v":0},{"$f":"IF(ISBLANK('1-12-3.キャッシュフロー表 解決策導入後②'!AC36),\"\",'1-12-3.キャッシュフロー表 解決策導入後②'!AC36)","v":0},{"$f":"IF(ISBLANK('1-12-3.キャッシュフロー表 解決策導入後②'!AD36),\"\",'1-12-3.キャッシュフロー表 解決策導入後②'!AD36)","v":0},{"$f":"IF(ISBLANK('1-12-3.キャッシュフロー表 解決策導入後②'!AE36),\"\",'1-12-3.キャッシュフロー表 解決策導入後②'!AE36)","v":0},{"$f":"IF(ISBLANK('1-12-3.キャッシュフロー表 解決策導入後②'!AF36),\"\",'1-12-3.キャッシュフロー表 解決策導入後②'!AF36)","v":0},{"$f":"IF(ISBLANK('1-12-3.キャッシュフロー表 解決策導入後②'!AG36),\"\",'1-12-3.キャッシュフロー表 解決策導入後②'!AG36)","v":0},{"$f":"IF(ISBLANK('1-12-3.キャッシュフロー表 解決策導入後②'!AH36),\"\",'1-12-3.キャッシュフロー表 解決策導入後②'!AH36)","v":0},{"$f":"IF(ISBLANK('1-12-3.キャッシュフロー表 解決策導入後②'!AI36),\"\",'1-12-3.キャッシュフロー表 解決策導入後②'!AI36)","v":0},{"$f":"IF(ISBLANK('1-12-3.キャッシュフロー表 解決策導入後②'!AJ36),\"\",'1-12-3.キャッシュフロー表 解決策導入後②'!AJ36)","v":0},{"$f":"IF(ISBLANK('1-12-3.キャッシュフロー表 解決策導入後②'!AK36),\"\",'1-12-3.キャッシュフロー表 解決策導入後②'!AK36)","v":0},{"$f":"IF(ISBLANK('1-12-3.キャッシュフロー表 解決策導入後②'!AL36),\"\",'1-12-3.キャッシュフロー表 解決策導入後②'!AL36)","v":0},null,null,null,null,{"$f":"IF(ISBLANK('1-12-2.キャッシュフロー表 解決策導入後'!D36),\"\",'1-12-2.キャッシュフロー表 解決策導入後'!D36)","v":""},{"$f":"IF(ISBLANK('1-12-2.キャッシュフロー表 解決策導入後'!E36),\"\",'1-12-2.キャッシュフロー表 解決策導入後'!E36)","v":0},{"$f":"IF(ISBLANK('1-12-2.キャッシュフロー表 解決策導入後'!F36),\"\",'1-12-2.キャッシュフロー表 解決策導入後'!F36&\"年後\")","v":""},null,{"$f":"IF(ISBLANK('1-12-2.キャッシュフロー表 解決策導入後'!G36),\"\",'1-12-2.キャッシュフロー表 解決策導入後'!G36)","v":0},{"$f":"IF(ISBLANK('1-12-1.キャッシュフロー表 現状'!AM36),\"\",'1-12-1.キャッシュフロー表 現状'!AM36)","v":0},{"$f":"IF(ISBLANK('1-12-1.キャッシュフロー表 現状'!AN36),\"\",'1-12-1.キャッシュフロー表 現状'!AN36)","v":0},{"$f":"IF(ISBLANK('1-12-1.キャッシュフロー表 現状'!AO36),\"\",'1-12-1.キャッシュフロー表 現状'!AO36)","v":0},{"$f":"IF(ISBLANK('1-12-1.キャッシュフロー表 現状'!AP36),\"\",'1-12-1.キャッシュフロー表 現状'!AP36)","v":0},{"$f":"IF(ISBLANK('1-12-1.キャッシュフロー表 現状'!AQ36),\"\",'1-12-1.キャッシュフロー表 現状'!AQ36)","v":0},{"$f":"IF(ISBLANK('1-12-1.キャッシュフロー表 現状'!AR36),\"\",'1-12-1.キャッシュフロー表 現状'!AR36)","v":0},{"$f":"IF(ISBLANK('1-12-1.キャッシュフロー表 現状'!AS36),\"\",'1-12-1.キャッシュフロー表 現状'!AS36)","v":0},{"$f":"IF(ISBLANK('1-12-1.キャッシュフロー表 現状'!AT36),\"\",'1-12-1.キャッシュフロー表 現状'!AT36)","v":0},{"$f":"IF(ISBLANK('1-12-1.キャッシュフロー表 現状'!AU36),\"\",'1-12-1.キャッシュフロー表 現状'!AU36)","v":0},{"$f":"IF(ISBLANK('1-12-1.キャッシュフロー表 現状'!AV36),\"\",'1-12-1.キャッシュフロー表 現状'!AV36)","v":0},{"$f":"IF(ISBLANK('1-12-1.キャッシュフロー表 現状'!AW36),\"\",'1-12-1.キャッシュフロー表 現状'!AW36)","v":0},{"$f":"IF(ISBLANK('1-12-1.キャッシュフロー表 現状'!AX36),\"\",'1-12-1.キャッシュフロー表 現状'!AX36)","v":0},{"$f":"IF(ISBLANK('1-12-1.キャッシュフロー表 現状'!AY36),\"\",'1-12-1.キャッシュフロー表 現状'!AY36)","v":0},{"$f":"IF(ISBLANK('1-12-1.キャッシュフロー表 現状'!AZ36),\"\",'1-12-1.キャッシュフロー表 現状'!AZ36)","v":0},{"$f":"IF(ISBLANK('1-12-1.キャッシュフロー表 現状'!BA36),\"\",'1-12-1.キャッシュフロー表 現状'!BA36)","v":0},{"$f":"IF(ISBLANK('1-12-1.キャッシュフロー表 現状'!BB36),\"\",'1-12-1.キャッシュフロー表 現状'!BB36)","v":0},{"$f":"IF(ISBLANK('1-12-1.キャッシュフロー表 現状'!BC36),\"\",'1-12-1.キャッシュフロー表 現状'!BC36)","v":0},{"$f":"IF(ISBLANK('1-12-1.キャッシュフロー表 現状'!BD36),\"\",'1-12-1.キャッシュフロー表 現状'!BD36)","v":0},{"$f":"IF(ISBLANK('1-12-1.キャッシュフロー表 現状'!BE36),\"\",'1-12-1.キャッシュフロー表 現状'!BE36)","v":0},{"$f":"IF(ISBLANK('1-12-1.キャッシュフロー表 現状'!BF36),\"\",'1-12-1.キャッシュフロー表 現状'!BF36)","v":0},{"$f":"IF(ISBLANK('1-12-1.キャッシュフロー表 現状'!BG36),\"\",'1-12-1.キャッシュフロー表 現状'!BG36)","v":0},{"$f":"IF(ISBLANK('1-12-1.キャッシュフロー表 現状'!BH36),\"\",'1-12-1.キャッシュフロー表 現状'!BH36)","v":0},{"$f":"IF(ISBLANK('1-12-1.キャッシュフロー表 現状'!BI36),\"\",'1-12-1.キャッシュフロー表 現状'!BI36)","v":0},{"$f":"IF(ISBLANK('1-12-1.キャッシュフロー表 現状'!BJ36),\"\",'1-12-1.キャッシュフロー表 現状'!BJ36)","v":0},{"$f":"IF(ISBLANK('1-12-1.キャッシュフロー表 現状'!BK36),\"\",'1-12-1.キャッシュフロー表 現状'!BK36)","v":0},{"$f":"IF(ISBLANK('1-12-1.キャッシュフロー表 現状'!BL36),\"\",'1-12-1.キャッシュフロー表 現状'!BL36)","v":0},{"$f":"IF(ISBLANK('1-12-1.キャッシュフロー表 現状'!BM36),\"\",'1-12-1.キャッシュフロー表 現状'!BM36)","v":0},{"$f":"IF(ISBLANK('1-12-1.キャッシュフロー表 現状'!BN36),\"\",'1-12-1.キャッシュフロー表 現状'!BN36)","v":0},{"$f":"IF(ISBLANK('1-12-1.キャッシュフロー表 現状'!BO36),\"\",'1-12-1.キャッシュフロー表 現状'!BO36)","v":0},{"$f":"IF(ISBLANK('1-12-1.キャッシュフロー表 現状'!BP36),\"\",'1-12-1.キャッシュフロー表 現状'!BP36)","v":0},{"$f":"IF(ISBLANK('1-12-1.キャッシュフロー表 現状'!BQ36),\"\",'1-12-1.キャッシュフロー表 現状'!BQ36)","v":0},{"$f":"IF(ISBLANK('1-12-1.キャッシュフロー表 現状'!BR36),\"\",'1-12-1.キャッシュフロー表 現状'!BR36)","v":0},{"$f":"IF(ISBLANK('1-12-1.キャッシュフロー表 現状'!BS36),\"\",'1-12-1.キャッシュフロー表 現状'!BS36)","v":0},{"$f":"IF(ISBLANK('1-12-1.キャッシュフロー表 現状'!BT36),\"\",'1-12-1.キャッシュフロー表 現状'!BT36)","v":0},{"$f":"IF(ISBLANK('1-12-1.キャッシュフロー表 現状'!BU36),\"\",'1-12-1.キャッシュフロー表 現状'!BU36)","v":0},{"$f":"IF(ISBLANK('1-12-1.キャッシュフロー表 現状'!BV36),\"\",'1-12-1.キャッシュフロー表 現状'!BV36)","v":0},{"$f":"IF(ISBLANK('1-12-1.キャッシュフロー表 現状'!BW36),\"\",'1-12-1.キャッシュフロー表 現状'!BW36)","v":0},{"$f":"IF(ISBLANK('1-12-1.キャッシュフロー表 現状'!BX36),\"\",'1-12-1.キャッシュフロー表 現状'!BX36)","v":0},{"$f":"IF(ISBLANK('1-12-1.キャッシュフロー表 現状'!BY36),\"\",'1-12-1.キャッシュフロー表 現状'!BY36)","v":0},{"$f":"IF(ISBLANK('1-12-1.キャッシュフロー表 現状'!BZ36),\"\",'1-12-1.キャッシュフロー表 現状'!BZ36)","v":0}]
[null,null,null,{"$f":"IF(ISBLANK('1-12-3.キャッシュフロー表 解決策導入後②'!D37),\"\",'1-12-3.キャッシュフロー表 解決策導入後②'!D37)","v":""},{"$f":"IF(ISBLANK('1-12-3.キャッシュフロー表 解決策導入後②'!E37),\"\",'1-12-3.キャッシュフロー表 解決策導入後②'!E37)","v":0},{"$f":"IF(ISBLANK('1-12-3.キャッシュフロー表 解決策導入後②'!F37),\"\",'1-12-3.キャッシュフロー表 解決策導入後②'!F37&\"年後\")","v":""},null,{"$f":"IF(ISBLANK('1-12-3.キャッシュフロー表 解決策導入後②'!G37),\"\",'1-12-3.キャッシュフロー表 解決策導入後②'!G37)","v":0},{"$f":"IF(ISBLANK('1-12-3.キャッシュフロー表 解決策導入後②'!H37),\"\",'1-12-3.キャッシュフロー表 解決策導入後②'!H37)","v":""},{"$f":"IF(ISBLANK('1-12-3.キャッシュフロー表 解決策導入後②'!I37),\"\",'1-12-3.キャッシュフロー表 解決策導入後②'!I37)","v":0},{"$f":"IF(ISBLANK('1-12-3.キャッシュフロー表 解決策導入後②'!J37),\"\",'1-12-3.キャッシュフロー表 解決策導入後②'!J37)","v":0},{"$f":"IF(ISBLANK('1-12-3.キャッシュフロー表 解決策導入後②'!K37),\"\",'1-12-3.キャッシュフロー表 解決策導入後②'!K37)","v":0},{"$f":"IF(ISBLANK('1-12-3.キャッシュフロー表 解決策導入後②'!L37),\"\",'1-12-3.キャッシュフロー表 解決策導入後②'!L37)","v":0},{"$f":"IF(ISBLANK('1-12-3.キャッシュフロー表 解決策導入後②'!M37),\"\",'1-12-3.キャッシュフロー表 解決策導入後②'!M37)","v":0},{"$f":"IF(ISBLANK('1-12-3.キャッシュフロー表 解決策導入後②'!N37),\"\",'1-12-3.キャッシュフロー表 解決策導入後②'!N37)","v":0},{"$f":"IF(ISBLANK('1-12-3.キャッシュフロー表 解決策導入後②'!O37),\"\",'1-12-3.キャッシュフロー表 解決策導入後②'!O37)","v":0},{"$f":"IF(ISBLANK('1-12-3.キャッシュフロー表 解決策導入後②'!P37),\"\",'1-12-3.キャッシュフロー表 解決策導入後②'!P37)","v":0},{"$f":"IF(ISBLANK('1-12-3.キャッシュフロー表 解決策導入後②'!Q37),\"\",'1-12-3.キャッシュフロー表 解決策導入後②'!Q37)","v":0},{"$f":"IF(ISBLANK('1-12-3.キャッシュフロー表 解決策導入後②'!R37),\"\",'1-12-3.キャッシュフロー表 解決策導入後②'!R37)","v":0},{"$f":"IF(ISBLANK('1-12-3.キャッシュフロー表 解決策導入後②'!S37),\"\",'1-12-3.キャッシュフロー表 解決策導入後②'!S37)","v":0},{"$f":"IF(ISBLANK('1-12-3.キャッシュフロー表 解決策導入後②'!T37),\"\",'1-12-3.キャッシュフロー表 解決策導入後②'!T37)","v":0},{"$f":"IF(ISBLANK('1-12-3.キャッシュフロー表 解決策導入後②'!U37),\"\",'1-12-3.キャッシュフロー表 解決策導入後②'!U37)","v":0},{"$f":"IF(ISBLANK('1-12-3.キャッシュフロー表 解決策導入後②'!V37),\"\",'1-12-3.キャッシュフロー表 解決策導入後②'!V37)","v":0},{"$f":"IF(ISBLANK('1-12-3.キャッシュフロー表 解決策導入後②'!W37),\"\",'1-12-3.キャッシュフロー表 解決策導入後②'!W37)","v":0},{"$f":"IF(ISBLANK('1-12-3.キャッシュフロー表 解決策導入後②'!X37),\"\",'1-12-3.キャッシュフロー表 解決策導入後②'!X37)","v":0},{"$f":"IF(ISBLANK('1-12-3.キャッシュフロー表 解決策導入後②'!Y37),\"\",'1-12-3.キャッシュフロー表 解決策導入後②'!Y37)","v":0},{"$f":"IF(ISBLANK('1-12-3.キャッシュフロー表 解決策導入後②'!Z37),\"\",'1-12-3.キャッシュフロー表 解決策導入後②'!Z37)","v":0},{"$f":"IF(ISBLANK('1-12-3.キャッシュフロー表 解決策導入後②'!AA37),\"\",'1-12-3.キャッシュフロー表 解決策導入後②'!AA37)","v":0},{"$f":"IF(ISBLANK('1-12-3.キャッシュフロー表 解決策導入後②'!AB37),\"\",'1-12-3.キャッシュフロー表 解決策導入後②'!AB37)","v":0},{"$f":"IF(ISBLANK('1-12-3.キャッシュフロー表 解決策導入後②'!AC37),\"\",'1-12-3.キャッシュフロー表 解決策導入後②'!AC37)","v":0},{"$f":"IF(ISBLANK('1-12-3.キャッシュフロー表 解決策導入後②'!AD37),\"\",'1-12-3.キャッシュフロー表 解決策導入後②'!AD37)","v":0},{"$f":"IF(ISBLANK('1-12-3.キャッシュフロー表 解決策導入後②'!AE37),\"\",'1-12-3.キャッシュフロー表 解決策導入後②'!AE37)","v":0},{"$f":"IF(ISBLANK('1-12-3.キャッシュフロー表 解決策導入後②'!AF37),\"\",'1-12-3.キャッシュフロー表 解決策導入後②'!AF37)","v":0},{"$f":"IF(ISBLANK('1-12-3.キャッシュフロー表 解決策導入後②'!AG37),\"\",'1-12-3.キャッシュフロー表 解決策導入後②'!AG37)","v":0},{"$f":"IF(ISBLANK('1-12-3.キャッシュフロー表 解決策導入後②'!AH37),\"\",'1-12-3.キャッシュフロー表 解決策導入後②'!AH37)","v":0},{"$f":"IF(ISBLANK('1-12-3.キャッシュフロー表 解決策導入後②'!AI37),\"\",'1-12-3.キャッシュフロー表 解決策導入後②'!AI37)","v":0},{"$f":"IF(ISBLANK('1-12-3.キャッシュフロー表 解決策導入後②'!AJ37),\"\",'1-12-3.キャッシュフロー表 解決策導入後②'!AJ37)","v":0},{"$f":"IF(ISBLANK('1-12-3.キャッシュフロー表 解決策導入後②'!AK37),\"\",'1-12-3.キャッシュフロー表 解決策導入後②'!AK37)","v":0},{"$f":"IF(ISBLANK('1-12-3.キャッシュフロー表 解決策導入後②'!AL37),\"\",'1-12-3.キャッシュフロー表 解決策導入後②'!AL37)","v":0},null,null,null,null,{"$f":"IF(ISBLANK('1-12-2.キャッシュフロー表 解決策導入後'!D37),\"\",'1-12-2.キャッシュフロー表 解決策導入後'!D37)","v":""},{"$f":"IF(ISBLANK('1-12-2.キャッシュフロー表 解決策導入後'!E37),\"\",'1-12-2.キャッシュフロー表 解決策導入後'!E37)","v":0},{"$f":"IF(ISBLANK('1-12-2.キャッシュフロー表 解決策導入後'!F37),\"\",'1-12-2.キャッシュフロー表 解決策導入後'!F37&\"年後\")","v":""},null,{"$f":"IF(ISBLANK('1-12-2.キャッシュフロー表 解決策導入後'!G37),\"\",'1-12-2.キャッシュフロー表 解決策導入後'!G37)","v":0},{"$f":"IF(ISBLANK('1-12-1.キャッシュフロー表 現状'!AM37),\"\",'1-12-1.キャッシュフロー表 現状'!AM37)","v":0},{"$f":"IF(ISBLANK('1-12-1.キャッシュフロー表 現状'!AN37),\"\",'1-12-1.キャッシュフロー表 現状'!AN37)","v":0},{"$f":"IF(ISBLANK('1-12-1.キャッシュフロー表 現状'!AO37),\"\",'1-12-1.キャッシュフロー表 現状'!AO37)","v":0},{"$f":"IF(ISBLANK('1-12-1.キャッシュフロー表 現状'!AP37),\"\",'1-12-1.キャッシュフロー表 現状'!AP37)","v":0},{"$f":"IF(ISBLANK('1-12-1.キャッシュフロー表 現状'!AQ37),\"\",'1-12-1.キャッシュフロー表 現状'!AQ37)","v":0},{"$f":"IF(ISBLANK('1-12-1.キャッシュフロー表 現状'!AR37),\"\",'1-12-1.キャッシュフロー表 現状'!AR37)","v":0},{"$f":"IF(ISBLANK('1-12-1.キャッシュフロー表 現状'!AS37),\"\",'1-12-1.キャッシュフロー表 現状'!AS37)","v":0},{"$f":"IF(ISBLANK('1-12-1.キャッシュフロー表 現状'!AT37),\"\",'1-12-1.キャッシュフロー表 現状'!AT37)","v":0},{"$f":"IF(ISBLANK('1-12-1.キャッシュフロー表 現状'!AU37),\"\",'1-12-1.キャッシュフロー表 現状'!AU37)","v":0},{"$f":"IF(ISBLANK('1-12-1.キャッシュフロー表 現状'!AV37),\"\",'1-12-1.キャッシュフロー表 現状'!AV37)","v":0},{"$f":"IF(ISBLANK('1-12-1.キャッシュフロー表 現状'!AW37),\"\",'1-12-1.キャッシュフロー表 現状'!AW37)","v":0},{"$f":"IF(ISBLANK('1-12-1.キャッシュフロー表 現状'!AX37),\"\",'1-12-1.キャッシュフロー表 現状'!AX37)","v":0},{"$f":"IF(ISBLANK('1-12-1.キャッシュフロー表 現状'!AY37),\"\",'1-12-1.キャッシュフロー表 現状'!AY37)","v":0},{"$f":"IF(ISBLANK('1-12-1.キャッシュフロー表 現状'!AZ37),\"\",'1-12-1.キャッシュフロー表 現状'!AZ37)","v":0},{"$f":"IF(ISBLANK('1-12-1.キャッシュフロー表 現状'!BA37),\"\",'1-12-1.キャッシュフロー表 現状'!BA37)","v":0},{"$f":"IF(ISBLANK('1-12-1.キャッシュフロー表 現状'!BB37),\"\",'1-12-1.キャッシュフロー表 現状'!BB37)","v":0},{"$f":"IF(ISBLANK('1-12-1.キャッシュフロー表 現状'!BC37),\"\",'1-12-1.キャッシュフロー表 現状'!BC37)","v":0},{"$f":"IF(ISBLANK('1-12-1.キャッシュフロー表 現状'!BD37),\"\",'1-12-1.キャッシュフロー表 現状'!BD37)","v":0},{"$f":"IF(ISBLANK('1-12-1.キャッシュフロー表 現状'!BE37),\"\",'1-12-1.キャッシュフロー表 現状'!BE37)","v":0},{"$f":"IF(ISBLANK('1-12-1.キャッシュフロー表 現状'!BF37),\"\",'1-12-1.キャッシュフロー表 現状'!BF37)","v":0},{"$f":"IF(ISBLANK('1-12-1.キャッシュフロー表 現状'!BG37),\"\",'1-12-1.キャッシュフロー表 現状'!BG37)","v":0},{"$f":"IF(ISBLANK('1-12-1.キャッシュフロー表 現状'!BH37),\"\",'1-12-1.キャッシュフロー表 現状'!BH37)","v":0},{"$f":"IF(ISBLANK('1-12-1.キャッシュフロー表 現状'!BI37),\"\",'1-12-1.キャッシュフロー表 現状'!BI37)","v":0},{"$f":"IF(ISBLANK('1-12-1.キャッシュフロー表 現状'!BJ37),\"\",'1-12-1.キャッシュフロー表 現状'!BJ37)","v":0},{"$f":"IF(ISBLANK('1-12-1.キャッシュフロー表 現状'!BK37),\"\",'1-12-1.キャッシュフロー表 現状'!BK37)","v":0},{"$f":"IF(ISBLANK('1-12-1.キャッシュフロー表 現状'!BL37),\"\",'1-12-1.キャッシュフロー表 現状'!BL37)","v":0},{"$f":"IF(ISBLANK('1-12-1.キャッシュフロー表 現状'!BM37),\"\",'1-12-1.キャッシュフロー表 現状'!BM37)","v":0},{"$f":"IF(ISBLANK('1-12-1.キャッシュフロー表 現状'!BN37),\"\",'1-12-1.キャッシュフロー表 現状'!BN37)","v":0},{"$f":"IF(ISBLANK('1-12-1.キャッシュフロー表 現状'!BO37),\"\",'1-12-1.キャッシュフロー表 現状'!BO37)","v":0},{"$f":"IF(ISBLANK('1-12-1.キャッシュフロー表 現状'!BP37),\"\",'1-12-1.キャッシュフロー表 現状'!BP37)","v":0},{"$f":"IF(ISBLANK('1-12-1.キャッシュフロー表 現状'!BQ37),\"\",'1-12-1.キャッシュフロー表 現状'!BQ37)","v":0},{"$f":"IF(ISBLANK('1-12-1.キャッシュフロー表 現状'!BR37),\"\",'1-12-1.キャッシュフロー表 現状'!BR37)","v":0},{"$f":"IF(ISBLANK('1-12-1.キャッシュフロー表 現状'!BS37),\"\",'1-12-1.キャッシュフロー表 現状'!BS37)","v":0},{"$f":"IF(ISBLANK('1-12-1.キャッシュフロー表 現状'!BT37),\"\",'1-12-1.キャッシュフロー表 現状'!BT37)","v":0},{"$f":"IF(ISBLANK('1-12-1.キャッシュフロー表 現状'!BU37),\"\",'1-12-1.キャッシュフロー表 現状'!BU37)","v":0},{"$f":"IF(ISBLANK('1-12-1.キャッシュフロー表 現状'!BV37),\"\",'1-12-1.キャッシュフロー表 現状'!BV37)","v":0},{"$f":"IF(ISBLANK('1-12-1.キャッシュフロー表 現状'!BW37),\"\",'1-12-1.キャッシュフロー表 現状'!BW37)","v":0},{"$f":"IF(ISBLANK('1-12-1.キャッシュフロー表 現状'!BX37),\"\",'1-12-1.キャッシュフロー表 現状'!BX37)","v":0},{"$f":"IF(ISBLANK('1-12-1.キャッシュフロー表 現状'!BY37),\"\",'1-12-1.キャッシュフロー表 現状'!BY37)","v":0},{"$f":"IF(ISBLANK('1-12-1.キャッシュフロー表 現状'!BZ37),\"\",'1-12-1.キャッシュフロー表 現状'!BZ37)","v":0}]
[null,null,null,{"$f":"IF(ISBLANK('1-12-3.キャッシュフロー表 解決策導入後②'!D38),\"\",'1-12-3.キャッシュフロー表 解決策導入後②'!D38)","v":""},{"$f":"IF(ISBLANK('1-12-3.キャッシュフロー表 解決策導入後②'!E38),\"\",'1-12-3.キャッシュフロー表 解決策導入後②'!E38)","v":0},{"$f":"IF(ISBLANK('1-12-3.キャッシュフロー表 解決策導入後②'!F38),\"\",'1-12-3.キャッシュフロー表 解決策導入後②'!F38&\"年後\")","v":""},null,{"$f":"IF(ISBLANK('1-12-3.キャッシュフロー表 解決策導入後②'!G38),\"\",'1-12-3.キャッシュフロー表 解決策導入後②'!G38)","v":0},{"$f":"IF(ISBLANK('1-12-3.キャッシュフロー表 解決策導入後②'!H38),\"\",'1-12-3.キャッシュフロー表 解決策導入後②'!H38)","v":""},{"$f":"IF(ISBLANK('1-12-3.キャッシュフロー表 解決策導入後②'!I38),\"\",'1-12-3.キャッシュフロー表 解決策導入後②'!I38)","v":0},{"$f":"IF(ISBLANK('1-12-3.キャッシュフロー表 解決策導入後②'!J38),\"\",'1-12-3.キャッシュフロー表 解決策導入後②'!J38)","v":0},{"$f":"IF(ISBLANK('1-12-3.キャッシュフロー表 解決策導入後②'!K38),\"\",'1-12-3.キャッシュフロー表 解決策導入後②'!K38)","v":0},{"$f":"IF(ISBLANK('1-12-3.キャッシュフロー表 解決策導入後②'!L38),\"\",'1-12-3.キャッシュフロー表 解決策導入後②'!L38)","v":0},{"$f":"IF(ISBLANK('1-12-3.キャッシュフロー表 解決策導入後②'!M38),\"\",'1-12-3.キャッシュフロー表 解決策導入後②'!M38)","v":0},{"$f":"IF(ISBLANK('1-12-3.キャッシュフロー表 解決策導入後②'!N38),\"\",'1-12-3.キャッシュフロー表 解決策導入後②'!N38)","v":0},{"$f":"IF(ISBLANK('1-12-3.キャッシュフロー表 解決策導入後②'!O38),\"\",'1-12-3.キャッシュフロー表 解決策導入後②'!O38)","v":0},{"$f":"IF(ISBLANK('1-12-3.キャッシュフロー表 解決策導入後②'!P38),\"\",'1-12-3.キャッシュフロー表 解決策導入後②'!P38)","v":0},{"$f":"IF(ISBLANK('1-12-3.キャッシュフロー表 解決策導入後②'!Q38),\"\",'1-12-3.キャッシュフロー表 解決策導入後②'!Q38)","v":0},{"$f":"IF(ISBLANK('1-12-3.キャッシュフロー表 解決策導入後②'!R38),\"\",'1-12-3.キャッシュフロー表 解決策導入後②'!R38)","v":0},{"$f":"IF(ISBLANK('1-12-3.キャッシュフロー表 解決策導入後②'!S38),\"\",'1-12-3.キャッシュフロー表 解決策導入後②'!S38)","v":0},{"$f":"IF(ISBLANK('1-12-3.キャッシュフロー表 解決策導入後②'!T38),\"\",'1-12-3.キャッシュフロー表 解決策導入後②'!T38)","v":0},{"$f":"IF(ISBLANK('1-12-3.キャッシュフロー表 解決策導入後②'!U38),\"\",'1-12-3.キャッシュフロー表 解決策導入後②'!U38)","v":0},{"$f":"IF(ISBLANK('1-12-3.キャッシュフロー表 解決策導入後②'!V38),\"\",'1-12-3.キャッシュフロー表 解決策導入後②'!V38)","v":0},{"$f":"IF(ISBLANK('1-12-3.キャッシュフロー表 解決策導入後②'!W38),\"\",'1-12-3.キャッシュフロー表 解決策導入後②'!W38)","v":0},{"$f":"IF(ISBLANK('1-12-3.キャッシュフロー表 解決策導入後②'!X38),\"\",'1-12-3.キャッシュフロー表 解決策導入後②'!X38)","v":0},{"$f":"IF(ISBLANK('1-12-3.キャッシュフロー表 解決策導入後②'!Y38),\"\",'1-12-3.キャッシュフロー表 解決策導入後②'!Y38)","v":0},{"$f":"IF(ISBLANK('1-12-3.キャッシュフロー表 解決策導入後②'!Z38),\"\",'1-12-3.キャッシュフロー表 解決策導入後②'!Z38)","v":0},{"$f":"IF(ISBLANK('1-12-3.キャッシュフロー表 解決策導入後②'!AA38),\"\",'1-12-3.キャッシュフロー表 解決策導入後②'!AA38)","v":0},{"$f":"IF(ISBLANK('1-12-3.キャッシュフロー表 解決策導入後②'!AB38),\"\",'1-12-3.キャッシュフロー表 解決策導入後②'!AB38)","v":0},{"$f":"IF(ISBLANK('1-12-3.キャッシュフロー表 解決策導入後②'!AC38),\"\",'1-12-3.キャッシュフロー表 解決策導入後②'!AC38)","v":0},{"$f":"IF(ISBLANK('1-12-3.キャッシュフロー表 解決策導入後②'!AD38),\"\",'1-12-3.キャッシュフロー表 解決策導入後②'!AD38)","v":0},{"$f":"IF(ISBLANK('1-12-3.キャッシュフロー表 解決策導入後②'!AE38),\"\",'1-12-3.キャッシュフロー表 解決策導入後②'!AE38)","v":0},{"$f":"IF(ISBLANK('1-12-3.キャッシュフロー表 解決策導入後②'!AF38),\"\",'1-12-3.キャッシュフロー表 解決策導入後②'!AF38)","v":0},{"$f":"IF(ISBLANK('1-12-3.キャッシュフロー表 解決策導入後②'!AG38),\"\",'1-12-3.キャッシュフロー表 解決策導入後②'!AG38)","v":0},{"$f":"IF(ISBLANK('1-12-3.キャッシュフロー表 解決策導入後②'!AH38),\"\",'1-12-3.キャッシュフロー表 解決策導入後②'!AH38)","v":0},{"$f":"IF(ISBLANK('1-12-3.キャッシュフロー表 解決策導入後②'!AI38),\"\",'1-12-3.キャッシュフロー表 解決策導入後②'!AI38)","v":0},{"$f":"IF(ISBLANK('1-12-3.キャッシュフロー表 解決策導入後②'!AJ38),\"\",'1-12-3.キャッシュフロー表 解決策導入後②'!AJ38)","v":0},{"$f":"IF(ISBLANK('1-12-3.キャッシュフロー表 解決策導入後②'!AK38),\"\",'1-12-3.キャッシュフロー表 解決策導入後②'!AK38)","v":0},{"$f":"IF(ISBLANK('1-12-3.キャッシュフロー表 解決策導入後②'!AL38),\"\",'1-12-3.キャッシュフロー表 解決策導入後②'!AL38)","v":0},null,null,null,null,{"$f":"IF(ISBLANK('1-12-2.キャッシュフロー表 解決策導入後'!D38),\"\",'1-12-2.キャッシュフロー表 解決策導入後'!D38)","v":""},{"$f":"IF(ISBLANK('1-12-2.キャッシュフロー表 解決策導入後'!E38),\"\",'1-12-2.キャッシュフロー表 解決策導入後'!E38)","v":0},{"$f":"IF(ISBLANK('1-12-2.キャッシュフロー表 解決策導入後'!F38),\"\",'1-12-2.キャッシュフロー表 解決策導入後'!F38&\"年後\")","v":""},null,{"$f":"IF(ISBLANK('1-12-2.キャッシュフロー表 解決策導入後'!G38),\"\",'1-12-2.キャッシュフロー表 解決策導入後'!G38)","v":0},{"$f":"IF(ISBLANK('1-12-1.キャッシュフロー表 現状'!AM38),\"\",'1-12-1.キャッシュフロー表 現状'!AM38)","v":0},{"$f":"IF(ISBLANK('1-12-1.キャッシュフロー表 現状'!AN38),\"\",'1-12-1.キャッシュフロー表 現状'!AN38)","v":0},{"$f":"IF(ISBLANK('1-12-1.キャッシュフロー表 現状'!AO38),\"\",'1-12-1.キャッシュフロー表 現状'!AO38)","v":0},{"$f":"IF(ISBLANK('1-12-1.キャッシュフロー表 現状'!AP38),\"\",'1-12-1.キャッシュフロー表 現状'!AP38)","v":0},{"$f":"IF(ISBLANK('1-12-1.キャッシュフロー表 現状'!AQ38),\"\",'1-12-1.キャッシュフロー表 現状'!AQ38)","v":0},{"$f":"IF(ISBLANK('1-12-1.キャッシュフロー表 現状'!AR38),\"\",'1-12-1.キャッシュフロー表 現状'!AR38)","v":0},{"$f":"IF(ISBLANK('1-12-1.キャッシュフロー表 現状'!AS38),\"\",'1-12-1.キャッシュフロー表 現状'!AS38)","v":0},{"$f":"IF(ISBLANK('1-12-1.キャッシュフロー表 現状'!AT38),\"\",'1-12-1.キャッシュフロー表 現状'!AT38)","v":0},{"$f":"IF(ISBLANK('1-12-1.キャッシュフロー表 現状'!AU38),\"\",'1-12-1.キャッシュフロー表 現状'!AU38)","v":0},{"$f":"IF(ISBLANK('1-12-1.キャッシュフロー表 現状'!AV38),\"\",'1-12-1.キャッシュフロー表 現状'!AV38)","v":0},{"$f":"IF(ISBLANK('1-12-1.キャッシュフロー表 現状'!AW38),\"\",'1-12-1.キャッシュフロー表 現状'!AW38)","v":0},{"$f":"IF(ISBLANK('1-12-1.キャッシュフロー表 現状'!AX38),\"\",'1-12-1.キャッシュフロー表 現状'!AX38)","v":0},{"$f":"IF(ISBLANK('1-12-1.キャッシュフロー表 現状'!AY38),\"\",'1-12-1.キャッシュフロー表 現状'!AY38)","v":0},{"$f":"IF(ISBLANK('1-12-1.キャッシュフロー表 現状'!AZ38),\"\",'1-12-1.キャッシュフロー表 現状'!AZ38)","v":0},{"$f":"IF(ISBLANK('1-12-1.キャッシュフロー表 現状'!BA38),\"\",'1-12-1.キャッシュフロー表 現状'!BA38)","v":0},{"$f":"IF(ISBLANK('1-12-1.キャッシュフロー表 現状'!BB38),\"\",'1-12-1.キャッシュフロー表 現状'!BB38)","v":0},{"$f":"IF(ISBLANK('1-12-1.キャッシュフロー表 現状'!BC38),\"\",'1-12-1.キャッシュフロー表 現状'!BC38)","v":0},{"$f":"IF(ISBLANK('1-12-1.キャッシュフロー表 現状'!BD38),\"\",'1-12-1.キャッシュフロー表 現状'!BD38)","v":0},{"$f":"IF(ISBLANK('1-12-1.キャッシュフロー表 現状'!BE38),\"\",'1-12-1.キャッシュフロー表 現状'!BE38)","v":0},{"$f":"IF(ISBLANK('1-12-1.キャッシュフロー表 現状'!BF38),\"\",'1-12-1.キャッシュフロー表 現状'!BF38)","v":0},{"$f":"IF(ISBLANK('1-12-1.キャッシュフロー表 現状'!BG38),\"\",'1-12-1.キャッシュフロー表 現状'!BG38)","v":0},{"$f":"IF(ISBLANK('1-12-1.キャッシュフロー表 現状'!BH38),\"\",'1-12-1.キャッシュフロー表 現状'!BH38)","v":0},{"$f":"IF(ISBLANK('1-12-1.キャッシュフロー表 現状'!BI38),\"\",'1-12-1.キャッシュフロー表 現状'!BI38)","v":0},{"$f":"IF(ISBLANK('1-12-1.キャッシュフロー表 現状'!BJ38),\"\",'1-12-1.キャッシュフロー表 現状'!BJ38)","v":0},{"$f":"IF(ISBLANK('1-12-1.キャッシュフロー表 現状'!BK38),\"\",'1-12-1.キャッシュフロー表 現状'!BK38)","v":0},{"$f":"IF(ISBLANK('1-12-1.キャッシュフロー表 現状'!BL38),\"\",'1-12-1.キャッシュフロー表 現状'!BL38)","v":0},{"$f":"IF(ISBLANK('1-12-1.キャッシュフロー表 現状'!BM38),\"\",'1-12-1.キャッシュフロー表 現状'!BM38)","v":0},{"$f":"IF(ISBLANK('1-12-1.キャッシュフロー表 現状'!BN38),\"\",'1-12-1.キャッシュフロー表 現状'!BN38)","v":0},{"$f":"IF(ISBLANK('1-12-1.キャッシュフロー表 現状'!BO38),\"\",'1-12-1.キャッシュフロー表 現状'!BO38)","v":0},{"$f":"IF(ISBLANK('1-12-1.キャッシュフロー表 現状'!BP38),\"\",'1-12-1.キャッシュフロー表 現状'!BP38)","v":0},{"$f":"IF(ISBLANK('1-12-1.キャッシュフロー表 現状'!BQ38),\"\",'1-12-1.キャッシュフロー表 現状'!BQ38)","v":0},{"$f":"IF(ISBLANK('1-12-1.キャッシュフロー表 現状'!BR38),\"\",'1-12-1.キャッシュフロー表 現状'!BR38)","v":0},{"$f":"IF(ISBLANK('1-12-1.キャッシュフロー表 現状'!BS38),\"\",'1-12-1.キャッシュフロー表 現状'!BS38)","v":0},{"$f":"IF(ISBLANK('1-12-1.キャッシュフロー表 現状'!BT38),\"\",'1-12-1.キャッシュフロー表 現状'!BT38)","v":0},{"$f":"IF(ISBLANK('1-12-1.キャッシュフロー表 現状'!BU38),\"\",'1-12-1.キャッシュフロー表 現状'!BU38)","v":0},{"$f":"IF(ISBLANK('1-12-1.キャッシュフロー表 現状'!BV38),\"\",'1-12-1.キャッシュフロー表 現状'!BV38)","v":0},{"$f":"IF(ISBLANK('1-12-1.キャッシュフロー表 現状'!BW38),\"\",'1-12-1.キャッシュフロー表 現状'!BW38)","v":0},{"$f":"IF(ISBLANK('1-12-1.キャッシュフロー表 現状'!BX38),\"\",'1-12-1.キャッシュフロー表 現状'!BX38)","v":0},{"$f":"IF(ISBLANK('1-12-1.キャッシュフロー表 現状'!BY38),\"\",'1-12-1.キャッシュフロー表 現状'!BY38)","v":0},{"$f":"IF(ISBLANK('1-12-1.キャッシュフロー表 現状'!BZ38),\"\",'1-12-1.キャッシュフロー表 現状'!BZ38)","v":0}]
[null,null,null,"その他一時的支出",{"$f":"IF(ISBLANK('1-12-3.キャッシュフロー表 解決策導入後②'!E39),\"\",'1-12-3.キャッシュフロー表 解決策導入後②'!E39)","v":""},{"$f":"IF(ISBLANK('1-12-3.キャッシュフロー表 解決策導入後②'!F39),\"\",'1-12-3.キャッシュフロー表 解決策導入後②'!F39&\"年後\")","v":""},null,{"$f":"IF(ISBLANK('1-12-3.キャッシュフロー表 解決策導入後②'!G39),\"\",'1-12-3.キャッシュフロー表 解決策導入後②'!G39)","v":""},{"$f":"IF(ISBLANK('1-12-3.キャッシュフロー表 解決策導入後②'!H39),\"\",'1-12-3.キャッシュフロー表 解決策導入後②'!H39)","v":""},{"$f":"IF(ISBLANK('1-12-3.キャッシュフロー表 解決策導入後②'!I39),\"\",'1-12-3.キャッシュフロー表 解決策導入後②'!I39)","v":""},{"$f":"IF(ISBLANK('1-12-3.キャッシュフロー表 解決策導入後②'!J39),\"\",'1-12-3.キャッシュフロー表 解決策導入後②'!J39)","v":""},{"$f":"IF(ISBLANK('1-12-3.キャッシュフロー表 解決策導入後②'!K39),\"\",'1-12-3.キャッシュフロー表 解決策導入後②'!K39)","v":""},{"$f":"IF(ISBLANK('1-12-3.キャッシュフロー表 解決策導入後②'!L39),\"\",'1-12-3.キャッシュフロー表 解決策導入後②'!L39)","v":""},{"$f":"IF(ISBLANK('1-12-3.キャッシュフロー表 解決策導入後②'!M39),\"\",'1-12-3.キャッシュフロー表 解決策導入後②'!M39)","v":""},{"$f":"IF(ISBLANK('1-12-3.キャッシュフロー表 解決策導入後②'!N39),\"\",'1-12-3.キャッシュフロー表 解決策導入後②'!N39)","v":""},{"$f":"IF(ISBLANK('1-12-3.キャッシュフロー表 解決策導入後②'!O39),\"\",'1-12-3.キャッシュフロー表 解決策導入後②'!O39)","v":""},{"$f":"IF(ISBLANK('1-12-3.キャッシュフロー表 解決策導入後②'!P39),\"\",'1-12-3.キャッシュフロー表 解決策導入後②'!P39)","v":""},{"$f":"IF(ISBLANK('1-12-3.キャッシュフロー表 解決策導入後②'!Q39),\"\",'1-12-3.キャッシュフロー表 解決策導入後②'!Q39)","v":""},{"$f":"IF(ISBLANK('1-12-3.キャッシュフロー表 解決策導入後②'!R39),\"\",'1-12-3.キャッシュフロー表 解決策導入後②'!R39)","v":""},{"$f":"IF(ISBLANK('1-12-3.キャッシュフロー表 解決策導入後②'!S39),\"\",'1-12-3.キャッシュフロー表 解決策導入後②'!S39)","v":""},{"$f":"IF(ISBLANK('1-12-3.キャッシュフロー表 解決策導入後②'!T39),\"\",'1-12-3.キャッシュフロー表 解決策導入後②'!T39)","v":""},{"$f":"IF(ISBLANK('1-12-3.キャッシュフロー表 解決策導入後②'!U39),\"\",'1-12-3.キャッシュフロー表 解決策導入後②'!U39)","v":""},{"$f":"IF(ISBLANK('1-12-3.キャッシュフロー表 解決策導入後②'!V39),\"\",'1-12-3.キャッシュフロー表 解決策導入後②'!V39)","v":""},{"$f":"IF(ISBLANK('1-12-3.キャッシュフロー表 解決策導入後②'!W39),\"\",'1-12-3.キャッシュフロー表 解決策導入後②'!W39)","v":""},{"$f":"IF(ISBLANK('1-12-3.キャッシュフロー表 解決策導入後②'!X39),\"\",'1-12-3.キャッシュフロー表 解決策導入後②'!X39)","v":""},{"$f":"IF(ISBLANK('1-12-3.キャッシュフロー表 解決策導入後②'!Y39),\"\",'1-12-3.キャッシュフロー表 解決策導入後②'!Y39)","v":""},{"$f":"IF(ISBLANK('1-12-3.キャッシュフロー表 解決策導入後②'!Z39),\"\",'1-12-3.キャッシュフロー表 解決策導入後②'!Z39)","v":""},{"$f":"IF(ISBLANK('1-12-3.キャッシュフロー表 解決策導入後②'!AA39),\"\",'1-12-3.キャッシュフロー表 解決策導入後②'!AA39)","v":""},{"$f":"IF(ISBLANK('1-12-3.キャッシュフロー表 解決策導入後②'!AB39),\"\",'1-12-3.キャッシュフロー表 解決策導入後②'!AB39)","v":""},{"$f":"IF(ISBLANK('1-12-3.キャッシュフロー表 解決策導入後②'!AC39),\"\",'1-12-3.キャッシュフロー表 解決策導入後②'!AC39)","v":""},{"$f":"IF(ISBLANK('1-12-3.キャッシュフロー表 解決策導入後②'!AD39),\"\",'1-12-3.キャッシュフロー表 解決策導入後②'!AD39)","v":""},{"$f":"IF(ISBLANK('1-12-3.キャッシュフロー表 解決策導入後②'!AE39),\"\",'1-12-3.キャッシュフロー表 解決策導入後②'!AE39)","v":""},{"$f":"IF(ISBLANK('1-12-3.キャッシュフロー表 解決策導入後②'!AF39),\"\",'1-12-3.キャッシュフロー表 解決策導入後②'!AF39)","v":""},{"$f":"IF(ISBLANK('1-12-3.キャッシュフロー表 解決策導入後②'!AG39),\"\",'1-12-3.キャッシュフロー表 解決策導入後②'!AG39)","v":""},{"$f":"IF(ISBLANK('1-12-3.キャッシュフロー表 解決策導入後②'!AH39),\"\",'1-12-3.キャッシュフロー表 解決策導入後②'!AH39)","v":""},{"$f":"IF(ISBLANK('1-12-3.キャッシュフロー表 解決策導入後②'!AI39),\"\",'1-12-3.キャッシュフロー表 解決策導入後②'!AI39)","v":""},{"$f":"IF(ISBLANK('1-12-3.キャッシュフロー表 解決策導入後②'!AJ39),\"\",'1-12-3.キャッシュフロー表 解決策導入後②'!AJ39)","v":""},{"$f":"IF(ISBLANK('1-12-3.キャッシュフロー表 解決策導入後②'!AK39),\"\",'1-12-3.キャッシュフロー表 解決策導入後②'!AK39)","v":""},{"$f":"IF(ISBLANK('1-12-3.キャッシュフロー表 解決策導入後②'!AL39),\"\",'1-12-3.キャッシュフロー表 解決策導入後②'!AL39)","v":""},null,null,null,null,{"$f":"IF(ISBLANK('1-12-2.キャッシュフロー表 解決策導入後'!D39),\"\",'1-12-2.キャッシュフロー表 解決策導入後'!D39)","v":"その他一時的支出"},{"$f":"IF(ISBLANK('1-12-2.キャッシュフロー表 解決策導入後'!E39),\"\",'1-12-2.キャッシュフロー表 解決策導入後'!E39)","v":""},{"$f":"IF(ISBLANK('1-12-2.キャッシュフロー表 解決策導入後'!F39),\"\",'1-12-2.キャッシュフロー表 解決策導入後'!F39&\"年後\")","v":""},null,{"$f":"IF(ISBLANK('1-12-2.キャッシュフロー表 解決策導入後'!G39),\"\",'1-12-2.キャッシュフロー表 解決策導入後'!G39)","v":""},{"$f":"IF(ISBLANK('1-12-1.キャッシュフロー表 現状'!AM39),\"\",'1-12-1.キャッシュフロー表 現状'!AM39)","v":""},{"$f":"IF(ISBLANK('1-12-1.キャッシュフロー表 現状'!AN39),\"\",'1-12-1.キャッシュフロー表 現状'!AN39)","v":""},{"$f":"IF(ISBLANK('1-12-1.キャッシュフロー表 現状'!AO39),\"\",'1-12-1.キャッシュフロー表 現状'!AO39)","v":""},{"$f":"IF(ISBLANK('1-12-1.キャッシュフロー表 現状'!AP39),\"\",'1-12-1.キャッシュフロー表 現状'!AP39)","v":""},{"$f":"IF(ISBLANK('1-12-1.キャッシュフロー表 現状'!AQ39),\"\",'1-12-1.キャッシュフロー表 現状'!AQ39)","v":""},{"$f":"IF(ISBLANK('1-12-1.キャッシュフロー表 現状'!AR39),\"\",'1-12-1.キャッシュフロー表 現状'!AR39)","v":""},{"$f":"IF(ISBLANK('1-12-1.キャッシュフロー表 現状'!AS39),\"\",'1-12-1.キャッシュフロー表 現状'!AS39)","v":""},{"$f":"IF(ISBLANK('1-12-1.キャッシュフロー表 現状'!AT39),\"\",'1-12-1.キャッシュフロー表 現状'!AT39)","v":""},{"$f":"IF(ISBLANK('1-12-1.キャッシュフロー表 現状'!AU39),\"\",'1-12-1.キャッシュフロー表 現状'!AU39)","v":""},{"$f":"IF(ISBLANK('1-12-1.キャッシュフロー表 現状'!AV39),\"\",'1-12-1.キャッシュフロー表 現状'!AV39)","v":""},{"$f":"IF(ISBLANK('1-12-1.キャッシュフロー表 現状'!AW39),\"\",'1-12-1.キャッシュフロー表 現状'!AW39)","v":""},{"$f":"IF(ISBLANK('1-12-1.キャッシュフロー表 現状'!AX39),\"\",'1-12-1.キャッシュフロー表 現状'!AX39)","v":""},{"$f":"IF(ISBLANK('1-12-1.キャッシュフロー表 現状'!AY39),\"\",'1-12-1.キャッシュフロー表 現状'!AY39)","v":""},{"$f":"IF(ISBLANK('1-12-1.キャッシュフロー表 現状'!AZ39),\"\",'1-12-1.キャッシュフロー表 現状'!AZ39)","v":""},{"$f":"IF(ISBLANK('1-12-1.キャッシュフロー表 現状'!BA39),\"\",'1-12-1.キャッシュフロー表 現状'!BA39)","v":""},{"$f":"IF(ISBLANK('1-12-1.キャッシュフロー表 現状'!BB39),\"\",'1-12-1.キャッシュフロー表 現状'!BB39)","v":""},{"$f":"IF(ISBLANK('1-12-1.キャッシュフロー表 現状'!BC39),\"\",'1-12-1.キャッシュフロー表 現状'!BC39)","v":""},{"$f":"IF(ISBLANK('1-12-1.キャッシュフロー表 現状'!BD39),\"\",'1-12-1.キャッシュフロー表 現状'!BD39)","v":""},{"$f":"IF(ISBLANK('1-12-1.キャッシュフロー表 現状'!BE39),\"\",'1-12-1.キャッシュフロー表 現状'!BE39)","v":""},{"$f":"IF(ISBLANK('1-12-1.キャッシュフロー表 現状'!BF39),\"\",'1-12-1.キャッシュフロー表 現状'!BF39)","v":""},{"$f":"IF(ISBLANK('1-12-1.キャッシュフロー表 現状'!BG39),\"\",'1-12-1.キャッシュフロー表 現状'!BG39)","v":""},{"$f":"IF(ISBLANK('1-12-1.キャッシュフロー表 現状'!BH39),\"\",'1-12-1.キャッシュフロー表 現状'!BH39)","v":""},{"$f":"IF(ISBLANK('1-12-1.キャッシュフロー表 現状'!BI39),\"\",'1-12-1.キャッシュフロー表 現状'!BI39)","v":""},{"$f":"IF(ISBLANK('1-12-1.キャッシュフロー表 現状'!BJ39),\"\",'1-12-1.キャッシュフロー表 現状'!BJ39)","v":""},{"$f":"IF(ISBLANK('1-12-1.キャッシュフロー表 現状'!BK39),\"\",'1-12-1.キャッシュフロー表 現状'!BK39)","v":""},{"$f":"IF(ISBLANK('1-12-1.キャッシュフロー表 現状'!BL39),\"\",'1-12-1.キャッシュフロー表 現状'!BL39)","v":""},{"$f":"IF(ISBLANK('1-12-1.キャッシュフロー表 現状'!BM39),\"\",'1-12-1.キャッシュフロー表 現状'!BM39)","v":""},{"$f":"IF(ISBLANK('1-12-1.キャッシュフロー表 現状'!BN39),\"\",'1-12-1.キャッシュフロー表 現状'!BN39)","v":""},{"$f":"IF(ISBLANK('1-12-1.キャッシュフロー表 現状'!BO39),\"\",'1-12-1.キャッシュフロー表 現状'!BO39)","v":""},{"$f":"IF(ISBLANK('1-12-1.キャッシュフロー表 現状'!BP39),\"\",'1-12-1.キャッシュフロー表 現状'!BP39)","v":""},{"$f":"IF(ISBLANK('1-12-1.キャッシュフロー表 現状'!BQ39),\"\",'1-12-1.キャッシュフロー表 現状'!BQ39)","v":""},{"$f":"IF(ISBLANK('1-12-1.キャッシュフロー表 現状'!BR39),\"\",'1-12-1.キャッシュフロー表 現状'!BR39)","v":""},{"$f":"IF(ISBLANK('1-12-1.キャッシュフロー表 現状'!BS39),\"\",'1-12-1.キャッシュフロー表 現状'!BS39)","v":""},{"$f":"IF(ISBLANK('1-12-1.キャッシュフロー表 現状'!BT39),\"\",'1-12-1.キャッシュフロー表 現状'!BT39)","v":""},{"$f":"IF(ISBLANK('1-12-1.キャッシュフロー表 現状'!BU39),\"\",'1-12-1.キャッシュフロー表 現状'!BU39)","v":""},{"$f":"IF(ISBLANK('1-12-1.キャッシュフロー表 現状'!BV39),\"\",'1-12-1.キャッシュフロー表 現状'!BV39)","v":""},{"$f":"IF(ISBLANK('1-12-1.キャッシュフロー表 現状'!BW39),\"\",'1-12-1.キャッシュフロー表 現状'!BW39)","v":""},{"$f":"IF(ISBLANK('1-12-1.キャッシュフロー表 現状'!BX39),\"\",'1-12-1.キャッシュフロー表 現状'!BX39)","v":""},{"$f":"IF(ISBLANK('1-12-1.キャッシュフロー表 現状'!BY39),\"\",'1-12-1.キャッシュフロー表 現状'!BY39)","v":""},{"$f":"IF(ISBLANK('1-12-1.キャッシュフロー表 現状'!BZ39),\"\",'1-12-1.キャッシュフロー表 現状'!BZ39)","v":""}]
[null,null,null,"支出合計",null,null,null,null,{"$f":"IF(ISBLANK('1-12-3.キャッシュフロー表 解決策導入後②'!H40),\"\",'1-12-3.キャッシュフロー表 解決策導入後②'!H40)","v":0},{"$f":"IF(ISBLANK('1-12-3.キャッシュフロー表 解決策導入後②'!I40),\"\",'1-12-3.キャッシュフロー表 解決策導入後②'!I40)","v":0},{"$f":"IF(ISBLANK('1-12-3.キャッシュフロー表 解決策導入後②'!J40),\"\",'1-12-3.キャッシュフロー表 解決策導入後②'!J40)","v":0},{"$f":"IF(ISBLANK('1-12-3.キャッシュフロー表 解決策導入後②'!K40),\"\",'1-12-3.キャッシュフロー表 解決策導入後②'!K40)","v":0},{"$f":"IF(ISBLANK('1-12-3.キャッシュフロー表 解決策導入後②'!L40),\"\",'1-12-3.キャッシュフロー表 解決策導入後②'!L40)","v":0},{"$f":"IF(ISBLANK('1-12-3.キャッシュフロー表 解決策導入後②'!M40),\"\",'1-12-3.キャッシュフロー表 解決策導入後②'!M40)","v":0},{"$f":"IF(ISBLANK('1-12-3.キャッシュフロー表 解決策導入後②'!N40),\"\",'1-12-3.キャッシュフロー表 解決策導入後②'!N40)","v":0},{"$f":"IF(ISBLANK('1-12-3.キャッシュフロー表 解決策導入後②'!O40),\"\",'1-12-3.キャッシュフロー表 解決策導入後②'!O40)","v":0},{"$f":"IF(ISBLANK('1-12-3.キャッシュフロー表 解決策導入後②'!P40),\"\",'1-12-3.キャッシュフロー表 解決策導入後②'!P40)","v":0},{"$f":"IF(ISBLANK('1-12-3.キャッシュフロー表 解決策導入後②'!Q40),\"\",'1-12-3.キャッシュフロー表 解決策導入後②'!Q40)","v":0},{"$f":"IF(ISBLANK('1-12-3.キャッシュフロー表 解決策導入後②'!R40),\"\",'1-12-3.キャッシュフロー表 解決策導入後②'!R40)","v":0},{"$f":"IF(ISBLANK('1-12-3.キャッシュフロー表 解決策導入後②'!S40),\"\",'1-12-3.キャッシュフロー表 解決策導入後②'!S40)","v":0},{"$f":"IF(ISBLANK('1-12-3.キャッシュフロー表 解決策導入後②'!T40),\"\",'1-12-3.キャッシュフロー表 解決策導入後②'!T40)","v":0},{"$f":"IF(ISBLANK('1-12-3.キャッシュフロー表 解決策導入後②'!U40),\"\",'1-12-3.キャッシュフロー表 解決策導入後②'!U40)","v":0},{"$f":"IF(ISBLANK('1-12-3.キャッシュフロー表 解決策導入後②'!V40),\"\",'1-12-3.キャッシュフロー表 解決策導入後②'!V40)","v":0},{"$f":"IF(ISBLANK('1-12-3.キャッシュフロー表 解決策導入後②'!W40),\"\",'1-12-3.キャッシュフロー表 解決策導入後②'!W40)","v":0},{"$f":"IF(ISBLANK('1-12-3.キャッシュフロー表 解決策導入後②'!X40),\"\",'1-12-3.キャッシュフロー表 解決策導入後②'!X40)","v":0},{"$f":"IF(ISBLANK('1-12-3.キャッシュフロー表 解決策導入後②'!Y40),\"\",'1-12-3.キャッシュフロー表 解決策導入後②'!Y40)","v":0},{"$f":"IF(ISBLANK('1-12-3.キャッシュフロー表 解決策導入後②'!Z40),\"\",'1-12-3.キャッシュフロー表 解決策導入後②'!Z40)","v":0},{"$f":"IF(ISBLANK('1-12-3.キャッシュフロー表 解決策導入後②'!AA40),\"\",'1-12-3.キャッシュフロー表 解決策導入後②'!AA40)","v":0},{"$f":"IF(ISBLANK('1-12-3.キャッシュフロー表 解決策導入後②'!AB40),\"\",'1-12-3.キャッシュフロー表 解決策導入後②'!AB40)","v":0},{"$f":"IF(ISBLANK('1-12-3.キャッシュフロー表 解決策導入後②'!AC40),\"\",'1-12-3.キャッシュフロー表 解決策導入後②'!AC40)","v":0},{"$f":"IF(ISBLANK('1-12-3.キャッシュフロー表 解決策導入後②'!AD40),\"\",'1-12-3.キャッシュフロー表 解決策導入後②'!AD40)","v":0},{"$f":"IF(ISBLANK('1-12-3.キャッシュフロー表 解決策導入後②'!AE40),\"\",'1-12-3.キャッシュフロー表 解決策導入後②'!AE40)","v":0},{"$f":"IF(ISBLANK('1-12-3.キャッシュフロー表 解決策導入後②'!AF40),\"\",'1-12-3.キャッシュフロー表 解決策導入後②'!AF40)","v":0},{"$f":"IF(ISBLANK('1-12-3.キャッシュフロー表 解決策導入後②'!AG40),\"\",'1-12-3.キャッシュフロー表 解決策導入後②'!AG40)","v":0},{"$f":"IF(ISBLANK('1-12-3.キャッシュフロー表 解決策導入後②'!AH40),\"\",'1-12-3.キャッシュフロー表 解決策導入後②'!AH40)","v":0},{"$f":"IF(ISBLANK('1-12-3.キャッシュフロー表 解決策導入後②'!AI40),\"\",'1-12-3.キャッシュフロー表 解決策導入後②'!AI40)","v":0},{"$f":"IF(ISBLANK('1-12-3.キャッシュフロー表 解決策導入後②'!AJ40),\"\",'1-12-3.キャッシュフロー表 解決策導入後②'!AJ40)","v":0},{"$f":"IF(ISBLANK('1-12-3.キャッシュフロー表 解決策導入後②'!AK40),\"\",'1-12-3.キャッシュフロー表 解決策導入後②'!AK40)","v":0},{"$f":"IF(ISBLANK('1-12-3.キャッシュフロー表 解決策導入後②'!AL40),\"\",'1-12-3.キャッシュフロー表 解決策導入後②'!AL40)","v":0},null,null,null,null,"支出合計",null,null,null,null,{"$f":"IF(ISBLANK('1-12-1.キャッシュフロー表 現状'!AM40),\"\",'1-12-1.キャッシュフロー表 現状'!AM40)","v":0},{"$f":"IF(ISBLANK('1-12-1.キャッシュフロー表 現状'!AN40),\"\",'1-12-1.キャッシュフロー表 現状'!AN40)","v":0},{"$f":"IF(ISBLANK('1-12-1.キャッシュフロー表 現状'!AO40),\"\",'1-12-1.キャッシュフロー表 現状'!AO40)","v":0},{"$f":"IF(ISBLANK('1-12-1.キャッシュフロー表 現状'!AP40),\"\",'1-12-1.キャッシュフロー表 現状'!AP40)","v":0},{"$f":"IF(ISBLANK('1-12-1.キャッシュフロー表 現状'!AQ40),\"\",'1-12-1.キャッシュフロー表 現状'!AQ40)","v":0},{"$f":"IF(ISBLANK('1-12-1.キャッシュフロー表 現状'!AR40),\"\",'1-12-1.キャッシュフロー表 現状'!AR40)","v":0},{"$f":"IF(ISBLANK('1-12-1.キャッシュフロー表 現状'!AS40),\"\",'1-12-1.キャッシュフロー表 現状'!AS40)","v":0},{"$f":"IF(ISBLANK('1-12-1.キャッシュフロー表 現状'!AT40),\"\",'1-12-1.キャッシュフロー表 現状'!AT40)","v":0},{"$f":"IF(ISBLANK('1-12-1.キャッシュフロー表 現状'!AU40),\"\",'1-12-1.キャッシュフロー表 現状'!AU40)","v":0},{"$f":"IF(ISBLANK('1-12-1.キャッシュフロー表 現状'!AV40),\"\",'1-12-1.キャッシュフロー表 現状'!AV40)","v":0},{"$f":"IF(ISBLANK('1-12-1.キャッシュフロー表 現状'!AW40),\"\",'1-12-1.キャッシュフロー表 現状'!AW40)","v":0},{"$f":"IF(ISBLANK('1-12-1.キャッシュフロー表 現状'!AX40),\"\",'1-12-1.キャッシュフロー表 現状'!AX40)","v":0},{"$f":"IF(ISBLANK('1-12-1.キャッシュフロー表 現状'!AY40),\"\",'1-12-1.キャッシュフロー表 現状'!AY40)","v":0},{"$f":"IF(ISBLANK('1-12-1.キャッシュフロー表 現状'!AZ40),\"\",'1-12-1.キャッシュフロー表 現状'!AZ40)","v":0},{"$f":"IF(ISBLANK('1-12-1.キャッシュフロー表 現状'!BA40),\"\",'1-12-1.キャッシュフロー表 現状'!BA40)","v":0},{"$f":"IF(ISBLANK('1-12-1.キャッシュフロー表 現状'!BB40),\"\",'1-12-1.キャッシュフロー表 現状'!BB40)","v":0},{"$f":"IF(ISBLANK('1-12-1.キャッシュフロー表 現状'!BC40),\"\",'1-12-1.キャッシュフロー表 現状'!BC40)","v":0},{"$f":"IF(ISBLANK('1-12-1.キャッシュフロー表 現状'!BD40),\"\",'1-12-1.キャッシュフロー表 現状'!BD40)","v":0},{"$f":"IF(ISBLANK('1-12-1.キャッシュフロー表 現状'!BE40),\"\",'1-12-1.キャッシュフロー表 現状'!BE40)","v":0},{"$f":"IF(ISBLANK('1-12-1.キャッシュフロー表 現状'!BF40),\"\",'1-12-1.キャッシュフロー表 現状'!BF40)","v":0},{"$f":"IF(ISBLANK('1-12-1.キャッシュフロー表 現状'!BG40),\"\",'1-12-1.キャッシュフロー表 現状'!BG40)","v":0},{"$f":"IF(ISBLANK('1-12-1.キャッシュフロー表 現状'!BH40),\"\",'1-12-1.キャッシュフロー表 現状'!BH40)","v":0},{"$f":"IF(ISBLANK('1-12-1.キャッシュフロー表 現状'!BI40),\"\",'1-12-1.キャッシュフロー表 現状'!BI40)","v":0},{"$f":"IF(ISBLANK('1-12-1.キャッシュフロー表 現状'!BJ40),\"\",'1-12-1.キャッシュフロー表 現状'!BJ40)","v":0},{"$f":"IF(ISBLANK('1-12-1.キャッシュフロー表 現状'!BK40),\"\",'1-12-1.キャッシュフロー表 現状'!BK40)","v":0},{"$f":"IF(ISBLANK('1-12-1.キャッシュフロー表 現状'!BL40),\"\",'1-12-1.キャッシュフロー表 現状'!BL40)","v":0},{"$f":"IF(ISBLANK('1-12-1.キャッシュフロー表 現状'!BM40),\"\",'1-12-1.キャッシュフロー表 現状'!BM40)","v":0},{"$f":"IF(ISBLANK('1-12-1.キャッシュフロー表 現状'!BN40),\"\",'1-12-1.キャッシュフロー表 現状'!BN40)","v":0},{"$f":"IF(ISBLANK('1-12-1.キャッシュフロー表 現状'!BO40),\"\",'1-12-1.キャッシュフロー表 現状'!BO40)","v":0},{"$f":"IF(ISBLANK('1-12-1.キャッシュフロー表 現状'!BP40),\"\",'1-12-1.キャッシュフロー表 現状'!BP40)","v":0},{"$f":"IF(ISBLANK('1-12-1.キャッシュフロー表 現状'!BQ40),\"\",'1-12-1.キャッシュフロー表 現状'!BQ40)","v":0},{"$f":"IF(ISBLANK('1-12-1.キャッシュフロー表 現状'!BR40),\"\",'1-12-1.キャッシュフロー表 現状'!BR40)","v":0},{"$f":"IF(ISBLANK('1-12-1.キャッシュフロー表 現状'!BS40),\"\",'1-12-1.キャッシュフロー表 現状'!BS40)","v":0},{"$f":"IF(ISBLANK('1-12-1.キャッシュフロー表 現状'!BT40),\"\",'1-12-1.キャッシュフロー表 現状'!BT40)","v":0},{"$f":"IF(ISBLANK('1-12-1.キャッシュフロー表 現状'!BU40),\"\",'1-12-1.キャッシュフロー表 現状'!BU40)","v":0},{"$f":"IF(ISBLANK('1-12-1.キャッシュフロー表 現状'!BV40),\"\",'1-12-1.キャッシュフロー表 現状'!BV40)","v":0},{"$f":"IF(ISBLANK('1-12-1.キャッシュフロー表 現状'!BW40),\"\",'1-12-1.キャッシュフロー表 現状'!BW40)","v":0},{"$f":"IF(ISBLANK('1-12-1.キャッシュフロー表 現状'!BX40),\"\",'1-12-1.キャッシュフロー表 現状'!BX40)","v":0},{"$f":"IF(ISBLANK('1-12-1.キャッシュフロー表 現状'!BY40),\"\",'1-12-1.キャッシュフロー表 現状'!BY40)","v":0},{"$f":"IF(ISBLANK('1-12-1.キャッシュフロー表 現状'!BZ40),\"\",'1-12-1.キャッシュフロー表 現状'!BZ40)","v":0}]
[null,null,"　 年間収支",null,null,null,null,null,{"$f":"IF(ISBLANK('1-12-3.キャッシュフロー表 解決策導入後②'!H41),\"\",'1-12-3.キャッシュフロー表 解決策導入後②'!H41)","v":0},{"$f":"IF(ISBLANK('1-12-3.キャッシュフロー表 解決策導入後②'!I41),\"\",'1-12-3.キャッシュフロー表 解決策導入後②'!I41)","v":0},{"$f":"IF(ISBLANK('1-12-3.キャッシュフロー表 解決策導入後②'!J41),\"\",'1-12-3.キャッシュフロー表 解決策導入後②'!J41)","v":0},{"$f":"IF(ISBLANK('1-12-3.キャッシュフロー表 解決策導入後②'!K41),\"\",'1-12-3.キャッシュフロー表 解決策導入後②'!K41)","v":0},{"$f":"IF(ISBLANK('1-12-3.キャッシュフロー表 解決策導入後②'!L41),\"\",'1-12-3.キャッシュフロー表 解決策導入後②'!L41)","v":0},{"$f":"IF(ISBLANK('1-12-3.キャッシュフロー表 解決策導入後②'!M41),\"\",'1-12-3.キャッシュフロー表 解決策導入後②'!M41)","v":0},{"$f":"IF(ISBLANK('1-12-3.キャッシュフロー表 解決策導入後②'!N41),\"\",'1-12-3.キャッシュフロー表 解決策導入後②'!N41)","v":0},{"$f":"IF(ISBLANK('1-12-3.キャッシュフロー表 解決策導入後②'!O41),\"\",'1-12-3.キャッシュフロー表 解決策導入後②'!O41)","v":0},{"$f":"IF(ISBLANK('1-12-3.キャッシュフロー表 解決策導入後②'!P41),\"\",'1-12-3.キャッシュフロー表 解決策導入後②'!P41)","v":0},{"$f":"IF(ISBLANK('1-12-3.キャッシュフロー表 解決策導入後②'!Q41),\"\",'1-12-3.キャッシュフロー表 解決策導入後②'!Q41)","v":0},{"$f":"IF(ISBLANK('1-12-3.キャッシュフロー表 解決策導入後②'!R41),\"\",'1-12-3.キャッシュフロー表 解決策導入後②'!R41)","v":0},{"$f":"IF(ISBLANK('1-12-3.キャッシュフロー表 解決策導入後②'!S41),\"\",'1-12-3.キャッシュフロー表 解決策導入後②'!S41)","v":0},{"$f":"IF(ISBLANK('1-12-3.キャッシュフロー表 解決策導入後②'!T41),\"\",'1-12-3.キャッシュフロー表 解決策導入後②'!T41)","v":0},{"$f":"IF(ISBLANK('1-12-3.キャッシュフロー表 解決策導入後②'!U41),\"\",'1-12-3.キャッシュフロー表 解決策導入後②'!U41)","v":0},{"$f":"IF(ISBLANK('1-12-3.キャッシュフロー表 解決策導入後②'!V41),\"\",'1-12-3.キャッシュフロー表 解決策導入後②'!V41)","v":0},{"$f":"IF(ISBLANK('1-12-3.キャッシュフロー表 解決策導入後②'!W41),\"\",'1-12-3.キャッシュフロー表 解決策導入後②'!W41)","v":0},{"$f":"IF(ISBLANK('1-12-3.キャッシュフロー表 解決策導入後②'!X41),\"\",'1-12-3.キャッシュフロー表 解決策導入後②'!X41)","v":0},{"$f":"IF(ISBLANK('1-12-3.キャッシュフロー表 解決策導入後②'!Y41),\"\",'1-12-3.キャッシュフロー表 解決策導入後②'!Y41)","v":0},{"$f":"IF(ISBLANK('1-12-3.キャッシュフロー表 解決策導入後②'!Z41),\"\",'1-12-3.キャッシュフロー表 解決策導入後②'!Z41)","v":0},{"$f":"IF(ISBLANK('1-12-3.キャッシュフロー表 解決策導入後②'!AA41),\"\",'1-12-3.キャッシュフロー表 解決策導入後②'!AA41)","v":0},{"$f":"IF(ISBLANK('1-12-3.キャッシュフロー表 解決策導入後②'!AB41),\"\",'1-12-3.キャッシュフロー表 解決策導入後②'!AB41)","v":0},{"$f":"IF(ISBLANK('1-12-3.キャッシュフロー表 解決策導入後②'!AC41),\"\",'1-12-3.キャッシュフロー表 解決策導入後②'!AC41)","v":0},{"$f":"IF(ISBLANK('1-12-3.キャッシュフロー表 解決策導入後②'!AD41),\"\",'1-12-3.キャッシュフロー表 解決策導入後②'!AD41)","v":0},{"$f":"IF(ISBLANK('1-12-3.キャッシュフロー表 解決策導入後②'!AE41),\"\",'1-12-3.キャッシュフロー表 解決策導入後②'!AE41)","v":0},{"$f":"IF(ISBLANK('1-12-3.キャッシュフロー表 解決策導入後②'!AF41),\"\",'1-12-3.キャッシュフロー表 解決策導入後②'!AF41)","v":0},{"$f":"IF(ISBLANK('1-12-3.キャッシュフロー表 解決策導入後②'!AG41),\"\",'1-12-3.キャッシュフロー表 解決策導入後②'!AG41)","v":0},{"$f":"IF(ISBLANK('1-12-3.キャッシュフロー表 解決策導入後②'!AH41),\"\",'1-12-3.キャッシュフロー表 解決策導入後②'!AH41)","v":0},{"$f":"IF(ISBLANK('1-12-3.キャッシュフロー表 解決策導入後②'!AI41),\"\",'1-12-3.キャッシュフロー表 解決策導入後②'!AI41)","v":0},{"$f":"IF(ISBLANK('1-12-3.キャッシュフロー表 解決策導入後②'!AJ41),\"\",'1-12-3.キャッシュフロー表 解決策導入後②'!AJ41)","v":0},{"$f":"IF(ISBLANK('1-12-3.キャッシュフロー表 解決策導入後②'!AK41),\"\",'1-12-3.キャッシュフロー表 解決策導入後②'!AK41)","v":0},{"$f":"IF(ISBLANK('1-12-3.キャッシュフロー表 解決策導入後②'!AL41),\"\",'1-12-3.キャッシュフロー表 解決策導入後②'!AL41)","v":0},null,null,null,"　 年間収支",null,null,null,null,null,{"$f":"IF(ISBLANK('1-12-1.キャッシュフロー表 現状'!AM41),\"\",'1-12-1.キャッシュフロー表 現状'!AM41)","v":0},{"$f":"IF(ISBLANK('1-12-1.キャッシュフロー表 現状'!AN41),\"\",'1-12-1.キャッシュフロー表 現状'!AN41)","v":0},{"$f":"IF(ISBLANK('1-12-1.キャッシュフロー表 現状'!AO41),\"\",'1-12-1.キャッシュフロー表 現状'!AO41)","v":0},{"$f":"IF(ISBLANK('1-12-1.キャッシュフロー表 現状'!AP41),\"\",'1-12-1.キャッシュフロー表 現状'!AP41)","v":0},{"$f":"IF(ISBLANK('1-12-1.キャッシュフロー表 現状'!AQ41),\"\",'1-12-1.キャッシュフロー表 現状'!AQ41)","v":0},{"$f":"IF(ISBLANK('1-12-1.キャッシュフロー表 現状'!AR41),\"\",'1-12-1.キャッシュフロー表 現状'!AR41)","v":0},{"$f":"IF(ISBLANK('1-12-1.キャッシュフロー表 現状'!AS41),\"\",'1-12-1.キャッシュフロー表 現状'!AS41)","v":0},{"$f":"IF(ISBLANK('1-12-1.キャッシュフロー表 現状'!AT41),\"\",'1-12-1.キャッシュフロー表 現状'!AT41)","v":0},{"$f":"IF(ISBLANK('1-12-1.キャッシュフロー表 現状'!AU41),\"\",'1-12-1.キャッシュフロー表 現状'!AU41)","v":0},{"$f":"IF(ISBLANK('1-12-1.キャッシュフロー表 現状'!AV41),\"\",'1-12-1.キャッシュフロー表 現状'!AV41)","v":0},{"$f":"IF(ISBLANK('1-12-1.キャッシュフロー表 現状'!AW41),\"\",'1-12-1.キャッシュフロー表 現状'!AW41)","v":0},{"$f":"IF(ISBLANK('1-12-1.キャッシュフロー表 現状'!AX41),\"\",'1-12-1.キャッシュフロー表 現状'!AX41)","v":0},{"$f":"IF(ISBLANK('1-12-1.キャッシュフロー表 現状'!AY41),\"\",'1-12-1.キャッシュフロー表 現状'!AY41)","v":0},{"$f":"IF(ISBLANK('1-12-1.キャッシュフロー表 現状'!AZ41),\"\",'1-12-1.キャッシュフロー表 現状'!AZ41)","v":0},{"$f":"IF(ISBLANK('1-12-1.キャッシュフロー表 現状'!BA41),\"\",'1-12-1.キャッシュフロー表 現状'!BA41)","v":0},{"$f":"IF(ISBLANK('1-12-1.キャッシュフロー表 現状'!BB41),\"\",'1-12-1.キャッシュフロー表 現状'!BB41)","v":0},{"$f":"IF(ISBLANK('1-12-1.キャッシュフロー表 現状'!BC41),\"\",'1-12-1.キャッシュフロー表 現状'!BC41)","v":0},{"$f":"IF(ISBLANK('1-12-1.キャッシュフロー表 現状'!BD41),\"\",'1-12-1.キャッシュフロー表 現状'!BD41)","v":0},{"$f":"IF(ISBLANK('1-12-1.キャッシュフロー表 現状'!BE41),\"\",'1-12-1.キャッシュフロー表 現状'!BE41)","v":0},{"$f":"IF(ISBLANK('1-12-1.キャッシュフロー表 現状'!BF41),\"\",'1-12-1.キャッシュフロー表 現状'!BF41)","v":0},{"$f":"IF(ISBLANK('1-12-1.キャッシュフロー表 現状'!BG41),\"\",'1-12-1.キャッシュフロー表 現状'!BG41)","v":0},{"$f":"IF(ISBLANK('1-12-1.キャッシュフロー表 現状'!BH41),\"\",'1-12-1.キャッシュフロー表 現状'!BH41)","v":0},{"$f":"IF(ISBLANK('1-12-1.キャッシュフロー表 現状'!BI41),\"\",'1-12-1.キャッシュフロー表 現状'!BI41)","v":0},{"$f":"IF(ISBLANK('1-12-1.キャッシュフロー表 現状'!BJ41),\"\",'1-12-1.キャッシュフロー表 現状'!BJ41)","v":0},{"$f":"IF(ISBLANK('1-12-1.キャッシュフロー表 現状'!BK41),\"\",'1-12-1.キャッシュフロー表 現状'!BK41)","v":0},{"$f":"IF(ISBLANK('1-12-1.キャッシュフロー表 現状'!BL41),\"\",'1-12-1.キャッシュフロー表 現状'!BL41)","v":0},{"$f":"IF(ISBLANK('1-12-1.キャッシュフロー表 現状'!BM41),\"\",'1-12-1.キャッシュフロー表 現状'!BM41)","v":0},{"$f":"IF(ISBLANK('1-12-1.キャッシュフロー表 現状'!BN41),\"\",'1-12-1.キャッシュフロー表 現状'!BN41)","v":0},{"$f":"IF(ISBLANK('1-12-1.キャッシュフロー表 現状'!BO41),\"\",'1-12-1.キャッシュフロー表 現状'!BO41)","v":0},{"$f":"IF(ISBLANK('1-12-1.キャッシュフロー表 現状'!BP41),\"\",'1-12-1.キャッシュフロー表 現状'!BP41)","v":0},{"$f":"IF(ISBLANK('1-12-1.キャッシュフロー表 現状'!BQ41),\"\",'1-12-1.キャッシュフロー表 現状'!BQ41)","v":0},{"$f":"IF(ISBLANK('1-12-1.キャッシュフロー表 現状'!BR41),\"\",'1-12-1.キャッシュフロー表 現状'!BR41)","v":0},{"$f":"IF(ISBLANK('1-12-1.キャッシュフロー表 現状'!BS41),\"\",'1-12-1.キャッシュフロー表 現状'!BS41)","v":0},{"$f":"IF(ISBLANK('1-12-1.キャッシュフロー表 現状'!BT41),\"\",'1-12-1.キャッシュフロー表 現状'!BT41)","v":0},{"$f":"IF(ISBLANK('1-12-1.キャッシュフロー表 現状'!BU41),\"\",'1-12-1.キャッシュフロー表 現状'!BU41)","v":0},{"$f":"IF(ISBLANK('1-12-1.キャッシュフロー表 現状'!BV41),\"\",'1-12-1.キャッシュフロー表 現状'!BV41)","v":0},{"$f":"IF(ISBLANK('1-12-1.キャッシュフロー表 現状'!BW41),\"\",'1-12-1.キャッシュフロー表 現状'!BW41)","v":0},{"$f":"IF(ISBLANK('1-12-1.キャッシュフロー表 現状'!BX41),\"\",'1-12-1.キャッシュフロー表 現状'!BX41)","v":0},{"$f":"IF(ISBLANK('1-12-1.キャッシュフロー表 現状'!BY41),\"\",'1-12-1.キャッシュフロー表 現状'!BY41)","v":0},{"$f":"IF(ISBLANK('1-12-1.キャッシュフロー表 現状'!BZ41),\"\",'1-12-1.キャッシュフロー表 現状'!BZ41)","v":0}]
[null,null,"　　　　 貯蓄残高",null,null,null,null,{"$f":"IF(ISBLANK('1-12-3.キャッシュフロー表 解決策導入後②'!E42),\"\",'1-12-3.キャッシュフロー表 解決策導入後②'!E42)","v":0},{"$f":"IF(ISBLANK('1-12-3.キャッシュフロー表 解決策導入後②'!H42),\"\",'1-12-3.キャッシュフロー表 解決策導入後②'!H42)","v":0},{"$f":"IF(ISBLANK('1-12-3.キャッシュフロー表 解決策導入後②'!I42),\"\",'1-12-3.キャッシュフロー表 解決策導入後②'!I42)","v":0},{"$f":"IF(ISBLANK('1-12-3.キャッシュフロー表 解決策導入後②'!J42),\"\",'1-12-3.キャッシュフロー表 解決策導入後②'!J42)","v":0},{"$f":"IF(ISBLANK('1-12-3.キャッシュフロー表 解決策導入後②'!K42),\"\",'1-12-3.キャッシュフロー表 解決策導入後②'!K42)","v":0},{"$f":"IF(ISBLANK('1-12-3.キャッシュフロー表 解決策導入後②'!L42),\"\",'1-12-3.キャッシュフロー表 解決策導入後②'!L42)","v":0},{"$f":"IF(ISBLANK('1-12-3.キャッシュフロー表 解決策導入後②'!M42),\"\",'1-12-3.キャッシュフロー表 解決策導入後②'!M42)","v":0},{"$f":"IF(ISBLANK('1-12-3.キャッシュフロー表 解決策導入後②'!N42),\"\",'1-12-3.キャッシュフロー表 解決策導入後②'!N42)","v":0},{"$f":"IF(ISBLANK('1-12-3.キャッシュフロー表 解決策導入後②'!O42),\"\",'1-12-3.キャッシュフロー表 解決策導入後②'!O42)","v":0},{"$f":"IF(ISBLANK('1-12-3.キャッシュフロー表 解決策導入後②'!P42),\"\",'1-12-3.キャッシュフロー表 解決策導入後②'!P42)","v":0},{"$f":"IF(ISBLANK('1-12-3.キャッシュフロー表 解決策導入後②'!Q42),\"\",'1-12-3.キャッシュフロー表 解決策導入後②'!Q42)","v":0},{"$f":"IF(ISBLANK('1-12-3.キャッシュフロー表 解決策導入後②'!R42),\"\",'1-12-3.キャッシュフロー表 解決策導入後②'!R42)","v":0},{"$f":"IF(ISBLANK('1-12-3.キャッシュフロー表 解決策導入後②'!S42),\"\",'1-12-3.キャッシュフロー表 解決策導入後②'!S42)","v":0},{"$f":"IF(ISBLANK('1-12-3.キャッシュフロー表 解決策導入後②'!T42),\"\",'1-12-3.キャッシュフロー表 解決策導入後②'!T42)","v":0},{"$f":"IF(ISBLANK('1-12-3.キャッシュフロー表 解決策導入後②'!U42),\"\",'1-12-3.キャッシュフロー表 解決策導入後②'!U42)","v":0},{"$f":"IF(ISBLANK('1-12-3.キャッシュフロー表 解決策導入後②'!V42),\"\",'1-12-3.キャッシュフロー表 解決策導入後②'!V42)","v":0},{"$f":"IF(ISBLANK('1-12-3.キャッシュフロー表 解決策導入後②'!W42),\"\",'1-12-3.キャッシュフロー表 解決策導入後②'!W42)","v":0},{"$f":"IF(ISBLANK('1-12-3.キャッシュフロー表 解決策導入後②'!X42),\"\",'1-12-3.キャッシュフロー表 解決策導入後②'!X42)","v":0},{"$f":"IF(ISBLANK('1-12-3.キャッシュフロー表 解決策導入後②'!Y42),\"\",'1-12-3.キャッシュフロー表 解決策導入後②'!Y42)","v":0},{"$f":"IF(ISBLANK('1-12-3.キャッシュフロー表 解決策導入後②'!Z42),\"\",'1-12-3.キャッシュフロー表 解決策導入後②'!Z42)","v":0},{"$f":"IF(ISBLANK('1-12-3.キャッシュフロー表 解決策導入後②'!AA42),\"\",'1-12-3.キャッシュフロー表 解決策導入後②'!AA42)","v":0},{"$f":"IF(ISBLANK('1-12-3.キャッシュフロー表 解決策導入後②'!AB42),\"\",'1-12-3.キャッシュフロー表 解決策導入後②'!AB42)","v":0},{"$f":"IF(ISBLANK('1-12-3.キャッシュフロー表 解決策導入後②'!AC42),\"\",'1-12-3.キャッシュフロー表 解決策導入後②'!AC42)","v":0},{"$f":"IF(ISBLANK('1-12-3.キャッシュフロー表 解決策導入後②'!AD42),\"\",'1-12-3.キャッシュフロー表 解決策導入後②'!AD42)","v":0},{"$f":"IF(ISBLANK('1-12-3.キャッシュフロー表 解決策導入後②'!AE42),\"\",'1-12-3.キャッシュフロー表 解決策導入後②'!AE42)","v":0},{"$f":"IF(ISBLANK('1-12-3.キャッシュフロー表 解決策導入後②'!AF42),\"\",'1-12-3.キャッシュフロー表 解決策導入後②'!AF42)","v":0},{"$f":"IF(ISBLANK('1-12-3.キャッシュフロー表 解決策導入後②'!AG42),\"\",'1-12-3.キャッシュフロー表 解決策導入後②'!AG42)","v":0},{"$f":"IF(ISBLANK('1-12-3.キャッシュフロー表 解決策導入後②'!AH42),\"\",'1-12-3.キャッシュフロー表 解決策導入後②'!AH42)","v":0},{"$f":"IF(ISBLANK('1-12-3.キャッシュフロー表 解決策導入後②'!AI42),\"\",'1-12-3.キャッシュフロー表 解決策導入後②'!AI42)","v":0},{"$f":"IF(ISBLANK('1-12-3.キャッシュフロー表 解決策導入後②'!AJ42),\"\",'1-12-3.キャッシュフロー表 解決策導入後②'!AJ42)","v":0},{"$f":"IF(ISBLANK('1-12-3.キャッシュフロー表 解決策導入後②'!AK42),\"\",'1-12-3.キャッシュフロー表 解決策導入後②'!AK42)","v":0},{"$f":"IF(ISBLANK('1-12-3.キャッシュフロー表 解決策導入後②'!AL42),\"\",'1-12-3.キャッシュフロー表 解決策導入後②'!AL42)","v":0},null,null,null,"　　　　 貯蓄残高",null,null,null,null,{"$f":"IF(ISBLANK('1-12-2.キャッシュフロー表 解決策導入後'!E42),\"\",'1-12-2.キャッシュフロー表 解決策導入後'!E42)","v":0},{"$f":"IF(ISBLANK('1-12-1.キャッシュフロー表 現状'!AM42),\"\",'1-12-1.キャッシュフロー表 現状'!AM42)","v":0},{"$f":"IF(ISBLANK('1-12-1.キャッシュフロー表 現状'!AN42),\"\",'1-12-1.キャッシュフロー表 現状'!AN42)","v":0},{"$f":"IF(ISBLANK('1-12-1.キャッシュフロー表 現状'!AO42),\"\",'1-12-1.キャッシュフロー表 現状'!AO42)","v":0},{"$f":"IF(ISBLANK('1-12-1.キャッシュフロー表 現状'!AP42),\"\",'1-12-1.キャッシュフロー表 現状'!AP42)","v":0},{"$f":"IF(ISBLANK('1-12-1.キャッシュフロー表 現状'!AQ42),\"\",'1-12-1.キャッシュフロー表 現状'!AQ42)","v":0},{"$f":"IF(ISBLANK('1-12-1.キャッシュフロー表 現状'!AR42),\"\",'1-12-1.キャッシュフロー表 現状'!AR42)","v":0},{"$f":"IF(ISBLANK('1-12-1.キャッシュフロー表 現状'!AS42),\"\",'1-12-1.キャッシュフロー表 現状'!AS42)","v":0},{"$f":"IF(ISBLANK('1-12-1.キャッシュフロー表 現状'!AT42),\"\",'1-12-1.キャッシュフロー表 現状'!AT42)","v":0},{"$f":"IF(ISBLANK('1-12-1.キャッシュフロー表 現状'!AU42),\"\",'1-12-1.キャッシュフロー表 現状'!AU42)","v":0},{"$f":"IF(ISBLANK('1-12-1.キャッシュフロー表 現状'!AV42),\"\",'1-12-1.キャッシュフロー表 現状'!AV42)","v":0},{"$f":"IF(ISBLANK('1-12-1.キャッシュフロー表 現状'!AW42),\"\",'1-12-1.キャッシュフロー表 現状'!AW42)","v":0},{"$f":"IF(ISBLANK('1-12-1.キャッシュフロー表 現状'!AX42),\"\",'1-12-1.キャッシュフロー表 現状'!AX42)","v":0},{"$f":"IF(ISBLANK('1-12-1.キャッシュフロー表 現状'!AY42),\"\",'1-12-1.キャッシュフロー表 現状'!AY42)","v":0},{"$f":"IF(ISBLANK('1-12-1.キャッシュフロー表 現状'!AZ42),\"\",'1-12-1.キャッシュフロー表 現状'!AZ42)","v":0},{"$f":"IF(ISBLANK('1-12-1.キャッシュフロー表 現状'!BA42),\"\",'1-12-1.キャッシュフロー表 現状'!BA42)","v":0},{"$f":"IF(ISBLANK('1-12-1.キャッシュフロー表 現状'!BB42),\"\",'1-12-1.キャッシュフロー表 現状'!BB42)","v":0},{"$f":"IF(ISBLANK('1-12-1.キャッシュフロー表 現状'!BC42),\"\",'1-12-1.キャッシュフロー表 現状'!BC42)","v":0},{"$f":"IF(ISBLANK('1-12-1.キャッシュフロー表 現状'!BD42),\"\",'1-12-1.キャッシュフロー表 現状'!BD42)","v":0},{"$f":"IF(ISBLANK('1-12-1.キャッシュフロー表 現状'!BE42),\"\",'1-12-1.キャッシュフロー表 現状'!BE42)","v":0},{"$f":"IF(ISBLANK('1-12-1.キャッシュフロー表 現状'!BF42),\"\",'1-12-1.キャッシュフロー表 現状'!BF42)","v":0},{"$f":"IF(ISBLANK('1-12-1.キャッシュフロー表 現状'!BG42),\"\",'1-12-1.キャッシュフロー表 現状'!BG42)","v":0},{"$f":"IF(ISBLANK('1-12-1.キャッシュフロー表 現状'!BH42),\"\",'1-12-1.キャッシュフロー表 現状'!BH42)","v":0},{"$f":"IF(ISBLANK('1-12-1.キャッシュフロー表 現状'!BI42),\"\",'1-12-1.キャッシュフロー表 現状'!BI42)","v":0},{"$f":"IF(ISBLANK('1-12-1.キャッシュフロー表 現状'!BJ42),\"\",'1-12-1.キャッシュフロー表 現状'!BJ42)","v":0},{"$f":"IF(ISBLANK('1-12-1.キャッシュフロー表 現状'!BK42),\"\",'1-12-1.キャッシュフロー表 現状'!BK42)","v":0},{"$f":"IF(ISBLANK('1-12-1.キャッシュフロー表 現状'!BL42),\"\",'1-12-1.キャッシュフロー表 現状'!BL42)","v":0},{"$f":"IF(ISBLANK('1-12-1.キャッシュフロー表 現状'!BM42),\"\",'1-12-1.キャッシュフロー表 現状'!BM42)","v":0},{"$f":"IF(ISBLANK('1-12-1.キャッシュフロー表 現状'!BN42),\"\",'1-12-1.キャッシュフロー表 現状'!BN42)","v":0},{"$f":"IF(ISBLANK('1-12-1.キャッシュフロー表 現状'!BO42),\"\",'1-12-1.キャッシュフロー表 現状'!BO42)","v":0},{"$f":"IF(ISBLANK('1-12-1.キャッシュフロー表 現状'!BP42),\"\",'1-12-1.キャッシュフロー表 現状'!BP42)","v":0},{"$f":"IF(ISBLANK('1-12-1.キャッシュフロー表 現状'!BQ42),\"\",'1-12-1.キャッシュフロー表 現状'!BQ42)","v":0},{"$f":"IF(ISBLANK('1-12-1.キャッシュフロー表 現状'!BR42),\"\",'1-12-1.キャッシュフロー表 現状'!BR42)","v":0},{"$f":"IF(ISBLANK('1-12-1.キャッシュフロー表 現状'!BS42),\"\",'1-12-1.キャッシュフロー表 現状'!BS42)","v":0},{"$f":"IF(ISBLANK('1-12-1.キャッシュフロー表 現状'!BT42),\"\",'1-12-1.キャッシュフロー表 現状'!BT42)","v":0},{"$f":"IF(ISBLANK('1-12-1.キャッシュフロー表 現状'!BU42),\"\",'1-12-1.キャッシュフロー表 現状'!BU42)","v":0},{"$f":"IF(ISBLANK('1-12-1.キャッシュフロー表 現状'!BV42),\"\",'1-12-1.キャッシュフロー表 現状'!BV42)","v":0},{"$f":"IF(ISBLANK('1-12-1.キャッシュフロー表 現状'!BW42),\"\",'1-12-1.キャッシュフロー表 現状'!BW42)","v":0},{"$f":"IF(ISBLANK('1-12-1.キャッシュフロー表 現状'!BX42),\"\",'1-12-1.キャッシュフロー表 現状'!BX42)","v":0},{"$f":"IF(ISBLANK('1-12-1.キャッシュフロー表 現状'!BY42),\"\",'1-12-1.キャッシュフロー表 現状'!BY42)","v":0},{"$f":"IF(ISBLANK('1-12-1.キャッシュフロー表 現状'!BZ42),\"\",'1-12-1.キャッシュフロー表 現状'!BZ42)","v":0}]

{"sheet":"2-18.対策後の年間収支と貯蓄残高の推移②","index":31,"n_rows":28,"n_cols":115,"rows_kept":28,"cut":false,"hidden":false,"merged":[[5,3,19,37],[25,3,39,37]]}
[]
[]
[null,null,"対策後の年間収支と貯蓄残高の推移②"]
[]
[null,null,null,null,null,null,null,null,null,null,null,null,null,null,null,null,null,null,null,null,null,null,null,null,null,null,null,null,null,null,null,null,null,null,null,null,null,null,null,null,null,null,null,null,"[貯蓄残高]"]
[null,null,null,"グラフの出力中です",null,null,null,null,null,null,null,null,null,null,null,null,null,null,null,null,null,null,null,null,null,null,null,null,null,null,null,null,null,null,null,null,null,null,null,null,null,null,null,"西暦",{"$f":"IF(ISBLANK('1-12-3.キャッシュフロー表 解決策導入後②'!H11),\"\",'1-12-3.キャッシュフロー表 解決策導入後②'!H11)","v":""},{"$f":"IF(ISBLANK('1-12-3.キャッシュフロー表 解決策導入後②'!I11),\"\",'1-12-3.キャッシュフロー表 解決策導入後②'!I11)","v":""},{"$f":"IF(ISBLANK('1-12-3.キャッシュフロー表 解決策導入後②'!J11),\"\",'1-12-3.キャッシュフロー表 解決策導入後②'!J11)","v":""},{"$f":"IF(ISBLANK('1-12-3.キャッシュフロー表 解決策導入後②'!K11),\"\",'1-12-3.キャッシュフロー表 解決策導入後②'!K11)","v":""},{"$f":"IF(ISBLANK('1-12-3.キャッシュフロー表 解決策導入後②'!L11),\"\",'1-12-3.キャッシュフロー表 解決策導入後②'!L11)","v":""},{"$f":"IF(ISBLANK('1-12-3.キャッシュフロー表 解決策導入後②'!M11),\"\",'1-12-3.キャッシュフロー表 解決策導入後②'!M11)","v":""},{"$f":"IF(ISBLANK('1-12-3.キャッシュフロー表 解決策導入後②'!N11),\"\",'1-12-3.キャッシュフロー表 解決策導入後②'!N11)","v":""},{"$f":"IF(ISBLANK('1-12-3.キャッシュフロー表 解決策導入後②'!O11),\"\",'1-12-3.キャッシュフロー表 解決策導入後②'!O11)","v":""},{"$f":"IF(ISBLANK('1-12-3.キャッシュフロー表 解決策導入後②'!P11),\"\",'1-12-3.キャッシュフロー表 解決策導入後②'!P11)","v":""},{"$f":"IF(ISBLANK('1-12-3.キャッシュフロー表 解決策導入後②'!Q11),\"\",'1-12-3.キャッシュフロー表 解決策導入後②'!Q11)","v":""},{"$f":"IF(ISBLANK('1-12-3.キャッシュフロー表 解決策導入後②'!R11),\"\",'1-12-3.キャッシュフロー表 解決策導入後②'!R11)","v":""},{"$f":"IF(ISBLANK('1-12-3.キャッシュフロー表 解決策導入後②'!S11),\"\",'1-12-3.キャッシュフロー表 解決策導入後②'!S11)","v":""},{"$f":"IF(ISBLANK('1-12-3.キャッシュフロー表 解決策導入後②'!T11),\"\",'1-12-3.キャッシュフロー表 解決策導入後②'!T11)","v":""},{"$f":"IF(ISBLANK('1-12-3.キャッシュフロー表 解決策導入後②'!U11),\"\",'1-12-3.キャッシュフロー表 解決策導入後②'!U11)","v":""},{"$f":"IF(ISBLANK('1-12-3.キャッシュフロー表 解決策導入後②'!V11),\"\",'1-12-3.キャッシュフロー表 解決策導入後②'!V11)","v":""},{"$f":"IF(ISBLANK('1-12-3.キャッシュフロー表 解決策導入後②'!W11),\"\",'1-12-3.キャッシュフロー表 解決策導入後②'!W11)","v":""},{"$f":"IF(ISBLANK('1-12-3.キャッシュフロー表 解決策導入後②'!X11),\"\",'1-12-3.キャッシュフロー表 解決策導入後②'!X11)","v":""},{"$f":"IF(ISBLANK('1-12-3.キャッシュフロー表 解決策導入後②'!Y11),\"\",'1-12-3.キャッシュフロー表 解決策導入後②'!Y11)","v":""},{"$f":"IF(ISBLANK('1-12-3.キャッシュフロー表 解決策導入後②'!Z11),\"\",'1-12-3.キャッシュフロー表 解決策導入後②'!Z11)","v":""},{"$f":"IF(ISBLANK('1-12-3.キャッシュフロー表 解決策導入後②'!AA11),\"\",'1-12-3.キャッシュフロー表 解決策導入後②'!AA11)","v":""},{"$f":"IF(ISBLANK('1-12-3.キャッシュフロー表 解決策導入後②'!AB11),\"\",'1-12-3.キャッシュフロー表 解決策導入後②'!AB11)","v":""},{"$f":"IF(ISBLANK('1-12-3.キャッシュフロー表 解決策導入後②'!AC11),\"\",'1-12-3.キャッシュフロー表 解決策導入後②'!AC11)","v":""},{"$f":"IF(ISBLANK('1-12-3.キャッシュフロー表 解決策導入後②'!AD11),\"\",'1-12-3.キャッシュフロー表 解決策導入後②'!AD11)","v":""},{"$f":"IF(ISBLANK('1-12-3.キャッシュフロー表 解決策導入後②'!AE11),\"\",'1-12-3.キャッシュフロー表 解決策導入後②'!AE11)","v":""},{"$f":"IF(ISBLANK('1-12-3.キャッシュフロー表 解決策導入後②'!AF11),\"\",'1-12-3.キャッシュフロー表 解決策導入後②'!AF11)","v":""},{"$f":"IF(ISBLANK('1-12-3.キャッシュフロー表 解決策導入後②'!AG11),\"\",'1-12-3.キャッシュフロー表 解決策導入後②'!AG11)","v":""},{"$f":"IF(ISBLANK('1-12-3.キャッシュフロー表 解決策導入後②'!AH11),\"\",'1-12-3.キャッシュフロー表 解決策導入後②'!AH11)","v":""},{"$f":"IF(ISBLANK('1-12-3.キャッシュフロー表 解決策導入後②'!AI11),\"\",'1-12-3.キャッシュフロー表 解決策導入後②'!AI11)","v":""},{"$f":"IF(ISBLANK('1-12-3.キャッシュフロー表 解決策導入後②'!AJ11),\"\",'1-12-3.キャッシュフロー表 解決策導入後②'!AJ11)","v":""},{"$f":"IF(ISBLANK('1-12-3.キャッシュフロー表 解決策導入後②'!AK11),\"\",'1-12-3.キャッシュフロー表 解決策導入後②'!AK11)","v":""},{"$f":"IF(ISBLANK('1-12-3.キャッシュフロー表 解決策導入後②'!AL11),\"\",'1-12-3.キャッシュフロー表 解決策導入後②'!AL11)","v":""},{"$f":"IF(ISBLANK('1-12-3.キャッシュフロー表 解決策導入後②'!AM11),\"\",'1-12-3.キャッシュフロー表 解決策導入後②'!AM11)","v":""},{"$f":"IF(ISBLANK('1-12-3.キャッシュフロー表 解決策導入後②'!AN11),\"\",'1-12-3.キャッシュフロー表 解決策導入後②'!AN11)","v":""},{"$f":"IF(ISBLANK('1-12-3.キャッシュフロー表 解決策導入後②'!AO11),\"\",'1-12-3.キャッシュフロー表 解決策導入後②'!AO11)","v":""},{"$f":"IF(ISBLANK('1-12-3.キャッシュフロー表 解決策導入後②'!AP11),\"\",'1-12-3.キャッシュフロー表 解決策導入後②'!AP11)","v":""},{"$f":"IF(ISBLANK('1-12-3.キャッシュフロー表 解決策導入後②'!AQ11),\"\",'1-12-3.キャッシュフロー表 解決策導入後②'!AQ11)","v":""},{"$f":"IF(ISBLANK('1-12-3.キャッシュフロー表 解決策導入後②'!AR11),\"\",'1-12-3.キャッシュフロー表 解決策導入後②'!AR11)","v":""},{"$f":"IF(ISBLANK('1-12-3.キャッシュフロー表 解決策導入後②'!AS11),\"\",'1-12-3.キャッシュフロー表 解決策導入後②'!AS11)","v":""},{"$f":"IF(ISBLANK('1-12-3.キャッシュフロー表 解決策導入後②'!AT11),\"\",'1-12-3.キャッシュフロー表 解決策導入後②'!AT11)","v":""},{"$f":"IF(ISBLANK('1-12-3.キャッシュフロー表 解決策導入後②'!AU11),\"\",'1-12-3.キャッシュフロー表 解決策導入後②'!AU11)","v":""},{"$f":"IF(ISBLANK('1-12-3.キャッシュフロー表 解決策導入後②'!AV11),\"\",'1-12-3.キャッシュフロー表 解決策導入後②'!AV11)","v":""},{"$f":"IF(ISBLANK('1-12-3.キャッシュフロー表 解決策導入後②'!AW11),\"\",'1-12-3.キャッシュフロー表 解決策導入後②'!AW11)","v":""},{"$f":"IF(ISBLANK('1-12-3.キャッシュフロー表 解決策導入後②'!AX11),\"\",'1-12-3.キャッシュフロー表 解決策導入後②'!AX11)","v":""},{"$f":"IF(ISBLANK('1-12-3.キャッシュフロー表 解決策導入後②'!AY11),\"\",'1-12-3.キャッシュフロー表 解決策導入後②'!AY11)","v":""},{"$f":"IF(ISBLANK('1-12-3.キャッシュフロー表 解決策導入後②'!AZ11),\"\",'1-12-3.キャッシュフロー表 解決策導入後②'!AZ11)","v":""},{"$f":"IF(ISBLANK('1-12-3.キャッシュフロー表 解決策導入後②'!BA11),\"\",'1-12-3.キャッシュフロー表 解決策導入後②'!BA11)","v":""},{"$f":"IF(ISBLANK('1-12-3.キャッシュフロー表 解決策導入後②'!BB11),\"\",'1-12-3.キャッシュフロー表 解決策導入後②'!BB11)","v":""},{"$f":"IF(ISBLANK('1-12-3.キャッシュフロー表 解決策導入後②'!BC11),\"\",'1-12-3.キャッシュフロー表 解決策導入後②'!BC11)","v":""},{"$f":"IF(ISBLANK('1-12-3.キャッシュフロー表 解決策導入後②'!BD11),\"\",'1-12-3.キャッシュフロー表 解決策導入後②'!BD11)","v":""},{"$f":"IF(ISBLANK('1-12-3.キャッシュフロー表 解決策導入後②'!BE11),\"\",'1-12-3.キャッシュフロー表 解決策導入後②'!BE11)","v":""},{"$f":"IF(ISBLANK('1-12-3.キャッシュフロー表 解決策導入後②'!BF11),\"\",'1-12-3.キャッシュフロー表 解決策導入後②'!BF11)","v":""},{"$f":"IF(ISBLANK('1-12-3.キャッシュフロー表 解決策導入後②'!BG11),\"\",'1-12-3.キャッシュフロー表 解決策導入後②'!BG11)","v":""},{"$f":"IF(ISBLANK('1-12-3.キャッシュフロー表 解決策導入後②'!BH11),\"\",'1-12-3.キャッシュフロー表 解決策導入後②'!BH11)","v":""},{"$f":"IF(ISBLANK('1-12-3.キャッシュフロー表 解決策導入後②'!BI11),\"\",'1-12-3.キャッシュフロー表 解決策導入後②'!BI11)","v":""},{"$f":"IF(ISBLANK('1-12-3.キャッシュフロー表 解決策導入後②'!BJ11),\"\",'1-12-3.キャッシュフロー表 解決策導入後②'!BJ11)","v":""},{"$f":"IF(ISBLANK('1-12-3.キャッシュフロー表 解決策導入後②'!BK11),\"\",'1-12-3.キャッシュフロー表 解決策導入後②'!BK11)","v":""},{"$f":"IF(ISBLANK('1-12-3.キャッシュフロー表 解決策導入後②'!BL11),\"\",'1-12-3.キャッシュフロー表 解決策導入後②'!BL11)","v":""},{"$f":"IF(ISBLANK('1-12-3.キャッシュフロー表 解決策導入後②'!BM11),\"\",'1-12-3.キャッシュフロー表 解決策導入後②'!BM11)","v":""},{"$f":"IF(ISBLANK('1-12-3.キャッシュフロー表 解決策導入後②'!BN11),\"\",'1-12-3.キャッシュフロー表 解決策導入後②'!BN11)","v":""},{"$f":"IF(ISBLANK('1-12-3.キャッシュフロー表 解決策導入後②'!BO11),\"\",'1-12-3.キャッシュフロー表 解決策導入後②'!BO11)","v":""},{"$f":"IF(ISBLANK('1-12-3.キャッシュフロー表 解決策導入後②'!BP11),\"\",'1-12-3.キャッシュフロー表 解決策導入後②'!BP11)","v":""},{"$f":"IF(ISBLANK('1-12-3.キャッシュフロー表 解決策導入後②'!BQ11),\"\",'1-12-3.キャッシュフロー表 解決策導入後②'!BQ11)","v":""},{"$f":"IF(ISBLANK('1-12-3.キャッシュフロー表 解決策導入後②'!BR11),\"\",'1-12-3.キャッシュフロー表 解決策導入後②'!BR11)","v":""},{"$f":"IF(ISBLANK('1-12-3.キャッシュフロー表 解決策導入後②'!BS11),\"\",'1-12-3.キャッシュフロー表 解決策導入後②'!BS11)","v":""},{"$f":"IF(ISBLANK('1-12-3.キャッシュフロー表 解決策導入後②'!BT11),\"\",'1-12-3.キャッシュフロー表 解決策導入後②'!BT11)","v":""},{"$f":"IF(ISBLANK('1-12-3.キャッシュフロー表 解決策導入後②'!BU11),\"\",'1-12-3.キャッシュフロー表 解決策導入後②'!BU11)","v":""},{"$f":"IF(ISBLANK('1-12-3.キャッシュフロー表 解決策導入後②'!BV11),\"\",'1-12-3.キャッシュフロー表 解決策導入後②'!BV11)","v":""},{"$f":"IF(ISBLANK('1-12-3.キャッシュフロー表 解決策導入後②'!BW11),\"\",'1-12-3.キャッシュフロー表 解決策導入後②'!BW11)","v":""},{"$f":"IF(ISBLANK('1-12-3.キャッシュフロー表 解決策導入後②'!BX11),\"\",'1-12-3.キャッシュフロー表 解決策導入後②'!BX11)","v":""},{"$f":"IF(ISBLANK('1-12-3.キャッシュフロー表 解決策導入後②'!BY11),\"\",'1-12-3.キャッシュフロー表 解決策導入後②'!BY11)","v":""},{"$f":"IF(ISBLANK('1-12-3.キャッシュフロー表 解決策導入後②'!BZ11),\"\",'1-12-3.キャッシュフロー表 解決策導入後②'!BZ11)","v":""}]
[null,null,null,null,null,null,null,null,null,null,null,null,null,null,null,null,null,null,null,null,null,null,null,null,null,null,null,null,null,null,null,null,null,null,null,null,null,null,null,null,null,null,null,"西暦（下2桁）",{"$f":"IF(TRIM(AS6)=\"\",\"\",\"'\"&RIGHT(AS6,2))","v":""},"","","","","","","","","","","","","","","","","","","","","","","","","","","","","","",{"$f":"IF(TRIM(BX6)=\"\",\"\",\"'\"&RIGHT(BX6,2))","v":""},"","","","","","","","","","","","","","","","","","","","","","","","","","","","","","","","","","","","","","",""]
[null,null,null,null,null,null,null,null,null,null,null,null,null,null,null,null,null,null,null,null,null,null,null,null,null,null,null,null,null,null,null,null,null,null,null,null,null,null,null,null,null,null,null,"貯蓄残高",{"$f":"IF(ISBLANK('1-12-3.キャッシュフロー表 解決策導入後②'!H42),0,'1-12-3.キャッシュフロー表 解決策導入後②'!H42)","v":0},{"$f":"IF(ISBLANK('1-12-3.キャッシュフロー表 解決策導入後②'!I42),0,'1-12-3.キャッシュフロー表 解決策導入後②'!I42)","v":0},{"$f":"IF(ISBLANK('1-12-3.キャッシュフロー表 解決策導入後②'!J42),0,'1-12-3.キャッシュフロー表 解決策導入後②'!J42)","v":0},{"$f":"IF(ISBLANK('1-12-3.キャッシュフロー表 解決策導入後②'!K42),0,'1-12-3.キャッシュフロー表 解決策導入後②'!K42)","v":0},{"$f":"IF(ISBLANK('1-12-3.キャッシュフロー表 解決策導入後②'!L42),0,'1-12-3.キャッシュフロー表 解決策導入後②'!L42)","v":0},{"$f":"IF(ISBLANK('1-12-3.キャッシュフロー表 解決策導入後②'!M42),0,'1-12-3.キャッシュフロー表 解決策導入後②'!M42)","v":0},{"$f":"IF(ISBLANK('1-12-3.キャッシュフロー表 解決策導入後②'!N42),0,'1-12-3.キャッシュフロー表 解決策導入後②'!N42)","v":0},{"$f":"IF(ISBLANK('1-12-3.キャッシュフロー表 解決策導入後②'!O42),0,'1-12-3.キャッシュフロー表 解決策導入後②'!O42)","v":0},{"$f":"IF(ISBLANK('1-12-3.キャッシュフロー表 解決策導入後②'!P42),0,'1-12-3.キャッシュフロー表 解決策導入後②'!P42)","v":0},{"$f":"IF(ISBLANK('1-12-3.キャッシュフロー表 解決策導入後②'!Q42),0,'1-12-3.キャッシュフロー表 解決策導入後②'!Q42)","v":0},{"$f":"IF(ISBLANK('1-12-3.キャッシュフロー表 解決策導入後②'!R42),0,'1-12-3.キャッシュフロー表 解決策導入後②'!R42)","v":0},{"$f":"IF(ISBLANK('1-12-3.キャッシュフロー表 解決策導入後②'!S42),0,'1-12-3.キャッシュフロー表 解決策導入後②'!S42)","v":0},{"$f":"IF(ISBLANK('1-12-3.キャッシュフロー表 解決策導入後②'!T42),0,'1-12-3.キャッシュフロー表 解決策導入後②'!T42)","v":0},{"$f":"IF(ISBLANK('1-12-3.キャッシュフロー表 解決策導入後②'!U42),0,'1-12-3.キャッシュフロー表 解決策導入後②'!U42)","v":0},{"$f":"IF(ISBLANK('1-12-3.キャッシュフロー表 解決策導入後②'!V42),0,'1-12-3.キャッシュフロー表 解決策導入後②'!V42)","v":0},{"$f":"IF(ISBLANK('1-12-3.キャッシュフロー表 解決策導入後②'!W42),0,'1-12-3.キャッシュフロー表 解決策導入後②'!W42)","v":0},{"$f":"IF(ISBLANK('1-12-3.キャッシュフロー表 解決策導入後②'!X42),0,'1-12-3.キャッシュフロー表 解決策導入後②'!X42)","v":0},{"$f":"IF(ISBLANK('1-12-3.キャッシュフロー表 解決策導入後②'!Y42),0,'1-12-3.キャッシュフロー表 解決策導入後②'!Y42)","v":0},{"$f":"IF(ISBLANK('1-12-3.キャッシュフロー表 解決策導入後②'!Z42),0,'1-12-3.キャッシュフロー表 解決策導入後②'!Z42)","v":0},{"$f":"IF(ISBLANK('1-12-3.キャッシュフロー表 解決策導入後②'!AA42),0,'1-12-3.キャッシュフロー表 解決策導入後②'!AA42)","v":0},{"$f":"IF(ISBLANK('1-12-3.キャッシュフロー表 解決策導入後②'!AB42),0,'1-12-3.キャッシュフロー表 解決策導入後②'!AB42)","v":0},{"$f":"IF(ISBLANK('1-12-3.キャッシュフロー表 解決策導入後②'!AC42),0,'1-12-3.キャッシュフロー表 解決策導入後②'!AC42)","v":0},{"$f":"IF(ISBLANK('1-12-3.キャッシュフロー表 解決策導入後②'!AD42),0,'1-12-3.キャッシュフロー表 解決策導入後②'!AD42)","v":0},{"$f":"IF(ISBLANK('1-12-3.キャッシュフロー表 解決策導入後②'!AE42),0,'1-12-3.キャッシュフロー表 解決策導入後②'!AE42)","v":0},{"$f":"IF(ISBLANK('1-12-3.キャッシュフロー表 解決策導入後②'!AF42),0,'1-12-3.キャッシュフロー表 解決策導入後②'!AF42)","v":0},{"$f":"IF(ISBLANK('1-12-3.キャッシュフロー表 解決策導入後②'!AG42),0,'1-12-3.キャッシュフロー表 解決策導入後②'!AG42)","v":0},{"$f":"IF(ISBLANK('1-12-3.キャッシュフロー表 解決策導入後②'!AH42),0,'1-12-3.キャッシュフロー表 解決策導入後②'!AH42)","v":0},{"$f":"IF(ISBLANK('1-12-3.キャッシュフロー表 解決策導入後②'!AI42),0,'1-12-3.キャッシュフロー表 解決策導入後②'!AI42)","v":0},{"$f":"IF(ISBLANK('1-12-3.キャッシュフロー表 解決策導入後②'!AJ42),0,'1-12-3.キャッシュフロー表 解決策導入後②'!AJ42)","v":0},{"$f":"IF(ISBLANK('1-12-3.キャッシュフロー表 解決策導入後②'!AK42),0,'1-12-3.キャッシュフロー表 解決策導入後②'!AK42)","v":0},{"$f":"IF(ISBLANK('1-12-3.キャッシュフロー表 解決策導入後②'!AL42),0,'1-12-3.キャッシュフロー表 解決策導入後②'!AL42)","v":0},{"$f":"IF(ISBLANK('1-12-3.キャッシュフロー表 解決策導入後②'!AM42),0,'1-12-3.キャッシュフロー表 解決策導入後②'!AM42)","v":0},{"$f":"IF(ISBLANK('1-12-3.キャッシュフロー表 解決策導入後②'!AN42),0,'1-12-3.キャッシュフロー表 解決策導入後②'!AN42)","v":0},{"$f":"IF(ISBLANK('1-12-3.キャッシュフロー表 解決策導入後②'!AO42),0,'1-12-3.キャッシュフロー表 解決策導入後②'!AO42)","v":0},{"$f":"IF(ISBLANK('1-12-3.キャッシュフロー表 解決策導入後②'!AP42),0,'1-12-3.キャッシュフロー表 解決策導入後②'!AP42)","v":0},{"$f":"IF(ISBLANK('1-12-3.キャッシュフロー表 解決策導入後②'!AQ42),0,'1-12-3.キャッシュフロー表 解決策導入後②'!AQ42)","v":0},{"$f":"IF(ISBLANK('1-12-3.キャッシュフロー表 解決策導入後②'!AR42),0,'1-12-3.キャッシュフロー表 解決策導入後②'!AR42)","v":0},{"$f":"IF(ISBLANK('1-12-3.キャッシュフロー表 解決策導入後②'!AS42),0,'1-12-3.キャッシュフロー表 解決策導入後②'!AS42)","v":0},{"$f":"IF(ISBLANK('1-12-3.キャッシュフロー表 解決策導入後②'!AT42),0,'1-12-3.キャッシュフロー表 解決策導入後②'!AT42)","v":0},{"$f":"IF(ISBLANK('1-12-3.キャッシュフロー表 解決策導入後②'!AU42),0,'1-12-3.キャッシュフロー表 解決策導入後②'!AU42)","v":0},{"$f":"IF(ISBLANK('1-12-3.キャッシュフロー表 解決策導入後②'!AV42),0,'1-12-3.キャッシュフロー表 解決策導入後②'!AV42)","v":0},{"$f":"IF(ISBLANK('1-12-3.キャッシュフロー表 解決策導入後②'!AW42),0,'1-12-3.キャッシュフロー表 解決策導入後②'!AW42)","v":0},{"$f":"IF(ISBLANK('1-12-3.キャッシュフロー表 解決策導入後②'!AX42),0,'1-12-3.キャッシュフロー表 解決策導入後②'!AX42)","v":0},{"$f":"IF(ISBLANK('1-12-3.キャッシュフロー表 解決策導入後②'!AY42),0,'1-12-3.キャッシュフロー表 解決策導入後②'!AY42)","v":0},{"$f":"IF(ISBLANK('1-12-3.キャッシュフロー表 解決策導入後②'!AZ42),0,'1-12-3.キャッシュフロー表 解決策導入後②'!AZ42)","v":0},{"$f":"IF(ISBLANK('1-12-3.キャッシュフロー表 解決策導入後②'!BA42),0,'1-12-3.キャッシュフロー表 解決策導入後②'!BA42)","v":0},{"$f":"IF(ISBLANK('1-12-3.キャッシュフロー表 解決策導入後②'!BB42),0,'1-12-3.キャッシュフロー表 解決策導入後②'!BB42)","v":0},{"$f":"IF(ISBLANK('1-12-3.キャッシュフロー表 解決策導入後②'!BC42),0,'1-12-3.キャッシュフロー表 解決策導入後②'!BC42)","v":0},{"$f":"IF(ISBLANK('1-12-3.キャッシュフロー表 解決策導入後②'!BD42),0,'1-12-3.キャッシュフロー表 解決策導入後②'!BD42)","v":0},{"$f":"IF(ISBLANK('1-12-3.キャッシュフロー表 解決策導入後②'!BE42),0,'1-12-3.キャッシュフロー表 解決策導入後②'!BE42)","v":0},{"$f":"IF(ISBLANK('1-12-3.キャッシュフロー表 解決策導入後②'!BF42),0,'1-12-3.キャッシュフロー表 解決策導入後②'!BF42)","v":0},{"$f":"IF(ISBLANK('1-12-3.キャッシュフロー表 解決策導入後②'!BG42),0,'1-12-3.キャッシュフロー表 解決策導入後②'!BG42)","v":0},{"$f":"IF(ISBLANK('1-12-3.キャッシュフロー表 解決策導入後②'!BH42),0,'1-12-3.キャッシュフロー表 解決策導入後②'!BH42)","v":0},{"$f":"IF(ISBLANK('1-12-3.キャッシュフロー表 解決策導入後②'!BI42),0,'1-12-3.キャッシュフロー表 解決策導入後②'!BI42)","v":0},{"$f":"IF(ISBLANK('1-12-3.キャッシュフロー表 解決策導入後②'!BJ42),0,'1-12-3.キャッシュフロー表 解決策導入後②'!BJ42)","v":0},{"$f":"IF(ISBLANK('1-12-3.キャッシュフロー表 解決策導入後②'!BK42),0,'1-12-3.キャッシュフロー表 解決策導入後②'!BK42)","v":0},{"$f":"IF(ISBLANK('1-12-3.キャッシュフロー表 解決策導入後②'!BL42),0,'1-12-3.キャッシュフロー表 解決策導入後②'!BL42)","v":0},{"$f":"IF(ISBLANK('1-12-3.キャッシュフロー表 解決策導入後②'!BM42),0,'1-12-3.キャッシュフロー表 解決策導入後②'!BM42)","v":0},{"$f":"IF(ISBLANK('1-12-3.キャッシュフロー表 解決策導入後②'!BN42),0,'1-12-3.キャッシュフロー表 解決策導入後②'!BN42)","v":0},{"$f":"IF(ISBLANK('1-12-3.キャッシュフロー表 解決策導入後②'!BO42),0,'1-12-3.キャッシュフロー表 解決策導入後②'!BO42)","v":0},{"$f":"IF(ISBLANK('1-12-3.キャッシュフロー表 解決策導入後②'!BP42),0,'1-12-3.キャッシュフロー表 解決策導入後②'!BP42)","v":0},{"$f":"IF(ISBLANK('1-12-3.キャッシュフロー表 解決策導入後②'!BQ42),0,'1-12-3.キャッシュフロー表 解決策導入後②'!BQ42)","v":0},{"$f":"IF(ISBLANK('1-12-3.キャッシュフロー表 解決策導入後②'!BR42),0,'1-12-3.キャッシュフロー表 解決策導入後②'!BR42)","v":0},{"$f":"IF(ISBLANK('1-12-3.キャッシュフロー表 解決策導入後②'!BS42),0,'1-12-3.キャッシュフロー表 解決策導入後②'!BS42)","v":0},{"$f":"IF(ISBLANK('1-12-3.キャッシュフロー表 解決策導入後②'!BT42),0,'1-12-3.キャッシュフロー表 解決策導入後②'!BT42)","v":0},{"$f":"IF(ISBLANK('1-12-3.キャッシュフロー表 解決策導入後②'!BU42),0,'1-12-3.キャッシュフロー表 解決策導入後②'!BU42)","v":0},{"$f":"IF(ISBLANK('1-12-3.キャッシュフロー表 解決策導入後②'!BV42),0,'1-12-3.キャッシュフロー表 解決策導入後②'!BV42)","v":0},{"$f":"IF(ISBLANK('1-12-3.キャッシュフロー表 解決策導入後②'!BW42),0,'1-12-3.キャッシュフロー表 解決策導入後②'!BW42)","v":0},{"$f":"IF(ISBLANK('1-12-3.キャッシュフロー表 解決策導入後②'!BX42),0,'1-12-3.キャッシュフロー表 解決策導入後②'!BX42)","v":0},{"$f":"IF(ISBLANK('1-12-3.キャッシュフロー表 解決策導入後②'!BY42),0,'1-12-3.キャッシュフロー表 解決策導入後②'!BY42)","v":0},{"$f":"IF(ISBLANK('1-12-3.キャッシュフロー表 解決策導入後②'!BZ42),0,'1-12-3.キャッシュフロー表 解決策導入後②'!BZ42)","v":0}]
[]
[]
[]
[]
[]
[]
[]
[]
[]
[]
[]
[]
[]
[]
[]
[]
[null,null,null,null,null,null,null,null,null,null,null,null,null,null,null,null,null,null,null,null,null,null,null,null,null,null,null,null,null,null,null,null,null,null,null,null,null,null,null,null,null,null,null,null,"[単年ごとの収入と支出]"]
[null,null,null,"グラフの出力中です",null,null,null,null,null,null,null,null,null,null,null,null,null,null,null,null,null,null,null,null,null,null,null,null,null,null,null,null,null,null,null,null,null,null,null,null,null,null,null,"西暦（下2桁）",{"$f":"AS7","v":""},"","","","","","","","","","","","","","","","","","","","","","","","","","","","","","",{"$f":"BX7","v":""},"","","","","","","","","","","","","","","","","","","","","","","","","","","","","","","","","","","","","","",""]
[null,null,null,null,null,null,null,null,null,null,null,null,null,null,null,null,null,null,null,null,null,null,null,null,null,null,null,null,null,null,null,null,null,null,null,null,null,null,null,null,null,null,null,"収入合計",{"$f":"IF(ISBLANK('1-12-3.キャッシュフロー表 解決策導入後②'!H30),0,'1-12-3.キャッシュフロー表 解決策導入後②'!H30)","v":0},{"$f":"IF(ISBLANK('1-12-3.キャッシュフロー表 解決策導入後②'!I30),0,'1-12-3.キャッシュフロー表 解決策導入後②'!I30)","v":0},{"$f":"IF(ISBLANK('1-12-3.キャッシュフロー表 解決策導入後②'!J30),0,'1-12-3.キャッシュフロー表 解決策導入後②'!J30)","v":0},{"$f":"IF(ISBLANK('1-12-3.キャッシュフロー表 解決策導入後②'!K30),0,'1-12-3.キャッシュフロー表 解決策導入後②'!K30)","v":0},{"$f":"IF(ISBLANK('1-12-3.キャッシュフロー表 解決策導入後②'!L30),0,'1-12-3.キャッシュフロー表 解決策導入後②'!L30)","v":0},{"$f":"IF(ISBLANK('1-12-3.キャッシュフロー表 解決策導入後②'!M30),0,'1-12-3.キャッシュフロー表 解決策導入後②'!M30)","v":0},{"$f":"IF(ISBLANK('1-12-3.キャッシュフロー表 解決策導入後②'!N30),0,'1-12-3.キャッシュフロー表 解決策導入後②'!N30)","v":0},{"$f":"IF(ISBLANK('1-12-3.キャッシュフロー表 解決策導入後②'!O30),0,'1-12-3.キャッシュフロー表 解決策導入後②'!O30)","v":0},{"$f":"IF(ISBLANK('1-12-3.キャッシュフロー表 解決策導入後②'!P30),0,'1-12-3.キャッシュフロー表 解決策導入後②'!P30)","v":0},{"$f":"IF(ISBLANK('1-12-3.キャッシュフロー表 解決策導入後②'!Q30),0,'1-12-3.キャッシュフロー表 解決策導入後②'!Q30)","v":0},{"$f":"IF(ISBLANK('1-12-3.キャッシュフロー表 解決策導入後②'!R30),0,'1-12-3.キャッシュフロー表 解決策導入後②'!R30)","v":0},{"$f":"IF(ISBLANK('1-12-3.キャッシュフロー表 解決策導入後②'!S30),0,'1-12-3.キャッシュフロー表 解決策導入後②'!S30)","v":0},{"$f":"IF(ISBLANK('1-12-3.キャッシュフロー表 解決策導入後②'!T30),0,'1-12-3.キャッシュフロー表 解決策導入後②'!T30)","v":0},{"$f":"IF(ISBLANK('1-12-3.キャッシュフロー表 解決策導入後②'!U30),0,'1-12-3.キャッシュフロー表 解決策導入後②'!U30)","v":0},{"$f":"IF(ISBLANK('1-12-3.キャッシュフロー表 解決策導入後②'!V30),0,'1-12-3.キャッシュフロー表 解決策導入後②'!V30)","v":0},{"$f":"IF(ISBLANK('1-12-3.キャッシュフロー表 解決策導入後②'!W30),0,'1-12-3.キャッシュフロー表 解決策導入後②'!W30)","v":0},{"$f":"IF(ISBLANK('1-12-3.キャッシュフロー表 解決策導入後②'!X30),0,'1-12-3.キャッシュフロー表 解決策導入後②'!X30)","v":0},{"$f":"IF(ISBLANK('1-12-3.キャッシュフロー表 解決策導入後②'!Y30),0,'1-12-3.キャッシュフロー表 解決策導入後②'!Y30)","v":0},{"$f":"IF(ISBLANK('1-12-3.キャッシュフロー表 解決策導入後②'!Z30),0,'1-12-3.キャッシュフロー表 解決策導入後②'!Z30)","v":0},{"$f":"IF(ISBLANK('1-12-3.キャッシュフロー表 解決策導入後②'!AA30),0,'1-12-3.キャッシュフロー表 解決策導入後②'!AA30)","v":0},{"$f":"IF(ISBLANK('1-12-3.キャッシュフロー表 解決策導入後②'!AB30),0,'1-12-3.キャッシュフロー表 解決策導入後②'!AB30)","v":0},{"$f":"IF(ISBLANK('1-12-3.キャッシュフロー表 解決策導入後②'!AC30),0,'1-12-3.キャッシュフロー表 解決策導入後②'!AC30)","v":0},{"$f":"IF(ISBLANK('1-12-3.キャッシュフロー表 解決策導入後②'!AD30),0,'1-12-3.キャッシュフロー表 解決策導入後②'!AD30)","v":0},{"$f":"IF(ISBLANK('1-12-3.キャッシュフロー表 解決策導入後②'!AE30),0,'1-12-3.キャッシュフロー表 解決策導入後②'!AE30)","v":0},{"$f":"IF(ISBLANK('1-12-3.キャッシュフロー表 解決策導入後②'!AF30),0,'1-12-3.キャッシュフロー表 解決策導入後②'!AF30)","v":0},{"$f":"IF(ISBLANK('1-12-3.キャッシュフロー表 解決策導入後②'!AG30),0,'1-12-3.キャッシュフロー表 解決策導入後②'!AG30)","v":0},{"$f":"IF(ISBLANK('1-12-3.キャッシュフロー表 解決策導入後②'!AH30),0,'1-12-3.キャッシュフロー表 解決策導入後②'!AH30)","v":0},{"$f":"IF(ISBLANK('1-12-3.キャッシュフロー表 解決策導入後②'!AI30),0,'1-12-3.キャッシュフロー表 解決策導入後②'!AI30)","v":0},{"$f":"IF(ISBLANK('1-12-3.キャッシュフロー表 解決策導入後②'!AJ30),0,'1-12-3.キャッシュフロー表 解決策導入後②'!AJ30)","v":0},{"$f":"IF(ISBLANK('1-12-3.キャッシュフロー表 解決策導入後②'!AK30),0,'1-12-3.キャッシュフロー表 解決策導入後②'!AK30)","v":0},{"$f":"IF(ISBLANK('1-12-3.キャッシュフロー表 解決策導入後②'!AL30),0,'1-12-3.キャッシュフロー表 解決策導入後②'!AL30)","v":0},{"$f":"IF(ISBLANK('1-12-3.キャッシュフロー表 解決策導入後②'!AM30),0,'1-12-3.キャッシュフロー表 解決策導入後②'!AM30)","v":0},{"$f":"IF(ISBLANK('1-12-3.キャッシュフロー表 解決策導入後②'!AN30),0,'1-12-3.キャッシュフロー表 解決策導入後②'!AN30)","v":0},{"$f":"IF(ISBLANK('1-12-3.キャッシュフロー表 解決策導入後②'!AO30),0,'1-12-3.キャッシュフロー表 解決策導入後②'!AO30)","v":0},{"$f":"IF(ISBLANK('1-12-3.キャッシュフロー表 解決策導入後②'!AP30),0,'1-12-3.キャッシュフロー表 解決策導入後②'!AP30)","v":0},{"$f":"IF(ISBLANK('1-12-3.キャッシュフロー表 解決策導入後②'!AQ30),0,'1-12-3.キャッシュフロー表 解決策導入後②'!AQ30)","v":0},{"$f":"IF(ISBLANK('1-12-3.キャッシュフロー表 解決策導入後②'!AR30),0,'1-12-3.キャッシュフロー表 解決策導入後②'!AR30)","v":0},{"$f":"IF(ISBLANK('1-12-3.キャッシュフロー表 解決策導入後②'!AS30),0,'1-12-3.キャッシュフロー表 解決策導入後②'!AS30)","v":0},{"$f":"IF(ISBLANK('1-12-3.キャッシュフロー表 解決策導入後②'!AT30),0,'1-12-3.キャッシュフロー表 解決策導入後②'!AT30)","v":0},{"$f":"IF(ISBLANK('1-12-3.キャッシュフロー表 解決策導入後②'!AU30),0,'1-12-3.キャッシュフロー表 解決策導入後②'!AU30)","v":0},{"$f":"IF(ISBLANK('1-12-3.キャッシュフロー表 解決策導入後②'!AV30),0,'1-12-3.キャッシュフロー表 解決策導入後②'!AV30)","v":0},{"$f":"IF(ISBLANK('1-12-3.キャッシュフロー表 解決策導入後②'!AW30),0,'1-12-3.キャッシュフロー表 解決策導入後②'!AW30)","v":0},{"$f":"IF(ISBLANK('1-12-3.キャッシュフロー表 解決策導入後②'!AX30),0,'1-12-3.キャッシュフロー表 解決策導入後②'!AX30)","v":0},{"$f":"IF(ISBLANK('1-12-3.キャッシュフロー表 解決策導入後②'!AY30),0,'1-12-3.キャッシュフロー表 解決策導入後②'!AY30)","v":0},{"$f":"IF(ISBLANK('1-12-3.キャッシュフロー表 解決策導入後②'!AZ30),0,'1-12-3.キャッシュフロー表 解決策導入後②'!AZ30)","v":0},{"$f":"IF(ISBLANK('1-12-3.キャッシュフロー表 解決策導入後②'!BA30),0,'1-12-3.キャッシュフロー表 解決策導入後②'!BA30)","v":0},{"$f":"IF(ISBLANK('1-12-3.キャッシュフロー表 解決策導入後②'!BB30),0,'1-12-3.キャッシュフロー表 解決策導入後②'!BB30)","v":0},{"$f":"IF(ISBLANK('1-12-3.キャッシュフロー表 解決策導入後②'!BC30),0,'1-12-3.キャッシュフロー表 解決策導入後②'!BC30)","v":0},{"$f":"IF(ISBLANK('1-12-3.キャッシュフロー表 解決策導入後②'!BD30),0,'1-12-3.キャッシュフロー表 解決策導入後②'!BD30)","v":0},{"$f":"IF(ISBLANK('1-12-3.キャッシュフロー表 解決策導入後②'!BE30),0,'1-12-3.キャッシュフロー表 解決策導入後②'!BE30)","v":0},{"$f":"IF(ISBLANK('1-12-3.キャッシュフロー表 解決策導入後②'!BF30),0,'1-12-3.キャッシュフロー表 解決策導入後②'!BF30)","v":0},{"$f":"IF(ISBLANK('1-12-3.キャッシュフロー表 解決策導入後②'!BG30),0,'1-12-3.キャッシュフロー表 解決策導入後②'!BG30)","v":0},{"$f":"IF(ISBLANK('1-12-3.キャッシュフロー表 解決策導入後②'!BH30),0,'1-12-3.キャッシュフロー表 解決策導入後②'!BH30)","v":0},{"$f":"IF(ISBLANK('1-12-3.キャッシュフロー表 解決策導入後②'!BI30),0,'1-12-3.キャッシュフロー表 解決策導入後②'!BI30)","v":0},{"$f":"IF(ISBLANK('1-12-3.キャッシュフロー表 解決策導入後②'!BJ30),0,'1-12-3.キャッシュフロー表 解決策導入後②'!BJ30)","v":0},{"$f":"IF(ISBLANK('1-12-3.キャッシュフロー表 解決策導入後②'!BK30),0,'1-12-3.キャッシュフロー表 解決策導入後②'!BK30)","v":0},{"$f":"IF(ISBLANK('1-12-3.キャッシュフロー表 解決策導入後②'!BL30),0,'1-12-3.キャッシュフロー表 解決策導入後②'!BL30)","v":0},{"$f":"IF(ISBLANK('1-12-3.キャッシュフロー表 解決策導入後②'!BM30),0,'1-12-3.キャッシュフロー表 解決策導入後②'!BM30)","v":0},{"$f":"IF(ISBLANK('1-12-3.キャッシュフロー表 解決策導入後②'!BN30),0,'1-12-3.キャッシュフロー表 解決策導入後②'!BN30)","v":0},{"$f":"IF(ISBLANK('1-12-3.キャッシュフロー表 解決策導入後②'!BO30),0,'1-12-3.キャッシュフロー表 解決策導入後②'!BO30)","v":0},{"$f":"IF(ISBLANK('1-12-3.キャッシュフロー表 解決策導入後②'!BP30),0,'1-12-3.キャッシュフロー表 解決策導入後②'!BP30)","v":0},{"$f":"IF(ISBLANK('1-12-3.キャッシュフロー表 解決策導入後②'!BQ30),0,'1-12-3.キャッシュフロー表 解決策導入後②'!BQ30)","v":0},{"$f":"IF(ISBLANK('1-12-3.キャッシュフロー表 解決策導入後②'!BR30),0,'1-12-3.キャッシュフロー表 解決策導入後②'!BR30)","v":0},{"$f":"IF(ISBLANK('1-12-3.キャッシュフロー表 解決策導入後②'!BS30),0,'1-12-3.キャッシュフロー表 解決策導入後②'!BS30)","v":0},{"$f":"IF(ISBLANK('1-12-3.キャッシュフロー表 解決策導入後②'!BT30),0,'1-12-3.キャッシュフロー表 解決策導入後②'!BT30)","v":0},{"$f":"IF(ISBLANK('1-12-3.キャッシュフロー表 解決策導入後②'!BU30),0,'1-12-3.キャッシュフロー表 解決策導入後②'!BU30)","v":0},{"$f":"IF(ISBLANK('1-12-3.キャッシュフロー表 解決策導入後②'!BV30),0,'1-12-3.キャッシュフロー表 解決策導入後②'!BV30)","v":0},{"$f":"IF(ISBLANK('1-12-3.キャッシュフロー表 解決策導入後②'!BW30),0,'1-12-3.キャッシュフロー表 解決策導入後②'!BW30)","v":0},{"$f":"IF(ISBLANK('1-12-3.キャッシュフロー表 解決策導入後②'!BX30),0,'1-12-3.キャッシュフロー表 解決策導入後②'!BX30)","v":0},{"$f":"IF(ISBLANK('1-12-3.キャッシュフロー表 解決策導入後②'!BY30),0,'1-12-3.キャッシュフロー表 解決策導入後②'!BY30)","v":0},{"$f":"IF(ISBLANK('1-12-3.キャッシュフロー表 解決策導入後②'!BZ30),0,'1-12-3.キャッシュフロー表 解決策導入後②'!BZ30)","v":0}]
[null,null,null,null,null,null,null,null,null,null,null,null,null,null,null,null,null,null,null,null,null,null,null,null,null,null,null,null,null,null,null,null,null,null,null,null,null,null,null,null,null,null,null,"支出合計",{"$f":"IF(ISBLANK('1-12-3.キャッシュフロー表 解決策導入後②'!H40),0,'1-12-3.キャッシュフロー表 解決策導入後②'!H40)","v":0},{"$f":"IF(ISBLANK('1-12-3.キャッシュフロー表 解決策導入後②'!I40),0,'1-12-3.キャッシュフロー表 解決策導入後②'!I40)","v":0},{"$f":"IF(ISBLANK('1-12-3.キャッシュフロー表 解決策導入後②'!J40),0,'1-12-3.キャッシュフロー表 解決策導入後②'!J40)","v":0},{"$f":"IF(ISBLANK('1-12-3.キャッシュフロー表 解決策導入後②'!K40),0,'1-12-3.キャッシュフロー表 解決策導入後②'!K40)","v":0},{"$f":"IF(ISBLANK('1-12-3.キャッシュフロー表 解決策導入後②'!L40),0,'1-12-3.キャッシュフロー表 解決策導入後②'!L40)","v":0},{"$f":"IF(ISBLANK('1-12-3.キャッシュフロー表 解決策導入後②'!M40),0,'1-12-3.キャッシュフロー表 解決策導入後②'!M40)","v":0},{"$f":"IF(ISBLANK('1-12-3.キャッシュフロー表 解決策導入後②'!N40),0,'1-12-3.キャッシュフロー表 解決策導入後②'!N40)","v":0},{"$f":"IF(ISBLANK('1-12-3.キャッシュフロー表 解決策導入後②'!O40),0,'1-12-3.キャッシュフロー表 解決策導入後②'!O40)","v":0},{"$f":"IF(ISBLANK('1-12-3.キャッシュフロー表 解決策導入後②'!P40),0,'1-12-3.キャッシュフロー表 解決策導入後②'!P40)","v":0},{"$f":"IF(ISBLANK('1-12-3.キャッシュフロー表 解決策導入後②'!Q40),0,'1-12-3.キャッシュフロー表 解決策導入後②'!Q40)","v":0},{"$f":"IF(ISBLANK('1-12-3.キャッシュフロー表 解決策導入後②'!R40),0,'1-12-3.キャッシュフロー表 解決策導入後②'!R40)","v":0},{"$f":"IF(ISBLANK('1-12-3.キャッシュフロー表 解決策導入後②'!S40),0,'1-12-3.キャッシュフロー表 解決策導入後②'!S40)","v":0},{"$f":"IF(ISBLANK('1-12-3.キャッシュフロー表 解決策導入後②'!T40),0,'1-12-3.キャッシュフロー表 解決策導入後②'!T40)","v":0},{"$f":"IF(ISBLANK('1-12-3.キャッシュフロー表 解決策導入後②'!U40),0,'1-12-3.キャッシュフロー表 解決策導入後②'!U40)","v":0},{"$f":"IF(ISBLANK('1-12-3.キャッシュフロー表 解決策導入後②'!V40),0,'1-12-3.キャッシュフロー表 解決策導入後②'!V40)","v":0},{"$f":"IF(ISBLANK('1-12-3.キャッシュフロー表 解決策導入後②'!W40),0,'1-12-3.キャッシュフロー表 解決策導入後②'!W40)","v":0},{"$f":"IF(ISBLANK('1-12-3.キャッシュフロー表 解決策導入後②'!X40),0,'1-12-3.キャッシュフロー表 解決策導入後②'!X40)","v":0},{"$f":"IF(ISBLANK('1-12-3.キャッシュフロー表 解決策導入後②'!Y40),0,'1-12-3.キャッシュフロー表 解決策導入後②'!Y40)","v":0},{"$f":"IF(ISBLANK('1-12-3.キャッシュフロー表 解決策導入後②'!Z40),0,'1-12-3.キャッシュフロー表 解決策導入後②'!Z40)","v":0},{"$f":"IF(ISBLANK('1-12-3.キャッシュフロー表 解決策導入後②'!AA40),0,'1-12-3.キャッシュフロー表 解決策導入後②'!AA40)","v":0},{"$f":"IF(ISBLANK('1-12-3.キャッシュフロー表 解決策導入後②'!AB40),0,'1-12-3.キャッシュフロー表 解決策導入後②'!AB40)","v":0},{"$f":"IF(ISBLANK('1-12-3.キャッシュフロー表 解決策導入後②'!AC40),0,'1-12-3.キャッシュフロー表 解決策導入後②'!AC40)","v":0},{"$f":"IF(ISBLANK('1-12-3.キャッシュフロー表 解決策導入後②'!AD40),0,'1-12-3.キャッシュフロー表 解決策導入後②'!AD40)","v":0},{"$f":"IF(ISBLANK('1-12-3.キャッシュフロー表 解決策導入後②'!AE40),0,'1-12-3.キャッシュフロー表 解決策導入後②'!AE40)","v":0},{"$f":"IF(ISBLANK('1-12-3.キャッシュフロー表 解決策導入後②'!AF40),0,'1-12-3.キャッシュフロー表 解決策導入後②'!AF40)","v":0},{"$f":"IF(ISBLANK('1-12-3.キャッシュフロー表 解決策導入後②'!AG40),0,'1-12-3.キャッシュフロー表 解決策導入後②'!AG40)","v":0},{"$f":"IF(ISBLANK('1-12-3.キャッシュフロー表 解決策導入後②'!AH40),0,'1-12-3.キャッシュフロー表 解決策導入後②'!AH40)","v":0},{"$f":"IF(ISBLANK('1-12-3.キャッシュフロー表 解決策導入後②'!AI40),0,'1-12-3.キャッシュフロー表 解決策導入後②'!AI40)","v":0},{"$f":"IF(ISBLANK('1-12-3.キャッシュフロー表 解決策導入後②'!AJ40),0,'1-12-3.キャッシュフロー表 解決策導入後②'!AJ40)","v":0},{"$f":"IF(ISBLANK('1-12-3.キャッシュフロー表 解決策導入後②'!AK40),0,'1-12-3.キャッシュフロー表 解決策導入後②'!AK40)","v":0},{"$f":"IF(ISBLANK('1-12-3.キャッシュフロー表 解決策導入後②'!AL40),0,'1-12-3.キャッシュフロー表 解決策導入後②'!AL40)","v":0},{"$f":"IF(ISBLANK('1-12-3.キャッシュフロー表 解決策導入後②'!AM40),0,'1-12-3.キャッシュフロー表 解決策導入後②'!AM40)","v":0},{"$f":"IF(ISBLANK('1-12-3.キャッシュフロー表 解決策導入後②'!AN40),0,'1-12-3.キャッシュフロー表 解決策導入後②'!AN40)","v":0},{"$f":"IF(ISBLANK('1-12-3.キャッシュフロー表 解決策導入後②'!AO40),0,'1-12-3.キャッシュフロー表 解決策導入後②'!AO40)","v":0},{"$f":"IF(ISBLANK('1-12-3.キャッシュフロー表 解決策導入後②'!AP40),0,'1-12-3.キャッシュフロー表 解決策導入後②'!AP40)","v":0},{"$f":"IF(ISBLANK('1-12-3.キャッシュフロー表 解決策導入後②'!AQ40),0,'1-12-3.キャッシュフロー表 解決策導入後②'!AQ40)","v":0},{"$f":"IF(ISBLANK('1-12-3.キャッシュフロー表 解決策導入後②'!AR40),0,'1-12-3.キャッシュフロー表 解決策導入後②'!AR40)","v":0},{"$f":"IF(ISBLANK('1-12-3.キャッシュフロー表 解決策導入後②'!AS40),0,'1-12-3.キャッシュフロー表 解決策導入後②'!AS40)","v":0},{"$f":"IF(ISBLANK('1-12-3.キャッシュフロー表 解決策導入後②'!AT40),0,'1-12-3.キャッシュフロー表 解決策導入後②'!AT40)","v":0},{"$f":"IF(ISBLANK('1-12-3.キャッシュフロー表 解決策導入後②'!AU40),0,'1-12-3.キャッシュフロー表 解決策導入後②'!AU40)","v":0},{"$f":"IF(ISBLANK('1-12-3.キャッシュフロー表 解決策導入後②'!AV40),0,'1-12-3.キャッシュフロー表 解決策導入後②'!AV40)","v":0},{"$f":"IF(ISBLANK('1-12-3.キャッシュフロー表 解決策導入後②'!AW40),0,'1-12-3.キャッシュフロー表 解決策導入後②'!AW40)","v":0},{"$f":"IF(ISBLANK('1-12-3.キャッシュフロー表 解決策導入後②'!AX40),0,'1-12-3.キャッシュフロー表 解決策導入後②'!AX40)","v":0},{"$f":"IF(ISBLANK('1-12-3.キャッシュフロー表 解決策導入後②'!AY40),0,'1-12-3.キャッシュフロー表 解決策導入後②'!AY40)","v":0},{"$f":"IF(ISBLANK('1-12-3.キャッシュフロー表 解決策導入後②'!AZ40),0,'1-12-3.キャッシュフロー表 解決策導入後②'!AZ40)","v":0},{"$f":"IF(ISBLANK('1-12-3.キャッシュフロー表 解決策導入後②'!BA40),0,'1-12-3.キャッシュフロー表 解決策導入後②'!BA40)","v":0},{"$f":"IF(ISBLANK('1-12-3.キャッシュフロー表 解決策導入後②'!BB40),0,'1-12-3.キャッシュフロー表 解決策導入後②'!BB40)","v":0},{"$f":"IF(ISBLANK('1-12-3.キャッシュフロー表 解決策導入後②'!BC40),0,'1-12-3.キャッシュフロー表 解決策導入後②'!BC40)","v":0},{"$f":"IF(ISBLANK('1-12-3.キャッシュフロー表 解決策導入後②'!BD40),0,'1-12-3.キャッシュフロー表 解決策導入後②'!BD40)","v":0},{"$f":"IF(ISBLANK('1-12-3.キャッシュフロー表 解決策導入後②'!BE40),0,'1-12-3.キャッシュフロー表 解決策導入後②'!BE40)","v":0},{"$f":"IF(ISBLANK('1-12-3.キャッシュフロー表 解決策導入後②'!BF40),0,'1-12-3.キャッシュフロー表 解決策導入後②'!BF40)","v":0},{"$f":"IF(ISBLANK('1-12-3.キャッシュフロー表 解決策導入後②'!BG40),0,'1-12-3.キャッシュフロー表 解決策導入後②'!BG40)","v":0},{"$f":"IF(ISBLANK('1-12-3.キャッシュフロー表 解決策導入後②'!BH40),0,'1-12-3.キャッシュフロー表 解決策導入後②'!BH40)","v":0},{"$f":"IF(ISBLANK('1-12-3.キャッシュフロー表 解決策導入後②'!BI40),0,'1-12-3.キャッシュフロー表 解決策導入後②'!BI40)","v":0},{"$f":"IF(ISBLANK('1-12-3.キャッシュフロー表 解決策導入後②'!BJ40),0,'1-12-3.キャッシュフロー表 解決策導入後②'!BJ40)","v":0},{"$f":"IF(ISBLANK('1-12-3.キャッシュフロー表 解決策導入後②'!BK40),0,'1-12-3.キャッシュフロー表 解決策導入後②'!BK40)","v":0},{"$f":"IF(ISBLANK('1-12-3.キャッシュフロー表 解決策導入後②'!BL40),0,'1-12-3.キャッシュフロー表 解決策導入後②'!BL40)","v":0},{"$f":"IF(ISBLANK('1-12-3.キャッシュフロー表 解決策導入後②'!BM40),0,'1-12-3.キャッシュフロー表 解決策導入後②'!BM40)","v":0},{"$f":"IF(ISBLANK('1-12-3.キャッシュフロー表 解決策導入後②'!BN40),0,'1-12-3.キャッシュフロー表 解決策導入後②'!BN40)","v":0},{"$f":"IF(ISBLANK('1-12-3.キャッシュフロー表 解決策導入後②'!BO40),0,'1-12-3.キャッシュフロー表 解決策導入後②'!BO40)","v":0},{"$f":"IF(ISBLANK('1-12-3.キャッシュフロー表 解決策導入後②'!BP40),0,'1-12-3.キャッシュフロー表 解決策導入後②'!BP40)","v":0},{"$f":"IF(ISBLANK('1-12-3.キャッシュフロー表 解決策導入後②'!BQ40),0,'1-12-3.キャッシュフロー表 解決策導入後②'!BQ40)","v":0},{"$f":"IF(ISBLANK('1-12-3.キャッシュフロー表 解決策導入後②'!BR40),0,'1-12-3.キャッシュフロー表 解決策導入後②'!BR40)","v":0},{"$f":"IF(ISBLANK('1-12-3.キャッシュフロー表 解決策導入後②'!BS40),0,'1-12-3.キャッシュフロー表 解決策導入後②'!BS40)","v":0},{"$f":"IF(ISBLANK('1-12-3.キャッシュフロー表 解決策導入後②'!BT40),0,'1-12-3.キャッシュフロー表 解決策導入後②'!BT40)","v":0},{"$f":"IF(ISBLANK('1-12-3.キャッシュフロー表 解決策導入後②'!BU40),0,'1-12-3.キャッシュフロー表 解決策導入後②'!BU40)","v":0},{"$f":"IF(ISBLANK('1-12-3.キャッシュフロー表 解決策導入後②'!BV40),0,'1-12-3.キャッシュフロー表 解決策導入後②'!BV40)","v":0},{"$f":"IF(ISBLANK('1-12-3.キャッシュフロー表 解決策導入後②'!BW40),0,'1-12-3.キャッシュフロー表 解決策導入後②'!BW40)","v":0},{"$f":"IF(ISBLANK('1-12-3.キャッシュフロー表 解決策導入後②'!BX40),0,'1-12-3.キャッシュフロー表 解決策導入後②'!BX40)","v":0},{"$f":"IF(ISBLANK('1-12-3.キャッシュフロー表 解決策導入後②'!BY40),0,'1-12-3.キャッシュフロー表 解決策導入後②'!BY40)","v":0},{"$f":"IF(ISBLANK('1-12-3.キャッシュフロー表 解決策導入後②'!BZ40),0,'1-12-3.キャッシュフロー表 解決策導入後②'!BZ40)","v":0}]

{"sheet":"1-3-2.あいさつ あとがき","index":32,"n_rows":8,"n_cols":3,"rows_kept":8,"cut":false,"hidden":false,"merged":[]}
[]
[]
[]
[]
[]
[]
[]
[null,null,"おわりに"]

{"sheet":"3-1.終価計算","index":33,"n_rows":26,"n_cols":13,"rows_kept":26,"cut":false,"hidden":false,"merged":[[9,2,10,11],[12,3,14,9],[18,3,20,9],[15,3,17,9],[25,3,27,11]]}
[]
[]
[]
[]
[]
[]
[]
[null,null,"終価係数計算"]
[]
[null,null,"i 終価係数計算とは　…",null,null,null,null,null,null,null,null,null,"元本 を 一定利率 で 一定期間 複利運用したとき、将来いくら"]
[null,null,null,null,null,null,null,null,null,null,null,null,"受け取ることができるか計算します。"]
[]
[null,null,null,"元本",null,null,null,null,null,null,"入力例：3000"]
[null,null,null,null,null,null,null,null,null,null,null,null," 万円"]
[]
[null,null,null,"利率",null,null,null,null,null,null,"入力例：3.000"]
[null,null,null,null,null,null,null,null,null,null,null,null," %"]
[]
[null,null,null,"期間",null,null,null,null,null,null,"入力例：30"]
[null,null,null,null,null,null,null,null,null,null,null,null," 年"]
[]
[]
[]
[]
[]
[null,null,null,"計算結果"]

{"sheet":"3-2.現価計算","index":34,"n_rows":26,"n_cols":13,"rows_kept":26,"cut":false,"hidden":false,"merged":[[9,2,10,11],[12,3,14,9],[15,3,17,9],[18,3,20,9],[25,3,27,11]]}
[]
[]
[]
[]
[]
[]
[]
[null,null,"現価係数計算"]
[]
[null,null,"i 現価係数計算とは　…",null,null,null,null,null,null,null,null,null,"一定期間 、一定利率 で複利運用したとき、将来の 目標額 を"]
[null,null,null,null,null,null,null,null,null,null,null,null,"受け取るために必要な現在の元本を計算します。"]
[]
[null,null,null,"目標額",null,null,null,null,null,null,"入力例：3000"]
[null,null,null,null,null,null,null,null,null,null,null,null," 万円"]
[]
[null,null,null,"利率",null,null,null,null,null,null,"入力例：3.000"]
[null,null,null,null,null,null,null,null,null,null,null,null," %"]
[]
[null,null,null,"期間",null,null,null,null,null,null,"入力例：30"]
[null,null,null,null,null,null,null,null,null,null,null,null," 年"]
[]
[]
[]
[]
[]
[null,null,null,"計算結果"]

{"sheet":"3-3.住宅ローン返済シミュレーション","index":35,"n_rows":41,"n_cols":32,"rows_kept":41,"cut":false,"hidden":false,"merged":[[23,20,23,23],[23,11,23,14],[33,3,33,12],[32,3,32,12],[31,3,31,12],[21,3,24,9],[29,3,29,12],[16,11,16,14],[13,11,13,14],[10,11,10,14],[33,13,33,18],[32,13,32,18],[31,13,31,18],[30,13,30,18],[29,13,29,18],[19,11,19,14],[30,4,30,12],[9,3,11,9],[15,3,17,9],[18,3,20,9],[12,3,14,3],[12,4,14,9],[36,31,36,37],[36,24,36,30],[36,3,36,7],[35,3,35,7],[35,31,35,37],[35,24,35,30],[35,8,35,11],[35,12,35,17],[35,18,35,23],[36,8,36,11],[36,12,36,17],[36,18,36,23],[37,31,37,37],[37,3,37,7],[37,8,37,11],[37,12,37,17],[37,18,37,23],[37,24,37,30]]}
[]
[]
[]
[]
[]
[]
[]
[null,null,"住宅ローン返済シミュレーション"]
[]
[null,null,null,"借入額",null,null,null,null,null,null,"入力例：3000"]
[null,null,null,null,null,null,null,null,null,null,null,null,null,null,null," 万円"]
[]
[null,null,null,null,"（うちボーナス返済分）",null,null,null,null,null,"入力例：1000",null,null,null,null,null,null,null,null,null,null,null,null,null,null,null,null,"ボーナス返済分がある場合に入力 "]
[null,null,null,null,null,null,null,null,null,null,null,null,null,null,null," 万円"]
[]
[null,null,null,"借入期間",null,null,null,null,null,null,"入力例：30"]
[null,null,null,null,null,null,null,null,null,null,null,null,null,null,null," 年"]
[]
[null,null,null,"金利 ①",null,null,null,null,null,null,"入力例：3.000"]
[null,null,null,null,null,null,null,null,null,null,null,null,null,null,null," %"]
[]
[null,null,null,"金利 ②\n（段階金利の場合）",null,null,null,null,null,null,null,null,null,null,null,null,null,null,null,null,null,null,null,null,null,null,null,"段階金利の場合に入力 "]
[null,null,null,null,null,null,null,null,null,null,"入力例：10 年経過後から 5.000 %"]
[null,null,null,null,null,null,null,null,null,null,null,null,null,null,null," 年経過後から",null,null,null,null,null,null,null,null," %"]
[]
[]
[]
[]
[]
[null,null,null,"借入額"]
[null,null,null,null,"（うちボーナス返済分）"]
[null,null,null,"借入期間"]
[null,null,null,"金利"]
[null,null,null,"金利（15年経過後から）"]
[]
[null,null,null,"返済期間",null,null,null,null,"金利",null,null,null,"毎月返済額",null,null,null,null,null,"ボーナス月返済額",null,null,null,null,null,"年間返済額",null,null,null,null,null,null,"総返済額"]
[]
[]
[]
[]
[null,null,null,"※計算される金額はあくまで概算の金額です。実際の数字とは異なる場合がありますので注意してください。"]

{"sheet":"3-4.住宅ローン一部繰上返済シミュレーション","index":36,"n_rows":51,"n_cols":43,"rows_kept":51,"cut":false,"hidden":false,"merged":[[47,3,48,37],[43,13,43,18],[43,19,43,25],[45,26,45,30],[44,31,44,37],[43,3,43,6],[43,7,43,12],[44,7,44,12],[44,13,44,18],[44,19,44,25],[43,26,43,30],[45,31,45,37],[43,31,43,37],[44,3,44,6],[44,26,44,30],[42,26,42,30],[42,31,42,37],[42,19,42,25],[40,13,40,18],[42,3,42,6],[42,7,42,12],[42,13,42,18],[37,13,37,18],[37,3,37,12],[40,3,40,12],[38,3,38,12],[38,13,38,18],[39,3,39,12],[39,13,39,18],[36,3,36,12],[36,13,36,18],[12,4,14,9],[13,11,13,14],[15,3,17,9],[16,11,16,14],[18,3,20,9],[34,3,34,12],[34,13,34,18],[19,11,19,14],[22,11,22,14],[24,3,26,9],[25,11,25,14],[27,3,29,9],[21,3,23,9],[9,3,11,9],[10,11,10,14],[12,3,14,3],[35,4,35,12],[35,13,35,18]]}
[]
[]
[]
[]
[]
[]
[]
[null,null,"住宅ローン一部繰上返済シミュレーション"]
[]
[null,null,null,"現在の借入残高",null,null,null,null,null,null,"入力例：3000"]
[null,null,null,null,null,null,null,null,null,null,null,null,null,null,null," 万円"]
[]
[null,null,null,null,"（うちボーナス返済分）",null,null,null,null,null,"入力例：1000",null,null,null,null,null,null,null,null,null,null,null,null,null,null,null,null,"ボーナス返済分がある場合に入力 "]
[null,null,null,null,null,null,null,null,null,null,null,null,null,null,null," 万円"]
[]
[null,null,null,"残り返済期間",null,null,null,null,null,null,"入力例：20"]
[null,null,null,null,null,null,null,null,null,null,null,null,null,null,null," 年"]
[]
[null,null,null,"金利",null,null,null,null,null,null,"入力例：3.000"]
[null,null,null,null,null,null,null,null,null,null,null,null,null,null,null," %"]
[]
[null,null,null,"繰上返済の時期",null,null,null,null,null,null,"入力例：10"]
[null,null,null,null,null,null,null,null,null,null,null,null,null,null,null," 年後"]
[]
[null,null,null,"繰上返済額",null,null,null,null,null,null,"入力例：300"]
[null,null,null,null,null,null,null,null,null,null,null,null,null,null,null," 万円"]
[]
[null,null,null,"繰上返済方式",null,null,null,null,null,null,null,"期間を短縮する",null,null,null,null,null,null,null,null,null,null,null,null,null,null,null,null,null,null,null,null,null,null,null,null,null,null,null,null,null,null,1]
[null,null,null,null,null,null,null,null,null,null,null,"返済額を減らす"]
[]
[]
[]
[]
[]
[null,null,null,"現在の借入残高"]
[null,null,null,null,"（うちボーナス返済分）"]
[null,null,null,"残り返済期間"]
[null,null,null,"金利"]
[null,null,null,"繰上返済の時期"]
[null,null,null,"繰上返済額"]
[null,null,null,"繰上返済方式"]
[]
[null,null,null,"返済期間",null,null,null,"毎月返済額",null,null,null,null,null,"ボーナス月返済額",null,null,null,null,null,"年間返済額",null,null,null,null,null,null,"繰上返済後の残り返済期間",null,null,null,null,"総返済額"]
[null,null,null,"現在の借入"]
[null,null,null,"繰上返済後"]
[null,null,null,null,null,null,null,null,null,null,null,null,null,null,null,null,null,null,null,null,null,null,null,null,null,null,"差額"]
[]
[]
[]
[]
[null,null,null,"※計算される金額はあくまで概算の金額です。実際の数字とは異なる場合がありますので注意してください。"]